{"text_format":"3","workbook":"xlsx","n_sheets":20,"sheets":["STAMMDATENBLATT","Dienstplan","Januar","Februar","März","April","Mai","Juni","Juli","August","September","Oktober","November","Dezember","Urlaubsantrag","Krankmeldung ohne AU","Feiertage","Regularien","§34 AVO, §125 SGB IX, Reg. Tage","Dropdwon"],"not_rendered":{"images":8,"external_links":3,"defined_names":95,"comments":15},"read":"whole","date_system":"1904"}

{"sheet":"STAMMDATENBLATT","index":0,"n_rows":53,"n_cols":12,"rows_kept":53,"merged":[[25,1,25,2],[26,8,26,9],[34,0,34,2],[34,6,34,7],[36,8,36,9],[41,2,41,3],[43,2,43,3],[45,2,45,3],[45,6,45,7],[46,6,46,7],[49,0,51,1],[49,3,51,4],[52,0,52,1]]}
[]
["Vorjahreswert / Stundensaldo",{"$nulls":3},{"$f":"B34","v":0}]
[null,null,"IST Arbeitszeit","SOLL Arbeitszeit","Std.Saldo/Monat",null,"Urlaub","Regenerationstag","Umwandlungstag","§34 AVO","Krank ","Kind krank"]
["Januar",1,{"$f":"SUM(SUM(Januar!P6:P36)-Januar!R38)","v":{"$error":"#VALUE!"}},{"$f":"SUM(Januar!Q:Q)","v":{"$error":"#VALUE!"}},{"$f":"Januar!C38","v":{"$error":"#VALUE!"}},null,{"$f":"COUNTIF(Januar!T$6:T$36,G$3)","v":0},{"$f":"COUNTIF(Januar!T$6:T$36,H$3)","v":0},{"$f":"COUNTIF(Januar!T$6:T$36,I$3)","v":0},{"$f":"COUNTIF(Januar!T$6:T$36,J$3)","v":0},{"$f":"COUNTIF(Januar!T$6:T$36,K$3)","v":0},{"$f":"COUNTIF(Januar!T$6:T$36,L$3)","v":0}]
["Februar",2,{"$f":"SUM(SUM(Februar!P6:P34)-Februar!R36)","v":{"$error":"#VALUE!"}},{"$f":"SUM(Februar!Q:Q)","v":{"$error":"#VALUE!"}},{"$f":"Februar!C36","v":{"$error":"#VALUE!"}},null,{"$f":"COUNTIF(Februar!T$6:T$36,G$3)","v":0},{"$f":"COUNTIF(Februar!T$6:T$36,H$3)","v":0},{"$f":"COUNTIF(Februar!T$6:T$36,I$3)","v":0},{"$f":"COUNTIF(Februar!T$6:T$36,J$3)","v":0},{"$f":"COUNTIF(Februar!T$6:T$36,K$3)","v":0},{"$f":"COUNTIF(Februar!T$6:T$36,L$3)","v":0}]
["März",3,{"$f":"SUM(SUM(März!Q6:Q36)-März!U38)","v":{"$error":"#VALUE!"}},{"$f":"SUM(März!R:R)","v":{"$error":"#VALUE!"}},{"$f":"März!C38","v":{"$error":"#VALUE!"}},null,{"$f":"COUNTIF(März!W$6:W$36,G$3)","v":0},{"$f":"COUNTIF(März!W$6:W$36,H$3)","v":0},{"$f":"COUNTIF(März!W$6:W$36,I$3)","v":0},{"$f":"COUNTIF(März!W$6:W$36,J$3)","v":0},{"$f":"COUNTIF(März!W$6:W$36,K$3)","v":0},{"$f":"COUNTIF(März!W$6:W$36,L$3)","v":0}]
["April",4,{"$f":"SUM(SUM(April!Q6:Q36)-April!U38)","v":{"$error":"#VALUE!"}},{"$f":"SUM(April!R:R)","v":{"$error":"#VALUE!"}},{"$f":"April!C38","v":{"$error":"#VALUE!"}},null,{"$f":"COUNTIF(April!W$6:W$36,G$3)","v":0},{"$f":"COUNTIF(April!W$6:W$36,H$3)","v":0},{"$f":"COUNTIF(April!W$6:W$36,I$3)","v":0},{"$f":"COUNTIF(April!W$6:W$36,J$3)","v":0},{"$f":"COUNTIF(April!W$6:W$36,K$3)","v":0},{"$f":"COUNTIF(April!W$6:W$36,L$3)","v":0}]
["Mai",5,{"$f":"SUM(SUM(Mai!P6:P36)-Mai!R38)","v":{"$error":"#VALUE!"}},{"$f":"SUM(Mai!Q:Q)","v":{"$error":"#VALUE!"}},{"$f":"Mai!C38","v":{"$error":"#VALUE!"}},null,{"$f":"COUNTIF(Mai!T$6:T$36,G$3)","v":0},{"$f":"COUNTIF(Mai!T$6:T$36,H$3)","v":0},{"$f":"COUNTIF(Mai!T$6:T$36,I$3)","v":0},{"$f":"COUNTIF(Mai!T$6:T$36,J$3)","v":0},{"$f":"COUNTIF(Mai!T$6:T$36,K$3)","v":0},{"$f":"COUNTIF(Mai!T$6:T$36,L$3)","v":0}]
["Juni",6,{"$f":"SUM(SUM(Juni!P6:P36)-Juni!R38)","v":{"$error":"#VALUE!"}},{"$f":"SUM(Juni!Q:Q)","v":{"$error":"#VALUE!"}},{"$f":"Juni!C38","v":{"$error":"#VALUE!"}},null,{"$f":"COUNTIF(Juni!T$6:T$36,G$3)","v":0},{"$f":"COUNTIF(Juni!T$6:T$36,H$3)","v":0},{"$f":"COUNTIF(Juni!T$6:T$36,I$3)","v":0},{"$f":"COUNTIF(Juni!T$6:T$36,J$3)","v":0},{"$f":"COUNTIF(Juni!T$6:T$36,K$3)","v":0},{"$f":"COUNTIF(Juni!T$6:T$36,L$3)","v":0}]
["Juli",7,{"$f":"SUM(SUM(Juli!P6:P36)-Juli!R38)","v":{"$error":"#VALUE!"}},{"$f":"SUM(Juli!Q:Q)","v":{"$error":"#VALUE!"}},{"$f":"Juli!C38","v":{"$error":"#VALUE!"}},null,{"$f":"COUNTIF(Juli!T$6:T$36,G$3)","v":0},{"$f":"COUNTIF(Juli!T$6:T$36,H$3)","v":0},{"$f":"COUNTIF(Juli!T$6:T$36,I$3)","v":0},{"$f":"COUNTIF(Juli!T$6:T$36,J$3)","v":0},{"$f":"COUNTIF(Juli!T$6:T$36,K$3)","v":0},{"$f":"COUNTIF(Juli!T$6:T$36,L$3)","v":0}]
["August",8,{"$f":"SUM(SUM(August!P6:P36)-August!R38)","v":{"$error":"#VALUE!"}},{"$f":"SUM(August!Q:Q)","v":{"$error":"#VALUE!"}},{"$f":"August!C38","v":{"$error":"#VALUE!"}},null,{"$f":"COUNTIF(August!T$6:T$36,G$3)","v":0},{"$f":"COUNTIF(August!T$6:T$36,H$3)","v":0},{"$f":"COUNTIF(August!T$6:T$36,I$3)","v":0},{"$f":"COUNTIF(August!T$6:T$36,J$3)","v":0},{"$f":"COUNTIF(August!T$6:T$36,K$3)","v":0},{"$f":"COUNTIF(August!T$6:T$36,L$3)","v":0}]
["September",9,{"$f":"SUM(SUM(September!P6:P36)-September!R38)","v":{"$error":"#VALUE!"}},{"$f":"SUM(September!Q:Q)","v":{"$error":"#VALUE!"}},{"$f":"September!C38","v":{"$error":"#VALUE!"}},null,{"$f":"COUNTIF(September!T$6:T$36,G$3)","v":0},{"$f":"COUNTIF(September!T$6:T$36,H$3)","v":0},{"$f":"COUNTIF(September!T$6:T$36,I$3)","v":0},{"$f":"COUNTIF(September!T$6:T$36,J$3)","v":0},{"$f":"COUNTIF(September!T$6:T$36,K$3)","v":0},{"$f":"COUNTIF(September!T$6:T$36,L$3)","v":0}]
["Oktober",10,{"$f":"SUM(SUM(Oktober!P6:P36)-Oktober!R38)","v":{"$error":"#VALUE!"}},{"$f":"SUM(Oktober!Q:Q)","v":{"$error":"#VALUE!"}},{"$f":"Oktober!C38","v":{"$error":"#VALUE!"}},null,{"$f":"COUNTIF(Oktober!T$6:T$36,G$3)","v":0},{"$f":"COUNTIF(Oktober!T$6:T$36,H$3)","v":0},{"$f":"COUNTIF(Oktober!T$6:T$36,I$3)","v":0},{"$f":"COUNTIF(Oktober!T$6:T$36,J$3)","v":0},{"$f":"COUNTIF(Oktober!T$6:T$36,K$3)","v":0},{"$f":"COUNTIF(Oktober!T$6:T$36,L$3)","v":0}]
["November",11,{"$f":"SUM(SUM(November!P6:P36)-November!R38)","v":{"$error":"#VALUE!"}},{"$f":"SUM(November!Q:Q)","v":{"$error":"#VALUE!"}},{"$f":"November!C38","v":{"$error":"#VALUE!"}},null,{"$f":"COUNTIF(November!T$6:T$36,G$3)","v":0},{"$f":"COUNTIF(November!T$6:T$36,H$3)","v":0},{"$f":"COUNTIF(November!T$6:T$36,I$3)","v":0},{"$f":"COUNTIF(November!T$6:T$36,J$3)","v":0},{"$f":"COUNTIF(November!T$6:T$36,K$3)","v":0},{"$f":"COUNTIF(November!T$6:T$36,L$3)","v":0}]
["Dezember",12,{"$f":"SUM(SUM(Dezember!P6:P36)-Dezember!R38)","v":{"$error":"#VALUE!"}},{"$f":"SUM(Dezember!Q:Q)","v":{"$error":"#VALUE!"}},{"$f":"Dezember!C38","v":{"$error":"#VALUE!"}},null,{"$f":"COUNTIF(Dezember!T$6:T$36,G$3)","v":0},{"$f":"COUNTIF(Dezember!T$6:T$36,H$3)","v":0},{"$f":"COUNTIF(Dezember!T$6:T$36,I$3)","v":0},{"$f":"COUNTIF(Dezember!T$6:T$36,J$3)","v":0},{"$f":"COUNTIF(Dezember!T$6:T$36,K$3)","v":0},{"$f":"COUNTIF(Dezember!T$6:T$36,L$3)","v":0}]
[]
["Std.Saldo/Jahresabschluss",{"$nulls":3},{"$f":"E15","v":{"$error":"#VALUE!"}},null,{"$f":"SUM(G4:G15)","v":0},0,0,0,0,0]
[]
[]
[]
[]
["Version: 01.2024.5","Stammdatenblatt bitte ausfüllen, unterschreiben und in der Kita aufbewahren"]
[null,"bitte alle grünen Felder ausfüllen - durch Eingabe oder Auswahlmenü (Drop-Down)"]
[null,"Berufsgruppe pfk=Zusatzkraft- Wichtig VZ zählt bei der Zusatzkraft zur Zeit im Gruppendienst"]
[]
[{"$f":"VLOOKUP(B26,Dropdwon!P:Q,2,FALSE)","v":{"$error":"#N/A"}}]
["Stammdaten:","Vorname Nachname","Jahr: ",2024,null,null,"Wochentag","gerade Woche","regulärer Arbeitstag ja/nein"]
["Berufsgruppe:",null,"AZ-Verkürzung:",{"$nulls":3},"Montag",1,"ja",{"$f":"Dienstplan!A13","v":{"$error":"#VALUE!"}},{"$f":"IF(I28=\"ja\",\"0\",\"1\")","v":"0"}]
["tarifliche Eingruppierung:",{"$nulls":5},"Dienstag",2,"ja",{"$f":"Dienstplan!A19","v":{"$error":"#VALUE!"}},{"$f":"IF(I29=\"ja\",\"0\",\"1\")","v":"0"}]
["Beschäftigungsumfang in %:",null,"Wochenarbeitszeit gesamt:",{"$f":"IF(AND($B$28=\"pFK\",$D$28=\"mit AZ-Verkürzung (pFK)\"),Dropdwon!H2*STAMMDATENBLATT!$B$30,IF(AND($B$28=\"pFK\",$D$28=\"ohne AZ-Verkürzung\"),Dropdwon!H9*STAMMDATENBLATT!$B$30,IF(AND($B$28=\"nicht pFK\",$D$28=\"mit AZ-Verkürzung (nicht pFK) Kind U12\"),Dropdwon!H3*STAMMDATENBLATT!$B$30,IF(AND($B$28=\"nicht pFK\",$D$28=\"mit AZ-Verkürzung (nicht pFK) Alter Ü60\"),Dropdwon!H4*STAMMDATENBLATT!$B$30,IF(AND($B$28=\"nicht pFK\",$D$28=\"ohne AZ-Verkürzung\"),Dropdwon!H10*STAMMDATENBLATT!$B$30,IF(AND($B$28=\"AP/PiA\",$D$28=\"mit AZ-Verkürzung (pFK)\"),Dropdwon!H2*STAMMDATENBLATT!$B$30,IF(AND($B$28=\"AP/PiA\",$D$28=\"ohne AZ-Verkürzung\"),Dropdwon!H9*STAMMDATENBLATT!$B$30,IF($B$28=\"FSJ < 18\",Dropdwon!H7*STAMMDATENBLATT!$B$30,IF($B$28=\"FSJ > 18\",Dropdwon!H7*STAMMDATENBLATT!$B$30,\"Berufsgruppe oder AZ-Verkürzung korrigieren!\")))))))))","v":"Berufsgruppe oder AZ-Verkürzung korrigieren!"},null,null,"Mittwoch",3,"ja",{"$f":"Dienstplan!A25","v":{"$error":"#VALUE!"}},{"$f":"IF(I30=\"ja\",\"0\",\"1\")","v":"0"}]
["Wochenarbeitszeit Gruppendienst:",{"$f":"IF(OR(B28=\"pFK\",B28=\"AP/PiA\"),D30*0.8,0)","v":0},"Wochenarbeitszeit VZ:",{"$f":"IF(OR(B28=\"pFK\",B28=\"AP/PiA\"),D30*0.2,0)","v":0},null,null,"Donnerstag",4,"ja",{"$f":"Dienstplan!A31","v":{"$error":"#VALUE!"}},{"$f":"IF(I31=\"ja\",\"0\",\"1\")","v":"0"}]
["Startdatum:",{"$f":"DATEVALUE(\"01.01.\"&STAMMDATENBLATT!$D$27)","v":"2024-01-01"},"Enddatum:",{"$f":"DATEVALUE(\"31.12.\"&STAMMDATENBLATT!$D$27)","v":"2024-12-31"},{"$f":"(D32-B32+1)/IF(DATE(D27,2,29)=EOMONTH(DATE(D27,2,1),0),30.5,30.41666667)","v":{"v":12,"d":"12.0 Monate"}},null,"Freitag",5,"ja",{"$f":"Dienstplan!A37","v":{"$error":"#VALUE!"}},{"$f":"IF(I32=\"ja\",\"0\",\"1\")","v":"0"}]
["Vorjahr/Stundensaldo (dezimal):",null,"Jahresabschluss/Std. (dezimal):",{"$f":"D34*24","v":{"$error":"#VALUE!"}},null,null,"Samstag",6,"nein",0]
["Vorjahr/Stundensaldo (Zeitformat):",{"$f":"B33/24","v":0},"Jahresabschluss/Std. (Zeitformat):",{"$f":"E17","v":{"$error":"#VALUE!"}},null,null,"Sonntag",7,"nein",0]
["maximal zulässige Mitnahme der Mehrarbeit in den Folgemonat:",null,null,{"$f":"Dropdwon!H14*STAMMDATENBLATT!B30","v":0},null,null,"Anzahl AT/gerade Woche:",null,{"$f":"COUNTIF(I$28:I$32,\"ja\")","v":5},null,{"$f":"CONCATENATE(K28,K29,K30,K31,K32,\"11\")","v":"0000011"}]
[{"$f":"VLOOKUP(B28,Dropdwon!E2:K10,7,FALSE)","v":{"$error":"#N/A"}},null,"Urlaubsanspruch laufendes Jahr:",{"$f":"ROUND(SUM(AVERAGE(I35,I46)*A36/12*E32+B41+C41+0.15),0)","v":{"$error":"#N/A"}}]
["Kranktage (selbst)",{"$f":"K17","v":0},"Kranktage (Kind)",{"$f":"L17","v":0},null,null,"Wochentag","ungerade Woche","regulärer Arbeitstag ja/nein"]
[{"$nulls":6},"Montag",1,"ja",{"$f":"Dienstplan!A15","v":{"$error":"#VALUE!"}},{"$f":"IF(I38=\"ja\",\"0\",\"1\")","v":"0"}]
["Urlaubs- und Fehlzeiten",{"$nulls":5},"Dienstag",2,"ja",{"$f":"Dienstplan!A21","v":{"$error":"#VALUE!"}},{"$f":"IF(I39=\"ja\",\"0\",\"1\")","v":"0"}]
["reg. Urlaubsanspruch lfd. Jahr","Resturlaub aus Vorjahr","§125 SGB IX / Zusatzurlaub","genommener Urlaub","verbleibende Urlaubstage",null,"Mittwoch",3,"ja",{"$f":"Dienstplan!A27","v":{"$error":"#VALUE!"}},{"$f":"IF(I40=\"ja\",\"0\",\"1\")","v":"0"}]
[{"$f":"ROUND(SUM(AVERAGE(I35,I46)*A36/12*E32+0.15),0)","v":{"$error":"#N/A"}},null,{"$f":"Urlaubsantrag!E15","v":{"v":0,"d":"0.00"}},{"$f":"G17","v":0},{"$f":"A41+B41+C41-D41","v":{"$error":"#N/A"}},null,"Donnerstag",4,"ja",{"$f":"Dienstplan!A33","v":{"$error":"#VALUE!"}},{"$f":"IF(I41=\"ja\",\"0\",\"1\")","v":"0"}]
[null,"§34 AVO / Arbeitsbefreiung","genommene Arbeitsbefreiung",null,"verbleibende Arbeitsbefreiung",null,"Freitag",5,"ja",{"$f":"Dienstplan!A39","v":{"$error":"#VALUE!"}},{"$f":"IF(I42=\"ja\",\"0\",\"1\")","v":"0"}]
[null,{"$f":"SUM(Urlaubsantrag!E11:E14)","v":{"v":0,"d":"0.00"}},null,{"$f":"J17","v":0},{"$f":"B43-D43","v":0},null,"Samstag",6,"nein",0]
[null,"Regenerationstage","genommene Regenerationstage",null,"verbleibende Regenerationstage",null,"Sonntag",7,"nein",0]
[{"$nulls":3},{"$f":"H17","v":0},{"$f":"B45-D45","v":0},{"$nulls":5},{"$f":"CONCATENATE(K38,K39,K40,K41,K42,\"11\")","v":"0000011"}]
[null,"Umwandlungstage","genommene Umwandlungstage",null,"verbleibende Umwandlungstage",null,"Anzahl AT/ungerade Woche:",null,{"$f":"COUNTIF(I$38:I$42,\"ja\")","v":5},{"$f":"SUM(J28,J29,J30,J31,J32,J38,J39,J40,J41,J42)/2-D30","v":{"$error":"#VALUE!"}},"Kontrollsumme reg. Wochenarbeitsziet im Durchschnitt"]
[{"$nulls":3},{"$f":"I17","v":0},{"$f":"B47-D47","v":0},null,"Mittelwert Wochenarbeitstage:",null,{"$f":"AVERAGE(I35,I46)","v":5}]
[]
[]
[]
[]
[]
["Ort, Datum / Unterschrift Mitarbeiter/in",null,null,"Ort, Datum / Unterschrift Vorgesetzte/r"]

{"sheet":"Dienstplan","index":1,"n_rows":44,"n_cols":20,"rows_kept":44,"hidden":true,"merged":[[0,0,0,2],[0,4,0,5],[0,7,0,8],[0,9,0,13],[0,20,1,20],[1,2,1,6],[1,7,1,8],[1,9,1,13],[3,1,3,6],[3,7,3,12],[4,1,4,6],[4,7,4,12],[4,14,4,20],[5,1,5,6],[5,7,5,12],[5,14,5,20],[6,1,6,6],[6,7,6,12],[7,1,7,3],[7,4,7,6],[7,7,7,9],[7,14,7,16],[8,1,8,3],[8,4,8,6],[8,7,8,9],[8,10,8,12],[8,14,8,16],[8,17,8,19],[9,1,9,3],[9,4,9,6],[12,15,12,16],[14,15,14,16],[42,13,43,13]]}
["DIENSTPLAN",null,null,"Stand:",{"$f":"NOW()","v":"2024-01-19T10:00:46.160"},null,null,"Name des/der MA:",null,{"$f":"STAMMDATENBLATT!B27","v":"Vorname Nachname"},{"$nulls":5},"WAZ",{"$f":"STAMMDATENBLATT!$D$30","v":"Berufsgruppe oder AZ-Verkürzung korrigieren!"},"Beschäftigungsumfang",null,{"$f":"STAMMDATENBLATT!B30","v":{"v":0,"d":"0%"}}]
[{"$nulls":7},"Gruppe & Form:"]
[]
[null,"Betreuungszeit (BZ)",{"$nulls":5}," Verfügungszeit ( VZ ) (=~20% der WAZ)"]
[null,"Betreuungszeit",{"$nulls":5},"Vor- und Nachbereitung"]
["Wochentag","mit Kind",{"$nulls":5},"im Kindergarten"]
[null,"(=~80% der WAZ)",{"$nulls":5},"Dienstbesprechungen"]
[]
[null,"(=14-tg. - gerade KW)",null,null,"(=14-tg. - ungerade KW)",null,null,"(=14-tg. - gerade KW)",null,null,"(=14-tg. - ungerade KW)"]
[{"$nulls":13},"Bemerkung"]
["Montag",null,null,{"$f":"C11-B11","v":0},null,null,{"$f":"F11-E11","v":0},null,null,{"$f":"I11-H11","v":0},null,null,{"$f":"L11-K11","v":0}]
["∑ gerade KW",null,null,{"$f":"C12-B12","v":0},null,null,{"$f":"F12-E12","v":0},null,null,{"$f":"I12-H12","v":0},null,null,{"$f":"L12-K12","v":0},null,null,"     FLEX Verfügungszeit pro gerade KW   =",{"$nulls":3},{"$f":"M44","v":{"$error":"#VALUE!"}}]
[{"$f":"IF(STAMMDATENBLATT!I28=\"ja\",D15+J15+$T$13,0)","v":{"$error":"#VALUE!"}},null,null,{"$f":"C13-B13","v":0},null,null,{"$f":"F13-E13","v":0},null,null,{"$f":"I13-H13","v":0},null,null,{"$f":"L13-K13","v":0},{"$nulls":5},"≙ tgl.",{"$f":"T12/STAMMDATENBLATT!I35","v":{"$error":"#VALUE!"}}]
["∑ ungerade KW",null,null,{"$f":"C14-B14","v":0},null,null,{"$f":"F14-E14","v":0},null,null,{"$f":"I14-H14","v":0},null,null,{"$f":"L14-K14","v":0},null,null,"    FLEX Verfügungszeit pro ungerade KW  =  ",{"$nulls":3},{"$f":"M44","v":{"$error":"#VALUE!"}}]
[{"$f":"IF(STAMMDATENBLATT!I38=\"ja\",G15+M15+$T$15,0)","v":{"$error":"#VALUE!"}},null,null,{"$f":"SUM(D11:D14)","v":0},null,null,{"$f":"SUM(G11:G14)","v":0},null,null,{"$f":"SUM(J11:J14)","v":0},null,null,{"$f":"SUM(M11:M14)","v":0},{"$nulls":5},"≙ tgl.",{"$f":"T14/STAMMDATENBLATT!I46","v":{"$error":"#VALUE!"}}]
[]
["Dienstag",null,null,{"$f":"C17-B17","v":0},null,null,{"$f":"F17-E17","v":0},null,null,{"$f":"I17-H17","v":0},null,null,{"$f":"L17-K17","v":0}]
["∑ gerade KW",null,null,{"$f":"C18-B18","v":0},null,null,{"$f":"F18-E18","v":0},null,null,{"$f":"I18-H18","v":0},null,null,{"$f":"L18-K18","v":0}]
[{"$f":"IF(STAMMDATENBLATT!I29=\"ja\",D21+J21+$T$13,0)","v":{"$error":"#VALUE!"}},null,null,{"$f":"C19-B19","v":0},null,null,{"$f":"F19-E19","v":0},null,null,{"$f":"I19-H19","v":0},null,null,{"$f":"L19-K19","v":0}]
["∑ ungerade KW",null,null,{"$f":"C20-B20","v":0},null,null,{"$f":"F20-E20","v":0}]
[{"$f":"IF(STAMMDATENBLATT!I39=\"ja\",G21+M21+$T$15,0)","v":{"$error":"#VALUE!"}},null,null,{"$f":"SUM(D17:D20)","v":0},null,null,{"$f":"SUM(G17:G20)","v":0},null,null,{"$f":"SUM(J17:J20)","v":0},null,null,{"$f":"SUM(M17:M20)","v":0}]
[]
["Mittwoch",null,null,{"$f":"C23-B23","v":0},null,null,{"$f":"F23-E23","v":0},null,null,{"$f":"I23-H23","v":0},null,null,{"$f":"L23-K23","v":0}]
["∑ gerade KW",null,null,{"$f":"C24-B24","v":0},null,null,{"$f":"F24-E24","v":0},null,null,{"$f":"I24-H24","v":0},null,null,{"$f":"L24-K24","v":0}]
[{"$f":"IF(STAMMDATENBLATT!I30=\"ja\",D27+J27+$T$13,0)","v":{"$error":"#VALUE!"}},null,null,{"$f":"C25-B25","v":0},null,null,{"$f":"F25-E25","v":0},null,null,{"$f":"I25-H25","v":0},null,null,{"$f":"L25-K25","v":0}]
["∑ ungerade KW",null,null,{"$f":"C26-B26","v":0},null,null,{"$f":"F26-E26","v":0},null,null,{"$f":"I26-H26","v":0},null,null,{"$f":"L26-K26","v":0}]
[{"$f":"IF(STAMMDATENBLATT!I40=\"ja\",G27+M27+$T$15,0)","v":{"$error":"#VALUE!"}},null,null,{"$f":"SUM(D23:D26)","v":0},null,null,{"$f":"SUM(G23:G26)","v":0},null,null,{"$f":"SUM(J23:J26)","v":0},null,null,{"$f":"SUM(M23:M26)","v":0}]
[]
["Donnerstag",null,null,{"$f":"C29-B29","v":0},null,null,{"$f":"F29-E29","v":0},null,null,{"$f":"I29-H29","v":0},null,null,{"$f":"L29-K29","v":0}]
["∑ gerade KW",null,null,{"$f":"C30-B30","v":0},null,null,{"$f":"F30-E30","v":0},null,null,{"$f":"I30-H30","v":0},null,null,{"$f":"L30-K30","v":0}]
[{"$f":"IF(STAMMDATENBLATT!I31=\"ja\",D33+J33+$T$13,0)","v":{"$error":"#VALUE!"}},null,null,{"$f":"C31-B31","v":0},null,null,{"$f":"F31-E31","v":0},null,null,{"$f":"I31-H31","v":0},null,null,{"$f":"L31-K31","v":0}]
["∑ ungerade KW",null,null,{"$f":"C32-B32","v":0},null,null,{"$f":"F32-E32","v":0}]
[{"$f":"IF(STAMMDATENBLATT!I41=\"ja\",G33+M33+$T$15,0)","v":{"$error":"#VALUE!"}},null,null,{"$f":"SUM(D29:D32)","v":0},null,null,{"$f":"SUM(G29:G32)","v":0},null,null,{"$f":"SUM(J29:J32)","v":0},null,null,{"$f":"SUM(M29:M32)","v":0}]
[]
["Freitag",null,null,{"$f":"C35-B35","v":0},null,null,{"$f":"F35-E35","v":0},null,null,{"$f":"I35-H35","v":0},null,null,{"$f":"L35-K35","v":0}]
["∑ gerade KW",null,null,{"$f":"C36-B36","v":0},null,null,{"$f":"F36-E36","v":0},null,null,{"$f":"I36-H36","v":0},null,null,{"$f":"L36-K36","v":0}]
[{"$f":"IF(STAMMDATENBLATT!I32=\"ja\",D39+J39+$T$13,0)","v":{"$error":"#VALUE!"}},null,null,{"$f":"C37-B37","v":0},null,null,{"$f":"F37-E37","v":0},null,null,{"$f":"I37-H37","v":0},null,null,{"$f":"L37-K37","v":0}]
["∑ ungerade KW",null,null,{"$f":"C38-B38","v":0},null,null,{"$f":"F38-E38","v":0},null,null,{"$f":"I38-H38","v":0},null,null,{"$f":"L38-K38","v":0}]
[{"$f":"IF(STAMMDATENBLATT!I42=\"ja\",G39+M39+$T$15,0)","v":{"$error":"#VALUE!"}},null,null,{"$f":"SUM(D35:D38)","v":0},null,null,{"$f":"SUM(G35:G38)","v":0},null,null,{"$f":"SUM(J35:J38)","v":0},null,null,{"$f":"SUM(M35:M38)","v":0}]
[]
["GESAMT",null,null,{"$f":"(D15+D21+D27+D33+D39)/2","v":0},null,null,{"$f":"(G15+G21+G27+G33+G39)/2","v":0},null,null,{"$f":"(J15+J21+J27+J33+J39)/2","v":0},null,null,{"$f":"(M15+M21+M27+M33+M39)/2","v":0}]
[]
[null,"SOLL BZ mit Kind:",null,{"$f":"Q1*80%","v":{"$error":"#VALUE!"}},"IST BZ mit Kind: ",null,{"$f":"D41+G41","v":0},"SOLL VZ: ",null,{"$f":"Q1*20%","v":{"$error":"#VALUE!"}},"IST VZ:  ",null,{"$f":"J41+M41","v":0},{"$f":"(M43+M44)/Q1","v":{"$error":"#VALUE!"}}]
[{"$nulls":6},{"$f":"G43/Q1","v":{"$error":"#VALUE!"}},"Vorschlag pausch. VZ:",null,{"$f":"T1*2^(1-T1)/24","v":0},"pauschale VZ pro Woche:",null,{"$f":"MAX(J43-M43+D43-G43,0)","v":{"$error":"#VALUE!"}}]

{"sheet":"Januar","index":2,"n_rows":44,"n_cols":23,"rows_kept":44,"merged":[[0,2,0,7],[1,0,1,7],[2,0,2,7],[37,0,37,1],[37,6,37,15],[38,0,38,1],[38,7,38,15],[40,0,42,2],[40,6,42,13],[40,17,42,20]]}
[{"$f":"DATEVALUE(\"01.01.\"&STAMMDATENBLATT!$D$27)","v":"2024-01-01"},null,{"$f":"STAMMDATENBLATT!B27","v":"Vorname Nachname"},{"$nulls":7},{"$f":"STAMMDATENBLATT!$B$30","v":{"v":0,"d":"0.00%"}},{"$f":"IF(STAMMDATENBLATT!$B$29=\"\",\"\",STAMMDATENBLATT!$B$29)","v":""},{"$nulls":5},{"$f":"IF(STAMMDATENBLATT!E2<=STAMMDATENBLATT!$D$35,STAMMDATENBLATT!E2,STAMMDATENBLATT!$D$35)","v":0}]
[{"$f":"STAMMDATENBLATT!B26","v":0}]
[{"$f":"STAMMDATENBLATT!A26","v":{"$error":"#N/A"}}]
[]
[null,"KW","Beginn 1","Ende 1","IST AZ 1","IST MP 1","Beginn 2","Ende 2","IST AZ 2","IST MP 2","Beginn 3","Ende 3","IST AZ 3","IST MP 3","MP gesamt","IST AZ","SOLL AZ","Differenz","Auszahlung","Abwesenheit","Feiertag","Feiertag","Notiz"]
[{"$f":"A1","v":"2024-01-01"},{"$f":"WEEKNUM(A6,21)","v":1},null,null,{"$f":"IF(AND(WEEKDAY($A6,2)=6,HOUR(C6)>=13),SUM((D6-C6)*1.2),IF(WEEKDAY($A6,2)=7,SUM((D6-C6)*1.25),IF(AND($U6=\"x\",$V6<>\"Gründonnerstag\"),SUM((D6-C6)*1.25),D6-C6)))","v":"00:00:00"},{"$f":"IF(E6<Dropdwon!$A$3,Dropdwon!$B$2,IF(AND(E6<Dropdwon!$A$4,E6>=Dropdwon!$A$3),Dropdwon!$B$3,Dropdwon!$B$4))","v":"00:00:00"},null,null,{"$f":"IF(AND(WEEKDAY($A6,2)=6,HOUR(G6)>=13),SUM((H6-G6)*1.2),IF(WEEKDAY($A6,2)=7,SUM((H6-G6)*1.25),IF(AND($U6=\"x\",$V6<>\"Gründonnerstag\"),SUM((H6-G6)*1.25),H6-G6)))","v":"00:00:00"},{"$f":"IF(I6<Dropdwon!$A$3,Dropdwon!$B$2,IF(AND(I6<Dropdwon!$A$4,I6>=Dropdwon!$A$3),Dropdwon!$B$3,Dropdwon!$B$4))","v":"00:00:00"},null,null,{"$f":"IF(AND(WEEKDAY($A6,2)=6,HOUR(K6)>=13),SUM((L6-K6)*1.2),IF(WEEKDAY($A6,2)=7,SUM((L6-K6)*1.25),IF(AND($U6=\"x\",$V6<>\"Gründonnerstag\"),SUM((L6-K6)*1.25),L6-K6)))","v":"00:00:00"},{"$f":"IF(M6<Dropdwon!$A$3,Dropdwon!$B$2,IF(AND(M6<Dropdwon!$A$4,M6>=Dropdwon!$A$3),Dropdwon!$B$3,Dropdwon!$B$4))","v":"00:00:00"},{"$f":"F6+J6+N6","v":"00:00:00"},{"$f":"IF(AND(T6<>\"\",T6<>\"verpflichtende FoBi\",T6<>\"förderliche FoBi\"),Q6,IF(AND(T6=\"verpflichtende FoBi\",SUM(E6+I6+M6-O6)<=Dropdwon!$A$5),SUM(E6+I6+M6-O6),IF(AND(T6=\"förderliche FoBi\",SUM(E6+I6+M6-O6)<=Dropdwon!$A$5,SUM(E6+I6+M6-O6)<=Q6),SUM(E6+I6+M6-O6),IF(AND(T6=\"förderliche FoBi\",SUM(E6+I6+M6-O6)>Q6),Q6,IF(SUM(E6+I6+M6-O6)>Dropdwon!$A$5,Dropdwon!$C$5,SUM(E6+I6+M6-O6))))))","v":"00:00:00"},{"$f":"IF(OR(U6=\"x\",A6<STAMMDATENBLATT!$B$32,A6>STAMMDATENBLATT!$D$32),\"0:00\",IF(MOD(B6,2)=0,VLOOKUP(WEEKDAY(A6,2),STAMMDATENBLATT!H$28:J$34,3,FALSE),VLOOKUP(WEEKDAY(A6,2),STAMMDATENBLATT!H$38:J$44,3,FALSE)))","v":"0:00"},{"$f":"SUM(P6-Q6)","v":"00:00:00"},null,null,{"$f":"_xlfn.IFNA(VLOOKUP(A6,Feiertage!A:D,3,FALSE),\"\")","v":"x"},{"$f":"_xlfn.IFNA(VLOOKUP(A6,Feiertage!A:D,4,FALSE),\"\")","v":"Neujahr"}]
[{"$f":"A6+1","v":"2024-01-02"},{"$f":"WEEKNUM(A7,21)","v":1},"08:00:00","16:30:00",{"$f":"IF(AND(WEEKDAY($A7,2)=6,HOUR(C7)>=13),SUM((D7-C7)*1.2),IF(WEEKDAY($A7,2)=7,SUM((D7-C7)*1.25),IF(AND($U7=\"x\",$V7<>\"Gründonnerstag\"),SUM((D7-C7)*1.25),D7-C7)))","v":"08:30:00"},{"$f":"IF(E7<Dropdwon!$A$3,Dropdwon!$B$2,IF(AND(E7<Dropdwon!$A$4,E7>=Dropdwon!$A$3),Dropdwon!$B$3,Dropdwon!$B$4))","v":"00:30:00"},null,null,{"$f":"IF(AND(WEEKDAY($A7,2)=6,HOUR(G7)>=13),SUM((H7-G7)*1.2),IF(WEEKDAY($A7,2)=7,SUM((H7-G7)*1.25),IF(AND($U7=\"x\",$V7<>\"Gründonnerstag\"),SUM((H7-G7)*1.25),H7-G7)))","v":"00:00:00"},{"$f":"IF(I7<Dropdwon!$A$3,Dropdwon!$B$2,IF(AND(I7<Dropdwon!$A$4,I7>=Dropdwon!$A$3),Dropdwon!$B$3,Dropdwon!$B$4))","v":"00:00:00"},null,null,{"$f":"IF(AND(WEEKDAY($A7,2)=6,HOUR(K7)>=13),SUM((L7-K7)*1.2),IF(WEEKDAY($A7,2)=7,SUM((L7-K7)*1.25),IF(AND($U7=\"x\",$V7<>\"Gründonnerstag\"),SUM((L7-K7)*1.25),L7-K7)))","v":"00:00:00"},{"$f":"IF(M7<Dropdwon!$A$3,Dropdwon!$B$2,IF(AND(M7<Dropdwon!$A$4,M7>=Dropdwon!$A$3),Dropdwon!$B$3,Dropdwon!$B$4))","v":"00:00:00"},{"$f":"F7+J7+N7","v":"00:30:00"},{"$f":"IF(AND(T7<>\"\",T7<>\"verpflichtende FoBi\",T7<>\"förderliche FoBi\"),Q7,IF(AND(T7=\"verpflichtende FoBi\",SUM(E7+I7+M7-O7)<=Dropdwon!$A$5),SUM(E7+I7+M7-O7),IF(AND(T7=\"förderliche FoBi\",SUM(E7+I7+M7-O7)<=Dropdwon!$A$5,SUM(E7+I7+M7-O7)<=Q7),SUM(E7+I7+M7-O7),IF(AND(T7=\"förderliche FoBi\",SUM(E7+I7+M7-O7)>Q7),Q7,IF(SUM(E7+I7+M7-O7)>Dropdwon!$A$5,Dropdwon!$C$5,SUM(E7+I7+M7-O7))))))","v":{"$error":"#VALUE!"}},{"$f":"IF(OR(U7=\"x\",A7<STAMMDATENBLATT!$B$32,A7>STAMMDATENBLATT!$D$32),\"0:00\",IF(MOD(B7,2)=0,VLOOKUP(WEEKDAY(A7,2),STAMMDATENBLATT!H$28:J$34,3,FALSE),VLOOKUP(WEEKDAY(A7,2),STAMMDATENBLATT!H$38:J$44,3,FALSE)))","v":{"$error":"#VALUE!"}},{"$error":"#VALUE!"},null,null,{"$f":"_xlfn.IFNA(VLOOKUP(A7,Feiertage!A:D,3,FALSE),\"\")","v":""},{"$f":"_xlfn.IFNA(VLOOKUP(A7,Feiertage!A:D,4,FALSE),\"\")","v":""}]
[{"$f":"A7+1","v":"2024-01-03"},1,null,null,"00:00:00",{"$f":"IF(E8<Dropdwon!$A$3,Dropdwon!$B$2,IF(AND(E8<Dropdwon!$A$4,E8>=Dropdwon!$A$3),Dropdwon!$B$3,Dropdwon!$B$4))","v":"00:00:00"},null,null,"00:00:00",{"$f":"IF(I8<Dropdwon!$A$3,Dropdwon!$B$2,IF(AND(I8<Dropdwon!$A$4,I8>=Dropdwon!$A$3),Dropdwon!$B$3,Dropdwon!$B$4))","v":"00:00:00"},null,null,{"$f":"IF(AND(WEEKDAY($A8,2)=6,HOUR(K8)>=13),SUM((L8-K8)*1.2),IF(WEEKDAY($A8,2)=7,SUM((L8-K8)*1.25),IF(AND($U8=\"x\",$V8<>\"Gründonnerstag\"),SUM((L8-K8)*1.25),L8-K8)))","v":"00:00:00"},{"$f":"IF(M8<Dropdwon!$A$3,Dropdwon!$B$2,IF(AND(M8<Dropdwon!$A$4,M8>=Dropdwon!$A$3),Dropdwon!$B$3,Dropdwon!$B$4))","v":"00:00:00"},{"$f":"F8+J8+N8","v":"00:00:00"},{"$f":"IF(AND(T8<>\"\",T8<>\"verpflichtende FoBi\",T8<>\"förderliche FoBi\"),Q8,IF(AND(T8=\"verpflichtende FoBi\",SUM(E8+I8+M8-O8)<=Dropdwon!$A$5),SUM(E8+I8+M8-O8),IF(AND(T8=\"förderliche FoBi\",SUM(E8+I8+M8-O8)<=Dropdwon!$A$5,SUM(E8+I8+M8-O8)<=Q8),SUM(E8+I8+M8-O8),IF(AND(T8=\"förderliche FoBi\",SUM(E8+I8+M8-O8)>Q8),Q8,IF(SUM(E8+I8+M8-O8)>Dropdwon!$A$5,Dropdwon!$C$5,SUM(E8+I8+M8-O8))))))","v":{"$error":"#VALUE!"}},{"$f":"IF(OR(U8=\"x\",A8<STAMMDATENBLATT!$B$32,A8>STAMMDATENBLATT!$D$32),\"0:00\",IF(MOD(B8,2)=0,VLOOKUP(WEEKDAY(A8,2),STAMMDATENBLATT!H$28:J$34,3,FALSE),VLOOKUP(WEEKDAY(A8,2),STAMMDATENBLATT!H$38:J$44,3,FALSE)))","v":{"$error":"#VALUE!"}},{"$error":"#VALUE!"},null,null,{"$f":"_xlfn.IFNA(VLOOKUP(A8,Feiertage!A:D,3,FALSE),\"\")","v":""},{"$f":"_xlfn.IFNA(VLOOKUP(A8,Feiertage!A:D,4,FALSE),\"\")","v":""}]
[{"$f":"A8+1","v":"2024-01-04"},1,null,null,"00:00:00",{"$f":"IF(E9<Dropdwon!$A$3,Dropdwon!$B$2,IF(AND(E9<Dropdwon!$A$4,E9>=Dropdwon!$A$3),Dropdwon!$B$3,Dropdwon!$B$4))","v":"00:00:00"},null,null,"00:00:00",{"$f":"IF(I9<Dropdwon!$A$3,Dropdwon!$B$2,IF(AND(I9<Dropdwon!$A$4,I9>=Dropdwon!$A$3),Dropdwon!$B$3,Dropdwon!$B$4))","v":"00:00:00"},null,null,{"$f":"IF(AND(WEEKDAY($A9,2)=6,HOUR(K9)>=13),SUM((L9-K9)*1.2),IF(WEEKDAY($A9,2)=7,SUM((L9-K9)*1.25),IF(AND($U9=\"x\",$V9<>\"Gründonnerstag\"),SUM((L9-K9)*1.25),L9-K9)))","v":"00:00:00"},{"$f":"IF(M9<Dropdwon!$A$3,Dropdwon!$B$2,IF(AND(M9<Dropdwon!$A$4,M9>=Dropdwon!$A$3),Dropdwon!$B$3,Dropdwon!$B$4))","v":"00:00:00"},"00:00:00",{"$f":"IF(AND(T9<>\"\",T9<>\"verpflichtende FoBi\",T9<>\"förderliche FoBi\"),Q9,IF(AND(T9=\"verpflichtende FoBi\",SUM(E9+I9+M9-O9)<=Dropdwon!$A$5),SUM(E9+I9+M9-O9),IF(AND(T9=\"förderliche FoBi\",SUM(E9+I9+M9-O9)<=Dropdwon!$A$5,SUM(E9+I9+M9-O9)<=Q9),SUM(E9+I9+M9-O9),IF(AND(T9=\"förderliche FoBi\",SUM(E9+I9+M9-O9)>Q9),Q9,IF(SUM(E9+I9+M9-O9)>Dropdwon!$A$5,Dropdwon!$C$5,SUM(E9+I9+M9-O9))))))","v":{"$error":"#VALUE!"}},{"$f":"IF(OR(U9=\"x\",A9<STAMMDATENBLATT!$B$32,A9>STAMMDATENBLATT!$D$32),\"0:00\",IF(MOD(B9,2)=0,VLOOKUP(WEEKDAY(A9,2),STAMMDATENBLATT!H$28:J$34,3,FALSE),VLOOKUP(WEEKDAY(A9,2),STAMMDATENBLATT!H$38:J$44,3,FALSE)))","v":{"$error":"#VALUE!"}},{"$error":"#VALUE!"},null,null,{"$f":"_xlfn.IFNA(VLOOKUP(A9,Feiertage!A:D,3,FALSE),\"\")","v":""},{"$f":"_xlfn.IFNA(VLOOKUP(A9,Feiertage!A:D,4,FALSE),\"\")","v":""}]
["2024-01-05",1,null,null,"00:00:00",{"$f":"IF(E10<Dropdwon!$A$3,Dropdwon!$B$2,IF(AND(E10<Dropdwon!$A$4,E10>=Dropdwon!$A$3),Dropdwon!$B$3,Dropdwon!$B$4))","v":"00:00:00"},null,null,"00:00:00",{"$f":"IF(I10<Dropdwon!$A$3,Dropdwon!$B$2,IF(AND(I10<Dropdwon!$A$4,I10>=Dropdwon!$A$3),Dropdwon!$B$3,Dropdwon!$B$4))","v":"00:00:00"},null,null,"00:00:00",{"$f":"IF(M10<Dropdwon!$A$3,Dropdwon!$B$2,IF(AND(M10<Dropdwon!$A$4,M10>=Dropdwon!$A$3),Dropdwon!$B$3,Dropdwon!$B$4))","v":"00:00:00"},"00:00:00",{"$f":"IF(AND(T10<>\"\",T10<>\"verpflichtende FoBi\",T10<>\"förderliche FoBi\"),Q10,IF(AND(T10=\"verpflichtende FoBi\",SUM(E10+I10+M10-O10)<=Dropdwon!$A$5),SUM(E10+I10+M10-O10),IF(AND(T10=\"förderliche FoBi\",SUM(E10+I10+M10-O10)<=Dropdwon!$A$5,SUM(E10+I10+M10-O10)<=Q10),SUM(E10+I10+M10-O10),IF(AND(T10=\"förderliche FoBi\",SUM(E10+I10+M10-O10)>Q10),Q10,IF(SUM(E10+I10+M10-O10)>Dropdwon!$A$5,Dropdwon!$C$5,SUM(E10+I10+M10-O10))))))","v":{"$error":"#VALUE!"}},{"$f":"IF(OR(U10=\"x\",A10<STAMMDATENBLATT!$B$32,A10>STAMMDATENBLATT!$D$32),\"0:00\",IF(MOD(B10,2)=0,VLOOKUP(WEEKDAY(A10,2),STAMMDATENBLATT!H$28:J$34,3,FALSE),VLOOKUP(WEEKDAY(A10,2),STAMMDATENBLATT!H$38:J$44,3,FALSE)))","v":{"$error":"#VALUE!"}},{"$error":"#VALUE!"},null,null,{"$f":"_xlfn.IFNA(VLOOKUP(A10,Feiertage!A:D,3,FALSE),\"\")","v":""},{"$f":"_xlfn.IFNA(VLOOKUP(A10,Feiertage!A:D,4,FALSE),\"\")","v":""}]
["2024-01-06",1,null,null,"00:00:00",{"$f":"IF(E11<Dropdwon!$A$3,Dropdwon!$B$2,IF(AND(E11<Dropdwon!$A$4,E11>=Dropdwon!$A$3),Dropdwon!$B$3,Dropdwon!$B$4))","v":"00:00:00"},null,null,"00:00:00",{"$f":"IF(I11<Dropdwon!$A$3,Dropdwon!$B$2,IF(AND(I11<Dropdwon!$A$4,I11>=Dropdwon!$A$3),Dropdwon!$B$3,Dropdwon!$B$4))","v":"00:00:00"},null,null,"00:00:00",{"$f":"IF(M11<Dropdwon!$A$3,Dropdwon!$B$2,IF(AND(M11<Dropdwon!$A$4,M11>=Dropdwon!$A$3),Dropdwon!$B$3,Dropdwon!$B$4))","v":"00:00:00"},"00:00:00",{"$f":"IF(AND(T11<>\"\",T11<>\"verpflichtende FoBi\",T11<>\"förderliche FoBi\"),Q11,IF(AND(T11=\"verpflichtende FoBi\",SUM(E11+I11+M11-O11)<=Dropdwon!$A$5),SUM(E11+I11+M11-O11),IF(AND(T11=\"förderliche FoBi\",SUM(E11+I11+M11-O11)<=Dropdwon!$A$5,SUM(E11+I11+M11-O11)<=Q11),SUM(E11+I11+M11-O11),IF(AND(T11=\"förderliche FoBi\",SUM(E11+I11+M11-O11)>Q11),Q11,IF(SUM(E11+I11+M11-O11)>Dropdwon!$A$5,Dropdwon!$C$5,SUM(E11+I11+M11-O11))))))","v":"00:00:00"},{"$f":"IF(OR(U11=\"x\",A11<STAMMDATENBLATT!$B$32,A11>STAMMDATENBLATT!$D$32),\"0:00\",IF(MOD(B11,2)=0,VLOOKUP(WEEKDAY(A11,2),STAMMDATENBLATT!H$28:J$34,3,FALSE),VLOOKUP(WEEKDAY(A11,2),STAMMDATENBLATT!H$38:J$44,3,FALSE)))","v":"0:00"},"00:00:00",null,null,{"$f":"_xlfn.IFNA(VLOOKUP(A11,Feiertage!A:D,3,FALSE),\"\")","v":"x"},{"$f":"_xlfn.IFNA(VLOOKUP(A11,Feiertage!A:D,4,FALSE),\"\")","v":"Heilige Drei Könige"}]
["2024-01-07",1,null,null,"00:00:00",{"$f":"IF(E12<Dropdwon!$A$3,Dropdwon!$B$2,IF(AND(E12<Dropdwon!$A$4,E12>=Dropdwon!$A$3),Dropdwon!$B$3,Dropdwon!$B$4))","v":"00:00:00"},null,null,"00:00:00",{"$f":"IF(I12<Dropdwon!$A$3,Dropdwon!$B$2,IF(AND(I12<Dropdwon!$A$4,I12>=Dropdwon!$A$3),Dropdwon!$B$3,Dropdwon!$B$4))","v":"00:00:00"},null,null,"00:00:00",{"$f":"IF(M12<Dropdwon!$A$3,Dropdwon!$B$2,IF(AND(M12<Dropdwon!$A$4,M12>=Dropdwon!$A$3),Dropdwon!$B$3,Dropdwon!$B$4))","v":"00:00:00"},"00:00:00",{"$f":"IF(AND(T12<>\"\",T12<>\"verpflichtende FoBi\",T12<>\"förderliche FoBi\"),Q12,IF(AND(T12=\"verpflichtende FoBi\",SUM(E12+I12+M12-O12)<=Dropdwon!$A$5),SUM(E12+I12+M12-O12),IF(AND(T12=\"förderliche FoBi\",SUM(E12+I12+M12-O12)<=Dropdwon!$A$5,SUM(E12+I12+M12-O12)<=Q12),SUM(E12+I12+M12-O12),IF(AND(T12=\"förderliche FoBi\",SUM(E12+I12+M12-O12)>Q12),Q12,IF(SUM(E12+I12+M12-O12)>Dropdwon!$A$5,Dropdwon!$C$5,SUM(E12+I12+M12-O12))))))","v":"00:00:00"},{"$f":"IF(OR(U12=\"x\",A12<STAMMDATENBLATT!$B$32,A12>STAMMDATENBLATT!$D$32),\"0:00\",IF(MOD(B12,2)=0,VLOOKUP(WEEKDAY(A12,2),STAMMDATENBLATT!H$28:J$34,3,FALSE),VLOOKUP(WEEKDAY(A12,2),STAMMDATENBLATT!H$38:J$44,3,FALSE)))","v":"00:00:00"},"00:00:00",null,null,{"$f":"_xlfn.IFNA(VLOOKUP(A12,Feiertage!A:D,3,FALSE),\"\")","v":""},{"$f":"_xlfn.IFNA(VLOOKUP(A12,Feiertage!A:D,4,FALSE),\"\")","v":""}]
["2024-01-08",2,null,null,"00:00:00",{"$f":"IF(E13<Dropdwon!$A$3,Dropdwon!$B$2,IF(AND(E13<Dropdwon!$A$4,E13>=Dropdwon!$A$3),Dropdwon!$B$3,Dropdwon!$B$4))","v":"00:00:00"},null,null,"00:00:00",{"$f":"IF(I13<Dropdwon!$A$3,Dropdwon!$B$2,IF(AND(I13<Dropdwon!$A$4,I13>=Dropdwon!$A$3),Dropdwon!$B$3,Dropdwon!$B$4))","v":"00:00:00"},null,null,"00:00:00",{"$f":"IF(M13<Dropdwon!$A$3,Dropdwon!$B$2,IF(AND(M13<Dropdwon!$A$4,M13>=Dropdwon!$A$3),Dropdwon!$B$3,Dropdwon!$B$4))","v":"00:00:00"},"00:00:00",{"$f":"IF(AND(T13<>\"\",T13<>\"verpflichtende FoBi\",T13<>\"förderliche FoBi\"),Q13,IF(AND(T13=\"verpflichtende FoBi\",SUM(E13+I13+M13-O13)<=Dropdwon!$A$5),SUM(E13+I13+M13-O13),IF(AND(T13=\"förderliche FoBi\",SUM(E13+I13+M13-O13)<=Dropdwon!$A$5,SUM(E13+I13+M13-O13)<=Q13),SUM(E13+I13+M13-O13),IF(AND(T13=\"förderliche FoBi\",SUM(E13+I13+M13-O13)>Q13),Q13,IF(SUM(E13+I13+M13-O13)>Dropdwon!$A$5,Dropdwon!$C$5,SUM(E13+I13+M13-O13))))))","v":{"$error":"#VALUE!"}},{"$f":"IF(OR(U13=\"x\",A13<STAMMDATENBLATT!$B$32,A13>STAMMDATENBLATT!$D$32),\"0:00\",IF(MOD(B13,2)=0,VLOOKUP(WEEKDAY(A13,2),STAMMDATENBLATT!H$28:J$34,3,FALSE),VLOOKUP(WEEKDAY(A13,2),STAMMDATENBLATT!H$38:J$44,3,FALSE)))","v":{"$error":"#VALUE!"}},{"$error":"#VALUE!"},null,null,{"$f":"_xlfn.IFNA(VLOOKUP(A13,Feiertage!A:D,3,FALSE),\"\")","v":""},{"$f":"_xlfn.IFNA(VLOOKUP(A13,Feiertage!A:D,4,FALSE),\"\")","v":""}]
["2024-01-09",2,null,null,"00:00:00",{"$f":"IF(E14<Dropdwon!$A$3,Dropdwon!$B$2,IF(AND(E14<Dropdwon!$A$4,E14>=Dropdwon!$A$3),Dropdwon!$B$3,Dropdwon!$B$4))","v":"00:00:00"},null,null,"00:00:00",{"$f":"IF(I14<Dropdwon!$A$3,Dropdwon!$B$2,IF(AND(I14<Dropdwon!$A$4,I14>=Dropdwon!$A$3),Dropdwon!$B$3,Dropdwon!$B$4))","v":"00:00:00"},null,null,"00:00:00",{"$f":"IF(M14<Dropdwon!$A$3,Dropdwon!$B$2,IF(AND(M14<Dropdwon!$A$4,M14>=Dropdwon!$A$3),Dropdwon!$B$3,Dropdwon!$B$4))","v":"00:00:00"},"00:00:00",{"$f":"IF(AND(T14<>\"\",T14<>\"verpflichtende FoBi\",T14<>\"förderliche FoBi\"),Q14,IF(AND(T14=\"verpflichtende FoBi\",SUM(E14+I14+M14-O14)<=Dropdwon!$A$5),SUM(E14+I14+M14-O14),IF(AND(T14=\"förderliche FoBi\",SUM(E14+I14+M14-O14)<=Dropdwon!$A$5,SUM(E14+I14+M14-O14)<=Q14),SUM(E14+I14+M14-O14),IF(AND(T14=\"förderliche FoBi\",SUM(E14+I14+M14-O14)>Q14),Q14,IF(SUM(E14+I14+M14-O14)>Dropdwon!$A$5,Dropdwon!$C$5,SUM(E14+I14+M14-O14))))))","v":{"$error":"#VALUE!"}},{"$f":"IF(OR(U14=\"x\",A14<STAMMDATENBLATT!$B$32,A14>STAMMDATENBLATT!$D$32),\"0:00\",IF(MOD(B14,2)=0,VLOOKUP(WEEKDAY(A14,2),STAMMDATENBLATT!H$28:J$34,3,FALSE),VLOOKUP(WEEKDAY(A14,2),STAMMDATENBLATT!H$38:J$44,3,FALSE)))","v":{"$error":"#VALUE!"}},{"$error":"#VALUE!"},null,null,{"$f":"_xlfn.IFNA(VLOOKUP(A14,Feiertage!A:D,3,FALSE),\"\")","v":""},{"$f":"_xlfn.IFNA(VLOOKUP(A14,Feiertage!A:D,4,FALSE),\"\")","v":""}]
["2024-01-10",2,null,null,"00:00:00",{"$f":"IF(E15<Dropdwon!$A$3,Dropdwon!$B$2,IF(AND(E15<Dropdwon!$A$4,E15>=Dropdwon!$A$3),Dropdwon!$B$3,Dropdwon!$B$4))","v":"00:00:00"},null,null,"00:00:00",{"$f":"IF(I15<Dropdwon!$A$3,Dropdwon!$B$2,IF(AND(I15<Dropdwon!$A$4,I15>=Dropdwon!$A$3),Dropdwon!$B$3,Dropdwon!$B$4))","v":"00:00:00"},null,null,"00:00:00",{"$f":"IF(M15<Dropdwon!$A$3,Dropdwon!$B$2,IF(AND(M15<Dropdwon!$A$4,M15>=Dropdwon!$A$3),Dropdwon!$B$3,Dropdwon!$B$4))","v":"00:00:00"},"00:00:00",{"$f":"IF(AND(T15<>\"\",T15<>\"verpflichtende FoBi\",T15<>\"förderliche FoBi\"),Q15,IF(AND(T15=\"verpflichtende FoBi\",SUM(E15+I15+M15-O15)<=Dropdwon!$A$5),SUM(E15+I15+M15-O15),IF(AND(T15=\"förderliche FoBi\",SUM(E15+I15+M15-O15)<=Dropdwon!$A$5,SUM(E15+I15+M15-O15)<=Q15),SUM(E15+I15+M15-O15),IF(AND(T15=\"förderliche FoBi\",SUM(E15+I15+M15-O15)>Q15),Q15,IF(SUM(E15+I15+M15-O15)>Dropdwon!$A$5,Dropdwon!$C$5,SUM(E15+I15+M15-O15))))))","v":{"$error":"#VALUE!"}},{"$f":"IF(OR(U15=\"x\",A15<STAMMDATENBLATT!$B$32,A15>STAMMDATENBLATT!$D$32),\"0:00\",IF(MOD(B15,2)=0,VLOOKUP(WEEKDAY(A15,2),STAMMDATENBLATT!H$28:J$34,3,FALSE),VLOOKUP(WEEKDAY(A15,2),STAMMDATENBLATT!H$38:J$44,3,FALSE)))","v":{"$error":"#VALUE!"}},{"$error":"#VALUE!"},null,null,{"$f":"_xlfn.IFNA(VLOOKUP(A15,Feiertage!A:D,3,FALSE),\"\")","v":""},{"$f":"_xlfn.IFNA(VLOOKUP(A15,Feiertage!A:D,4,FALSE),\"\")","v":""}]
["2024-01-11",2,null,null,"00:00:00",{"$f":"IF(E16<Dropdwon!$A$3,Dropdwon!$B$2,IF(AND(E16<Dropdwon!$A$4,E16>=Dropdwon!$A$3),Dropdwon!$B$3,Dropdwon!$B$4))","v":"00:00:00"},null,null,"00:00:00",{"$f":"IF(I16<Dropdwon!$A$3,Dropdwon!$B$2,IF(AND(I16<Dropdwon!$A$4,I16>=Dropdwon!$A$3),Dropdwon!$B$3,Dropdwon!$B$4))","v":"00:00:00"},null,null,"00:00:00",{"$f":"IF(M16<Dropdwon!$A$3,Dropdwon!$B$2,IF(AND(M16<Dropdwon!$A$4,M16>=Dropdwon!$A$3),Dropdwon!$B$3,Dropdwon!$B$4))","v":"00:00:00"},"00:00:00",{"$f":"IF(AND(T16<>\"\",T16<>\"verpflichtende FoBi\",T16<>\"förderliche FoBi\"),Q16,IF(AND(T16=\"verpflichtende FoBi\",SUM(E16+I16+M16-O16)<=Dropdwon!$A$5),SUM(E16+I16+M16-O16),IF(AND(T16=\"förderliche FoBi\",SUM(E16+I16+M16-O16)<=Dropdwon!$A$5,SUM(E16+I16+M16-O16)<=Q16),SUM(E16+I16+M16-O16),IF(AND(T16=\"förderliche FoBi\",SUM(E16+I16+M16-O16)>Q16),Q16,IF(SUM(E16+I16+M16-O16)>Dropdwon!$A$5,Dropdwon!$C$5,SUM(E16+I16+M16-O16))))))","v":{"$error":"#VALUE!"}},{"$f":"IF(OR(U16=\"x\",A16<STAMMDATENBLATT!$B$32,A16>STAMMDATENBLATT!$D$32),\"0:00\",IF(MOD(B16,2)=0,VLOOKUP(WEEKDAY(A16,2),STAMMDATENBLATT!H$28:J$34,3,FALSE),VLOOKUP(WEEKDAY(A16,2),STAMMDATENBLATT!H$38:J$44,3,FALSE)))","v":{"$error":"#VALUE!"}},{"$error":"#VALUE!"},null,null,{"$f":"_xlfn.IFNA(VLOOKUP(A16,Feiertage!A:D,3,FALSE),\"\")","v":""},{"$f":"_xlfn.IFNA(VLOOKUP(A16,Feiertage!A:D,4,FALSE),\"\")","v":""}]
["2024-01-12",2,null,null,"00:00:00",{"$f":"IF(E17<Dropdwon!$A$3,Dropdwon!$B$2,IF(AND(E17<Dropdwon!$A$4,E17>=Dropdwon!$A$3),Dropdwon!$B$3,Dropdwon!$B$4))","v":"00:00:00"},null,null,"00:00:00",{"$f":"IF(I17<Dropdwon!$A$3,Dropdwon!$B$2,IF(AND(I17<Dropdwon!$A$4,I17>=Dropdwon!$A$3),Dropdwon!$B$3,Dropdwon!$B$4))","v":"00:00:00"},null,null,"00:00:00",{"$f":"IF(M17<Dropdwon!$A$3,Dropdwon!$B$2,IF(AND(M17<Dropdwon!$A$4,M17>=Dropdwon!$A$3),Dropdwon!$B$3,Dropdwon!$B$4))","v":"00:00:00"},"00:00:00",{"$f":"IF(AND(T17<>\"\",T17<>\"verpflichtende FoBi\",T17<>\"förderliche FoBi\"),Q17,IF(AND(T17=\"verpflichtende FoBi\",SUM(E17+I17+M17-O17)<=Dropdwon!$A$5),SUM(E17+I17+M17-O17),IF(AND(T17=\"förderliche FoBi\",SUM(E17+I17+M17-O17)<=Dropdwon!$A$5,SUM(E17+I17+M17-O17)<=Q17),SUM(E17+I17+M17-O17),IF(AND(T17=\"förderliche FoBi\",SUM(E17+I17+M17-O17)>Q17),Q17,IF(SUM(E17+I17+M17-O17)>Dropdwon!$A$5,Dropdwon!$C$5,SUM(E17+I17+M17-O17))))))","v":{"$error":"#VALUE!"}},{"$f":"IF(OR(U17=\"x\",A17<STAMMDATENBLATT!$B$32,A17>STAMMDATENBLATT!$D$32),\"0:00\",IF(MOD(B17,2)=0,VLOOKUP(WEEKDAY(A17,2),STAMMDATENBLATT!H$28:J$34,3,FALSE),VLOOKUP(WEEKDAY(A17,2),STAMMDATENBLATT!H$38:J$44,3,FALSE)))","v":{"$error":"#VALUE!"}},{"$error":"#VALUE!"},null,null,{"$f":"_xlfn.IFNA(VLOOKUP(A17,Feiertage!A:D,3,FALSE),\"\")","v":""},{"$f":"_xlfn.IFNA(VLOOKUP(A17,Feiertage!A:D,4,FALSE),\"\")","v":""}]
["2024-01-13",2,null,null,"00:00:00",{"$f":"IF(E18<Dropdwon!$A$3,Dropdwon!$B$2,IF(AND(E18<Dropdwon!$A$4,E18>=Dropdwon!$A$3),Dropdwon!$B$3,Dropdwon!$B$4))","v":"00:00:00"},null,null,"00:00:00",{"$f":"IF(I18<Dropdwon!$A$3,Dropdwon!$B$2,IF(AND(I18<Dropdwon!$A$4,I18>=Dropdwon!$A$3),Dropdwon!$B$3,Dropdwon!$B$4))","v":"00:00:00"},null,null,"00:00:00",{"$f":"IF(M18<Dropdwon!$A$3,Dropdwon!$B$2,IF(AND(M18<Dropdwon!$A$4,M18>=Dropdwon!$A$3),Dropdwon!$B$3,Dropdwon!$B$4))","v":"00:00:00"},"00:00:00",{"$f":"IF(AND(T18<>\"\",T18<>\"verpflichtende FoBi\",T18<>\"förderliche FoBi\"),Q18,IF(AND(T18=\"verpflichtende FoBi\",SUM(E18+I18+M18-O18)<=Dropdwon!$A$5),SUM(E18+I18+M18-O18),IF(AND(T18=\"förderliche FoBi\",SUM(E18+I18+M18-O18)<=Dropdwon!$A$5,SUM(E18+I18+M18-O18)<=Q18),SUM(E18+I18+M18-O18),IF(AND(T18=\"förderliche FoBi\",SUM(E18+I18+M18-O18)>Q18),Q18,IF(SUM(E18+I18+M18-O18)>Dropdwon!$A$5,Dropdwon!$C$5,SUM(E18+I18+M18-O18))))))","v":"00:00:00"},{"$f":"IF(OR(U18=\"x\",A18<STAMMDATENBLATT!$B$32,A18>STAMMDATENBLATT!$D$32),\"0:00\",IF(MOD(B18,2)=0,VLOOKUP(WEEKDAY(A18,2),STAMMDATENBLATT!H$28:J$34,3,FALSE),VLOOKUP(WEEKDAY(A18,2),STAMMDATENBLATT!H$38:J$44,3,FALSE)))","v":"00:00:00"},"00:00:00",null,null,{"$f":"_xlfn.IFNA(VLOOKUP(A18,Feiertage!A:D,3,FALSE),\"\")","v":""},{"$f":"_xlfn.IFNA(VLOOKUP(A18,Feiertage!A:D,4,FALSE),\"\")","v":""}]
["2024-01-14",2,null,null,"00:00:00",{"$f":"IF(E19<Dropdwon!$A$3,Dropdwon!$B$2,IF(AND(E19<Dropdwon!$A$4,E19>=Dropdwon!$A$3),Dropdwon!$B$3,Dropdwon!$B$4))","v":"00:00:00"},null,null,"00:00:00",{"$f":"IF(I19<Dropdwon!$A$3,Dropdwon!$B$2,IF(AND(I19<Dropdwon!$A$4,I19>=Dropdwon!$A$3),Dropdwon!$B$3,Dropdwon!$B$4))","v":"00:00:00"},null,null,"00:00:00",{"$f":"IF(M19<Dropdwon!$A$3,Dropdwon!$B$2,IF(AND(M19<Dropdwon!$A$4,M19>=Dropdwon!$A$3),Dropdwon!$B$3,Dropdwon!$B$4))","v":"00:00:00"},"00:00:00",{"$f":"IF(AND(T19<>\"\",T19<>\"verpflichtende FoBi\",T19<>\"förderliche FoBi\"),Q19,IF(AND(T19=\"verpflichtende FoBi\",SUM(E19+I19+M19-O19)<=Dropdwon!$A$5),SUM(E19+I19+M19-O19),IF(AND(T19=\"förderliche FoBi\",SUM(E19+I19+M19-O19)<=Dropdwon!$A$5,SUM(E19+I19+M19-O19)<=Q19),SUM(E19+I19+M19-O19),IF(AND(T19=\"förderliche FoBi\",SUM(E19+I19+M19-O19)>Q19),Q19,IF(SUM(E19+I19+M19-O19)>Dropdwon!$A$5,Dropdwon!$C$5,SUM(E19+I19+M19-O19))))))","v":"00:00:00"},{"$f":"IF(OR(U19=\"x\",A19<STAMMDATENBLATT!$B$32,A19>STAMMDATENBLATT!$D$32),\"0:00\",IF(MOD(B19,2)=0,VLOOKUP(WEEKDAY(A19,2),STAMMDATENBLATT!H$28:J$34,3,FALSE),VLOOKUP(WEEKDAY(A19,2),STAMMDATENBLATT!H$38:J$44,3,FALSE)))","v":"00:00:00"},"00:00:00",null,null,{"$f":"_xlfn.IFNA(VLOOKUP(A19,Feiertage!A:D,3,FALSE),\"\")","v":""},{"$f":"_xlfn.IFNA(VLOOKUP(A19,Feiertage!A:D,4,FALSE),\"\")","v":""}]
["2024-01-15",3,null,null,"00:00:00",{"$f":"IF(E20<Dropdwon!$A$3,Dropdwon!$B$2,IF(AND(E20<Dropdwon!$A$4,E20>=Dropdwon!$A$3),Dropdwon!$B$3,Dropdwon!$B$4))","v":"00:00:00"},null,null,"00:00:00",{"$f":"IF(I20<Dropdwon!$A$3,Dropdwon!$B$2,IF(AND(I20<Dropdwon!$A$4,I20>=Dropdwon!$A$3),Dropdwon!$B$3,Dropdwon!$B$4))","v":"00:00:00"},null,null,"00:00:00",{"$f":"IF(M20<Dropdwon!$A$3,Dropdwon!$B$2,IF(AND(M20<Dropdwon!$A$4,M20>=Dropdwon!$A$3),Dropdwon!$B$3,Dropdwon!$B$4))","v":"00:00:00"},"00:00:00",{"$f":"IF(AND(T20<>\"\",T20<>\"verpflichtende FoBi\",T20<>\"förderliche FoBi\"),Q20,IF(AND(T20=\"verpflichtende FoBi\",SUM(E20+I20+M20-O20)<=Dropdwon!$A$5),SUM(E20+I20+M20-O20),IF(AND(T20=\"förderliche FoBi\",SUM(E20+I20+M20-O20)<=Dropdwon!$A$5,SUM(E20+I20+M20-O20)<=Q20),SUM(E20+I20+M20-O20),IF(AND(T20=\"förderliche FoBi\",SUM(E20+I20+M20-O20)>Q20),Q20,IF(SUM(E20+I20+M20-O20)>Dropdwon!$A$5,Dropdwon!$C$5,SUM(E20+I20+M20-O20))))))","v":{"$error":"#VALUE!"}},{"$f":"IF(OR(U20=\"x\",A20<STAMMDATENBLATT!$B$32,A20>STAMMDATENBLATT!$D$32),\"0:00\",IF(MOD(B20,2)=0,VLOOKUP(WEEKDAY(A20,2),STAMMDATENBLATT!H$28:J$34,3,FALSE),VLOOKUP(WEEKDAY(A20,2),STAMMDATENBLATT!H$38:J$44,3,FALSE)))","v":{"$error":"#VALUE!"}},{"$error":"#VALUE!"},null,null,{"$f":"_xlfn.IFNA(VLOOKUP(A20,Feiertage!A:D,3,FALSE),\"\")","v":""},{"$f":"_xlfn.IFNA(VLOOKUP(A20,Feiertage!A:D,4,FALSE),\"\")","v":""}]
["2024-01-16",3,null,null,"00:00:00",{"$f":"IF(E21<Dropdwon!$A$3,Dropdwon!$B$2,IF(AND(E21<Dropdwon!$A$4,E21>=Dropdwon!$A$3),Dropdwon!$B$3,Dropdwon!$B$4))","v":"00:00:00"},null,null,"00:00:00",{"$f":"IF(I21<Dropdwon!$A$3,Dropdwon!$B$2,IF(AND(I21<Dropdwon!$A$4,I21>=Dropdwon!$A$3),Dropdwon!$B$3,Dropdwon!$B$4))","v":"00:00:00"},null,null,"00:00:00",{"$f":"IF(M21<Dropdwon!$A$3,Dropdwon!$B$2,IF(AND(M21<Dropdwon!$A$4,M21>=Dropdwon!$A$3),Dropdwon!$B$3,Dropdwon!$B$4))","v":"00:00:00"},"00:00:00",{"$f":"IF(AND(T21<>\"\",T21<>\"verpflichtende FoBi\",T21<>\"förderliche FoBi\"),Q21,IF(AND(T21=\"verpflichtende FoBi\",SUM(E21+I21+M21-O21)<=Dropdwon!$A$5),SUM(E21+I21+M21-O21),IF(AND(T21=\"förderliche FoBi\",SUM(E21+I21+M21-O21)<=Dropdwon!$A$5,SUM(E21+I21+M21-O21)<=Q21),SUM(E21+I21+M21-O21),IF(AND(T21=\"förderliche FoBi\",SUM(E21+I21+M21-O21)>Q21),Q21,IF(SUM(E21+I21+M21-O21)>Dropdwon!$A$5,Dropdwon!$C$5,SUM(E21+I21+M21-O21))))))","v":{"$error":"#VALUE!"}},{"$f":"IF(OR(U21=\"x\",A21<STAMMDATENBLATT!$B$32,A21>STAMMDATENBLATT!$D$32),\"0:00\",IF(MOD(B21,2)=0,VLOOKUP(WEEKDAY(A21,2),STAMMDATENBLATT!H$28:J$34,3,FALSE),VLOOKUP(WEEKDAY(A21,2),STAMMDATENBLATT!H$38:J$44,3,FALSE)))","v":{"$error":"#VALUE!"}},{"$error":"#VALUE!"},null,null,{"$f":"_xlfn.IFNA(VLOOKUP(A21,Feiertage!A:D,3,FALSE),\"\")","v":""},{"$f":"_xlfn.IFNA(VLOOKUP(A21,Feiertage!A:D,4,FALSE),\"\")","v":""}]
["2024-01-17",3,null,null,"00:00:00",{"$f":"IF(E22<Dropdwon!$A$3,Dropdwon!$B$2,IF(AND(E22<Dropdwon!$A$4,E22>=Dropdwon!$A$3),Dropdwon!$B$3,Dropdwon!$B$4))","v":"00:00:00"},null,null,"00:00:00",{"$f":"IF(I22<Dropdwon!$A$3,Dropdwon!$B$2,IF(AND(I22<Dropdwon!$A$4,I22>=Dropdwon!$A$3),Dropdwon!$B$3,Dropdwon!$B$4))","v":"00:00:00"},null,null,"00:00:00",{"$f":"IF(M22<Dropdwon!$A$3,Dropdwon!$B$2,IF(AND(M22<Dropdwon!$A$4,M22>=Dropdwon!$A$3),Dropdwon!$B$3,Dropdwon!$B$4))","v":"00:00:00"},"00:00:00",{"$f":"IF(AND(T22<>\"\",T22<>\"verpflichtende FoBi\",T22<>\"förderliche FoBi\"),Q22,IF(AND(T22=\"verpflichtende FoBi\",SUM(E22+I22+M22-O22)<=Dropdwon!$A$5),SUM(E22+I22+M22-O22),IF(AND(T22=\"förderliche FoBi\",SUM(E22+I22+M22-O22)<=Dropdwon!$A$5,SUM(E22+I22+M22-O22)<=Q22),SUM(E22+I22+M22-O22),IF(AND(T22=\"förderliche FoBi\",SUM(E22+I22+M22-O22)>Q22),Q22,IF(SUM(E22+I22+M22-O22)>Dropdwon!$A$5,Dropdwon!$C$5,SUM(E22+I22+M22-O22))))))","v":{"$error":"#VALUE!"}},{"$f":"IF(OR(U22=\"x\",A22<STAMMDATENBLATT!$B$32,A22>STAMMDATENBLATT!$D$32),\"0:00\",IF(MOD(B22,2)=0,VLOOKUP(WEEKDAY(A22,2),STAMMDATENBLATT!H$28:J$34,3,FALSE),VLOOKUP(WEEKDAY(A22,2),STAMMDATENBLATT!H$38:J$44,3,FALSE)))","v":{"$error":"#VALUE!"}},{"$error":"#VALUE!"},null,null,{"$f":"_xlfn.IFNA(VLOOKUP(A22,Feiertage!A:D,3,FALSE),\"\")","v":""},{"$f":"_xlfn.IFNA(VLOOKUP(A22,Feiertage!A:D,4,FALSE),\"\")","v":""}]
["2024-01-18",3,null,null,"00:00:00",{"$f":"IF(E23<Dropdwon!$A$3,Dropdwon!$B$2,IF(AND(E23<Dropdwon!$A$4,E23>=Dropdwon!$A$3),Dropdwon!$B$3,Dropdwon!$B$4))","v":"00:00:00"},null,null,"00:00:00",{"$f":"IF(I23<Dropdwon!$A$3,Dropdwon!$B$2,IF(AND(I23<Dropdwon!$A$4,I23>=Dropdwon!$A$3),Dropdwon!$B$3,Dropdwon!$B$4))","v":"00:00:00"},null,null,"00:00:00",{"$f":"IF(M23<Dropdwon!$A$3,Dropdwon!$B$2,IF(AND(M23<Dropdwon!$A$4,M23>=Dropdwon!$A$3),Dropdwon!$B$3,Dropdwon!$B$4))","v":"00:00:00"},"00:00:00",{"$f":"IF(AND(T23<>\"\",T23<>\"verpflichtende FoBi\",T23<>\"förderliche FoBi\"),Q23,IF(AND(T23=\"verpflichtende FoBi\",SUM(E23+I23+M23-O23)<=Dropdwon!$A$5),SUM(E23+I23+M23-O23),IF(AND(T23=\"förderliche FoBi\",SUM(E23+I23+M23-O23)<=Dropdwon!$A$5,SUM(E23+I23+M23-O23)<=Q23),SUM(E23+I23+M23-O23),IF(AND(T23=\"förderliche FoBi\",SUM(E23+I23+M23-O23)>Q23),Q23,IF(SUM(E23+I23+M23-O23)>Dropdwon!$A$5,Dropdwon!$C$5,SUM(E23+I23+M23-O23))))))","v":{"$error":"#VALUE!"}},{"$f":"IF(OR(U23=\"x\",A23<STAMMDATENBLATT!$B$32,A23>STAMMDATENBLATT!$D$32),\"0:00\",IF(MOD(B23,2)=0,VLOOKUP(WEEKDAY(A23,2),STAMMDATENBLATT!H$28:J$34,3,FALSE),VLOOKUP(WEEKDAY(A23,2),STAMMDATENBLATT!H$38:J$44,3,FALSE)))","v":{"$error":"#VALUE!"}},{"$error":"#VALUE!"},null,null,{"$f":"_xlfn.IFNA(VLOOKUP(A23,Feiertage!A:D,3,FALSE),\"\")","v":""},{"$f":"_xlfn.IFNA(VLOOKUP(A23,Feiertage!A:D,4,FALSE),\"\")","v":""}]
["2024-01-19",3,null,null,"00:00:00",{"$f":"IF(E24<Dropdwon!$A$3,Dropdwon!$B$2,IF(AND(E24<Dropdwon!$A$4,E24>=Dropdwon!$A$3),Dropdwon!$B$3,Dropdwon!$B$4))","v":"00:00:00"},null,null,"00:00:00",{"$f":"IF(I24<Dropdwon!$A$3,Dropdwon!$B$2,IF(AND(I24<Dropdwon!$A$4,I24>=Dropdwon!$A$3),Dropdwon!$B$3,Dropdwon!$B$4))","v":"00:00:00"},null,null,"00:00:00",{"$f":"IF(M24<Dropdwon!$A$3,Dropdwon!$B$2,IF(AND(M24<Dropdwon!$A$4,M24>=Dropdwon!$A$3),Dropdwon!$B$3,Dropdwon!$B$4))","v":"00:00:00"},"00:00:00",{"$f":"IF(AND(T24<>\"\",T24<>\"verpflichtende FoBi\",T24<>\"förderliche FoBi\"),Q24,IF(AND(T24=\"verpflichtende FoBi\",SUM(E24+I24+M24-O24)<=Dropdwon!$A$5),SUM(E24+I24+M24-O24),IF(AND(T24=\"förderliche FoBi\",SUM(E24+I24+M24-O24)<=Dropdwon!$A$5,SUM(E24+I24+M24-O24)<=Q24),SUM(E24+I24+M24-O24),IF(AND(T24=\"förderliche FoBi\",SUM(E24+I24+M24-O24)>Q24),Q24,IF(SUM(E24+I24+M24-O24)>Dropdwon!$A$5,Dropdwon!$C$5,SUM(E24+I24+M24-O24))))))","v":{"$error":"#VALUE!"}},{"$f":"IF(OR(U24=\"x\",A24<STAMMDATENBLATT!$B$32,A24>STAMMDATENBLATT!$D$32),\"0:00\",IF(MOD(B24,2)=0,VLOOKUP(WEEKDAY(A24,2),STAMMDATENBLATT!H$28:J$34,3,FALSE),VLOOKUP(WEEKDAY(A24,2),STAMMDATENBLATT!H$38:J$44,3,FALSE)))","v":{"$error":"#VALUE!"}},{"$error":"#VALUE!"},null,null,{"$f":"_xlfn.IFNA(VLOOKUP(A24,Feiertage!A:D,3,FALSE),\"\")","v":""},{"$f":"_xlfn.IFNA(VLOOKUP(A24,Feiertage!A:D,4,FALSE),\"\")","v":""}]
["2024-01-20",3,null,null,"00:00:00",{"$f":"IF(E25<Dropdwon!$A$3,Dropdwon!$B$2,IF(AND(E25<Dropdwon!$A$4,E25>=Dropdwon!$A$3),Dropdwon!$B$3,Dropdwon!$B$4))","v":"00:00:00"},null,null,"00:00:00",{"$f":"IF(I25<Dropdwon!$A$3,Dropdwon!$B$2,IF(AND(I25<Dropdwon!$A$4,I25>=Dropdwon!$A$3),Dropdwon!$B$3,Dropdwon!$B$4))","v":"00:00:00"},null,null,"00:00:00",{"$f":"IF(M25<Dropdwon!$A$3,Dropdwon!$B$2,IF(AND(M25<Dropdwon!$A$4,M25>=Dropdwon!$A$3),Dropdwon!$B$3,Dropdwon!$B$4))","v":"00:00:00"},"00:00:00",{"$f":"IF(AND(T25<>\"\",T25<>\"verpflichtende FoBi\",T25<>\"förderliche FoBi\"),Q25,IF(AND(T25=\"verpflichtende FoBi\",SUM(E25+I25+M25-O25)<=Dropdwon!$A$5),SUM(E25+I25+M25-O25),IF(AND(T25=\"förderliche FoBi\",SUM(E25+I25+M25-O25)<=Dropdwon!$A$5,SUM(E25+I25+M25-O25)<=Q25),SUM(E25+I25+M25-O25),IF(AND(T25=\"förderliche FoBi\",SUM(E25+I25+M25-O25)>Q25),Q25,IF(SUM(E25+I25+M25-O25)>Dropdwon!$A$5,Dropdwon!$C$5,SUM(E25+I25+M25-O25))))))","v":"00:00:00"},{"$f":"IF(OR(U25=\"x\",A25<STAMMDATENBLATT!$B$32,A25>STAMMDATENBLATT!$D$32),\"0:00\",IF(MOD(B25,2)=0,VLOOKUP(WEEKDAY(A25,2),STAMMDATENBLATT!H$28:J$34,3,FALSE),VLOOKUP(WEEKDAY(A25,2),STAMMDATENBLATT!H$38:J$44,3,FALSE)))","v":"00:00:00"},"00:00:00",null,null,{"$f":"_xlfn.IFNA(VLOOKUP(A25,Feiertage!A:D,3,FALSE),\"\")","v":""},{"$f":"_xlfn.IFNA(VLOOKUP(A25,Feiertage!A:D,4,FALSE),\"\")","v":""}]
["2024-01-21",3,null,null,"00:00:00",{"$f":"IF(E26<Dropdwon!$A$3,Dropdwon!$B$2,IF(AND(E26<Dropdwon!$A$4,E26>=Dropdwon!$A$3),Dropdwon!$B$3,Dropdwon!$B$4))","v":"00:00:00"},null,null,"00:00:00",{"$f":"IF(I26<Dropdwon!$A$3,Dropdwon!$B$2,IF(AND(I26<Dropdwon!$A$4,I26>=Dropdwon!$A$3),Dropdwon!$B$3,Dropdwon!$B$4))","v":"00:00:00"},null,null,"00:00:00",{"$f":"IF(M26<Dropdwon!$A$3,Dropdwon!$B$2,IF(AND(M26<Dropdwon!$A$4,M26>=Dropdwon!$A$3),Dropdwon!$B$3,Dropdwon!$B$4))","v":"00:00:00"},"00:00:00",{"$f":"IF(AND(T26<>\"\",T26<>\"verpflichtende FoBi\",T26<>\"förderliche FoBi\"),Q26,IF(AND(T26=\"verpflichtende FoBi\",SUM(E26+I26+M26-O26)<=Dropdwon!$A$5),SUM(E26+I26+M26-O26),IF(AND(T26=\"förderliche FoBi\",SUM(E26+I26+M26-O26)<=Dropdwon!$A$5,SUM(E26+I26+M26-O26)<=Q26),SUM(E26+I26+M26-O26),IF(AND(T26=\"förderliche FoBi\",SUM(E26+I26+M26-O26)>Q26),Q26,IF(SUM(E26+I26+M26-O26)>Dropdwon!$A$5,Dropdwon!$C$5,SUM(E26+I26+M26-O26))))))","v":"00:00:00"},{"$f":"IF(OR(U26=\"x\",A26<STAMMDATENBLATT!$B$32,A26>STAMMDATENBLATT!$D$32),\"0:00\",IF(MOD(B26,2)=0,VLOOKUP(WEEKDAY(A26,2),STAMMDATENBLATT!H$28:J$34,3,FALSE),VLOOKUP(WEEKDAY(A26,2),STAMMDATENBLATT!H$38:J$44,3,FALSE)))","v":"00:00:00"},"00:00:00",null,null,{"$f":"_xlfn.IFNA(VLOOKUP(A26,Feiertage!A:D,3,FALSE),\"\")","v":""},{"$f":"_xlfn.IFNA(VLOOKUP(A26,Feiertage!A:D,4,FALSE),\"\")","v":""}]
["2024-01-22",4,null,null,"00:00:00",{"$f":"IF(E27<Dropdwon!$A$3,Dropdwon!$B$2,IF(AND(E27<Dropdwon!$A$4,E27>=Dropdwon!$A$3),Dropdwon!$B$3,Dropdwon!$B$4))","v":"00:00:00"},null,null,"00:00:00",{"$f":"IF(I27<Dropdwon!$A$3,Dropdwon!$B$2,IF(AND(I27<Dropdwon!$A$4,I27>=Dropdwon!$A$3),Dropdwon!$B$3,Dropdwon!$B$4))","v":"00:00:00"},null,null,"00:00:00",{"$f":"IF(M27<Dropdwon!$A$3,Dropdwon!$B$2,IF(AND(M27<Dropdwon!$A$4,M27>=Dropdwon!$A$3),Dropdwon!$B$3,Dropdwon!$B$4))","v":"00:00:00"},"00:00:00",{"$f":"IF(AND(T27<>\"\",T27<>\"verpflichtende FoBi\",T27<>\"förderliche FoBi\"),Q27,IF(AND(T27=\"verpflichtende FoBi\",SUM(E27+I27+M27-O27)<=Dropdwon!$A$5),SUM(E27+I27+M27-O27),IF(AND(T27=\"förderliche FoBi\",SUM(E27+I27+M27-O27)<=Dropdwon!$A$5,SUM(E27+I27+M27-O27)<=Q27),SUM(E27+I27+M27-O27),IF(AND(T27=\"förderliche FoBi\",SUM(E27+I27+M27-O27)>Q27),Q27,IF(SUM(E27+I27+M27-O27)>Dropdwon!$A$5,Dropdwon!$C$5,SUM(E27+I27+M27-O27))))))","v":{"$error":"#VALUE!"}},{"$f":"IF(OR(U27=\"x\",A27<STAMMDATENBLATT!$B$32,A27>STAMMDATENBLATT!$D$32),\"0:00\",IF(MOD(B27,2)=0,VLOOKUP(WEEKDAY(A27,2),STAMMDATENBLATT!H$28:J$34,3,FALSE),VLOOKUP(WEEKDAY(A27,2),STAMMDATENBLATT!H$38:J$44,3,FALSE)))","v":{"$error":"#VALUE!"}},{"$error":"#VALUE!"},null,null,{"$f":"_xlfn.IFNA(VLOOKUP(A27,Feiertage!A:D,3,FALSE),\"\")","v":""},{"$f":"_xlfn.IFNA(VLOOKUP(A27,Feiertage!A:D,4,FALSE),\"\")","v":""}]
["2024-01-23",4,null,null,"00:00:00",{"$f":"IF(E28<Dropdwon!$A$3,Dropdwon!$B$2,IF(AND(E28<Dropdwon!$A$4,E28>=Dropdwon!$A$3),Dropdwon!$B$3,Dropdwon!$B$4))","v":"00:00:00"},null,null,"00:00:00",{"$f":"IF(I28<Dropdwon!$A$3,Dropdwon!$B$2,IF(AND(I28<Dropdwon!$A$4,I28>=Dropdwon!$A$3),Dropdwon!$B$3,Dropdwon!$B$4))","v":"00:00:00"},null,null,"00:00:00",{"$f":"IF(M28<Dropdwon!$A$3,Dropdwon!$B$2,IF(AND(M28<Dropdwon!$A$4,M28>=Dropdwon!$A$3),Dropdwon!$B$3,Dropdwon!$B$4))","v":"00:00:00"},"00:00:00",{"$f":"IF(AND(T28<>\"\",T28<>\"verpflichtende FoBi\",T28<>\"förderliche FoBi\"),Q28,IF(AND(T28=\"verpflichtende FoBi\",SUM(E28+I28+M28-O28)<=Dropdwon!$A$5),SUM(E28+I28+M28-O28),IF(AND(T28=\"förderliche FoBi\",SUM(E28+I28+M28-O28)<=Dropdwon!$A$5,SUM(E28+I28+M28-O28)<=Q28),SUM(E28+I28+M28-O28),IF(AND(T28=\"förderliche FoBi\",SUM(E28+I28+M28-O28)>Q28),Q28,IF(SUM(E28+I28+M28-O28)>Dropdwon!$A$5,Dropdwon!$C$5,SUM(E28+I28+M28-O28))))))","v":{"$error":"#VALUE!"}},{"$f":"IF(OR(U28=\"x\",A28<STAMMDATENBLATT!$B$32,A28>STAMMDATENBLATT!$D$32),\"0:00\",IF(MOD(B28,2)=0,VLOOKUP(WEEKDAY(A28,2),STAMMDATENBLATT!H$28:J$34,3,FALSE),VLOOKUP(WEEKDAY(A28,2),STAMMDATENBLATT!H$38:J$44,3,FALSE)))","v":{"$error":"#VALUE!"}},{"$error":"#VALUE!"},null,null,{"$f":"_xlfn.IFNA(VLOOKUP(A28,Feiertage!A:D,3,FALSE),\"\")","v":""},{"$f":"_xlfn.IFNA(VLOOKUP(A28,Feiertage!A:D,4,FALSE),\"\")","v":""}]
["2024-01-24",4,null,null,"00:00:00",{"$f":"IF(E29<Dropdwon!$A$3,Dropdwon!$B$2,IF(AND(E29<Dropdwon!$A$4,E29>=Dropdwon!$A$3),Dropdwon!$B$3,Dropdwon!$B$4))","v":"00:00:00"},null,null,"00:00:00",{"$f":"IF(I29<Dropdwon!$A$3,Dropdwon!$B$2,IF(AND(I29<Dropdwon!$A$4,I29>=Dropdwon!$A$3),Dropdwon!$B$3,Dropdwon!$B$4))","v":"00:00:00"},null,null,"00:00:00",{"$f":"IF(M29<Dropdwon!$A$3,Dropdwon!$B$2,IF(AND(M29<Dropdwon!$A$4,M29>=Dropdwon!$A$3),Dropdwon!$B$3,Dropdwon!$B$4))","v":"00:00:00"},"00:00:00",{"$f":"IF(AND(T29<>\"\",T29<>\"verpflichtende FoBi\",T29<>\"förderliche FoBi\"),Q29,IF(AND(T29=\"verpflichtende FoBi\",SUM(E29+I29+M29-O29)<=Dropdwon!$A$5),SUM(E29+I29+M29-O29),IF(AND(T29=\"förderliche FoBi\",SUM(E29+I29+M29-O29)<=Dropdwon!$A$5,SUM(E29+I29+M29-O29)<=Q29),SUM(E29+I29+M29-O29),IF(AND(T29=\"förderliche FoBi\",SUM(E29+I29+M29-O29)>Q29),Q29,IF(SUM(E29+I29+M29-O29)>Dropdwon!$A$5,Dropdwon!$C$5,SUM(E29+I29+M29-O29))))))","v":{"$error":"#VALUE!"}},{"$f":"IF(OR(U29=\"x\",A29<STAMMDATENBLATT!$B$32,A29>STAMMDATENBLATT!$D$32),\"0:00\",IF(MOD(B29,2)=0,VLOOKUP(WEEKDAY(A29,2),STAMMDATENBLATT!H$28:J$34,3,FALSE),VLOOKUP(WEEKDAY(A29,2),STAMMDATENBLATT!H$38:J$44,3,FALSE)))","v":{"$error":"#VALUE!"}},{"$error":"#VALUE!"},null,null,{"$f":"_xlfn.IFNA(VLOOKUP(A29,Feiertage!A:D,3,FALSE),\"\")","v":""},{"$f":"_xlfn.IFNA(VLOOKUP(A29,Feiertage!A:D,4,FALSE),\"\")","v":""}]
["2024-01-25",4,null,null,"00:00:00",{"$f":"IF(E30<Dropdwon!$A$3,Dropdwon!$B$2,IF(AND(E30<Dropdwon!$A$4,E30>=Dropdwon!$A$3),Dropdwon!$B$3,Dropdwon!$B$4))","v":"00:00:00"},null,null,"00:00:00",{"$f":"IF(I30<Dropdwon!$A$3,Dropdwon!$B$2,IF(AND(I30<Dropdwon!$A$4,I30>=Dropdwon!$A$3),Dropdwon!$B$3,Dropdwon!$B$4))","v":"00:00:00"},null,null,"00:00:00",{"$f":"IF(M30<Dropdwon!$A$3,Dropdwon!$B$2,IF(AND(M30<Dropdwon!$A$4,M30>=Dropdwon!$A$3),Dropdwon!$B$3,Dropdwon!$B$4))","v":"00:00:00"},"00:00:00",{"$f":"IF(AND(T30<>\"\",T30<>\"verpflichtende FoBi\",T30<>\"förderliche FoBi\"),Q30,IF(AND(T30=\"verpflichtende FoBi\",SUM(E30+I30+M30-O30)<=Dropdwon!$A$5),SUM(E30+I30+M30-O30),IF(AND(T30=\"förderliche FoBi\",SUM(E30+I30+M30-O30)<=Dropdwon!$A$5,SUM(E30+I30+M30-O30)<=Q30),SUM(E30+I30+M30-O30),IF(AND(T30=\"förderliche FoBi\",SUM(E30+I30+M30-O30)>Q30),Q30,IF(SUM(E30+I30+M30-O30)>Dropdwon!$A$5,Dropdwon!$C$5,SUM(E30+I30+M30-O30))))))","v":{"$error":"#VALUE!"}},{"$f":"IF(OR(U30=\"x\",A30<STAMMDATENBLATT!$B$32,A30>STAMMDATENBLATT!$D$32),\"0:00\",IF(MOD(B30,2)=0,VLOOKUP(WEEKDAY(A30,2),STAMMDATENBLATT!H$28:J$34,3,FALSE),VLOOKUP(WEEKDAY(A30,2),STAMMDATENBLATT!H$38:J$44,3,FALSE)))","v":{"$error":"#VALUE!"}},{"$error":"#VALUE!"},null,null,{"$f":"_xlfn.IFNA(VLOOKUP(A30,Feiertage!A:D,3,FALSE),\"\")","v":""},{"$f":"_xlfn.IFNA(VLOOKUP(A30,Feiertage!A:D,4,FALSE),\"\")","v":""}]
["2024-01-26",4,null,null,"00:00:00",{"$f":"IF(E31<Dropdwon!$A$3,Dropdwon!$B$2,IF(AND(E31<Dropdwon!$A$4,E31>=Dropdwon!$A$3),Dropdwon!$B$3,Dropdwon!$B$4))","v":"00:00:00"},null,null,"00:00:00",{"$f":"IF(I31<Dropdwon!$A$3,Dropdwon!$B$2,IF(AND(I31<Dropdwon!$A$4,I31>=Dropdwon!$A$3),Dropdwon!$B$3,Dropdwon!$B$4))","v":"00:00:00"},null,null,"00:00:00",{"$f":"IF(M31<Dropdwon!$A$3,Dropdwon!$B$2,IF(AND(M31<Dropdwon!$A$4,M31>=Dropdwon!$A$3),Dropdwon!$B$3,Dropdwon!$B$4))","v":"00:00:00"},"00:00:00",{"$f":"IF(AND(T31<>\"\",T31<>\"verpflichtende FoBi\",T31<>\"förderliche FoBi\"),Q31,IF(AND(T31=\"verpflichtende FoBi\",SUM(E31+I31+M31-O31)<=Dropdwon!$A$5),SUM(E31+I31+M31-O31),IF(AND(T31=\"förderliche FoBi\",SUM(E31+I31+M31-O31)<=Dropdwon!$A$5,SUM(E31+I31+M31-O31)<=Q31),SUM(E31+I31+M31-O31),IF(AND(T31=\"förderliche FoBi\",SUM(E31+I31+M31-O31)>Q31),Q31,IF(SUM(E31+I31+M31-O31)>Dropdwon!$A$5,Dropdwon!$C$5,SUM(E31+I31+M31-O31))))))","v":{"$error":"#VALUE!"}},{"$f":"IF(OR(U31=\"x\",A31<STAMMDATENBLATT!$B$32,A31>STAMMDATENBLATT!$D$32),\"0:00\",IF(MOD(B31,2)=0,VLOOKUP(WEEKDAY(A31,2),STAMMDATENBLATT!H$28:J$34,3,FALSE),VLOOKUP(WEEKDAY(A31,2),STAMMDATENBLATT!H$38:J$44,3,FALSE)))","v":{"$error":"#VALUE!"}},{"$error":"#VALUE!"},null,null,{"$f":"_xlfn.IFNA(VLOOKUP(A31,Feiertage!A:D,3,FALSE),\"\")","v":""},{"$f":"_xlfn.IFNA(VLOOKUP(A31,Feiertage!A:D,4,FALSE),\"\")","v":""}]
["2024-01-27",4,null,null,"00:00:00",{"$f":"IF(E32<Dropdwon!$A$3,Dropdwon!$B$2,IF(AND(E32<Dropdwon!$A$4,E32>=Dropdwon!$A$3),Dropdwon!$B$3,Dropdwon!$B$4))","v":"00:00:00"},null,null,"00:00:00",{"$f":"IF(I32<Dropdwon!$A$3,Dropdwon!$B$2,IF(AND(I32<Dropdwon!$A$4,I32>=Dropdwon!$A$3),Dropdwon!$B$3,Dropdwon!$B$4))","v":"00:00:00"},null,null,"00:00:00",{"$f":"IF(M32<Dropdwon!$A$3,Dropdwon!$B$2,IF(AND(M32<Dropdwon!$A$4,M32>=Dropdwon!$A$3),Dropdwon!$B$3,Dropdwon!$B$4))","v":"00:00:00"},"00:00:00",{"$f":"IF(AND(T32<>\"\",T32<>\"verpflichtende FoBi\",T32<>\"förderliche FoBi\"),Q32,IF(AND(T32=\"verpflichtende FoBi\",SUM(E32+I32+M32-O32)<=Dropdwon!$A$5),SUM(E32+I32+M32-O32),IF(AND(T32=\"förderliche FoBi\",SUM(E32+I32+M32-O32)<=Dropdwon!$A$5,SUM(E32+I32+M32-O32)<=Q32),SUM(E32+I32+M32-O32),IF(AND(T32=\"förderliche FoBi\",SUM(E32+I32+M32-O32)>Q32),Q32,IF(SUM(E32+I32+M32-O32)>Dropdwon!$A$5,Dropdwon!$C$5,SUM(E32+I32+M32-O32))))))","v":"00:00:00"},{"$f":"IF(OR(U32=\"x\",A32<STAMMDATENBLATT!$B$32,A32>STAMMDATENBLATT!$D$32),\"0:00\",IF(MOD(B32,2)=0,VLOOKUP(WEEKDAY(A32,2),STAMMDATENBLATT!H$28:J$34,3,FALSE),VLOOKUP(WEEKDAY(A32,2),STAMMDATENBLATT!H$38:J$44,3,FALSE)))","v":"00:00:00"},"00:00:00",null,null,{"$f":"_xlfn.IFNA(VLOOKUP(A32,Feiertage!A:D,3,FALSE),\"\")","v":""},{"$f":"_xlfn.IFNA(VLOOKUP(A32,Feiertage!A:D,4,FALSE),\"\")","v":""}]
["2024-01-28",4,null,null,"00:00:00",{"$f":"IF(E33<Dropdwon!$A$3,Dropdwon!$B$2,IF(AND(E33<Dropdwon!$A$4,E33>=Dropdwon!$A$3),Dropdwon!$B$3,Dropdwon!$B$4))","v":"00:00:00"},null,null,"00:00:00",{"$f":"IF(I33<Dropdwon!$A$3,Dropdwon!$B$2,IF(AND(I33<Dropdwon!$A$4,I33>=Dropdwon!$A$3),Dropdwon!$B$3,Dropdwon!$B$4))","v":"00:00:00"},null,null,"00:00:00",{"$f":"IF(M33<Dropdwon!$A$3,Dropdwon!$B$2,IF(AND(M33<Dropdwon!$A$4,M33>=Dropdwon!$A$3),Dropdwon!$B$3,Dropdwon!$B$4))","v":"00:00:00"},"00:00:00",{"$f":"IF(AND(T33<>\"\",T33<>\"verpflichtende FoBi\",T33<>\"förderliche FoBi\"),Q33,IF(AND(T33=\"verpflichtende FoBi\",SUM(E33+I33+M33-O33)<=Dropdwon!$A$5),SUM(E33+I33+M33-O33),IF(AND(T33=\"förderliche FoBi\",SUM(E33+I33+M33-O33)<=Dropdwon!$A$5,SUM(E33+I33+M33-O33)<=Q33),SUM(E33+I33+M33-O33),IF(AND(T33=\"förderliche FoBi\",SUM(E33+I33+M33-O33)>Q33),Q33,IF(SUM(E33+I33+M33-O33)>Dropdwon!$A$5,Dropdwon!$C$5,SUM(E33+I33+M33-O33))))))","v":"00:00:00"},{"$f":"IF(OR(U33=\"x\",A33<STAMMDATENBLATT!$B$32,A33>STAMMDATENBLATT!$D$32),\"0:00\",IF(MOD(B33,2)=0,VLOOKUP(WEEKDAY(A33,2),STAMMDATENBLATT!H$28:J$34,3,FALSE),VLOOKUP(WEEKDAY(A33,2),STAMMDATENBLATT!H$38:J$44,3,FALSE)))","v":"00:00:00"},"00:00:00",null,null,{"$f":"_xlfn.IFNA(VLOOKUP(A33,Feiertage!A:D,3,FALSE),\"\")","v":""},{"$f":"_xlfn.IFNA(VLOOKUP(A33,Feiertage!A:D,4,FALSE),\"\")","v":""}]
["2024-01-29",5,null,null,"00:00:00",{"$f":"IF(E34<Dropdwon!$A$3,Dropdwon!$B$2,IF(AND(E34<Dropdwon!$A$4,E34>=Dropdwon!$A$3),Dropdwon!$B$3,Dropdwon!$B$4))","v":"00:00:00"},null,null,"00:00:00",{"$f":"IF(I34<Dropdwon!$A$3,Dropdwon!$B$2,IF(AND(I34<Dropdwon!$A$4,I34>=Dropdwon!$A$3),Dropdwon!$B$3,Dropdwon!$B$4))","v":"00:00:00"},null,null,"00:00:00",{"$f":"IF(M34<Dropdwon!$A$3,Dropdwon!$B$2,IF(AND(M34<Dropdwon!$A$4,M34>=Dropdwon!$A$3),Dropdwon!$B$3,Dropdwon!$B$4))","v":"00:00:00"},"00:00:00",{"$f":"IF(AND(T34<>\"\",T34<>\"verpflichtende FoBi\",T34<>\"förderliche FoBi\"),Q34,IF(AND(T34=\"verpflichtende FoBi\",SUM(E34+I34+M34-O34)<=Dropdwon!$A$5),SUM(E34+I34+M34-O34),IF(AND(T34=\"förderliche FoBi\",SUM(E34+I34+M34-O34)<=Dropdwon!$A$5,SUM(E34+I34+M34-O34)<=Q34),SUM(E34+I34+M34-O34),IF(AND(T34=\"förderliche FoBi\",SUM(E34+I34+M34-O34)>Q34),Q34,IF(SUM(E34+I34+M34-O34)>Dropdwon!$A$5,Dropdwon!$C$5,SUM(E34+I34+M34-O34))))))","v":{"$error":"#VALUE!"}},{"$f":"IF(OR(U34=\"x\",A34<STAMMDATENBLATT!$B$32,A34>STAMMDATENBLATT!$D$32),\"0:00\",IF(MOD(B34,2)=0,VLOOKUP(WEEKDAY(A34,2),STAMMDATENBLATT!H$28:J$34,3,FALSE),VLOOKUP(WEEKDAY(A34,2),STAMMDATENBLATT!H$38:J$44,3,FALSE)))","v":{"$error":"#VALUE!"}},{"$error":"#VALUE!"},null,null,{"$f":"_xlfn.IFNA(VLOOKUP(A34,Feiertage!A:D,3,FALSE),\"\")","v":""},{"$f":"_xlfn.IFNA(VLOOKUP(A34,Feiertage!A:D,4,FALSE),\"\")","v":""}]
["2024-01-30",5,null,null,"00:00:00",{"$f":"IF(E35<Dropdwon!$A$3,Dropdwon!$B$2,IF(AND(E35<Dropdwon!$A$4,E35>=Dropdwon!$A$3),Dropdwon!$B$3,Dropdwon!$B$4))","v":"00:00:00"},null,null,"00:00:00",{"$f":"IF(I35<Dropdwon!$A$3,Dropdwon!$B$2,IF(AND(I35<Dropdwon!$A$4,I35>=Dropdwon!$A$3),Dropdwon!$B$3,Dropdwon!$B$4))","v":"00:00:00"},null,null,"00:00:00",{"$f":"IF(M35<Dropdwon!$A$3,Dropdwon!$B$2,IF(AND(M35<Dropdwon!$A$4,M35>=Dropdwon!$A$3),Dropdwon!$B$3,Dropdwon!$B$4))","v":"00:00:00"},"00:00:00",{"$f":"IF(AND(T35<>\"\",T35<>\"verpflichtende FoBi\",T35<>\"förderliche FoBi\"),Q35,IF(AND(T35=\"verpflichtende FoBi\",SUM(E35+I35+M35-O35)<=Dropdwon!$A$5),SUM(E35+I35+M35-O35),IF(AND(T35=\"förderliche FoBi\",SUM(E35+I35+M35-O35)<=Dropdwon!$A$5,SUM(E35+I35+M35-O35)<=Q35),SUM(E35+I35+M35-O35),IF(AND(T35=\"förderliche FoBi\",SUM(E35+I35+M35-O35)>Q35),Q35,IF(SUM(E35+I35+M35-O35)>Dropdwon!$A$5,Dropdwon!$C$5,SUM(E35+I35+M35-O35))))))","v":{"$error":"#VALUE!"}},{"$f":"IF(OR(U35=\"x\",A35<STAMMDATENBLATT!$B$32,A35>STAMMDATENBLATT!$D$32),\"0:00\",IF(MOD(B35,2)=0,VLOOKUP(WEEKDAY(A35,2),STAMMDATENBLATT!H$28:J$34,3,FALSE),VLOOKUP(WEEKDAY(A35,2),STAMMDATENBLATT!H$38:J$44,3,FALSE)))","v":{"$error":"#VALUE!"}},{"$error":"#VALUE!"},null,null,{"$f":"_xlfn.IFNA(VLOOKUP(A35,Feiertage!A:D,3,FALSE),\"\")","v":""},{"$f":"_xlfn.IFNA(VLOOKUP(A35,Feiertage!A:D,4,FALSE),\"\")","v":""}]
["2024-01-31",5,null,null,"00:00:00",{"$f":"IF(E36<Dropdwon!$A$3,Dropdwon!$B$2,IF(AND(E36<Dropdwon!$A$4,E36>=Dropdwon!$A$3),Dropdwon!$B$3,Dropdwon!$B$4))","v":"00:00:00"},null,null,"00:00:00",{"$f":"IF(I36<Dropdwon!$A$3,Dropdwon!$B$2,IF(AND(I36<Dropdwon!$A$4,I36>=Dropdwon!$A$3),Dropdwon!$B$3,Dropdwon!$B$4))","v":"00:00:00"},null,null,"00:00:00",{"$f":"IF(M36<Dropdwon!$A$3,Dropdwon!$B$2,IF(AND(M36<Dropdwon!$A$4,M36>=Dropdwon!$A$3),Dropdwon!$B$3,Dropdwon!$B$4))","v":"00:00:00"},"00:00:00",{"$f":"IF(AND(T36<>\"\",T36<>\"verpflichtende FoBi\",T36<>\"förderliche FoBi\"),Q36,IF(AND(T36=\"verpflichtende FoBi\",SUM(E36+I36+M36-O36)<=Dropdwon!$A$5),SUM(E36+I36+M36-O36),IF(AND(T36=\"förderliche FoBi\",SUM(E36+I36+M36-O36)<=Dropdwon!$A$5,SUM(E36+I36+M36-O36)<=Q36),SUM(E36+I36+M36-O36),IF(AND(T36=\"förderliche FoBi\",SUM(E36+I36+M36-O36)>Q36),Q36,IF(SUM(E36+I36+M36-O36)>Dropdwon!$A$5,Dropdwon!$C$5,SUM(E36+I36+M36-O36))))))","v":{"$error":"#VALUE!"}},{"$f":"IF(OR(U36=\"x\",A36<STAMMDATENBLATT!$B$32,A36>STAMMDATENBLATT!$D$32),\"0:00\",IF(MOD(B36,2)=0,VLOOKUP(WEEKDAY(A36,2),STAMMDATENBLATT!H$28:J$34,3,FALSE),VLOOKUP(WEEKDAY(A36,2),STAMMDATENBLATT!H$38:J$44,3,FALSE)))","v":{"$error":"#VALUE!"}},{"$error":"#VALUE!"},null,null,{"$f":"_xlfn.IFNA(VLOOKUP(A36,Feiertage!A:D,3,FALSE),\"\")","v":""},{"$f":"_xlfn.IFNA(VLOOKUP(A36,Feiertage!A:D,4,FALSE),\"\")","v":""}]
[]
["Abschluss Std.konto:",null,{"$f":"SUM(R$1+SUM(R$6:R$36)-R$38)","v":{"$error":"#VALUE!"}},{"$nulls":3},"Auszahlung Mehrarbeit in Std./Minuten:",{"$nulls":10},{"$f":"SUMIF($S$6:$S$36,\"ja\",$R$6:$R$36)","v":0}]
["Abschluss Std. in Dezimal:",null,{"$f":"C38*24","v":{"$error":"#VALUE!"}},{"$nulls":4},"Auszahlung Mehrarbeit in Dezimal:",{"$nulls":9},{"$f":"R38*24","v":{"v":0,"d":"0.00"}}]
[{"$nulls":17},"zur Auszahlung angewiesen:"]
[]
[]
[]
["Ort, Datum / Unterschrift Mitarbeiter/in",{"$nulls":5},"Ort, Datum / Unterschrift Vorgesetzte/r",{"$nulls":10},"Ort, Datum / Unterschrift KGF",{"$nulls":4},{"$f":"STAMMDATENBLATT!$A$22","v":"Version: 01.2024.5"}]

{"sheet":"Februar","index":3,"n_rows":42,"n_cols":23,"rows_kept":42,"merged":[[0,2,0,7],[1,0,1,7],[2,0,2,7],[35,0,35,1],[35,6,35,16],[36,0,36,1],[36,7,36,15],[38,0,40,2],[38,6,40,13],[38,17,40,20]]}
[{"$f":"DATEVALUE(\"01.02.\"&STAMMDATENBLATT!$D$27)","v":"2024-02-01"},null,{"$f":"STAMMDATENBLATT!B27","v":"Vorname Nachname"},{"$nulls":7},{"$f":"STAMMDATENBLATT!$B$30","v":{"v":0,"d":"0.00%"}},{"$f":"IF(STAMMDATENBLATT!$B$29=\"\",\"\",STAMMDATENBLATT!$B$29)","v":""},{"$nulls":5},{"$f":"IF(STAMMDATENBLATT!E4<=STAMMDATENBLATT!$D$35,STAMMDATENBLATT!E4,STAMMDATENBLATT!$D$35)","v":{"$error":"#VALUE!"}}]
[{"$f":"STAMMDATENBLATT!B26","v":0}]
[{"$f":"STAMMDATENBLATT!A26","v":{"$error":"#N/A"}}]
[]
[null,"KW","Beginn 1","Ende 1","IST AZ 1","IST MP 1","Beginn 2","Ende 2","IST AZ 2","IST MP 2","Beginn 3","Ende 3","IST AZ 3","IST MP 3","MP gesamt","IST AZ","SOLL AZ","Differenz","Auszahlung","Abwesenheit","Feiertag","Feiertag","Notiz"]
[{"$f":"A1","v":"2024-02-01"},{"$f":"WEEKNUM(A6,21)","v":5},null,null,{"$f":"IF(AND(WEEKDAY($A6,2)=6,HOUR(C6)>=13),SUM((D6-C6)*1.2),IF(WEEKDAY($A6,2)=7,SUM((D6-C6)*1.25),IF(AND($U6=\"x\",$V6<>\"Gründonnerstag\"),SUM((D6-C6)*1.25),D6-C6)))","v":"00:00:00"},{"$f":"IF(E6<Dropdwon!$A$3,Dropdwon!$B$2,IF(AND(E6<Dropdwon!$A$4,E6>=Dropdwon!$A$3),Dropdwon!$B$3,Dropdwon!$B$4))","v":"00:00:00"},null,null,{"$f":"IF(AND(WEEKDAY($A6,2)=6,HOUR(G6)>=13),SUM((H6-G6)*1.2),IF(WEEKDAY($A6,2)=7,SUM((H6-G6)*1.25),IF(AND($U6=\"x\",$V6<>\"Gründonnerstag\"),SUM((H6-G6)*1.25),H6-G6)))","v":"00:00:00"},{"$f":"IF(I6<Dropdwon!$A$3,Dropdwon!$B$2,IF(AND(I6<Dropdwon!$A$4,I6>=Dropdwon!$A$3),Dropdwon!$B$3,Dropdwon!$B$4))","v":"00:00:00"},null,null,{"$f":"IF(AND(WEEKDAY($A6,2)=6,HOUR(K6)>=13),SUM((L6-K6)*1.2),IF(WEEKDAY($A6,2)=7,SUM((L6-K6)*1.25),IF(AND($U6=\"x\",$V6<>\"Gründonnerstag\"),SUM((L6-K6)*1.25),L6-K6)))","v":"00:00:00"},{"$f":"IF(M6<Dropdwon!$A$3,Dropdwon!$B$2,IF(AND(M6<Dropdwon!$A$4,M6>=Dropdwon!$A$3),Dropdwon!$B$3,Dropdwon!$B$4))","v":"00:00:00"},{"$f":"F6+J6+N6","v":"00:00:00"},{"$f":"IF(AND(T6<>\"\",T6<>\"verpflichtende FoBi\",T6<>\"förderliche FoBi\"),Q6,IF(AND(T6=\"verpflichtende FoBi\",SUM(E6+I6+M6-O6)<=Dropdwon!$A$5),SUM(E6+I6+M6-O6),IF(AND(T6=\"förderliche FoBi\",SUM(E6+I6+M6-O6)<=Dropdwon!$A$5,SUM(E6+I6+M6-O6)<=Q6),SUM(E6+I6+M6-O6),IF(AND(T6=\"förderliche FoBi\",SUM(E6+I6+M6-O6)>Q6),Q6,IF(SUM(E6+I6+M6-O6)>Dropdwon!$A$5,Dropdwon!$C$5,SUM(E6+I6+M6-O6))))))","v":{"$error":"#VALUE!"}},{"$f":"IF(OR(U6=\"x\",A6<STAMMDATENBLATT!$B$32,A6>STAMMDATENBLATT!$D$32),\"0:00\",IF(MOD(B6,2)=0,VLOOKUP(WEEKDAY(A6,2),STAMMDATENBLATT!H$28:J$34,3,FALSE),VLOOKUP(WEEKDAY(A6,2),STAMMDATENBLATT!H$38:J$44,3,FALSE)))","v":{"$error":"#VALUE!"}},{"$f":"SUM(P6-Q6)","v":{"$error":"#VALUE!"}},null,null,{"$f":"_xlfn.IFNA(VLOOKUP(A6,Feiertage!A:D,3,FALSE),\"\")","v":""},{"$f":"_xlfn.IFNA(VLOOKUP(A6,Feiertage!A:D,4,FALSE),\"\")","v":""}]
[{"$f":"A6+1","v":"2024-02-02"},{"$f":"WEEKNUM(A7,21)","v":5},null,null,{"$f":"IF(AND(WEEKDAY($A7,2)=6,HOUR(C7)>=13),SUM((D7-C7)*1.2),IF(WEEKDAY($A7,2)=7,SUM((D7-C7)*1.25),IF(AND($U7=\"x\",$V7<>\"Gründonnerstag\"),SUM((D7-C7)*1.25),D7-C7)))","v":"00:00:00"},{"$f":"IF(E7<Dropdwon!$A$3,Dropdwon!$B$2,IF(AND(E7<Dropdwon!$A$4,E7>=Dropdwon!$A$3),Dropdwon!$B$3,Dropdwon!$B$4))","v":"00:00:00"},null,null,{"$f":"IF(AND(WEEKDAY($A7,2)=6,HOUR(G7)>=13),SUM((H7-G7)*1.2),IF(WEEKDAY($A7,2)=7,SUM((H7-G7)*1.25),IF(AND($U7=\"x\",$V7<>\"Gründonnerstag\"),SUM((H7-G7)*1.25),H7-G7)))","v":"00:00:00"},{"$f":"IF(I7<Dropdwon!$A$3,Dropdwon!$B$2,IF(AND(I7<Dropdwon!$A$4,I7>=Dropdwon!$A$3),Dropdwon!$B$3,Dropdwon!$B$4))","v":"00:00:00"},null,null,{"$f":"IF(AND(WEEKDAY($A7,2)=6,HOUR(K7)>=13),SUM((L7-K7)*1.2),IF(WEEKDAY($A7,2)=7,SUM((L7-K7)*1.25),IF(AND($U7=\"x\",$V7<>\"Gründonnerstag\"),SUM((L7-K7)*1.25),L7-K7)))","v":"00:00:00"},{"$f":"IF(M7<Dropdwon!$A$3,Dropdwon!$B$2,IF(AND(M7<Dropdwon!$A$4,M7>=Dropdwon!$A$3),Dropdwon!$B$3,Dropdwon!$B$4))","v":"00:00:00"},{"$f":"F7+J7+N7","v":"00:00:00"},{"$f":"IF(AND(T7<>\"\",T7<>\"verpflichtende FoBi\",T7<>\"förderliche FoBi\"),Q7,IF(AND(T7=\"verpflichtende FoBi\",SUM(E7+I7+M7-O7)<=Dropdwon!$A$5),SUM(E7+I7+M7-O7),IF(AND(T7=\"förderliche FoBi\",SUM(E7+I7+M7-O7)<=Dropdwon!$A$5,SUM(E7+I7+M7-O7)<=Q7),SUM(E7+I7+M7-O7),IF(AND(T7=\"förderliche FoBi\",SUM(E7+I7+M7-O7)>Q7),Q7,IF(SUM(E7+I7+M7-O7)>Dropdwon!$A$5,Dropdwon!$C$5,SUM(E7+I7+M7-O7))))))","v":{"$error":"#VALUE!"}},{"$f":"IF(OR(U7=\"x\",A7<STAMMDATENBLATT!$B$32,A7>STAMMDATENBLATT!$D$32),\"0:00\",IF(MOD(B7,2)=0,VLOOKUP(WEEKDAY(A7,2),STAMMDATENBLATT!H$28:J$34,3,FALSE),VLOOKUP(WEEKDAY(A7,2),STAMMDATENBLATT!H$38:J$44,3,FALSE)))","v":{"$error":"#VALUE!"}},{"$error":"#VALUE!"},null,null,{"$f":"_xlfn.IFNA(VLOOKUP(A7,Feiertage!A:D,3,FALSE),\"\")","v":""},{"$f":"_xlfn.IFNA(VLOOKUP(A7,Feiertage!A:D,4,FALSE),\"\")","v":""}]
[{"$f":"A7+1","v":"2024-02-03"},5,null,null,"00:00:00",{"$f":"IF(E8<Dropdwon!$A$3,Dropdwon!$B$2,IF(AND(E8<Dropdwon!$A$4,E8>=Dropdwon!$A$3),Dropdwon!$B$3,Dropdwon!$B$4))","v":"00:00:00"},null,null,"00:00:00",{"$f":"IF(I8<Dropdwon!$A$3,Dropdwon!$B$2,IF(AND(I8<Dropdwon!$A$4,I8>=Dropdwon!$A$3),Dropdwon!$B$3,Dropdwon!$B$4))","v":"00:00:00"},null,null,"00:00:00",{"$f":"IF(M8<Dropdwon!$A$3,Dropdwon!$B$2,IF(AND(M8<Dropdwon!$A$4,M8>=Dropdwon!$A$3),Dropdwon!$B$3,Dropdwon!$B$4))","v":"00:00:00"},{"$f":"F8+J8+N8","v":"00:00:00"},{"$f":"IF(AND(T8<>\"\",T8<>\"verpflichtende FoBi\",T8<>\"förderliche FoBi\"),Q8,IF(AND(T8=\"verpflichtende FoBi\",SUM(E8+I8+M8-O8)<=Dropdwon!$A$5),SUM(E8+I8+M8-O8),IF(AND(T8=\"förderliche FoBi\",SUM(E8+I8+M8-O8)<=Dropdwon!$A$5,SUM(E8+I8+M8-O8)<=Q8),SUM(E8+I8+M8-O8),IF(AND(T8=\"förderliche FoBi\",SUM(E8+I8+M8-O8)>Q8),Q8,IF(SUM(E8+I8+M8-O8)>Dropdwon!$A$5,Dropdwon!$C$5,SUM(E8+I8+M8-O8))))))","v":"00:00:00"},{"$f":"IF(OR(U8=\"x\",A8<STAMMDATENBLATT!$B$32,A8>STAMMDATENBLATT!$D$32),\"0:00\",IF(MOD(B8,2)=0,VLOOKUP(WEEKDAY(A8,2),STAMMDATENBLATT!H$28:J$34,3,FALSE),VLOOKUP(WEEKDAY(A8,2),STAMMDATENBLATT!H$38:J$44,3,FALSE)))","v":"00:00:00"},"00:00:00",null,null,{"$f":"_xlfn.IFNA(VLOOKUP(A8,Feiertage!A:D,3,FALSE),\"\")","v":""},{"$f":"_xlfn.IFNA(VLOOKUP(A8,Feiertage!A:D,4,FALSE),\"\")","v":""}]
[{"$f":"A8+1","v":"2024-02-04"},5,null,null,"00:00:00",{"$f":"IF(E9<Dropdwon!$A$3,Dropdwon!$B$2,IF(AND(E9<Dropdwon!$A$4,E9>=Dropdwon!$A$3),Dropdwon!$B$3,Dropdwon!$B$4))","v":"00:00:00"},null,null,"00:00:00",{"$f":"IF(I9<Dropdwon!$A$3,Dropdwon!$B$2,IF(AND(I9<Dropdwon!$A$4,I9>=Dropdwon!$A$3),Dropdwon!$B$3,Dropdwon!$B$4))","v":"00:00:00"},null,null,"00:00:00",{"$f":"IF(M9<Dropdwon!$A$3,Dropdwon!$B$2,IF(AND(M9<Dropdwon!$A$4,M9>=Dropdwon!$A$3),Dropdwon!$B$3,Dropdwon!$B$4))","v":"00:00:00"},"00:00:00",{"$f":"IF(AND(T9<>\"\",T9<>\"verpflichtende FoBi\",T9<>\"förderliche FoBi\"),Q9,IF(AND(T9=\"verpflichtende FoBi\",SUM(E9+I9+M9-O9)<=Dropdwon!$A$5),SUM(E9+I9+M9-O9),IF(AND(T9=\"förderliche FoBi\",SUM(E9+I9+M9-O9)<=Dropdwon!$A$5,SUM(E9+I9+M9-O9)<=Q9),SUM(E9+I9+M9-O9),IF(AND(T9=\"förderliche FoBi\",SUM(E9+I9+M9-O9)>Q9),Q9,IF(SUM(E9+I9+M9-O9)>Dropdwon!$A$5,Dropdwon!$C$5,SUM(E9+I9+M9-O9))))))","v":"00:00:00"},{"$f":"IF(OR(U9=\"x\",A9<STAMMDATENBLATT!$B$32,A9>STAMMDATENBLATT!$D$32),\"0:00\",IF(MOD(B9,2)=0,VLOOKUP(WEEKDAY(A9,2),STAMMDATENBLATT!H$28:J$34,3,FALSE),VLOOKUP(WEEKDAY(A9,2),STAMMDATENBLATT!H$38:J$44,3,FALSE)))","v":"00:00:00"},"00:00:00",null,null,{"$f":"_xlfn.IFNA(VLOOKUP(A9,Feiertage!A:D,3,FALSE),\"\")","v":""},{"$f":"_xlfn.IFNA(VLOOKUP(A9,Feiertage!A:D,4,FALSE),\"\")","v":""}]
["2024-02-05",6,null,null,"00:00:00",{"$f":"IF(E10<Dropdwon!$A$3,Dropdwon!$B$2,IF(AND(E10<Dropdwon!$A$4,E10>=Dropdwon!$A$3),Dropdwon!$B$3,Dropdwon!$B$4))","v":"00:00:00"},null,null,"00:00:00",{"$f":"IF(I10<Dropdwon!$A$3,Dropdwon!$B$2,IF(AND(I10<Dropdwon!$A$4,I10>=Dropdwon!$A$3),Dropdwon!$B$3,Dropdwon!$B$4))","v":"00:00:00"},null,null,"00:00:00",{"$f":"IF(M10<Dropdwon!$A$3,Dropdwon!$B$2,IF(AND(M10<Dropdwon!$A$4,M10>=Dropdwon!$A$3),Dropdwon!$B$3,Dropdwon!$B$4))","v":"00:00:00"},"00:00:00",{"$f":"IF(AND(T10<>\"\",T10<>\"verpflichtende FoBi\",T10<>\"förderliche FoBi\"),Q10,IF(AND(T10=\"verpflichtende FoBi\",SUM(E10+I10+M10-O10)<=Dropdwon!$A$5),SUM(E10+I10+M10-O10),IF(AND(T10=\"förderliche FoBi\",SUM(E10+I10+M10-O10)<=Dropdwon!$A$5,SUM(E10+I10+M10-O10)<=Q10),SUM(E10+I10+M10-O10),IF(AND(T10=\"förderliche FoBi\",SUM(E10+I10+M10-O10)>Q10),Q10,IF(SUM(E10+I10+M10-O10)>Dropdwon!$A$5,Dropdwon!$C$5,SUM(E10+I10+M10-O10))))))","v":{"$error":"#VALUE!"}},{"$f":"IF(OR(U10=\"x\",A10<STAMMDATENBLATT!$B$32,A10>STAMMDATENBLATT!$D$32),\"0:00\",IF(MOD(B10,2)=0,VLOOKUP(WEEKDAY(A10,2),STAMMDATENBLATT!H$28:J$34,3,FALSE),VLOOKUP(WEEKDAY(A10,2),STAMMDATENBLATT!H$38:J$44,3,FALSE)))","v":{"$error":"#VALUE!"}},{"$error":"#VALUE!"},null,null,{"$f":"_xlfn.IFNA(VLOOKUP(A10,Feiertage!A:D,3,FALSE),\"\")","v":""},{"$f":"_xlfn.IFNA(VLOOKUP(A10,Feiertage!A:D,4,FALSE),\"\")","v":""}]
["2024-02-06",6,null,null,"00:00:00",{"$f":"IF(E11<Dropdwon!$A$3,Dropdwon!$B$2,IF(AND(E11<Dropdwon!$A$4,E11>=Dropdwon!$A$3),Dropdwon!$B$3,Dropdwon!$B$4))","v":"00:00:00"},null,null,"00:00:00",{"$f":"IF(I11<Dropdwon!$A$3,Dropdwon!$B$2,IF(AND(I11<Dropdwon!$A$4,I11>=Dropdwon!$A$3),Dropdwon!$B$3,Dropdwon!$B$4))","v":"00:00:00"},null,null,"00:00:00",{"$f":"IF(M11<Dropdwon!$A$3,Dropdwon!$B$2,IF(AND(M11<Dropdwon!$A$4,M11>=Dropdwon!$A$3),Dropdwon!$B$3,Dropdwon!$B$4))","v":"00:00:00"},"00:00:00",{"$f":"IF(AND(T11<>\"\",T11<>\"verpflichtende FoBi\",T11<>\"förderliche FoBi\"),Q11,IF(AND(T11=\"verpflichtende FoBi\",SUM(E11+I11+M11-O11)<=Dropdwon!$A$5),SUM(E11+I11+M11-O11),IF(AND(T11=\"förderliche FoBi\",SUM(E11+I11+M11-O11)<=Dropdwon!$A$5,SUM(E11+I11+M11-O11)<=Q11),SUM(E11+I11+M11-O11),IF(AND(T11=\"förderliche FoBi\",SUM(E11+I11+M11-O11)>Q11),Q11,IF(SUM(E11+I11+M11-O11)>Dropdwon!$A$5,Dropdwon!$C$5,SUM(E11+I11+M11-O11))))))","v":{"$error":"#VALUE!"}},{"$f":"IF(OR(U11=\"x\",A11<STAMMDATENBLATT!$B$32,A11>STAMMDATENBLATT!$D$32),\"0:00\",IF(MOD(B11,2)=0,VLOOKUP(WEEKDAY(A11,2),STAMMDATENBLATT!H$28:J$34,3,FALSE),VLOOKUP(WEEKDAY(A11,2),STAMMDATENBLATT!H$38:J$44,3,FALSE)))","v":{"$error":"#VALUE!"}},{"$error":"#VALUE!"},null,null,{"$f":"_xlfn.IFNA(VLOOKUP(A11,Feiertage!A:D,3,FALSE),\"\")","v":""},{"$f":"_xlfn.IFNA(VLOOKUP(A11,Feiertage!A:D,4,FALSE),\"\")","v":""}]
["2024-02-07",6,null,null,"00:00:00",{"$f":"IF(E12<Dropdwon!$A$3,Dropdwon!$B$2,IF(AND(E12<Dropdwon!$A$4,E12>=Dropdwon!$A$3),Dropdwon!$B$3,Dropdwon!$B$4))","v":"00:00:00"},null,null,"00:00:00",{"$f":"IF(I12<Dropdwon!$A$3,Dropdwon!$B$2,IF(AND(I12<Dropdwon!$A$4,I12>=Dropdwon!$A$3),Dropdwon!$B$3,Dropdwon!$B$4))","v":"00:00:00"},null,null,"00:00:00",{"$f":"IF(M12<Dropdwon!$A$3,Dropdwon!$B$2,IF(AND(M12<Dropdwon!$A$4,M12>=Dropdwon!$A$3),Dropdwon!$B$3,Dropdwon!$B$4))","v":"00:00:00"},"00:00:00",{"$f":"IF(AND(T12<>\"\",T12<>\"verpflichtende FoBi\",T12<>\"förderliche FoBi\"),Q12,IF(AND(T12=\"verpflichtende FoBi\",SUM(E12+I12+M12-O12)<=Dropdwon!$A$5),SUM(E12+I12+M12-O12),IF(AND(T12=\"förderliche FoBi\",SUM(E12+I12+M12-O12)<=Dropdwon!$A$5,SUM(E12+I12+M12-O12)<=Q12),SUM(E12+I12+M12-O12),IF(AND(T12=\"förderliche FoBi\",SUM(E12+I12+M12-O12)>Q12),Q12,IF(SUM(E12+I12+M12-O12)>Dropdwon!$A$5,Dropdwon!$C$5,SUM(E12+I12+M12-O12))))))","v":{"$error":"#VALUE!"}},{"$f":"IF(OR(U12=\"x\",A12<STAMMDATENBLATT!$B$32,A12>STAMMDATENBLATT!$D$32),\"0:00\",IF(MOD(B12,2)=0,VLOOKUP(WEEKDAY(A12,2),STAMMDATENBLATT!H$28:J$34,3,FALSE),VLOOKUP(WEEKDAY(A12,2),STAMMDATENBLATT!H$38:J$44,3,FALSE)))","v":{"$error":"#VALUE!"}},{"$error":"#VALUE!"},null,null,{"$f":"_xlfn.IFNA(VLOOKUP(A12,Feiertage!A:D,3,FALSE),\"\")","v":""},{"$f":"_xlfn.IFNA(VLOOKUP(A12,Feiertage!A:D,4,FALSE),\"\")","v":""}]
["2024-02-08",6,null,null,"00:00:00",{"$f":"IF(E13<Dropdwon!$A$3,Dropdwon!$B$2,IF(AND(E13<Dropdwon!$A$4,E13>=Dropdwon!$A$3),Dropdwon!$B$3,Dropdwon!$B$4))","v":"00:00:00"},null,null,"00:00:00",{"$f":"IF(I13<Dropdwon!$A$3,Dropdwon!$B$2,IF(AND(I13<Dropdwon!$A$4,I13>=Dropdwon!$A$3),Dropdwon!$B$3,Dropdwon!$B$4))","v":"00:00:00"},null,null,"00:00:00",{"$f":"IF(M13<Dropdwon!$A$3,Dropdwon!$B$2,IF(AND(M13<Dropdwon!$A$4,M13>=Dropdwon!$A$3),Dropdwon!$B$3,Dropdwon!$B$4))","v":"00:00:00"},"00:00:00",{"$f":"IF(AND(T13<>\"\",T13<>\"verpflichtende FoBi\",T13<>\"förderliche FoBi\"),Q13,IF(AND(T13=\"verpflichtende FoBi\",SUM(E13+I13+M13-O13)<=Dropdwon!$A$5),SUM(E13+I13+M13-O13),IF(AND(T13=\"förderliche FoBi\",SUM(E13+I13+M13-O13)<=Dropdwon!$A$5,SUM(E13+I13+M13-O13)<=Q13),SUM(E13+I13+M13-O13),IF(AND(T13=\"förderliche FoBi\",SUM(E13+I13+M13-O13)>Q13),Q13,IF(SUM(E13+I13+M13-O13)>Dropdwon!$A$5,Dropdwon!$C$5,SUM(E13+I13+M13-O13))))))","v":{"$error":"#VALUE!"}},{"$f":"IF(OR(U13=\"x\",A13<STAMMDATENBLATT!$B$32,A13>STAMMDATENBLATT!$D$32),\"0:00\",IF(MOD(B13,2)=0,VLOOKUP(WEEKDAY(A13,2),STAMMDATENBLATT!H$28:J$34,3,FALSE),VLOOKUP(WEEKDAY(A13,2),STAMMDATENBLATT!H$38:J$44,3,FALSE)))","v":{"$error":"#VALUE!"}},{"$error":"#VALUE!"},null,null,{"$f":"_xlfn.IFNA(VLOOKUP(A13,Feiertage!A:D,3,FALSE),\"\")","v":""},{"$f":"_xlfn.IFNA(VLOOKUP(A13,Feiertage!A:D,4,FALSE),\"\")","v":""}]
["2024-02-09",6,null,null,"00:00:00",{"$f":"IF(E14<Dropdwon!$A$3,Dropdwon!$B$2,IF(AND(E14<Dropdwon!$A$4,E14>=Dropdwon!$A$3),Dropdwon!$B$3,Dropdwon!$B$4))","v":"00:00:00"},null,null,"00:00:00",{"$f":"IF(I14<Dropdwon!$A$3,Dropdwon!$B$2,IF(AND(I14<Dropdwon!$A$4,I14>=Dropdwon!$A$3),Dropdwon!$B$3,Dropdwon!$B$4))","v":"00:00:00"},null,null,"00:00:00",{"$f":"IF(M14<Dropdwon!$A$3,Dropdwon!$B$2,IF(AND(M14<Dropdwon!$A$4,M14>=Dropdwon!$A$3),Dropdwon!$B$3,Dropdwon!$B$4))","v":"00:00:00"},"00:00:00",{"$f":"IF(AND(T14<>\"\",T14<>\"verpflichtende FoBi\",T14<>\"förderliche FoBi\"),Q14,IF(AND(T14=\"verpflichtende FoBi\",SUM(E14+I14+M14-O14)<=Dropdwon!$A$5),SUM(E14+I14+M14-O14),IF(AND(T14=\"förderliche FoBi\",SUM(E14+I14+M14-O14)<=Dropdwon!$A$5,SUM(E14+I14+M14-O14)<=Q14),SUM(E14+I14+M14-O14),IF(AND(T14=\"förderliche FoBi\",SUM(E14+I14+M14-O14)>Q14),Q14,IF(SUM(E14+I14+M14-O14)>Dropdwon!$A$5,Dropdwon!$C$5,SUM(E14+I14+M14-O14))))))","v":{"$error":"#VALUE!"}},{"$f":"IF(OR(U14=\"x\",A14<STAMMDATENBLATT!$B$32,A14>STAMMDATENBLATT!$D$32),\"0:00\",IF(MOD(B14,2)=0,VLOOKUP(WEEKDAY(A14,2),STAMMDATENBLATT!H$28:J$34,3,FALSE),VLOOKUP(WEEKDAY(A14,2),STAMMDATENBLATT!H$38:J$44,3,FALSE)))","v":{"$error":"#VALUE!"}},{"$error":"#VALUE!"},null,null,{"$f":"_xlfn.IFNA(VLOOKUP(A14,Feiertage!A:D,3,FALSE),\"\")","v":""},{"$f":"_xlfn.IFNA(VLOOKUP(A14,Feiertage!A:D,4,FALSE),\"\")","v":""}]
["2024-02-10",6,null,null,"00:00:00",{"$f":"IF(E15<Dropdwon!$A$3,Dropdwon!$B$2,IF(AND(E15<Dropdwon!$A$4,E15>=Dropdwon!$A$3),Dropdwon!$B$3,Dropdwon!$B$4))","v":"00:00:00"},null,null,"00:00:00",{"$f":"IF(I15<Dropdwon!$A$3,Dropdwon!$B$2,IF(AND(I15<Dropdwon!$A$4,I15>=Dropdwon!$A$3),Dropdwon!$B$3,Dropdwon!$B$4))","v":"00:00:00"},null,null,"00:00:00",{"$f":"IF(M15<Dropdwon!$A$3,Dropdwon!$B$2,IF(AND(M15<Dropdwon!$A$4,M15>=Dropdwon!$A$3),Dropdwon!$B$3,Dropdwon!$B$4))","v":"00:00:00"},"00:00:00",{"$f":"IF(AND(T15<>\"\",T15<>\"verpflichtende FoBi\",T15<>\"förderliche FoBi\"),Q15,IF(AND(T15=\"verpflichtende FoBi\",SUM(E15+I15+M15-O15)<=Dropdwon!$A$5),SUM(E15+I15+M15-O15),IF(AND(T15=\"förderliche FoBi\",SUM(E15+I15+M15-O15)<=Dropdwon!$A$5,SUM(E15+I15+M15-O15)<=Q15),SUM(E15+I15+M15-O15),IF(AND(T15=\"förderliche FoBi\",SUM(E15+I15+M15-O15)>Q15),Q15,IF(SUM(E15+I15+M15-O15)>Dropdwon!$A$5,Dropdwon!$C$5,SUM(E15+I15+M15-O15))))))","v":"00:00:00"},{"$f":"IF(OR(U15=\"x\",A15<STAMMDATENBLATT!$B$32,A15>STAMMDATENBLATT!$D$32),\"0:00\",IF(MOD(B15,2)=0,VLOOKUP(WEEKDAY(A15,2),STAMMDATENBLATT!H$28:J$34,3,FALSE),VLOOKUP(WEEKDAY(A15,2),STAMMDATENBLATT!H$38:J$44,3,FALSE)))","v":"00:00:00"},"00:00:00",null,null,{"$f":"_xlfn.IFNA(VLOOKUP(A15,Feiertage!A:D,3,FALSE),\"\")","v":""},{"$f":"_xlfn.IFNA(VLOOKUP(A15,Feiertage!A:D,4,FALSE),\"\")","v":""}]
["2024-02-11",6,null,null,"00:00:00",{"$f":"IF(E16<Dropdwon!$A$3,Dropdwon!$B$2,IF(AND(E16<Dropdwon!$A$4,E16>=Dropdwon!$A$3),Dropdwon!$B$3,Dropdwon!$B$4))","v":"00:00:00"},null,null,"00:00:00",{"$f":"IF(I16<Dropdwon!$A$3,Dropdwon!$B$2,IF(AND(I16<Dropdwon!$A$4,I16>=Dropdwon!$A$3),Dropdwon!$B$3,Dropdwon!$B$4))","v":"00:00:00"},null,null,"00:00:00",{"$f":"IF(M16<Dropdwon!$A$3,Dropdwon!$B$2,IF(AND(M16<Dropdwon!$A$4,M16>=Dropdwon!$A$3),Dropdwon!$B$3,Dropdwon!$B$4))","v":"00:00:00"},"00:00:00",{"$f":"IF(AND(T16<>\"\",T16<>\"verpflichtende FoBi\",T16<>\"förderliche FoBi\"),Q16,IF(AND(T16=\"verpflichtende FoBi\",SUM(E16+I16+M16-O16)<=Dropdwon!$A$5),SUM(E16+I16+M16-O16),IF(AND(T16=\"förderliche FoBi\",SUM(E16+I16+M16-O16)<=Dropdwon!$A$5,SUM(E16+I16+M16-O16)<=Q16),SUM(E16+I16+M16-O16),IF(AND(T16=\"förderliche FoBi\",SUM(E16+I16+M16-O16)>Q16),Q16,IF(SUM(E16+I16+M16-O16)>Dropdwon!$A$5,Dropdwon!$C$5,SUM(E16+I16+M16-O16))))))","v":"00:00:00"},{"$f":"IF(OR(U16=\"x\",A16<STAMMDATENBLATT!$B$32,A16>STAMMDATENBLATT!$D$32),\"0:00\",IF(MOD(B16,2)=0,VLOOKUP(WEEKDAY(A16,2),STAMMDATENBLATT!H$28:J$34,3,FALSE),VLOOKUP(WEEKDAY(A16,2),STAMMDATENBLATT!H$38:J$44,3,FALSE)))","v":"00:00:00"},"00:00:00",null,null,{"$f":"_xlfn.IFNA(VLOOKUP(A16,Feiertage!A:D,3,FALSE),\"\")","v":""},{"$f":"_xlfn.IFNA(VLOOKUP(A16,Feiertage!A:D,4,FALSE),\"\")","v":""}]
["2024-02-12",7,null,null,"00:00:00",{"$f":"IF(E17<Dropdwon!$A$3,Dropdwon!$B$2,IF(AND(E17<Dropdwon!$A$4,E17>=Dropdwon!$A$3),Dropdwon!$B$3,Dropdwon!$B$4))","v":"00:00:00"},null,null,"00:00:00",{"$f":"IF(I17<Dropdwon!$A$3,Dropdwon!$B$2,IF(AND(I17<Dropdwon!$A$4,I17>=Dropdwon!$A$3),Dropdwon!$B$3,Dropdwon!$B$4))","v":"00:00:00"},null,null,"00:00:00",{"$f":"IF(M17<Dropdwon!$A$3,Dropdwon!$B$2,IF(AND(M17<Dropdwon!$A$4,M17>=Dropdwon!$A$3),Dropdwon!$B$3,Dropdwon!$B$4))","v":"00:00:00"},"00:00:00",{"$f":"IF(AND(T17<>\"\",T17<>\"verpflichtende FoBi\",T17<>\"förderliche FoBi\"),Q17,IF(AND(T17=\"verpflichtende FoBi\",SUM(E17+I17+M17-O17)<=Dropdwon!$A$5),SUM(E17+I17+M17-O17),IF(AND(T17=\"förderliche FoBi\",SUM(E17+I17+M17-O17)<=Dropdwon!$A$5,SUM(E17+I17+M17-O17)<=Q17),SUM(E17+I17+M17-O17),IF(AND(T17=\"förderliche FoBi\",SUM(E17+I17+M17-O17)>Q17),Q17,IF(SUM(E17+I17+M17-O17)>Dropdwon!$A$5,Dropdwon!$C$5,SUM(E17+I17+M17-O17))))))","v":{"$error":"#VALUE!"}},{"$f":"IF(OR(U17=\"x\",A17<STAMMDATENBLATT!$B$32,A17>STAMMDATENBLATT!$D$32),\"0:00\",IF(MOD(B17,2)=0,VLOOKUP(WEEKDAY(A17,2),STAMMDATENBLATT!H$28:J$34,3,FALSE),VLOOKUP(WEEKDAY(A17,2),STAMMDATENBLATT!H$38:J$44,3,FALSE)))","v":{"$error":"#VALUE!"}},{"$error":"#VALUE!"},null,null,{"$f":"_xlfn.IFNA(VLOOKUP(A17,Feiertage!A:D,3,FALSE),\"\")","v":0},{"$f":"_xlfn.IFNA(VLOOKUP(A17,Feiertage!A:D,4,FALSE),\"\")","v":"Rosenmontag"}]
["2024-02-13",7,null,null,"00:00:00",{"$f":"IF(E18<Dropdwon!$A$3,Dropdwon!$B$2,IF(AND(E18<Dropdwon!$A$4,E18>=Dropdwon!$A$3),Dropdwon!$B$3,Dropdwon!$B$4))","v":"00:00:00"},null,null,"00:00:00",{"$f":"IF(I18<Dropdwon!$A$3,Dropdwon!$B$2,IF(AND(I18<Dropdwon!$A$4,I18>=Dropdwon!$A$3),Dropdwon!$B$3,Dropdwon!$B$4))","v":"00:00:00"},null,null,"00:00:00",{"$f":"IF(M18<Dropdwon!$A$3,Dropdwon!$B$2,IF(AND(M18<Dropdwon!$A$4,M18>=Dropdwon!$A$3),Dropdwon!$B$3,Dropdwon!$B$4))","v":"00:00:00"},"00:00:00",{"$f":"IF(AND(T18<>\"\",T18<>\"verpflichtende FoBi\",T18<>\"förderliche FoBi\"),Q18,IF(AND(T18=\"verpflichtende FoBi\",SUM(E18+I18+M18-O18)<=Dropdwon!$A$5),SUM(E18+I18+M18-O18),IF(AND(T18=\"förderliche FoBi\",SUM(E18+I18+M18-O18)<=Dropdwon!$A$5,SUM(E18+I18+M18-O18)<=Q18),SUM(E18+I18+M18-O18),IF(AND(T18=\"förderliche FoBi\",SUM(E18+I18+M18-O18)>Q18),Q18,IF(SUM(E18+I18+M18-O18)>Dropdwon!$A$5,Dropdwon!$C$5,SUM(E18+I18+M18-O18))))))","v":{"$error":"#VALUE!"}},{"$f":"IF(OR(U18=\"x\",A18<STAMMDATENBLATT!$B$32,A18>STAMMDATENBLATT!$D$32),\"0:00\",IF(MOD(B18,2)=0,VLOOKUP(WEEKDAY(A18,2),STAMMDATENBLATT!H$28:J$34,3,FALSE),VLOOKUP(WEEKDAY(A18,2),STAMMDATENBLATT!H$38:J$44,3,FALSE)))","v":{"$error":"#VALUE!"}},{"$error":"#VALUE!"},null,null,{"$f":"_xlfn.IFNA(VLOOKUP(A18,Feiertage!A:D,3,FALSE),\"\")","v":""},{"$f":"_xlfn.IFNA(VLOOKUP(A18,Feiertage!A:D,4,FALSE),\"\")","v":""}]
["2024-02-14",7,null,null,"00:00:00",{"$f":"IF(E19<Dropdwon!$A$3,Dropdwon!$B$2,IF(AND(E19<Dropdwon!$A$4,E19>=Dropdwon!$A$3),Dropdwon!$B$3,Dropdwon!$B$4))","v":"00:00:00"},null,null,"00:00:00",{"$f":"IF(I19<Dropdwon!$A$3,Dropdwon!$B$2,IF(AND(I19<Dropdwon!$A$4,I19>=Dropdwon!$A$3),Dropdwon!$B$3,Dropdwon!$B$4))","v":"00:00:00"},null,null,"00:00:00",{"$f":"IF(M19<Dropdwon!$A$3,Dropdwon!$B$2,IF(AND(M19<Dropdwon!$A$4,M19>=Dropdwon!$A$3),Dropdwon!$B$3,Dropdwon!$B$4))","v":"00:00:00"},"00:00:00",{"$f":"IF(AND(T19<>\"\",T19<>\"verpflichtende FoBi\",T19<>\"förderliche FoBi\"),Q19,IF(AND(T19=\"verpflichtende FoBi\",SUM(E19+I19+M19-O19)<=Dropdwon!$A$5),SUM(E19+I19+M19-O19),IF(AND(T19=\"förderliche FoBi\",SUM(E19+I19+M19-O19)<=Dropdwon!$A$5,SUM(E19+I19+M19-O19)<=Q19),SUM(E19+I19+M19-O19),IF(AND(T19=\"förderliche FoBi\",SUM(E19+I19+M19-O19)>Q19),Q19,IF(SUM(E19+I19+M19-O19)>Dropdwon!$A$5,Dropdwon!$C$5,SUM(E19+I19+M19-O19))))))","v":{"$error":"#VALUE!"}},{"$f":"IF(OR(U19=\"x\",A19<STAMMDATENBLATT!$B$32,A19>STAMMDATENBLATT!$D$32),\"0:00\",IF(MOD(B19,2)=0,VLOOKUP(WEEKDAY(A19,2),STAMMDATENBLATT!H$28:J$34,3,FALSE),VLOOKUP(WEEKDAY(A19,2),STAMMDATENBLATT!H$38:J$44,3,FALSE)))","v":{"$error":"#VALUE!"}},{"$error":"#VALUE!"},null,null,{"$f":"_xlfn.IFNA(VLOOKUP(A19,Feiertage!A:D,3,FALSE),\"\")","v":""},{"$f":"_xlfn.IFNA(VLOOKUP(A19,Feiertage!A:D,4,FALSE),\"\")","v":""}]
["2024-02-15",7,null,null,"00:00:00",{"$f":"IF(E20<Dropdwon!$A$3,Dropdwon!$B$2,IF(AND(E20<Dropdwon!$A$4,E20>=Dropdwon!$A$3),Dropdwon!$B$3,Dropdwon!$B$4))","v":"00:00:00"},null,null,"00:00:00",{"$f":"IF(I20<Dropdwon!$A$3,Dropdwon!$B$2,IF(AND(I20<Dropdwon!$A$4,I20>=Dropdwon!$A$3),Dropdwon!$B$3,Dropdwon!$B$4))","v":"00:00:00"},null,null,"00:00:00",{"$f":"IF(M20<Dropdwon!$A$3,Dropdwon!$B$2,IF(AND(M20<Dropdwon!$A$4,M20>=Dropdwon!$A$3),Dropdwon!$B$3,Dropdwon!$B$4))","v":"00:00:00"},"00:00:00",{"$f":"IF(AND(T20<>\"\",T20<>\"verpflichtende FoBi\",T20<>\"förderliche FoBi\"),Q20,IF(AND(T20=\"verpflichtende FoBi\",SUM(E20+I20+M20-O20)<=Dropdwon!$A$5),SUM(E20+I20+M20-O20),IF(AND(T20=\"förderliche FoBi\",SUM(E20+I20+M20-O20)<=Dropdwon!$A$5,SUM(E20+I20+M20-O20)<=Q20),SUM(E20+I20+M20-O20),IF(AND(T20=\"förderliche FoBi\",SUM(E20+I20+M20-O20)>Q20),Q20,IF(SUM(E20+I20+M20-O20)>Dropdwon!$A$5,Dropdwon!$C$5,SUM(E20+I20+M20-O20))))))","v":{"$error":"#VALUE!"}},{"$f":"IF(OR(U20=\"x\",A20<STAMMDATENBLATT!$B$32,A20>STAMMDATENBLATT!$D$32),\"0:00\",IF(MOD(B20,2)=0,VLOOKUP(WEEKDAY(A20,2),STAMMDATENBLATT!H$28:J$34,3,FALSE),VLOOKUP(WEEKDAY(A20,2),STAMMDATENBLATT!H$38:J$44,3,FALSE)))","v":{"$error":"#VALUE!"}},{"$error":"#VALUE!"},null,null,{"$f":"_xlfn.IFNA(VLOOKUP(A20,Feiertage!A:D,3,FALSE),\"\")","v":""},{"$f":"_xlfn.IFNA(VLOOKUP(A20,Feiertage!A:D,4,FALSE),\"\")","v":""}]
["2024-02-16",7,null,null,"00:00:00",{"$f":"IF(E21<Dropdwon!$A$3,Dropdwon!$B$2,IF(AND(E21<Dropdwon!$A$4,E21>=Dropdwon!$A$3),Dropdwon!$B$3,Dropdwon!$B$4))","v":"00:00:00"},null,null,"00:00:00",{"$f":"IF(I21<Dropdwon!$A$3,Dropdwon!$B$2,IF(AND(I21<Dropdwon!$A$4,I21>=Dropdwon!$A$3),Dropdwon!$B$3,Dropdwon!$B$4))","v":"00:00:00"},null,null,"00:00:00",{"$f":"IF(M21<Dropdwon!$A$3,Dropdwon!$B$2,IF(AND(M21<Dropdwon!$A$4,M21>=Dropdwon!$A$3),Dropdwon!$B$3,Dropdwon!$B$4))","v":"00:00:00"},"00:00:00",{"$f":"IF(AND(T21<>\"\",T21<>\"verpflichtende FoBi\",T21<>\"förderliche FoBi\"),Q21,IF(AND(T21=\"verpflichtende FoBi\",SUM(E21+I21+M21-O21)<=Dropdwon!$A$5),SUM(E21+I21+M21-O21),IF(AND(T21=\"förderliche FoBi\",SUM(E21+I21+M21-O21)<=Dropdwon!$A$5,SUM(E21+I21+M21-O21)<=Q21),SUM(E21+I21+M21-O21),IF(AND(T21=\"förderliche FoBi\",SUM(E21+I21+M21-O21)>Q21),Q21,IF(SUM(E21+I21+M21-O21)>Dropdwon!$A$5,Dropdwon!$C$5,SUM(E21+I21+M21-O21))))))","v":{"$error":"#VALUE!"}},{"$f":"IF(OR(U21=\"x\",A21<STAMMDATENBLATT!$B$32,A21>STAMMDATENBLATT!$D$32),\"0:00\",IF(MOD(B21,2)=0,VLOOKUP(WEEKDAY(A21,2),STAMMDATENBLATT!H$28:J$34,3,FALSE),VLOOKUP(WEEKDAY(A21,2),STAMMDATENBLATT!H$38:J$44,3,FALSE)))","v":{"$error":"#VALUE!"}},{"$error":"#VALUE!"},null,null,{"$f":"_xlfn.IFNA(VLOOKUP(A21,Feiertage!A:D,3,FALSE),\"\")","v":""},{"$f":"_xlfn.IFNA(VLOOKUP(A21,Feiertage!A:D,4,FALSE),\"\")","v":""}]
["2024-02-17",7,null,null,"00:00:00",{"$f":"IF(E22<Dropdwon!$A$3,Dropdwon!$B$2,IF(AND(E22<Dropdwon!$A$4,E22>=Dropdwon!$A$3),Dropdwon!$B$3,Dropdwon!$B$4))","v":"00:00:00"},null,null,"00:00:00",{"$f":"IF(I22<Dropdwon!$A$3,Dropdwon!$B$2,IF(AND(I22<Dropdwon!$A$4,I22>=Dropdwon!$A$3),Dropdwon!$B$3,Dropdwon!$B$4))","v":"00:00:00"},null,null,"00:00:00",{"$f":"IF(M22<Dropdwon!$A$3,Dropdwon!$B$2,IF(AND(M22<Dropdwon!$A$4,M22>=Dropdwon!$A$3),Dropdwon!$B$3,Dropdwon!$B$4))","v":"00:00:00"},"00:00:00",{"$f":"IF(AND(T22<>\"\",T22<>\"verpflichtende FoBi\",T22<>\"förderliche FoBi\"),Q22,IF(AND(T22=\"verpflichtende FoBi\",SUM(E22+I22+M22-O22)<=Dropdwon!$A$5),SUM(E22+I22+M22-O22),IF(AND(T22=\"förderliche FoBi\",SUM(E22+I22+M22-O22)<=Dropdwon!$A$5,SUM(E22+I22+M22-O22)<=Q22),SUM(E22+I22+M22-O22),IF(AND(T22=\"förderliche FoBi\",SUM(E22+I22+M22-O22)>Q22),Q22,IF(SUM(E22+I22+M22-O22)>Dropdwon!$A$5,Dropdwon!$C$5,SUM(E22+I22+M22-O22))))))","v":"00:00:00"},{"$f":"IF(OR(U22=\"x\",A22<STAMMDATENBLATT!$B$32,A22>STAMMDATENBLATT!$D$32),\"0:00\",IF(MOD(B22,2)=0,VLOOKUP(WEEKDAY(A22,2),STAMMDATENBLATT!H$28:J$34,3,FALSE),VLOOKUP(WEEKDAY(A22,2),STAMMDATENBLATT!H$38:J$44,3,FALSE)))","v":"00:00:00"},"00:00:00",null,null,{"$f":"_xlfn.IFNA(VLOOKUP(A22,Feiertage!A:D,3,FALSE),\"\")","v":""},{"$f":"_xlfn.IFNA(VLOOKUP(A22,Feiertage!A:D,4,FALSE),\"\")","v":""}]
["2024-02-18",7,null,null,"00:00:00",{"$f":"IF(E23<Dropdwon!$A$3,Dropdwon!$B$2,IF(AND(E23<Dropdwon!$A$4,E23>=Dropdwon!$A$3),Dropdwon!$B$3,Dropdwon!$B$4))","v":"00:00:00"},null,null,"00:00:00",{"$f":"IF(I23<Dropdwon!$A$3,Dropdwon!$B$2,IF(AND(I23<Dropdwon!$A$4,I23>=Dropdwon!$A$3),Dropdwon!$B$3,Dropdwon!$B$4))","v":"00:00:00"},null,null,"00:00:00",{"$f":"IF(M23<Dropdwon!$A$3,Dropdwon!$B$2,IF(AND(M23<Dropdwon!$A$4,M23>=Dropdwon!$A$3),Dropdwon!$B$3,Dropdwon!$B$4))","v":"00:00:00"},"00:00:00",{"$f":"IF(AND(T23<>\"\",T23<>\"verpflichtende FoBi\",T23<>\"förderliche FoBi\"),Q23,IF(AND(T23=\"verpflichtende FoBi\",SUM(E23+I23+M23-O23)<=Dropdwon!$A$5),SUM(E23+I23+M23-O23),IF(AND(T23=\"förderliche FoBi\",SUM(E23+I23+M23-O23)<=Dropdwon!$A$5,SUM(E23+I23+M23-O23)<=Q23),SUM(E23+I23+M23-O23),IF(AND(T23=\"förderliche FoBi\",SUM(E23+I23+M23-O23)>Q23),Q23,IF(SUM(E23+I23+M23-O23)>Dropdwon!$A$5,Dropdwon!$C$5,SUM(E23+I23+M23-O23))))))","v":"00:00:00"},{"$f":"IF(OR(U23=\"x\",A23<STAMMDATENBLATT!$B$32,A23>STAMMDATENBLATT!$D$32),\"0:00\",IF(MOD(B23,2)=0,VLOOKUP(WEEKDAY(A23,2),STAMMDATENBLATT!H$28:J$34,3,FALSE),VLOOKUP(WEEKDAY(A23,2),STAMMDATENBLATT!H$38:J$44,3,FALSE)))","v":"00:00:00"},"00:00:00",null,null,{"$f":"_xlfn.IFNA(VLOOKUP(A23,Feiertage!A:D,3,FALSE),\"\")","v":""},{"$f":"_xlfn.IFNA(VLOOKUP(A23,Feiertage!A:D,4,FALSE),\"\")","v":""}]
["2024-02-19",8,null,null,"00:00:00",{"$f":"IF(E24<Dropdwon!$A$3,Dropdwon!$B$2,IF(AND(E24<Dropdwon!$A$4,E24>=Dropdwon!$A$3),Dropdwon!$B$3,Dropdwon!$B$4))","v":"00:00:00"},null,null,"00:00:00",{"$f":"IF(I24<Dropdwon!$A$3,Dropdwon!$B$2,IF(AND(I24<Dropdwon!$A$4,I24>=Dropdwon!$A$3),Dropdwon!$B$3,Dropdwon!$B$4))","v":"00:00:00"},null,null,"00:00:00",{"$f":"IF(M24<Dropdwon!$A$3,Dropdwon!$B$2,IF(AND(M24<Dropdwon!$A$4,M24>=Dropdwon!$A$3),Dropdwon!$B$3,Dropdwon!$B$4))","v":"00:00:00"},"00:00:00",{"$f":"IF(AND(T24<>\"\",T24<>\"verpflichtende FoBi\",T24<>\"förderliche FoBi\"),Q24,IF(AND(T24=\"verpflichtende FoBi\",SUM(E24+I24+M24-O24)<=Dropdwon!$A$5),SUM(E24+I24+M24-O24),IF(AND(T24=\"förderliche FoBi\",SUM(E24+I24+M24-O24)<=Dropdwon!$A$5,SUM(E24+I24+M24-O24)<=Q24),SUM(E24+I24+M24-O24),IF(AND(T24=\"förderliche FoBi\",SUM(E24+I24+M24-O24)>Q24),Q24,IF(SUM(E24+I24+M24-O24)>Dropdwon!$A$5,Dropdwon!$C$5,SUM(E24+I24+M24-O24))))))","v":{"$error":"#VALUE!"}},{"$f":"IF(OR(U24=\"x\",A24<STAMMDATENBLATT!$B$32,A24>STAMMDATENBLATT!$D$32),\"0:00\",IF(MOD(B24,2)=0,VLOOKUP(WEEKDAY(A24,2),STAMMDATENBLATT!H$28:J$34,3,FALSE),VLOOKUP(WEEKDAY(A24,2),STAMMDATENBLATT!H$38:J$44,3,FALSE)))","v":{"$error":"#VALUE!"}},{"$error":"#VALUE!"},null,null,{"$f":"_xlfn.IFNA(VLOOKUP(A24,Feiertage!A:D,3,FALSE),\"\")","v":""},{"$f":"_xlfn.IFNA(VLOOKUP(A24,Feiertage!A:D,4,FALSE),\"\")","v":""}]
["2024-02-20",8,null,null,"00:00:00",{"$f":"IF(E25<Dropdwon!$A$3,Dropdwon!$B$2,IF(AND(E25<Dropdwon!$A$4,E25>=Dropdwon!$A$3),Dropdwon!$B$3,Dropdwon!$B$4))","v":"00:00:00"},null,null,"00:00:00",{"$f":"IF(I25<Dropdwon!$A$3,Dropdwon!$B$2,IF(AND(I25<Dropdwon!$A$4,I25>=Dropdwon!$A$3),Dropdwon!$B$3,Dropdwon!$B$4))","v":"00:00:00"},null,null,"00:00:00",{"$f":"IF(M25<Dropdwon!$A$3,Dropdwon!$B$2,IF(AND(M25<Dropdwon!$A$4,M25>=Dropdwon!$A$3),Dropdwon!$B$3,Dropdwon!$B$4))","v":"00:00:00"},"00:00:00",{"$f":"IF(AND(T25<>\"\",T25<>\"verpflichtende FoBi\",T25<>\"förderliche FoBi\"),Q25,IF(AND(T25=\"verpflichtende FoBi\",SUM(E25+I25+M25-O25)<=Dropdwon!$A$5),SUM(E25+I25+M25-O25),IF(AND(T25=\"förderliche FoBi\",SUM(E25+I25+M25-O25)<=Dropdwon!$A$5,SUM(E25+I25+M25-O25)<=Q25),SUM(E25+I25+M25-O25),IF(AND(T25=\"förderliche FoBi\",SUM(E25+I25+M25-O25)>Q25),Q25,IF(SUM(E25+I25+M25-O25)>Dropdwon!$A$5,Dropdwon!$C$5,SUM(E25+I25+M25-O25))))))","v":{"$error":"#VALUE!"}},{"$f":"IF(OR(U25=\"x\",A25<STAMMDATENBLATT!$B$32,A25>STAMMDATENBLATT!$D$32),\"0:00\",IF(MOD(B25,2)=0,VLOOKUP(WEEKDAY(A25,2),STAMMDATENBLATT!H$28:J$34,3,FALSE),VLOOKUP(WEEKDAY(A25,2),STAMMDATENBLATT!H$38:J$44,3,FALSE)))","v":{"$error":"#VALUE!"}},{"$error":"#VALUE!"},null,null,{"$f":"_xlfn.IFNA(VLOOKUP(A25,Feiertage!A:D,3,FALSE),\"\")","v":""},{"$f":"_xlfn.IFNA(VLOOKUP(A25,Feiertage!A:D,4,FALSE),\"\")","v":""}]
["2024-02-21",8,null,null,"00:00:00",{"$f":"IF(E26<Dropdwon!$A$3,Dropdwon!$B$2,IF(AND(E26<Dropdwon!$A$4,E26>=Dropdwon!$A$3),Dropdwon!$B$3,Dropdwon!$B$4))","v":"00:00:00"},null,null,"00:00:00",{"$f":"IF(I26<Dropdwon!$A$3,Dropdwon!$B$2,IF(AND(I26<Dropdwon!$A$4,I26>=Dropdwon!$A$3),Dropdwon!$B$3,Dropdwon!$B$4))","v":"00:00:00"},null,null,"00:00:00",{"$f":"IF(M26<Dropdwon!$A$3,Dropdwon!$B$2,IF(AND(M26<Dropdwon!$A$4,M26>=Dropdwon!$A$3),Dropdwon!$B$3,Dropdwon!$B$4))","v":"00:00:00"},"00:00:00",{"$f":"IF(AND(T26<>\"\",T26<>\"verpflichtende FoBi\",T26<>\"förderliche FoBi\"),Q26,IF(AND(T26=\"verpflichtende FoBi\",SUM(E26+I26+M26-O26)<=Dropdwon!$A$5),SUM(E26+I26+M26-O26),IF(AND(T26=\"förderliche FoBi\",SUM(E26+I26+M26-O26)<=Dropdwon!$A$5,SUM(E26+I26+M26-O26)<=Q26),SUM(E26+I26+M26-O26),IF(AND(T26=\"förderliche FoBi\",SUM(E26+I26+M26-O26)>Q26),Q26,IF(SUM(E26+I26+M26-O26)>Dropdwon!$A$5,Dropdwon!$C$5,SUM(E26+I26+M26-O26))))))","v":{"$error":"#VALUE!"}},{"$f":"IF(OR(U26=\"x\",A26<STAMMDATENBLATT!$B$32,A26>STAMMDATENBLATT!$D$32),\"0:00\",IF(MOD(B26,2)=0,VLOOKUP(WEEKDAY(A26,2),STAMMDATENBLATT!H$28:J$34,3,FALSE),VLOOKUP(WEEKDAY(A26,2),STAMMDATENBLATT!H$38:J$44,3,FALSE)))","v":{"$error":"#VALUE!"}},{"$error":"#VALUE!"},null,null,{"$f":"_xlfn.IFNA(VLOOKUP(A26,Feiertage!A:D,3,FALSE),\"\")","v":""},{"$f":"_xlfn.IFNA(VLOOKUP(A26,Feiertage!A:D,4,FALSE),\"\")","v":""}]
["2024-02-22",8,null,null,"00:00:00",{"$f":"IF(E27<Dropdwon!$A$3,Dropdwon!$B$2,IF(AND(E27<Dropdwon!$A$4,E27>=Dropdwon!$A$3),Dropdwon!$B$3,Dropdwon!$B$4))","v":"00:00:00"},null,null,"00:00:00",{"$f":"IF(I27<Dropdwon!$A$3,Dropdwon!$B$2,IF(AND(I27<Dropdwon!$A$4,I27>=Dropdwon!$A$3),Dropdwon!$B$3,Dropdwon!$B$4))","v":"00:00:00"},null,null,"00:00:00",{"$f":"IF(M27<Dropdwon!$A$3,Dropdwon!$B$2,IF(AND(M27<Dropdwon!$A$4,M27>=Dropdwon!$A$3),Dropdwon!$B$3,Dropdwon!$B$4))","v":"00:00:00"},"00:00:00",{"$f":"IF(AND(T27<>\"\",T27<>\"verpflichtende FoBi\",T27<>\"förderliche FoBi\"),Q27,IF(AND(T27=\"verpflichtende FoBi\",SUM(E27+I27+M27-O27)<=Dropdwon!$A$5),SUM(E27+I27+M27-O27),IF(AND(T27=\"förderliche FoBi\",SUM(E27+I27+M27-O27)<=Dropdwon!$A$5,SUM(E27+I27+M27-O27)<=Q27),SUM(E27+I27+M27-O27),IF(AND(T27=\"förderliche FoBi\",SUM(E27+I27+M27-O27)>Q27),Q27,IF(SUM(E27+I27+M27-O27)>Dropdwon!$A$5,Dropdwon!$C$5,SUM(E27+I27+M27-O27))))))","v":{"$error":"#VALUE!"}},{"$f":"IF(OR(U27=\"x\",A27<STAMMDATENBLATT!$B$32,A27>STAMMDATENBLATT!$D$32),\"0:00\",IF(MOD(B27,2)=0,VLOOKUP(WEEKDAY(A27,2),STAMMDATENBLATT!H$28:J$34,3,FALSE),VLOOKUP(WEEKDAY(A27,2),STAMMDATENBLATT!H$38:J$44,3,FALSE)))","v":{"$error":"#VALUE!"}},{"$error":"#VALUE!"},null,null,{"$f":"_xlfn.IFNA(VLOOKUP(A27,Feiertage!A:D,3,FALSE),\"\")","v":""},{"$f":"_xlfn.IFNA(VLOOKUP(A27,Feiertage!A:D,4,FALSE),\"\")","v":""}]
["2024-02-23",8,null,null,"00:00:00",{"$f":"IF(E28<Dropdwon!$A$3,Dropdwon!$B$2,IF(AND(E28<Dropdwon!$A$4,E28>=Dropdwon!$A$3),Dropdwon!$B$3,Dropdwon!$B$4))","v":"00:00:00"},null,null,"00:00:00",{"$f":"IF(I28<Dropdwon!$A$3,Dropdwon!$B$2,IF(AND(I28<Dropdwon!$A$4,I28>=Dropdwon!$A$3),Dropdwon!$B$3,Dropdwon!$B$4))","v":"00:00:00"},null,null,"00:00:00",{"$f":"IF(M28<Dropdwon!$A$3,Dropdwon!$B$2,IF(AND(M28<Dropdwon!$A$4,M28>=Dropdwon!$A$3),Dropdwon!$B$3,Dropdwon!$B$4))","v":"00:00:00"},"00:00:00",{"$f":"IF(AND(T28<>\"\",T28<>\"verpflichtende FoBi\",T28<>\"förderliche FoBi\"),Q28,IF(AND(T28=\"verpflichtende FoBi\",SUM(E28+I28+M28-O28)<=Dropdwon!$A$5),SUM(E28+I28+M28-O28),IF(AND(T28=\"förderliche FoBi\",SUM(E28+I28+M28-O28)<=Dropdwon!$A$5,SUM(E28+I28+M28-O28)<=Q28),SUM(E28+I28+M28-O28),IF(AND(T28=\"förderliche FoBi\",SUM(E28+I28+M28-O28)>Q28),Q28,IF(SUM(E28+I28+M28-O28)>Dropdwon!$A$5,Dropdwon!$C$5,SUM(E28+I28+M28-O28))))))","v":{"$error":"#VALUE!"}},{"$f":"IF(OR(U28=\"x\",A28<STAMMDATENBLATT!$B$32,A28>STAMMDATENBLATT!$D$32),\"0:00\",IF(MOD(B28,2)=0,VLOOKUP(WEEKDAY(A28,2),STAMMDATENBLATT!H$28:J$34,3,FALSE),VLOOKUP(WEEKDAY(A28,2),STAMMDATENBLATT!H$38:J$44,3,FALSE)))","v":{"$error":"#VALUE!"}},{"$error":"#VALUE!"},null,null,{"$f":"_xlfn.IFNA(VLOOKUP(A28,Feiertage!A:D,3,FALSE),\"\")","v":""},{"$f":"_xlfn.IFNA(VLOOKUP(A28,Feiertage!A:D,4,FALSE),\"\")","v":""}]
["2024-02-24",8,null,null,"00:00:00",{"$f":"IF(E29<Dropdwon!$A$3,Dropdwon!$B$2,IF(AND(E29<Dropdwon!$A$4,E29>=Dropdwon!$A$3),Dropdwon!$B$3,Dropdwon!$B$4))","v":"00:00:00"},null,null,"00:00:00",{"$f":"IF(I29<Dropdwon!$A$3,Dropdwon!$B$2,IF(AND(I29<Dropdwon!$A$4,I29>=Dropdwon!$A$3),Dropdwon!$B$3,Dropdwon!$B$4))","v":"00:00:00"},null,null,"00:00:00",{"$f":"IF(M29<Dropdwon!$A$3,Dropdwon!$B$2,IF(AND(M29<Dropdwon!$A$4,M29>=Dropdwon!$A$3),Dropdwon!$B$3,Dropdwon!$B$4))","v":"00:00:00"},"00:00:00",{"$f":"IF(AND(T29<>\"\",T29<>\"verpflichtende FoBi\",T29<>\"förderliche FoBi\"),Q29,IF(AND(T29=\"verpflichtende FoBi\",SUM(E29+I29+M29-O29)<=Dropdwon!$A$5),SUM(E29+I29+M29-O29),IF(AND(T29=\"förderliche FoBi\",SUM(E29+I29+M29-O29)<=Dropdwon!$A$5,SUM(E29+I29+M29-O29)<=Q29),SUM(E29+I29+M29-O29),IF(AND(T29=\"förderliche FoBi\",SUM(E29+I29+M29-O29)>Q29),Q29,IF(SUM(E29+I29+M29-O29)>Dropdwon!$A$5,Dropdwon!$C$5,SUM(E29+I29+M29-O29))))))","v":"00:00:00"},{"$f":"IF(OR(U29=\"x\",A29<STAMMDATENBLATT!$B$32,A29>STAMMDATENBLATT!$D$32),\"0:00\",IF(MOD(B29,2)=0,VLOOKUP(WEEKDAY(A29,2),STAMMDATENBLATT!H$28:J$34,3,FALSE),VLOOKUP(WEEKDAY(A29,2),STAMMDATENBLATT!H$38:J$44,3,FALSE)))","v":"00:00:00"},"00:00:00",null,null,{"$f":"_xlfn.IFNA(VLOOKUP(A29,Feiertage!A:D,3,FALSE),\"\")","v":""},{"$f":"_xlfn.IFNA(VLOOKUP(A29,Feiertage!A:D,4,FALSE),\"\")","v":""}]
["2024-02-25",8,null,null,"00:00:00",{"$f":"IF(E30<Dropdwon!$A$3,Dropdwon!$B$2,IF(AND(E30<Dropdwon!$A$4,E30>=Dropdwon!$A$3),Dropdwon!$B$3,Dropdwon!$B$4))","v":"00:00:00"},null,null,"00:00:00",{"$f":"IF(I30<Dropdwon!$A$3,Dropdwon!$B$2,IF(AND(I30<Dropdwon!$A$4,I30>=Dropdwon!$A$3),Dropdwon!$B$3,Dropdwon!$B$4))","v":"00:00:00"},null,null,"00:00:00",{"$f":"IF(M30<Dropdwon!$A$3,Dropdwon!$B$2,IF(AND(M30<Dropdwon!$A$4,M30>=Dropdwon!$A$3),Dropdwon!$B$3,Dropdwon!$B$4))","v":"00:00:00"},"00:00:00",{"$f":"IF(AND(T30<>\"\",T30<>\"verpflichtende FoBi\",T30<>\"förderliche FoBi\"),Q30,IF(AND(T30=\"verpflichtende FoBi\",SUM(E30+I30+M30-O30)<=Dropdwon!$A$5),SUM(E30+I30+M30-O30),IF(AND(T30=\"förderliche FoBi\",SUM(E30+I30+M30-O30)<=Dropdwon!$A$5,SUM(E30+I30+M30-O30)<=Q30),SUM(E30+I30+M30-O30),IF(AND(T30=\"förderliche FoBi\",SUM(E30+I30+M30-O30)>Q30),Q30,IF(SUM(E30+I30+M30-O30)>Dropdwon!$A$5,Dropdwon!$C$5,SUM(E30+I30+M30-O30))))))","v":"00:00:00"},{"$f":"IF(OR(U30=\"x\",A30<STAMMDATENBLATT!$B$32,A30>STAMMDATENBLATT!$D$32),\"0:00\",IF(MOD(B30,2)=0,VLOOKUP(WEEKDAY(A30,2),STAMMDATENBLATT!H$28:J$34,3,FALSE),VLOOKUP(WEEKDAY(A30,2),STAMMDATENBLATT!H$38:J$44,3,FALSE)))","v":"00:00:00"},"00:00:00",null,null,{"$f":"_xlfn.IFNA(VLOOKUP(A30,Feiertage!A:D,3,FALSE),\"\")","v":""},{"$f":"_xlfn.IFNA(VLOOKUP(A30,Feiertage!A:D,4,FALSE),\"\")","v":""}]
["2024-02-26",9,null,null,"00:00:00",{"$f":"IF(E31<Dropdwon!$A$3,Dropdwon!$B$2,IF(AND(E31<Dropdwon!$A$4,E31>=Dropdwon!$A$3),Dropdwon!$B$3,Dropdwon!$B$4))","v":"00:00:00"},null,null,"00:00:00",{"$f":"IF(I31<Dropdwon!$A$3,Dropdwon!$B$2,IF(AND(I31<Dropdwon!$A$4,I31>=Dropdwon!$A$3),Dropdwon!$B$3,Dropdwon!$B$4))","v":"00:00:00"},null,null,"00:00:00",{"$f":"IF(M31<Dropdwon!$A$3,Dropdwon!$B$2,IF(AND(M31<Dropdwon!$A$4,M31>=Dropdwon!$A$3),Dropdwon!$B$3,Dropdwon!$B$4))","v":"00:00:00"},"00:00:00",{"$f":"IF(AND(T31<>\"\",T31<>\"verpflichtende FoBi\",T31<>\"förderliche FoBi\"),Q31,IF(AND(T31=\"verpflichtende FoBi\",SUM(E31+I31+M31-O31)<=Dropdwon!$A$5),SUM(E31+I31+M31-O31),IF(AND(T31=\"förderliche FoBi\",SUM(E31+I31+M31-O31)<=Dropdwon!$A$5,SUM(E31+I31+M31-O31)<=Q31),SUM(E31+I31+M31-O31),IF(AND(T31=\"förderliche FoBi\",SUM(E31+I31+M31-O31)>Q31),Q31,IF(SUM(E31+I31+M31-O31)>Dropdwon!$A$5,Dropdwon!$C$5,SUM(E31+I31+M31-O31))))))","v":{"$error":"#VALUE!"}},{"$f":"IF(OR(U31=\"x\",A31<STAMMDATENBLATT!$B$32,A31>STAMMDATENBLATT!$D$32),\"0:00\",IF(MOD(B31,2)=0,VLOOKUP(WEEKDAY(A31,2),STAMMDATENBLATT!H$28:J$34,3,FALSE),VLOOKUP(WEEKDAY(A31,2),STAMMDATENBLATT!H$38:J$44,3,FALSE)))","v":{"$error":"#VALUE!"}},{"$error":"#VALUE!"},null,null,{"$f":"_xlfn.IFNA(VLOOKUP(A31,Feiertage!A:D,3,FALSE),\"\")","v":""},{"$f":"_xlfn.IFNA(VLOOKUP(A31,Feiertage!A:D,4,FALSE),\"\")","v":""}]
["2024-02-27",9,null,null,"00:00:00",{"$f":"IF(E32<Dropdwon!$A$3,Dropdwon!$B$2,IF(AND(E32<Dropdwon!$A$4,E32>=Dropdwon!$A$3),Dropdwon!$B$3,Dropdwon!$B$4))","v":"00:00:00"},null,null,"00:00:00",{"$f":"IF(I32<Dropdwon!$A$3,Dropdwon!$B$2,IF(AND(I32<Dropdwon!$A$4,I32>=Dropdwon!$A$3),Dropdwon!$B$3,Dropdwon!$B$4))","v":"00:00:00"},null,null,"00:00:00",{"$f":"IF(M32<Dropdwon!$A$3,Dropdwon!$B$2,IF(AND(M32<Dropdwon!$A$4,M32>=Dropdwon!$A$3),Dropdwon!$B$3,Dropdwon!$B$4))","v":"00:00:00"},"00:00:00",{"$f":"IF(AND(T32<>\"\",T32<>\"verpflichtende FoBi\",T32<>\"förderliche FoBi\"),Q32,IF(AND(T32=\"verpflichtende FoBi\",SUM(E32+I32+M32-O32)<=Dropdwon!$A$5),SUM(E32+I32+M32-O32),IF(AND(T32=\"förderliche FoBi\",SUM(E32+I32+M32-O32)<=Dropdwon!$A$5,SUM(E32+I32+M32-O32)<=Q32),SUM(E32+I32+M32-O32),IF(AND(T32=\"förderliche FoBi\",SUM(E32+I32+M32-O32)>Q32),Q32,IF(SUM(E32+I32+M32-O32)>Dropdwon!$A$5,Dropdwon!$C$5,SUM(E32+I32+M32-O32))))))","v":{"$error":"#VALUE!"}},{"$f":"IF(OR(U32=\"x\",A32<STAMMDATENBLATT!$B$32,A32>STAMMDATENBLATT!$D$32),\"0:00\",IF(MOD(B32,2)=0,VLOOKUP(WEEKDAY(A32,2),STAMMDATENBLATT!H$28:J$34,3,FALSE),VLOOKUP(WEEKDAY(A32,2),STAMMDATENBLATT!H$38:J$44,3,FALSE)))","v":{"$error":"#VALUE!"}},{"$error":"#VALUE!"},null,null,{"$f":"_xlfn.IFNA(VLOOKUP(A32,Feiertage!A:D,3,FALSE),\"\")","v":""},{"$f":"_xlfn.IFNA(VLOOKUP(A32,Feiertage!A:D,4,FALSE),\"\")","v":""}]
["2024-02-28",9,null,null,"00:00:00",{"$f":"IF(E33<Dropdwon!$A$3,Dropdwon!$B$2,IF(AND(E33<Dropdwon!$A$4,E33>=Dropdwon!$A$3),Dropdwon!$B$3,Dropdwon!$B$4))","v":"00:00:00"},null,null,"00:00:00",{"$f":"IF(I33<Dropdwon!$A$3,Dropdwon!$B$2,IF(AND(I33<Dropdwon!$A$4,I33>=Dropdwon!$A$3),Dropdwon!$B$3,Dropdwon!$B$4))","v":"00:00:00"},null,null,"00:00:00",{"$f":"IF(M33<Dropdwon!$A$3,Dropdwon!$B$2,IF(AND(M33<Dropdwon!$A$4,M33>=Dropdwon!$A$3),Dropdwon!$B$3,Dropdwon!$B$4))","v":"00:00:00"},"00:00:00",{"$f":"IF(AND(T33<>\"\",T33<>\"verpflichtende FoBi\",T33<>\"förderliche FoBi\"),Q33,IF(AND(T33=\"verpflichtende FoBi\",SUM(E33+I33+M33-O33)<=Dropdwon!$A$5),SUM(E33+I33+M33-O33),IF(AND(T33=\"förderliche FoBi\",SUM(E33+I33+M33-O33)<=Dropdwon!$A$5,SUM(E33+I33+M33-O33)<=Q33),SUM(E33+I33+M33-O33),IF(AND(T33=\"förderliche FoBi\",SUM(E33+I33+M33-O33)>Q33),Q33,IF(SUM(E33+I33+M33-O33)>Dropdwon!$A$5,Dropdwon!$C$5,SUM(E33+I33+M33-O33))))))","v":{"$error":"#VALUE!"}},{"$f":"IF(OR(U33=\"x\",A33<STAMMDATENBLATT!$B$32,A33>STAMMDATENBLATT!$D$32),\"0:00\",IF(MOD(B33,2)=0,VLOOKUP(WEEKDAY(A33,2),STAMMDATENBLATT!H$28:J$34,3,FALSE),VLOOKUP(WEEKDAY(A33,2),STAMMDATENBLATT!H$38:J$44,3,FALSE)))","v":{"$error":"#VALUE!"}},{"$error":"#VALUE!"},null,null,{"$f":"_xlfn.IFNA(VLOOKUP(A33,Feiertage!A:D,3,FALSE),\"\")","v":""},{"$f":"_xlfn.IFNA(VLOOKUP(A33,Feiertage!A:D,4,FALSE),\"\")","v":""}]
[{"$f":"IF(DAY(A33+1)=29,A33+1,\"\")","v":"2024-02-29"},{"$f":"IF(A34<>\"\",WEEKNUM(A34,21),\"\")","v":9},null,null,{"$f":"IF($A34=\"\",\"\",IF(AND(WEEKDAY($A34,2)=6,HOUR(C34)>=13),SUM((D34-C34)*1.2),IF(WEEKDAY($A34,2)=7,SUM((D34-C34)*1.25),IF(AND($U34=\"x\",$V34<>\"Gründonnerstag\"),SUM((D34-C34)*1.25),D34-C34))))","v":"00:00:00"},{"$f":"IF(E34<Dropdwon!$A$3,Dropdwon!$B$2,IF(AND(E34<Dropdwon!$A$4,E34>=Dropdwon!$A$3),Dropdwon!$B$3,IF($A34=\"\",\"\",Dropdwon!$B$4)))","v":"00:00:00"},null,null,{"$f":"IF($A34=\"\",\"\",IF(AND(WEEKDAY($A34,2)=6,HOUR(G34)>=13),SUM((H34-G34)*1.2),IF(WEEKDAY($A34,2)=7,SUM((H34-G34)*1.25),IF(AND($U34=\"x\",$V34<>\"Gründonnerstag\"),SUM((H34-G34)*1.25),H34-G34))))","v":"00:00:00"},{"$f":"IF(I34<Dropdwon!$A$3,Dropdwon!$B$2,IF(AND(I34<Dropdwon!$A$4,I34>=Dropdwon!$A$3),Dropdwon!$B$3,IF($A34=\"\",\"\",Dropdwon!$B$4)))","v":"00:00:00"},null,null,{"$f":"IF($A34=\"\",\"\",IF(AND(WEEKDAY($A34,2)=6,HOUR(K34)>=13),SUM((L34-K34)*1.2),IF(WEEKDAY($A34,2)=7,SUM((L34-K34)*1.25),IF(AND($U34=\"x\",$V34<>\"Gründonnerstag\"),SUM((L34-K34)*1.25),L34-K34))))","v":"00:00:00"},{"$f":"IF(M34<Dropdwon!$A$3,Dropdwon!$B$2,IF(AND(M34<Dropdwon!$A$4,M34>=Dropdwon!$A$3),Dropdwon!$B$3,IF($A34=\"\",\"\",Dropdwon!$B$4)))","v":"00:00:00"},{"$f":"IF($A34=\"\",\"\",F34+J34+N34)","v":"00:00:00"},{"$f":"IF(A34=\"\",\"\",IF(AND(T34<>\"\",T34<>\"verpflichtende FoBi\",T34<>\"förderliche FoBi\"),Q34,IF(AND(T34=\"verpflichtende FoBi\",SUM(E34+I34+M34-O34)<=Dropdwon!$A$5),SUM(E34+I34+M34-O34),IF(AND(T34=\"förderliche FoBi\",SUM(E34+I34+M34-O34)<=Dropdwon!$A$5,SUM(E34+I34+M34-O34)<=Q34),SUM(E34+I34+M34-O34),IF(AND(T34=\"förderliche FoBi\",SUM(E34+I34+M34-O34)>Q34),Q34,IF(SUM(E34+I34+M34-O34)>Dropdwon!$A$5,Dropdwon!$C$5,SUM(E34+I34+M34-O34)))))))","v":{"$error":"#VALUE!"}},{"$f":"IF($A34=\"\",\"\",IF(OR(U34=\"x\",A34<STAMMDATENBLATT!$B$32,A34>STAMMDATENBLATT!$D$32),\"0:00\",IF(MOD(B34,2)=0,VLOOKUP(WEEKDAY(A34,2),STAMMDATENBLATT!H$28:J$34,3,FALSE),VLOOKUP(WEEKDAY(A34,2),STAMMDATENBLATT!H$38:J$44,3,FALSE))))","v":{"$error":"#VALUE!"}},{"$f":"IF($A34=\"\",\"\",SUM(P34-Q34))","v":{"$error":"#VALUE!"}},null,null,{"$f":"_xlfn.IFNA(VLOOKUP(A34,Feiertage!A:D,3,FALSE),\"\")","v":""},{"$f":"_xlfn.IFNA(VLOOKUP(A34,Feiertage!A:D,4,FALSE),\"\")","v":""}]
[]
["Abschluss Std.konto:",null,{"$f":"SUM(R$1+SUM(R$6:R$34)-R$36)","v":{"$error":"#VALUE!"}},{"$nulls":3},"Auszahlung Mehrarbeit in Std./Minuten:",{"$nulls":10},{"$f":"SUMIF($S$6:$S$34,\"ja\",$R$6:$R$34)","v":0}]
["Abschluss Std. in Dezimal:",null,{"$f":"C36*24","v":{"$error":"#VALUE!"}},{"$nulls":4},"Auszahlung Mehrarbeit in Dezimal:",{"$nulls":9},{"$f":"R36*24","v":{"v":0,"d":"0.00"}}]
[{"$nulls":17},"zur Auszahlung angewiesen:"]
[]
[]
[]
["Ort, Datum / Unterschrift Mitarbeiter/in",{"$nulls":5},"Ort, Datum / Unterschrift Vorgesetzte/r",{"$nulls":10},"Ort, Datum / Unterschrift KGF",{"$nulls":4},{"$f":"STAMMDATENBLATT!$A$22","v":"Version: 01.2024.5"}]

{"sheet":"März","index":4,"n_rows":44,"n_cols":26,"rows_kept":44,"merged":[[0,2,0,7],[1,0,1,7],[2,0,2,7],[37,0,37,1],[37,6,37,16],[38,0,38,1],[38,7,38,16],[40,0,42,2],[40,6,42,13],[40,20,42,22]]}
[{"$f":"DATEVALUE(\"01.03.\"&STAMMDATENBLATT!$D$27)","v":"2024-03-01"},null,{"$f":"STAMMDATENBLATT!B27","v":"Vorname Nachname"},{"$nulls":7},{"$f":"STAMMDATENBLATT!$B$30","v":{"v":0,"d":"0.00%"}},{"$f":"IF(STAMMDATENBLATT!$B$29=\"\",\"\",STAMMDATENBLATT!$B$29)","v":""},{"$nulls":8},{"$f":"IF(STAMMDATENBLATT!E5<=STAMMDATENBLATT!$D$35,STAMMDATENBLATT!E5,STAMMDATENBLATT!$D$35)","v":{"$error":"#VALUE!"}}]
[{"$f":"STAMMDATENBLATT!B26","v":0}]
[{"$f":"STAMMDATENBLATT!A26","v":{"$error":"#N/A"}}]
[]
[null,"KW","Beginn 1","Ende 1","IST AZ 1","IST MP 1","Beginn 2","Ende 2","IST AZ 2","IST MP 2","Beginn 3","Ende 3","IST AZ 3","IST MP 3","MP gesamt","HS GD Ende","IST AZ","SOLL AZ","HS AZ SOLL","HS GD SOLL","Differenz","Auszahlung","Abwesenheit","Feiertag","Feiertag","Notiz"]
[{"$f":"A1","v":"2024-03-01"},{"$f":"WEEKNUM(A6,21)","v":9},null,null,{"$f":"IF(AND(WEEKDAY($A6,2)=6,HOUR(C6)>=13),SUM((D6-C6)*1.2),IF(WEEKDAY($A6,2)=7,SUM((D6-C6)*1.25),IF(AND($X6=\"x\",$Y6<>\"Gründonnerstag\"),SUM((D6-C6)*1.25),IF(AND($X6=\"GD\",C6<>\"\"),SUM($P6-C6),D6-C6))))","v":"00:00:00"},{"$f":"IF(E6<Dropdwon!$A$3,Dropdwon!$B$2,IF(AND(E6<Dropdwon!$A$4,E6>=Dropdwon!$A$3),Dropdwon!$B$3,Dropdwon!$B$4))","v":"00:00:00"},null,null,{"$f":"IF(AND(WEEKDAY($A6,2)=6,HOUR(G6)>=13),SUM((H6-G6)*1.2),IF(WEEKDAY($A6,2)=7,SUM((H6-G6)*1.25),IF(AND($X6=\"x\",$Y6<>\"Gründonnerstag\"),SUM((H6-G6)*1.25),IF(AND($X6=\"GD\",G6<>\"\"),SUM($P6-G6),H6-G6))))","v":"00:00:00"},{"$f":"IF(I6<Dropdwon!$A$3,Dropdwon!$B$2,IF(AND(I6<Dropdwon!$A$4,I6>=Dropdwon!$A$3),Dropdwon!$B$3,Dropdwon!$B$4))","v":"00:00:00"},null,null,{"$f":"IF(AND(WEEKDAY($A6,2)=6,HOUR(K6)>=13),SUM((L6-K6)*1.2),IF(WEEKDAY($A6,2)=7,SUM((L6-K6)*1.25),IF(AND($X6=\"x\",$Y6<>\"Gründonnerstag\"),SUM((L6-K6)*1.25),IF(AND($X6=\"GD\",K6<>\"\"),SUM($P6-K6),L6-K6))))","v":"00:00:00"},{"$f":"IF(M6<Dropdwon!$A$3,Dropdwon!$B$2,IF(AND(M6<Dropdwon!$A$4,M6>=Dropdwon!$A$3),Dropdwon!$B$3,Dropdwon!$B$4))","v":"00:00:00"},{"$f":"F6+J6+N6","v":"00:00:00"},{"$f":"IF(X6=\"GD\",MIN(MAX(D6,H6,L6),0.5),\"\")","v":""},{"$f":"IF(AND(W6<>\"\",W6<>\"verpflichtende FoBi\",W6<>\"förderliche FoBi\"),R6,IF(AND(W6=\"verpflichtende FoBi\",SUM(E6+I6+M6-O6)<=Dropdwon!$A$5),SUM(E6+I6+M6-O6),IF(AND(W6=\"förderliche FoBi\",SUM(E6+I6+M6-O6)<=Dropdwon!$A$5,SUM(E6+I6+M6-O6)<=R6),SUM(E6+I6+M6-O6),IF(AND(W6=\"förderliche FoBi\",SUM(E6+I6+M6-O6)>R6),R6,IF(AND(X6=\"GD\",SUM(E6+I6+M6-O6)>T6),T6,IF(AND(X6=\"GD\",SUM(E6+I6+M6-O6)<R6),SUM(E6+I6+M6-O6),IF(AND(X6=\"GD\",E6=\"\"),S6,IF(AND(X6=\"GD\",I6=\"\"),S6,IF(AND(X6=\"GD\",M6=\"\"),S6,IF(SUM(E6+I6+M6-O6)>Dropdwon!$A$5,Dropdwon!$C$5,SUM(E6+I6+M6-O6)))))))))))","v":{"$error":"#VALUE!"}},{"$f":"IF(OR(X6=\"x\",A6<STAMMDATENBLATT!$B$32,A6>STAMMDATENBLATT!$D$32),\"0:00\",IF(AND(X6=\"GD\",S6<T6),S6,IF(AND(X6=\"GD\",S6>T6),T6,S6)))","v":{"$error":"#VALUE!"}},{"$f":"IF(OR(X6=\"x\",A6<STAMMDATENBLATT!$B$32,A6>STAMMDATENBLATT!$D$32),\"0:00\",IF(MOD(B6,2)=0,VLOOKUP(WEEKDAY(A6,2),STAMMDATENBLATT!H$28:J$34,3,FALSE),VLOOKUP(WEEKDAY(A6,2),STAMMDATENBLATT!H$38:J$44,3,FALSE)))","v":{"$error":"#VALUE!"}},{"$f":"IF(X6=\"GD\",Feiertage!$E$21,\"\")","v":""},{"$f":"SUM(Q6-R6)","v":{"$error":"#VALUE!"}},null,null,{"$f":"_xlfn.IFNA(VLOOKUP(A6,Feiertage!A:D,3,FALSE),\"\")","v":""},{"$f":"_xlfn.IFNA(VLOOKUP(A6,Feiertage!A:D,4,FALSE),\"\")","v":""}]
[{"$f":"A6+1","v":"2024-03-02"},{"$f":"WEEKNUM(A7,21)","v":9},null,null,{"$f":"IF(AND(WEEKDAY($A7,2)=6,HOUR(C7)>=13),SUM((D7-C7)*1.2),IF(WEEKDAY($A7,2)=7,SUM((D7-C7)*1.25),IF(AND($X7=\"x\",$Y7<>\"Gründonnerstag\"),SUM((D7-C7)*1.25),IF(AND($X7=\"GD\",C7<>\"\"),SUM($P7-C7),D7-C7))))","v":"00:00:00"},{"$f":"IF(E7<Dropdwon!$A$3,Dropdwon!$B$2,IF(AND(E7<Dropdwon!$A$4,E7>=Dropdwon!$A$3),Dropdwon!$B$3,Dropdwon!$B$4))","v":"00:00:00"},null,null,{"$f":"IF(AND(WEEKDAY($A7,2)=6,HOUR(G7)>=13),SUM((H7-G7)*1.2),IF(WEEKDAY($A7,2)=7,SUM((H7-G7)*1.25),IF(AND($X7=\"x\",$Y7<>\"Gründonnerstag\"),SUM((H7-G7)*1.25),IF(AND($X7=\"GD\",G7<>\"\"),SUM($P7-G7),H7-G7))))","v":"00:00:00"},{"$f":"IF(I7<Dropdwon!$A$3,Dropdwon!$B$2,IF(AND(I7<Dropdwon!$A$4,I7>=Dropdwon!$A$3),Dropdwon!$B$3,Dropdwon!$B$4))","v":"00:00:00"},null,null,{"$f":"IF(AND(WEEKDAY($A7,2)=6,HOUR(K7)>=13),SUM((L7-K7)*1.2),IF(WEEKDAY($A7,2)=7,SUM((L7-K7)*1.25),IF(AND($X7=\"x\",$Y7<>\"Gründonnerstag\"),SUM((L7-K7)*1.25),IF(AND($X7=\"GD\",K7<>\"\"),SUM($P7-K7),L7-K7))))","v":"00:00:00"},{"$f":"IF(M7<Dropdwon!$A$3,Dropdwon!$B$2,IF(AND(M7<Dropdwon!$A$4,M7>=Dropdwon!$A$3),Dropdwon!$B$3,Dropdwon!$B$4))","v":"00:00:00"},{"$f":"F7+J7+N7","v":"00:00:00"},"",{"$f":"IF(AND(W7<>\"\",W7<>\"verpflichtende FoBi\",W7<>\"förderliche FoBi\"),R7,IF(AND(W7=\"verpflichtende FoBi\",SUM(E7+I7+M7-O7)<=Dropdwon!$A$5),SUM(E7+I7+M7-O7),IF(AND(W7=\"förderliche FoBi\",SUM(E7+I7+M7-O7)<=Dropdwon!$A$5,SUM(E7+I7+M7-O7)<=R7),SUM(E7+I7+M7-O7),IF(AND(W7=\"förderliche FoBi\",SUM(E7+I7+M7-O7)>R7),R7,IF(AND(X7=\"GD\",SUM(E7+I7+M7-O7)>T7),T7,IF(AND(X7=\"GD\",SUM(E7+I7+M7-O7)<R7),SUM(E7+I7+M7-O7),IF(AND(X7=\"GD\",E7=\"\"),S7,IF(AND(X7=\"GD\",I7=\"\"),S7,IF(AND(X7=\"GD\",M7=\"\"),S7,IF(SUM(E7+I7+M7-O7)>Dropdwon!$A$5,Dropdwon!$C$5,SUM(E7+I7+M7-O7)))))))))))","v":"00:00:00"},{"$f":"IF(OR(X7=\"x\",A7<STAMMDATENBLATT!$B$32,A7>STAMMDATENBLATT!$D$32),\"0:00\",IF(AND(X7=\"GD\",S7<T7),S7,IF(AND(X7=\"GD\",S7>T7),T7,S7)))","v":"00:00:00"},{"$f":"IF(OR(X7=\"x\",A7<STAMMDATENBLATT!$B$32,A7>STAMMDATENBLATT!$D$32),\"0:00\",IF(MOD(B7,2)=0,VLOOKUP(WEEKDAY(A7,2),STAMMDATENBLATT!H$28:J$34,3,FALSE),VLOOKUP(WEEKDAY(A7,2),STAMMDATENBLATT!H$38:J$44,3,FALSE)))","v":"00:00:00"},{"$f":"IF(X7=\"GD\",Feiertage!$E$21,\"\")","v":""},{"$f":"SUM(Q7-R7)","v":"00:00:00"},null,null,{"$f":"_xlfn.IFNA(VLOOKUP(A7,Feiertage!A:D,3,FALSE),\"\")","v":""},{"$f":"_xlfn.IFNA(VLOOKUP(A7,Feiertage!A:D,4,FALSE),\"\")","v":""}]
[{"$f":"A7+1","v":"2024-03-03"},9,null,null,"00:00:00",{"$f":"IF(E8<Dropdwon!$A$3,Dropdwon!$B$2,IF(AND(E8<Dropdwon!$A$4,E8>=Dropdwon!$A$3),Dropdwon!$B$3,Dropdwon!$B$4))","v":"00:00:00"},null,null,"00:00:00",{"$f":"IF(I8<Dropdwon!$A$3,Dropdwon!$B$2,IF(AND(I8<Dropdwon!$A$4,I8>=Dropdwon!$A$3),Dropdwon!$B$3,Dropdwon!$B$4))","v":"00:00:00"},null,null,"00:00:00",{"$f":"IF(M8<Dropdwon!$A$3,Dropdwon!$B$2,IF(AND(M8<Dropdwon!$A$4,M8>=Dropdwon!$A$3),Dropdwon!$B$3,Dropdwon!$B$4))","v":"00:00:00"},{"$f":"F8+J8+N8","v":"00:00:00"},"",{"$f":"IF(AND(W8<>\"\",W8<>\"verpflichtende FoBi\",W8<>\"förderliche FoBi\"),R8,IF(AND(W8=\"verpflichtende FoBi\",SUM(E8+I8+M8-O8)<=Dropdwon!$A$5),SUM(E8+I8+M8-O8),IF(AND(W8=\"förderliche FoBi\",SUM(E8+I8+M8-O8)<=Dropdwon!$A$5,SUM(E8+I8+M8-O8)<=R8),SUM(E8+I8+M8-O8),IF(AND(W8=\"förderliche FoBi\",SUM(E8+I8+M8-O8)>R8),R8,IF(AND(X8=\"GD\",SUM(E8+I8+M8-O8)>T8),T8,IF(AND(X8=\"GD\",SUM(E8+I8+M8-O8)<R8),SUM(E8+I8+M8-O8),IF(AND(X8=\"GD\",E8=\"\"),S8,IF(AND(X8=\"GD\",I8=\"\"),S8,IF(AND(X8=\"GD\",M8=\"\"),S8,IF(SUM(E8+I8+M8-O8)>Dropdwon!$A$5,Dropdwon!$C$5,SUM(E8+I8+M8-O8)))))))))))","v":"00:00:00"},{"$f":"IF(OR(X8=\"x\",A8<STAMMDATENBLATT!$B$32,A8>STAMMDATENBLATT!$D$32),\"0:00\",IF(AND(X8=\"GD\",S8<T8),S8,IF(AND(X8=\"GD\",S8>T8),T8,S8)))","v":"00:00:00"},{"$f":"IF(OR(X8=\"x\",A8<STAMMDATENBLATT!$B$32,A8>STAMMDATENBLATT!$D$32),\"0:00\",IF(MOD(B8,2)=0,VLOOKUP(WEEKDAY(A8,2),STAMMDATENBLATT!H$28:J$34,3,FALSE),VLOOKUP(WEEKDAY(A8,2),STAMMDATENBLATT!H$38:J$44,3,FALSE)))","v":"00:00:00"},{"$f":"IF(X8=\"GD\",Feiertage!$E$21,\"\")","v":""},"00:00:00",null,null,{"$f":"_xlfn.IFNA(VLOOKUP(A8,Feiertage!A:D,3,FALSE),\"\")","v":""},{"$f":"_xlfn.IFNA(VLOOKUP(A8,Feiertage!A:D,4,FALSE),\"\")","v":""}]
[{"$f":"A8+1","v":"2024-03-04"},10,null,null,"00:00:00",{"$f":"IF(E9<Dropdwon!$A$3,Dropdwon!$B$2,IF(AND(E9<Dropdwon!$A$4,E9>=Dropdwon!$A$3),Dropdwon!$B$3,Dropdwon!$B$4))","v":"00:00:00"},null,null,"00:00:00",{"$f":"IF(I9<Dropdwon!$A$3,Dropdwon!$B$2,IF(AND(I9<Dropdwon!$A$4,I9>=Dropdwon!$A$3),Dropdwon!$B$3,Dropdwon!$B$4))","v":"00:00:00"},null,null,"00:00:00",{"$f":"IF(M9<Dropdwon!$A$3,Dropdwon!$B$2,IF(AND(M9<Dropdwon!$A$4,M9>=Dropdwon!$A$3),Dropdwon!$B$3,Dropdwon!$B$4))","v":"00:00:00"},"00:00:00","",{"$f":"IF(AND(W9<>\"\",W9<>\"verpflichtende FoBi\",W9<>\"förderliche FoBi\"),R9,IF(AND(W9=\"verpflichtende FoBi\",SUM(E9+I9+M9-O9)<=Dropdwon!$A$5),SUM(E9+I9+M9-O9),IF(AND(W9=\"förderliche FoBi\",SUM(E9+I9+M9-O9)<=Dropdwon!$A$5,SUM(E9+I9+M9-O9)<=R9),SUM(E9+I9+M9-O9),IF(AND(W9=\"förderliche FoBi\",SUM(E9+I9+M9-O9)>R9),R9,IF(AND(X9=\"GD\",SUM(E9+I9+M9-O9)>T9),T9,IF(AND(X9=\"GD\",SUM(E9+I9+M9-O9)<R9),SUM(E9+I9+M9-O9),IF(AND(X9=\"GD\",E9=\"\"),S9,IF(AND(X9=\"GD\",I9=\"\"),S9,IF(AND(X9=\"GD\",M9=\"\"),S9,IF(SUM(E9+I9+M9-O9)>Dropdwon!$A$5,Dropdwon!$C$5,SUM(E9+I9+M9-O9)))))))))))","v":{"$error":"#VALUE!"}},{"$f":"IF(OR(X9=\"x\",A9<STAMMDATENBLATT!$B$32,A9>STAMMDATENBLATT!$D$32),\"0:00\",IF(AND(X9=\"GD\",S9<T9),S9,IF(AND(X9=\"GD\",S9>T9),T9,S9)))","v":{"$error":"#VALUE!"}},{"$f":"IF(OR(X9=\"x\",A9<STAMMDATENBLATT!$B$32,A9>STAMMDATENBLATT!$D$32),\"0:00\",IF(MOD(B9,2)=0,VLOOKUP(WEEKDAY(A9,2),STAMMDATENBLATT!H$28:J$34,3,FALSE),VLOOKUP(WEEKDAY(A9,2),STAMMDATENBLATT!H$38:J$44,3,FALSE)))","v":{"$error":"#VALUE!"}},{"$f":"IF(X9=\"GD\",Feiertage!$E$21,\"\")","v":""},{"$error":"#VALUE!"},null,null,{"$f":"_xlfn.IFNA(VLOOKUP(A9,Feiertage!A:D,3,FALSE),\"\")","v":""},{"$f":"_xlfn.IFNA(VLOOKUP(A9,Feiertage!A:D,4,FALSE),\"\")","v":""}]
["2024-03-05",10,null,null,"00:00:00",{"$f":"IF(E10<Dropdwon!$A$3,Dropdwon!$B$2,IF(AND(E10<Dropdwon!$A$4,E10>=Dropdwon!$A$3),Dropdwon!$B$3,Dropdwon!$B$4))","v":"00:00:00"},null,null,"00:00:00",{"$f":"IF(I10<Dropdwon!$A$3,Dropdwon!$B$2,IF(AND(I10<Dropdwon!$A$4,I10>=Dropdwon!$A$3),Dropdwon!$B$3,Dropdwon!$B$4))","v":"00:00:00"},null,null,"00:00:00",{"$f":"IF(M10<Dropdwon!$A$3,Dropdwon!$B$2,IF(AND(M10<Dropdwon!$A$4,M10>=Dropdwon!$A$3),Dropdwon!$B$3,Dropdwon!$B$4))","v":"00:00:00"},"00:00:00","",{"$f":"IF(AND(W10<>\"\",W10<>\"verpflichtende FoBi\",W10<>\"förderliche FoBi\"),R10,IF(AND(W10=\"verpflichtende FoBi\",SUM(E10+I10+M10-O10)<=Dropdwon!$A$5),SUM(E10+I10+M10-O10),IF(AND(W10=\"förderliche FoBi\",SUM(E10+I10+M10-O10)<=Dropdwon!$A$5,SUM(E10+I10+M10-O10)<=R10),SUM(E10+I10+M10-O10),IF(AND(W10=\"förderliche FoBi\",SUM(E10+I10+M10-O10)>R10),R10,IF(AND(X10=\"GD\",SUM(E10+I10+M10-O10)>T10),T10,IF(AND(X10=\"GD\",SUM(E10+I10+M10-O10)<R10),SUM(E10+I10+M10-O10),IF(AND(X10=\"GD\",E10=\"\"),S10,IF(AND(X10=\"GD\",I10=\"\"),S10,IF(AND(X10=\"GD\",M10=\"\"),S10,IF(SUM(E10+I10+M10-O10)>Dropdwon!$A$5,Dropdwon!$C$5,SUM(E10+I10+M10-O10)))))))))))","v":{"$error":"#VALUE!"}},{"$f":"IF(OR(X10=\"x\",A10<STAMMDATENBLATT!$B$32,A10>STAMMDATENBLATT!$D$32),\"0:00\",IF(AND(X10=\"GD\",S10<T10),S10,IF(AND(X10=\"GD\",S10>T10),T10,S10)))","v":{"$error":"#VALUE!"}},{"$f":"IF(OR(X10=\"x\",A10<STAMMDATENBLATT!$B$32,A10>STAMMDATENBLATT!$D$32),\"0:00\",IF(MOD(B10,2)=0,VLOOKUP(WEEKDAY(A10,2),STAMMDATENBLATT!H$28:J$34,3,FALSE),VLOOKUP(WEEKDAY(A10,2),STAMMDATENBLATT!H$38:J$44,3,FALSE)))","v":{"$error":"#VALUE!"}},{"$f":"IF(X10=\"GD\",Feiertage!$E$21,\"\")","v":""},{"$error":"#VALUE!"},null,null,{"$f":"_xlfn.IFNA(VLOOKUP(A10,Feiertage!A:D,3,FALSE),\"\")","v":""},{"$f":"_xlfn.IFNA(VLOOKUP(A10,Feiertage!A:D,4,FALSE),\"\")","v":""}]
["2024-03-06",10,null,null,"00:00:00",{"$f":"IF(E11<Dropdwon!$A$3,Dropdwon!$B$2,IF(AND(E11<Dropdwon!$A$4,E11>=Dropdwon!$A$3),Dropdwon!$B$3,Dropdwon!$B$4))","v":"00:00:00"},null,null,"00:00:00",{"$f":"IF(I11<Dropdwon!$A$3,Dropdwon!$B$2,IF(AND(I11<Dropdwon!$A$4,I11>=Dropdwon!$A$3),Dropdwon!$B$3,Dropdwon!$B$4))","v":"00:00:00"},null,null,"00:00:00",{"$f":"IF(M11<Dropdwon!$A$3,Dropdwon!$B$2,IF(AND(M11<Dropdwon!$A$4,M11>=Dropdwon!$A$3),Dropdwon!$B$3,Dropdwon!$B$4))","v":"00:00:00"},"00:00:00",{"$f":"IF(X11=\"GD\",MIN(MAX(D11,H11,L11),0.5),\"\")","v":""},{"$f":"IF(AND(W11<>\"\",W11<>\"verpflichtende FoBi\",W11<>\"förderliche FoBi\"),R11,IF(AND(W11=\"verpflichtende FoBi\",SUM(E11+I11+M11-O11)<=Dropdwon!$A$5),SUM(E11+I11+M11-O11),IF(AND(W11=\"förderliche FoBi\",SUM(E11+I11+M11-O11)<=Dropdwon!$A$5,SUM(E11+I11+M11-O11)<=R11),SUM(E11+I11+M11-O11),IF(AND(W11=\"förderliche FoBi\",SUM(E11+I11+M11-O11)>R11),R11,IF(AND(X11=\"GD\",SUM(E11+I11+M11-O11)>T11),T11,IF(AND(X11=\"GD\",SUM(E11+I11+M11-O11)<R11),SUM(E11+I11+M11-O11),IF(AND(X11=\"GD\",E11=\"\"),S11,IF(AND(X11=\"GD\",I11=\"\"),S11,IF(AND(X11=\"GD\",M11=\"\"),S11,IF(SUM(E11+I11+M11-O11)>Dropdwon!$A$5,Dropdwon!$C$5,SUM(E11+I11+M11-O11)))))))))))","v":{"$error":"#VALUE!"}},{"$f":"IF(OR(X11=\"x\",A11<STAMMDATENBLATT!$B$32,A11>STAMMDATENBLATT!$D$32),\"0:00\",IF(AND(X11=\"GD\",S11<T11),S11,IF(AND(X11=\"GD\",S11>T11),T11,S11)))","v":{"$error":"#VALUE!"}},{"$f":"IF(OR(X11=\"x\",A11<STAMMDATENBLATT!$B$32,A11>STAMMDATENBLATT!$D$32),\"0:00\",IF(MOD(B11,2)=0,VLOOKUP(WEEKDAY(A11,2),STAMMDATENBLATT!H$28:J$34,3,FALSE),VLOOKUP(WEEKDAY(A11,2),STAMMDATENBLATT!H$38:J$44,3,FALSE)))","v":{"$error":"#VALUE!"}},{"$f":"IF(X11=\"GD\",Feiertage!$E$21,\"\")","v":""},{"$error":"#VALUE!"},null,null,{"$f":"_xlfn.IFNA(VLOOKUP(A11,Feiertage!A:D,3,FALSE),\"\")","v":""},{"$f":"_xlfn.IFNA(VLOOKUP(A11,Feiertage!A:D,4,FALSE),\"\")","v":""}]
["2024-03-07",10,null,null,"00:00:00",{"$f":"IF(E12<Dropdwon!$A$3,Dropdwon!$B$2,IF(AND(E12<Dropdwon!$A$4,E12>=Dropdwon!$A$3),Dropdwon!$B$3,Dropdwon!$B$4))","v":"00:00:00"},null,null,"00:00:00",{"$f":"IF(I12<Dropdwon!$A$3,Dropdwon!$B$2,IF(AND(I12<Dropdwon!$A$4,I12>=Dropdwon!$A$3),Dropdwon!$B$3,Dropdwon!$B$4))","v":"00:00:00"},null,null,"00:00:00",{"$f":"IF(M12<Dropdwon!$A$3,Dropdwon!$B$2,IF(AND(M12<Dropdwon!$A$4,M12>=Dropdwon!$A$3),Dropdwon!$B$3,Dropdwon!$B$4))","v":"00:00:00"},"00:00:00","",{"$f":"IF(AND(W12<>\"\",W12<>\"verpflichtende FoBi\",W12<>\"förderliche FoBi\"),R12,IF(AND(W12=\"verpflichtende FoBi\",SUM(E12+I12+M12-O12)<=Dropdwon!$A$5),SUM(E12+I12+M12-O12),IF(AND(W12=\"förderliche FoBi\",SUM(E12+I12+M12-O12)<=Dropdwon!$A$5,SUM(E12+I12+M12-O12)<=R12),SUM(E12+I12+M12-O12),IF(AND(W12=\"förderliche FoBi\",SUM(E12+I12+M12-O12)>R12),R12,IF(AND(X12=\"GD\",SUM(E12+I12+M12-O12)>T12),T12,IF(AND(X12=\"GD\",SUM(E12+I12+M12-O12)<R12),SUM(E12+I12+M12-O12),IF(AND(X12=\"GD\",E12=\"\"),S12,IF(AND(X12=\"GD\",I12=\"\"),S12,IF(AND(X12=\"GD\",M12=\"\"),S12,IF(SUM(E12+I12+M12-O12)>Dropdwon!$A$5,Dropdwon!$C$5,SUM(E12+I12+M12-O12)))))))))))","v":{"$error":"#VALUE!"}},{"$f":"IF(OR(X12=\"x\",A12<STAMMDATENBLATT!$B$32,A12>STAMMDATENBLATT!$D$32),\"0:00\",IF(AND(X12=\"GD\",S12<T12),S12,IF(AND(X12=\"GD\",S12>T12),T12,S12)))","v":{"$error":"#VALUE!"}},{"$f":"IF(OR(X12=\"x\",A12<STAMMDATENBLATT!$B$32,A12>STAMMDATENBLATT!$D$32),\"0:00\",IF(MOD(B12,2)=0,VLOOKUP(WEEKDAY(A12,2),STAMMDATENBLATT!H$28:J$34,3,FALSE),VLOOKUP(WEEKDAY(A12,2),STAMMDATENBLATT!H$38:J$44,3,FALSE)))","v":{"$error":"#VALUE!"}},{"$f":"IF(X12=\"GD\",Feiertage!$E$21,\"\")","v":""},{"$error":"#VALUE!"},null,null,{"$f":"_xlfn.IFNA(VLOOKUP(A12,Feiertage!A:D,3,FALSE),\"\")","v":""},{"$f":"_xlfn.IFNA(VLOOKUP(A12,Feiertage!A:D,4,FALSE),\"\")","v":""}]
["2024-03-08",10,null,null,"00:00:00",{"$f":"IF(E13<Dropdwon!$A$3,Dropdwon!$B$2,IF(AND(E13<Dropdwon!$A$4,E13>=Dropdwon!$A$3),Dropdwon!$B$3,Dropdwon!$B$4))","v":"00:00:00"},null,null,"00:00:00",{"$f":"IF(I13<Dropdwon!$A$3,Dropdwon!$B$2,IF(AND(I13<Dropdwon!$A$4,I13>=Dropdwon!$A$3),Dropdwon!$B$3,Dropdwon!$B$4))","v":"00:00:00"},null,null,"00:00:00",{"$f":"IF(M13<Dropdwon!$A$3,Dropdwon!$B$2,IF(AND(M13<Dropdwon!$A$4,M13>=Dropdwon!$A$3),Dropdwon!$B$3,Dropdwon!$B$4))","v":"00:00:00"},"00:00:00","",{"$f":"IF(AND(W13<>\"\",W13<>\"verpflichtende FoBi\",W13<>\"förderliche FoBi\"),R13,IF(AND(W13=\"verpflichtende FoBi\",SUM(E13+I13+M13-O13)<=Dropdwon!$A$5),SUM(E13+I13+M13-O13),IF(AND(W13=\"förderliche FoBi\",SUM(E13+I13+M13-O13)<=Dropdwon!$A$5,SUM(E13+I13+M13-O13)<=R13),SUM(E13+I13+M13-O13),IF(AND(W13=\"förderliche FoBi\",SUM(E13+I13+M13-O13)>R13),R13,IF(AND(X13=\"GD\",SUM(E13+I13+M13-O13)>T13),T13,IF(AND(X13=\"GD\",SUM(E13+I13+M13-O13)<R13),SUM(E13+I13+M13-O13),IF(AND(X13=\"GD\",E13=\"\"),S13,IF(AND(X13=\"GD\",I13=\"\"),S13,IF(AND(X13=\"GD\",M13=\"\"),S13,IF(SUM(E13+I13+M13-O13)>Dropdwon!$A$5,Dropdwon!$C$5,SUM(E13+I13+M13-O13)))))))))))","v":{"$error":"#VALUE!"}},{"$f":"IF(OR(X13=\"x\",A13<STAMMDATENBLATT!$B$32,A13>STAMMDATENBLATT!$D$32),\"0:00\",IF(AND(X13=\"GD\",S13<T13),S13,IF(AND(X13=\"GD\",S13>T13),T13,S13)))","v":{"$error":"#VALUE!"}},{"$f":"IF(OR(X13=\"x\",A13<STAMMDATENBLATT!$B$32,A13>STAMMDATENBLATT!$D$32),\"0:00\",IF(MOD(B13,2)=0,VLOOKUP(WEEKDAY(A13,2),STAMMDATENBLATT!H$28:J$34,3,FALSE),VLOOKUP(WEEKDAY(A13,2),STAMMDATENBLATT!H$38:J$44,3,FALSE)))","v":{"$error":"#VALUE!"}},{"$f":"IF(X13=\"GD\",Feiertage!$E$21,\"\")","v":""},{"$error":"#VALUE!"},null,null,{"$f":"_xlfn.IFNA(VLOOKUP(A13,Feiertage!A:D,3,FALSE),\"\")","v":""},{"$f":"_xlfn.IFNA(VLOOKUP(A13,Feiertage!A:D,4,FALSE),\"\")","v":""}]
["2024-03-09",10,null,null,"00:00:00",{"$f":"IF(E14<Dropdwon!$A$3,Dropdwon!$B$2,IF(AND(E14<Dropdwon!$A$4,E14>=Dropdwon!$A$3),Dropdwon!$B$3,Dropdwon!$B$4))","v":"00:00:00"},null,null,"00:00:00",{"$f":"IF(I14<Dropdwon!$A$3,Dropdwon!$B$2,IF(AND(I14<Dropdwon!$A$4,I14>=Dropdwon!$A$3),Dropdwon!$B$3,Dropdwon!$B$4))","v":"00:00:00"},null,null,"00:00:00",{"$f":"IF(M14<Dropdwon!$A$3,Dropdwon!$B$2,IF(AND(M14<Dropdwon!$A$4,M14>=Dropdwon!$A$3),Dropdwon!$B$3,Dropdwon!$B$4))","v":"00:00:00"},"00:00:00","",{"$f":"IF(AND(W14<>\"\",W14<>\"verpflichtende FoBi\",W14<>\"förderliche FoBi\"),R14,IF(AND(W14=\"verpflichtende FoBi\",SUM(E14+I14+M14-O14)<=Dropdwon!$A$5),SUM(E14+I14+M14-O14),IF(AND(W14=\"förderliche FoBi\",SUM(E14+I14+M14-O14)<=Dropdwon!$A$5,SUM(E14+I14+M14-O14)<=R14),SUM(E14+I14+M14-O14),IF(AND(W14=\"förderliche FoBi\",SUM(E14+I14+M14-O14)>R14),R14,IF(AND(X14=\"GD\",SUM(E14+I14+M14-O14)>T14),T14,IF(AND(X14=\"GD\",SUM(E14+I14+M14-O14)<R14),SUM(E14+I14+M14-O14),IF(AND(X14=\"GD\",E14=\"\"),S14,IF(AND(X14=\"GD\",I14=\"\"),S14,IF(AND(X14=\"GD\",M14=\"\"),S14,IF(SUM(E14+I14+M14-O14)>Dropdwon!$A$5,Dropdwon!$C$5,SUM(E14+I14+M14-O14)))))))))))","v":"00:00:00"},{"$f":"IF(OR(X14=\"x\",A14<STAMMDATENBLATT!$B$32,A14>STAMMDATENBLATT!$D$32),\"0:00\",IF(AND(X14=\"GD\",S14<T14),S14,IF(AND(X14=\"GD\",S14>T14),T14,S14)))","v":"00:00:00"},{"$f":"IF(OR(X14=\"x\",A14<STAMMDATENBLATT!$B$32,A14>STAMMDATENBLATT!$D$32),\"0:00\",IF(MOD(B14,2)=0,VLOOKUP(WEEKDAY(A14,2),STAMMDATENBLATT!H$28:J$34,3,FALSE),VLOOKUP(WEEKDAY(A14,2),STAMMDATENBLATT!H$38:J$44,3,FALSE)))","v":"00:00:00"},{"$f":"IF(X14=\"GD\",Feiertage!$E$21,\"\")","v":""},"00:00:00",null,null,{"$f":"_xlfn.IFNA(VLOOKUP(A14,Feiertage!A:D,3,FALSE),\"\")","v":""},{"$f":"_xlfn.IFNA(VLOOKUP(A14,Feiertage!A:D,4,FALSE),\"\")","v":""}]
["2024-03-10",10,null,null,"00:00:00",{"$f":"IF(E15<Dropdwon!$A$3,Dropdwon!$B$2,IF(AND(E15<Dropdwon!$A$4,E15>=Dropdwon!$A$3),Dropdwon!$B$3,Dropdwon!$B$4))","v":"00:00:00"},null,null,"00:00:00",{"$f":"IF(I15<Dropdwon!$A$3,Dropdwon!$B$2,IF(AND(I15<Dropdwon!$A$4,I15>=Dropdwon!$A$3),Dropdwon!$B$3,Dropdwon!$B$4))","v":"00:00:00"},null,null,"00:00:00",{"$f":"IF(M15<Dropdwon!$A$3,Dropdwon!$B$2,IF(AND(M15<Dropdwon!$A$4,M15>=Dropdwon!$A$3),Dropdwon!$B$3,Dropdwon!$B$4))","v":"00:00:00"},"00:00:00","",{"$f":"IF(AND(W15<>\"\",W15<>\"verpflichtende FoBi\",W15<>\"förderliche FoBi\"),R15,IF(AND(W15=\"verpflichtende FoBi\",SUM(E15+I15+M15-O15)<=Dropdwon!$A$5),SUM(E15+I15+M15-O15),IF(AND(W15=\"förderliche FoBi\",SUM(E15+I15+M15-O15)<=Dropdwon!$A$5,SUM(E15+I15+M15-O15)<=R15),SUM(E15+I15+M15-O15),IF(AND(W15=\"förderliche FoBi\",SUM(E15+I15+M15-O15)>R15),R15,IF(AND(X15=\"GD\",SUM(E15+I15+M15-O15)>T15),T15,IF(AND(X15=\"GD\",SUM(E15+I15+M15-O15)<R15),SUM(E15+I15+M15-O15),IF(AND(X15=\"GD\",E15=\"\"),S15,IF(AND(X15=\"GD\",I15=\"\"),S15,IF(AND(X15=\"GD\",M15=\"\"),S15,IF(SUM(E15+I15+M15-O15)>Dropdwon!$A$5,Dropdwon!$C$5,SUM(E15+I15+M15-O15)))))))))))","v":"00:00:00"},{"$f":"IF(OR(X15=\"x\",A15<STAMMDATENBLATT!$B$32,A15>STAMMDATENBLATT!$D$32),\"0:00\",IF(AND(X15=\"GD\",S15<T15),S15,IF(AND(X15=\"GD\",S15>T15),T15,S15)))","v":"00:00:00"},{"$f":"IF(OR(X15=\"x\",A15<STAMMDATENBLATT!$B$32,A15>STAMMDATENBLATT!$D$32),\"0:00\",IF(MOD(B15,2)=0,VLOOKUP(WEEKDAY(A15,2),STAMMDATENBLATT!H$28:J$34,3,FALSE),VLOOKUP(WEEKDAY(A15,2),STAMMDATENBLATT!H$38:J$44,3,FALSE)))","v":"00:00:00"},{"$f":"IF(X15=\"GD\",Feiertage!$E$21,\"\")","v":""},"00:00:00",null,null,{"$f":"_xlfn.IFNA(VLOOKUP(A15,Feiertage!A:D,3,FALSE),\"\")","v":""},{"$f":"_xlfn.IFNA(VLOOKUP(A15,Feiertage!A:D,4,FALSE),\"\")","v":""}]
["2024-03-11",11,null,null,"00:00:00",{"$f":"IF(E16<Dropdwon!$A$3,Dropdwon!$B$2,IF(AND(E16<Dropdwon!$A$4,E16>=Dropdwon!$A$3),Dropdwon!$B$3,Dropdwon!$B$4))","v":"00:00:00"},null,null,"00:00:00",{"$f":"IF(I16<Dropdwon!$A$3,Dropdwon!$B$2,IF(AND(I16<Dropdwon!$A$4,I16>=Dropdwon!$A$3),Dropdwon!$B$3,Dropdwon!$B$4))","v":"00:00:00"},null,null,"00:00:00",{"$f":"IF(M16<Dropdwon!$A$3,Dropdwon!$B$2,IF(AND(M16<Dropdwon!$A$4,M16>=Dropdwon!$A$3),Dropdwon!$B$3,Dropdwon!$B$4))","v":"00:00:00"},"00:00:00","",{"$f":"IF(AND(W16<>\"\",W16<>\"verpflichtende FoBi\",W16<>\"förderliche FoBi\"),R16,IF(AND(W16=\"verpflichtende FoBi\",SUM(E16+I16+M16-O16)<=Dropdwon!$A$5),SUM(E16+I16+M16-O16),IF(AND(W16=\"förderliche FoBi\",SUM(E16+I16+M16-O16)<=Dropdwon!$A$5,SUM(E16+I16+M16-O16)<=R16),SUM(E16+I16+M16-O16),IF(AND(W16=\"förderliche FoBi\",SUM(E16+I16+M16-O16)>R16),R16,IF(AND(X16=\"GD\",SUM(E16+I16+M16-O16)>T16),T16,IF(AND(X16=\"GD\",SUM(E16+I16+M16-O16)<R16),SUM(E16+I16+M16-O16),IF(AND(X16=\"GD\",E16=\"\"),S16,IF(AND(X16=\"GD\",I16=\"\"),S16,IF(AND(X16=\"GD\",M16=\"\"),S16,IF(SUM(E16+I16+M16-O16)>Dropdwon!$A$5,Dropdwon!$C$5,SUM(E16+I16+M16-O16)))))))))))","v":{"$error":"#VALUE!"}},{"$f":"IF(OR(X16=\"x\",A16<STAMMDATENBLATT!$B$32,A16>STAMMDATENBLATT!$D$32),\"0:00\",IF(AND(X16=\"GD\",S16<T16),S16,IF(AND(X16=\"GD\",S16>T16),T16,S16)))","v":{"$error":"#VALUE!"}},{"$f":"IF(OR(X16=\"x\",A16<STAMMDATENBLATT!$B$32,A16>STAMMDATENBLATT!$D$32),\"0:00\",IF(MOD(B16,2)=0,VLOOKUP(WEEKDAY(A16,2),STAMMDATENBLATT!H$28:J$34,3,FALSE),VLOOKUP(WEEKDAY(A16,2),STAMMDATENBLATT!H$38:J$44,3,FALSE)))","v":{"$error":"#VALUE!"}},{"$f":"IF(X16=\"GD\",Feiertage!$E$21,\"\")","v":""},{"$error":"#VALUE!"},null,null,{"$f":"_xlfn.IFNA(VLOOKUP(A16,Feiertage!A:D,3,FALSE),\"\")","v":""},{"$f":"_xlfn.IFNA(VLOOKUP(A16,Feiertage!A:D,4,FALSE),\"\")","v":""}]
["2024-03-12",11,null,null,"00:00:00",{"$f":"IF(E17<Dropdwon!$A$3,Dropdwon!$B$2,IF(AND(E17<Dropdwon!$A$4,E17>=Dropdwon!$A$3),Dropdwon!$B$3,Dropdwon!$B$4))","v":"00:00:00"},null,null,"00:00:00",{"$f":"IF(I17<Dropdwon!$A$3,Dropdwon!$B$2,IF(AND(I17<Dropdwon!$A$4,I17>=Dropdwon!$A$3),Dropdwon!$B$3,Dropdwon!$B$4))","v":"00:00:00"},null,null,"00:00:00",{"$f":"IF(M17<Dropdwon!$A$3,Dropdwon!$B$2,IF(AND(M17<Dropdwon!$A$4,M17>=Dropdwon!$A$3),Dropdwon!$B$3,Dropdwon!$B$4))","v":"00:00:00"},"00:00:00","",{"$f":"IF(AND(W17<>\"\",W17<>\"verpflichtende FoBi\",W17<>\"förderliche FoBi\"),R17,IF(AND(W17=\"verpflichtende FoBi\",SUM(E17+I17+M17-O17)<=Dropdwon!$A$5),SUM(E17+I17+M17-O17),IF(AND(W17=\"förderliche FoBi\",SUM(E17+I17+M17-O17)<=Dropdwon!$A$5,SUM(E17+I17+M17-O17)<=R17),SUM(E17+I17+M17-O17),IF(AND(W17=\"förderliche FoBi\",SUM(E17+I17+M17-O17)>R17),R17,IF(AND(X17=\"GD\",SUM(E17+I17+M17-O17)>T17),T17,IF(AND(X17=\"GD\",SUM(E17+I17+M17-O17)<R17),SUM(E17+I17+M17-O17),IF(AND(X17=\"GD\",E17=\"\"),S17,IF(AND(X17=\"GD\",I17=\"\"),S17,IF(AND(X17=\"GD\",M17=\"\"),S17,IF(SUM(E17+I17+M17-O17)>Dropdwon!$A$5,Dropdwon!$C$5,SUM(E17+I17+M17-O17)))))))))))","v":{"$error":"#VALUE!"}},{"$f":"IF(OR(X17=\"x\",A17<STAMMDATENBLATT!$B$32,A17>STAMMDATENBLATT!$D$32),\"0:00\",IF(AND(X17=\"GD\",S17<T17),S17,IF(AND(X17=\"GD\",S17>T17),T17,S17)))","v":{"$error":"#VALUE!"}},{"$f":"IF(OR(X17=\"x\",A17<STAMMDATENBLATT!$B$32,A17>STAMMDATENBLATT!$D$32),\"0:00\",IF(MOD(B17,2)=0,VLOOKUP(WEEKDAY(A17,2),STAMMDATENBLATT!H$28:J$34,3,FALSE),VLOOKUP(WEEKDAY(A17,2),STAMMDATENBLATT!H$38:J$44,3,FALSE)))","v":{"$error":"#VALUE!"}},{"$f":"IF(X17=\"GD\",Feiertage!$E$21,\"\")","v":""},{"$error":"#VALUE!"},null,null,{"$f":"_xlfn.IFNA(VLOOKUP(A17,Feiertage!A:D,3,FALSE),\"\")","v":""},{"$f":"_xlfn.IFNA(VLOOKUP(A17,Feiertage!A:D,4,FALSE),\"\")","v":""}]
["2024-03-13",11,null,null,"00:00:00",{"$f":"IF(E18<Dropdwon!$A$3,Dropdwon!$B$2,IF(AND(E18<Dropdwon!$A$4,E18>=Dropdwon!$A$3),Dropdwon!$B$3,Dropdwon!$B$4))","v":"00:00:00"},null,null,"00:00:00",{"$f":"IF(I18<Dropdwon!$A$3,Dropdwon!$B$2,IF(AND(I18<Dropdwon!$A$4,I18>=Dropdwon!$A$3),Dropdwon!$B$3,Dropdwon!$B$4))","v":"00:00:00"},null,null,"00:00:00",{"$f":"IF(M18<Dropdwon!$A$3,Dropdwon!$B$2,IF(AND(M18<Dropdwon!$A$4,M18>=Dropdwon!$A$3),Dropdwon!$B$3,Dropdwon!$B$4))","v":"00:00:00"},"00:00:00","",{"$f":"IF(AND(W18<>\"\",W18<>\"verpflichtende FoBi\",W18<>\"förderliche FoBi\"),R18,IF(AND(W18=\"verpflichtende FoBi\",SUM(E18+I18+M18-O18)<=Dropdwon!$A$5),SUM(E18+I18+M18-O18),IF(AND(W18=\"förderliche FoBi\",SUM(E18+I18+M18-O18)<=Dropdwon!$A$5,SUM(E18+I18+M18-O18)<=R18),SUM(E18+I18+M18-O18),IF(AND(W18=\"förderliche FoBi\",SUM(E18+I18+M18-O18)>R18),R18,IF(AND(X18=\"GD\",SUM(E18+I18+M18-O18)>T18),T18,IF(AND(X18=\"GD\",SUM(E18+I18+M18-O18)<R18),SUM(E18+I18+M18-O18),IF(AND(X18=\"GD\",E18=\"\"),S18,IF(AND(X18=\"GD\",I18=\"\"),S18,IF(AND(X18=\"GD\",M18=\"\"),S18,IF(SUM(E18+I18+M18-O18)>Dropdwon!$A$5,Dropdwon!$C$5,SUM(E18+I18+M18-O18)))))))))))","v":{"$error":"#VALUE!"}},{"$f":"IF(OR(X18=\"x\",A18<STAMMDATENBLATT!$B$32,A18>STAMMDATENBLATT!$D$32),\"0:00\",IF(AND(X18=\"GD\",S18<T18),S18,IF(AND(X18=\"GD\",S18>T18),T18,S18)))","v":{"$error":"#VALUE!"}},{"$f":"IF(OR(X18=\"x\",A18<STAMMDATENBLATT!$B$32,A18>STAMMDATENBLATT!$D$32),\"0:00\",IF(MOD(B18,2)=0,VLOOKUP(WEEKDAY(A18,2),STAMMDATENBLATT!H$28:J$34,3,FALSE),VLOOKUP(WEEKDAY(A18,2),STAMMDATENBLATT!H$38:J$44,3,FALSE)))","v":{"$error":"#VALUE!"}},{"$f":"IF(X18=\"GD\",Feiertage!$E$21,\"\")","v":""},{"$error":"#VALUE!"},null,null,{"$f":"_xlfn.IFNA(VLOOKUP(A18,Feiertage!A:D,3,FALSE),\"\")","v":""},{"$f":"_xlfn.IFNA(VLOOKUP(A18,Feiertage!A:D,4,FALSE),\"\")","v":""}]
["2024-03-14",11,null,null,"00:00:00",{"$f":"IF(E19<Dropdwon!$A$3,Dropdwon!$B$2,IF(AND(E19<Dropdwon!$A$4,E19>=Dropdwon!$A$3),Dropdwon!$B$3,Dropdwon!$B$4))","v":"00:00:00"},null,null,"00:00:00",{"$f":"IF(I19<Dropdwon!$A$3,Dropdwon!$B$2,IF(AND(I19<Dropdwon!$A$4,I19>=Dropdwon!$A$3),Dropdwon!$B$3,Dropdwon!$B$4))","v":"00:00:00"},null,null,"00:00:00",{"$f":"IF(M19<Dropdwon!$A$3,Dropdwon!$B$2,IF(AND(M19<Dropdwon!$A$4,M19>=Dropdwon!$A$3),Dropdwon!$B$3,Dropdwon!$B$4))","v":"00:00:00"},"00:00:00","",{"$f":"IF(AND(W19<>\"\",W19<>\"verpflichtende FoBi\",W19<>\"förderliche FoBi\"),R19,IF(AND(W19=\"verpflichtende FoBi\",SUM(E19+I19+M19-O19)<=Dropdwon!$A$5),SUM(E19+I19+M19-O19),IF(AND(W19=\"förderliche FoBi\",SUM(E19+I19+M19-O19)<=Dropdwon!$A$5,SUM(E19+I19+M19-O19)<=R19),SUM(E19+I19+M19-O19),IF(AND(W19=\"förderliche FoBi\",SUM(E19+I19+M19-O19)>R19),R19,IF(AND(X19=\"GD\",SUM(E19+I19+M19-O19)>T19),T19,IF(AND(X19=\"GD\",SUM(E19+I19+M19-O19)<R19),SUM(E19+I19+M19-O19),IF(AND(X19=\"GD\",E19=\"\"),S19,IF(AND(X19=\"GD\",I19=\"\"),S19,IF(AND(X19=\"GD\",M19=\"\"),S19,IF(SUM(E19+I19+M19-O19)>Dropdwon!$A$5,Dropdwon!$C$5,SUM(E19+I19+M19-O19)))))))))))","v":{"$error":"#VALUE!"}},{"$f":"IF(OR(X19=\"x\",A19<STAMMDATENBLATT!$B$32,A19>STAMMDATENBLATT!$D$32),\"0:00\",IF(AND(X19=\"GD\",S19<T19),S19,IF(AND(X19=\"GD\",S19>T19),T19,S19)))","v":{"$error":"#VALUE!"}},{"$f":"IF(OR(X19=\"x\",A19<STAMMDATENBLATT!$B$32,A19>STAMMDATENBLATT!$D$32),\"0:00\",IF(MOD(B19,2)=0,VLOOKUP(WEEKDAY(A19,2),STAMMDATENBLATT!H$28:J$34,3,FALSE),VLOOKUP(WEEKDAY(A19,2),STAMMDATENBLATT!H$38:J$44,3,FALSE)))","v":{"$error":"#VALUE!"}},{"$f":"IF(X19=\"GD\",Feiertage!$E$21,\"\")","v":""},{"$error":"#VALUE!"},null,null,{"$f":"_xlfn.IFNA(VLOOKUP(A19,Feiertage!A:D,3,FALSE),\"\")","v":""},{"$f":"_xlfn.IFNA(VLOOKUP(A19,Feiertage!A:D,4,FALSE),\"\")","v":""}]
["2024-03-15",11,null,null,"00:00:00",{"$f":"IF(E20<Dropdwon!$A$3,Dropdwon!$B$2,IF(AND(E20<Dropdwon!$A$4,E20>=Dropdwon!$A$3),Dropdwon!$B$3,Dropdwon!$B$4))","v":"00:00:00"},null,null,"00:00:00",{"$f":"IF(I20<Dropdwon!$A$3,Dropdwon!$B$2,IF(AND(I20<Dropdwon!$A$4,I20>=Dropdwon!$A$3),Dropdwon!$B$3,Dropdwon!$B$4))","v":"00:00:00"},null,null,"00:00:00",{"$f":"IF(M20<Dropdwon!$A$3,Dropdwon!$B$2,IF(AND(M20<Dropdwon!$A$4,M20>=Dropdwon!$A$3),Dropdwon!$B$3,Dropdwon!$B$4))","v":"00:00:00"},"00:00:00","",{"$f":"IF(AND(W20<>\"\",W20<>\"verpflichtende FoBi\",W20<>\"förderliche FoBi\"),R20,IF(AND(W20=\"verpflichtende FoBi\",SUM(E20+I20+M20-O20)<=Dropdwon!$A$5),SUM(E20+I20+M20-O20),IF(AND(W20=\"förderliche FoBi\",SUM(E20+I20+M20-O20)<=Dropdwon!$A$5,SUM(E20+I20+M20-O20)<=R20),SUM(E20+I20+M20-O20),IF(AND(W20=\"förderliche FoBi\",SUM(E20+I20+M20-O20)>R20),R20,IF(AND(X20=\"GD\",SUM(E20+I20+M20-O20)>T20),T20,IF(AND(X20=\"GD\",SUM(E20+I20+M20-O20)<R20),SUM(E20+I20+M20-O20),IF(AND(X20=\"GD\",E20=\"\"),S20,IF(AND(X20=\"GD\",I20=\"\"),S20,IF(AND(X20=\"GD\",M20=\"\"),S20,IF(SUM(E20+I20+M20-O20)>Dropdwon!$A$5,Dropdwon!$C$5,SUM(E20+I20+M20-O20)))))))))))","v":{"$error":"#VALUE!"}},{"$f":"IF(OR(X20=\"x\",A20<STAMMDATENBLATT!$B$32,A20>STAMMDATENBLATT!$D$32),\"0:00\",IF(AND(X20=\"GD\",S20<T20),S20,IF(AND(X20=\"GD\",S20>T20),T20,S20)))","v":{"$error":"#VALUE!"}},{"$f":"IF(OR(X20=\"x\",A20<STAMMDATENBLATT!$B$32,A20>STAMMDATENBLATT!$D$32),\"0:00\",IF(MOD(B20,2)=0,VLOOKUP(WEEKDAY(A20,2),STAMMDATENBLATT!H$28:J$34,3,FALSE),VLOOKUP(WEEKDAY(A20,2),STAMMDATENBLATT!H$38:J$44,3,FALSE)))","v":{"$error":"#VALUE!"}},{"$f":"IF(X20=\"GD\",Feiertage!$E$21,\"\")","v":""},{"$error":"#VALUE!"},null,null,{"$f":"_xlfn.IFNA(VLOOKUP(A20,Feiertage!A:D,3,FALSE),\"\")","v":""},{"$f":"_xlfn.IFNA(VLOOKUP(A20,Feiertage!A:D,4,FALSE),\"\")","v":""}]
["2024-03-16",11,null,null,"00:00:00",{"$f":"IF(E21<Dropdwon!$A$3,Dropdwon!$B$2,IF(AND(E21<Dropdwon!$A$4,E21>=Dropdwon!$A$3),Dropdwon!$B$3,Dropdwon!$B$4))","v":"00:00:00"},null,null,"00:00:00",{"$f":"IF(I21<Dropdwon!$A$3,Dropdwon!$B$2,IF(AND(I21<Dropdwon!$A$4,I21>=Dropdwon!$A$3),Dropdwon!$B$3,Dropdwon!$B$4))","v":"00:00:00"},null,null,"00:00:00",{"$f":"IF(M21<Dropdwon!$A$3,Dropdwon!$B$2,IF(AND(M21<Dropdwon!$A$4,M21>=Dropdwon!$A$3),Dropdwon!$B$3,Dropdwon!$B$4))","v":"00:00:00"},"00:00:00","",{"$f":"IF(AND(W21<>\"\",W21<>\"verpflichtende FoBi\",W21<>\"förderliche FoBi\"),R21,IF(AND(W21=\"verpflichtende FoBi\",SUM(E21+I21+M21-O21)<=Dropdwon!$A$5),SUM(E21+I21+M21-O21),IF(AND(W21=\"förderliche FoBi\",SUM(E21+I21+M21-O21)<=Dropdwon!$A$5,SUM(E21+I21+M21-O21)<=R21),SUM(E21+I21+M21-O21),IF(AND(W21=\"förderliche FoBi\",SUM(E21+I21+M21-O21)>R21),R21,IF(AND(X21=\"GD\",SUM(E21+I21+M21-O21)>T21),T21,IF(AND(X21=\"GD\",SUM(E21+I21+M21-O21)<R21),SUM(E21+I21+M21-O21),IF(AND(X21=\"GD\",E21=\"\"),S21,IF(AND(X21=\"GD\",I21=\"\"),S21,IF(AND(X21=\"GD\",M21=\"\"),S21,IF(SUM(E21+I21+M21-O21)>Dropdwon!$A$5,Dropdwon!$C$5,SUM(E21+I21+M21-O21)))))))))))","v":"00:00:00"},{"$f":"IF(OR(X21=\"x\",A21<STAMMDATENBLATT!$B$32,A21>STAMMDATENBLATT!$D$32),\"0:00\",IF(AND(X21=\"GD\",S21<T21),S21,IF(AND(X21=\"GD\",S21>T21),T21,S21)))","v":"00:00:00"},{"$f":"IF(OR(X21=\"x\",A21<STAMMDATENBLATT!$B$32,A21>STAMMDATENBLATT!$D$32),\"0:00\",IF(MOD(B21,2)=0,VLOOKUP(WEEKDAY(A21,2),STAMMDATENBLATT!H$28:J$34,3,FALSE),VLOOKUP(WEEKDAY(A21,2),STAMMDATENBLATT!H$38:J$44,3,FALSE)))","v":"00:00:00"},{"$f":"IF(X21=\"GD\",Feiertage!$E$21,\"\")","v":""},"00:00:00",null,null,{"$f":"_xlfn.IFNA(VLOOKUP(A21,Feiertage!A:D,3,FALSE),\"\")","v":""},{"$f":"_xlfn.IFNA(VLOOKUP(A21,Feiertage!A:D,4,FALSE),\"\")","v":""}]
["2024-03-17",11,null,null,"00:00:00",{"$f":"IF(E22<Dropdwon!$A$3,Dropdwon!$B$2,IF(AND(E22<Dropdwon!$A$4,E22>=Dropdwon!$A$3),Dropdwon!$B$3,Dropdwon!$B$4))","v":"00:00:00"},null,null,"00:00:00",{"$f":"IF(I22<Dropdwon!$A$3,Dropdwon!$B$2,IF(AND(I22<Dropdwon!$A$4,I22>=Dropdwon!$A$3),Dropdwon!$B$3,Dropdwon!$B$4))","v":"00:00:00"},null,null,"00:00:00",{"$f":"IF(M22<Dropdwon!$A$3,Dropdwon!$B$2,IF(AND(M22<Dropdwon!$A$4,M22>=Dropdwon!$A$3),Dropdwon!$B$3,Dropdwon!$B$4))","v":"00:00:00"},"00:00:00","",{"$f":"IF(AND(W22<>\"\",W22<>\"verpflichtende FoBi\",W22<>\"förderliche FoBi\"),R22,IF(AND(W22=\"verpflichtende FoBi\",SUM(E22+I22+M22-O22)<=Dropdwon!$A$5),SUM(E22+I22+M22-O22),IF(AND(W22=\"förderliche FoBi\",SUM(E22+I22+M22-O22)<=Dropdwon!$A$5,SUM(E22+I22+M22-O22)<=R22),SUM(E22+I22+M22-O22),IF(AND(W22=\"förderliche FoBi\",SUM(E22+I22+M22-O22)>R22),R22,IF(AND(X22=\"GD\",SUM(E22+I22+M22-O22)>T22),T22,IF(AND(X22=\"GD\",SUM(E22+I22+M22-O22)<R22),SUM(E22+I22+M22-O22),IF(AND(X22=\"GD\",E22=\"\"),S22,IF(AND(X22=\"GD\",I22=\"\"),S22,IF(AND(X22=\"GD\",M22=\"\"),S22,IF(SUM(E22+I22+M22-O22)>Dropdwon!$A$5,Dropdwon!$C$5,SUM(E22+I22+M22-O22)))))))))))","v":"00:00:00"},{"$f":"IF(OR(X22=\"x\",A22<STAMMDATENBLATT!$B$32,A22>STAMMDATENBLATT!$D$32),\"0:00\",IF(AND(X22=\"GD\",S22<T22),S22,IF(AND(X22=\"GD\",S22>T22),T22,S22)))","v":"00:00:00"},{"$f":"IF(OR(X22=\"x\",A22<STAMMDATENBLATT!$B$32,A22>STAMMDATENBLATT!$D$32),\"0:00\",IF(MOD(B22,2)=0,VLOOKUP(WEEKDAY(A22,2),STAMMDATENBLATT!H$28:J$34,3,FALSE),VLOOKUP(WEEKDAY(A22,2),STAMMDATENBLATT!H$38:J$44,3,FALSE)))","v":"00:00:00"},{"$f":"IF(X22=\"GD\",Feiertage!$E$21,\"\")","v":""},"00:00:00",null,null,{"$f":"_xlfn.IFNA(VLOOKUP(A22,Feiertage!A:D,3,FALSE),\"\")","v":""},{"$f":"_xlfn.IFNA(VLOOKUP(A22,Feiertage!A:D,4,FALSE),\"\")","v":""}]
["2024-03-18",12,null,null,"00:00:00",{"$f":"IF(E23<Dropdwon!$A$3,Dropdwon!$B$2,IF(AND(E23<Dropdwon!$A$4,E23>=Dropdwon!$A$3),Dropdwon!$B$3,Dropdwon!$B$4))","v":"00:00:00"},null,null,"00:00:00",{"$f":"IF(I23<Dropdwon!$A$3,Dropdwon!$B$2,IF(AND(I23<Dropdwon!$A$4,I23>=Dropdwon!$A$3),Dropdwon!$B$3,Dropdwon!$B$4))","v":"00:00:00"},null,null,"00:00:00",{"$f":"IF(M23<Dropdwon!$A$3,Dropdwon!$B$2,IF(AND(M23<Dropdwon!$A$4,M23>=Dropdwon!$A$3),Dropdwon!$B$3,Dropdwon!$B$4))","v":"00:00:00"},"00:00:00","",{"$f":"IF(AND(W23<>\"\",W23<>\"verpflichtende FoBi\",W23<>\"förderliche FoBi\"),R23,IF(AND(W23=\"verpflichtende FoBi\",SUM(E23+I23+M23-O23)<=Dropdwon!$A$5),SUM(E23+I23+M23-O23),IF(AND(W23=\"förderliche FoBi\",SUM(E23+I23+M23-O23)<=Dropdwon!$A$5,SUM(E23+I23+M23-O23)<=R23),SUM(E23+I23+M23-O23),IF(AND(W23=\"förderliche FoBi\",SUM(E23+I23+M23-O23)>R23),R23,IF(AND(X23=\"GD\",SUM(E23+I23+M23-O23)>T23),T23,IF(AND(X23=\"GD\",SUM(E23+I23+M23-O23)<R23),SUM(E23+I23+M23-O23),IF(AND(X23=\"GD\",E23=\"\"),S23,IF(AND(X23=\"GD\",I23=\"\"),S23,IF(AND(X23=\"GD\",M23=\"\"),S23,IF(SUM(E23+I23+M23-O23)>Dropdwon!$A$5,Dropdwon!$C$5,SUM(E23+I23+M23-O23)))))))))))","v":{"$error":"#VALUE!"}},{"$f":"IF(OR(X23=\"x\",A23<STAMMDATENBLATT!$B$32,A23>STAMMDATENBLATT!$D$32),\"0:00\",IF(AND(X23=\"GD\",S23<T23),S23,IF(AND(X23=\"GD\",S23>T23),T23,S23)))","v":{"$error":"#VALUE!"}},{"$f":"IF(OR(X23=\"x\",A23<STAMMDATENBLATT!$B$32,A23>STAMMDATENBLATT!$D$32),\"0:00\",IF(MOD(B23,2)=0,VLOOKUP(WEEKDAY(A23,2),STAMMDATENBLATT!H$28:J$34,3,FALSE),VLOOKUP(WEEKDAY(A23,2),STAMMDATENBLATT!H$38:J$44,3,FALSE)))","v":{"$error":"#VALUE!"}},{"$f":"IF(X23=\"GD\",Feiertage!$E$21,\"\")","v":""},{"$error":"#VALUE!"},null,null,{"$f":"_xlfn.IFNA(VLOOKUP(A23,Feiertage!A:D,3,FALSE),\"\")","v":""},{"$f":"_xlfn.IFNA(VLOOKUP(A23,Feiertage!A:D,4,FALSE),\"\")","v":""}]
["2024-03-19",12,null,null,"00:00:00",{"$f":"IF(E24<Dropdwon!$A$3,Dropdwon!$B$2,IF(AND(E24<Dropdwon!$A$4,E24>=Dropdwon!$A$3),Dropdwon!$B$3,Dropdwon!$B$4))","v":"00:00:00"},null,null,"00:00:00",{"$f":"IF(I24<Dropdwon!$A$3,Dropdwon!$B$2,IF(AND(I24<Dropdwon!$A$4,I24>=Dropdwon!$A$3),Dropdwon!$B$3,Dropdwon!$B$4))","v":"00:00:00"},null,null,"00:00:00",{"$f":"IF(M24<Dropdwon!$A$3,Dropdwon!$B$2,IF(AND(M24<Dropdwon!$A$4,M24>=Dropdwon!$A$3),Dropdwon!$B$3,Dropdwon!$B$4))","v":"00:00:00"},"00:00:00","",{"$f":"IF(AND(W24<>\"\",W24<>\"verpflichtende FoBi\",W24<>\"förderliche FoBi\"),R24,IF(AND(W24=\"verpflichtende FoBi\",SUM(E24+I24+M24-O24)<=Dropdwon!$A$5),SUM(E24+I24+M24-O24),IF(AND(W24=\"förderliche FoBi\",SUM(E24+I24+M24-O24)<=Dropdwon!$A$5,SUM(E24+I24+M24-O24)<=R24),SUM(E24+I24+M24-O24),IF(AND(W24=\"förderliche FoBi\",SUM(E24+I24+M24-O24)>R24),R24,IF(AND(X24=\"GD\",SUM(E24+I24+M24-O24)>T24),T24,IF(AND(X24=\"GD\",SUM(E24+I24+M24-O24)<R24),SUM(E24+I24+M24-O24),IF(AND(X24=\"GD\",E24=\"\"),S24,IF(AND(X24=\"GD\",I24=\"\"),S24,IF(AND(X24=\"GD\",M24=\"\"),S24,IF(SUM(E24+I24+M24-O24)>Dropdwon!$A$5,Dropdwon!$C$5,SUM(E24+I24+M24-O24)))))))))))","v":{"$error":"#VALUE!"}},{"$f":"IF(OR(X24=\"x\",A24<STAMMDATENBLATT!$B$32,A24>STAMMDATENBLATT!$D$32),\"0:00\",IF(AND(X24=\"GD\",S24<T24),S24,IF(AND(X24=\"GD\",S24>T24),T24,S24)))","v":{"$error":"#VALUE!"}},{"$f":"IF(OR(X24=\"x\",A24<STAMMDATENBLATT!$B$32,A24>STAMMDATENBLATT!$D$32),\"0:00\",IF(MOD(B24,2)=0,VLOOKUP(WEEKDAY(A24,2),STAMMDATENBLATT!H$28:J$34,3,FALSE),VLOOKUP(WEEKDAY(A24,2),STAMMDATENBLATT!H$38:J$44,3,FALSE)))","v":{"$error":"#VALUE!"}},{"$f":"IF(X24=\"GD\",Feiertage!$E$21,\"\")","v":""},{"$error":"#VALUE!"},null,null,{"$f":"_xlfn.IFNA(VLOOKUP(A24,Feiertage!A:D,3,FALSE),\"\")","v":""},{"$f":"_xlfn.IFNA(VLOOKUP(A24,Feiertage!A:D,4,FALSE),\"\")","v":""}]
["2024-03-20",12,null,null,"00:00:00",{"$f":"IF(E25<Dropdwon!$A$3,Dropdwon!$B$2,IF(AND(E25<Dropdwon!$A$4,E25>=Dropdwon!$A$3),Dropdwon!$B$3,Dropdwon!$B$4))","v":"00:00:00"},null,null,"00:00:00",{"$f":"IF(I25<Dropdwon!$A$3,Dropdwon!$B$2,IF(AND(I25<Dropdwon!$A$4,I25>=Dropdwon!$A$3),Dropdwon!$B$3,Dropdwon!$B$4))","v":"00:00:00"},null,null,"00:00:00",{"$f":"IF(M25<Dropdwon!$A$3,Dropdwon!$B$2,IF(AND(M25<Dropdwon!$A$4,M25>=Dropdwon!$A$3),Dropdwon!$B$3,Dropdwon!$B$4))","v":"00:00:00"},"00:00:00","",{"$f":"IF(AND(W25<>\"\",W25<>\"verpflichtende FoBi\",W25<>\"förderliche FoBi\"),R25,IF(AND(W25=\"verpflichtende FoBi\",SUM(E25+I25+M25-O25)<=Dropdwon!$A$5),SUM(E25+I25+M25-O25),IF(AND(W25=\"förderliche FoBi\",SUM(E25+I25+M25-O25)<=Dropdwon!$A$5,SUM(E25+I25+M25-O25)<=R25),SUM(E25+I25+M25-O25),IF(AND(W25=\"förderliche FoBi\",SUM(E25+I25+M25-O25)>R25),R25,IF(AND(X25=\"GD\",SUM(E25+I25+M25-O25)>T25),T25,IF(AND(X25=\"GD\",SUM(E25+I25+M25-O25)<R25),SUM(E25+I25+M25-O25),IF(AND(X25=\"GD\",E25=\"\"),S25,IF(AND(X25=\"GD\",I25=\"\"),S25,IF(AND(X25=\"GD\",M25=\"\"),S25,IF(SUM(E25+I25+M25-O25)>Dropdwon!$A$5,Dropdwon!$C$5,SUM(E25+I25+M25-O25)))))))))))","v":{"$error":"#VALUE!"}},{"$f":"IF(OR(X25=\"x\",A25<STAMMDATENBLATT!$B$32,A25>STAMMDATENBLATT!$D$32),\"0:00\",IF(AND(X25=\"GD\",S25<T25),S25,IF(AND(X25=\"GD\",S25>T25),T25,S25)))","v":{"$error":"#VALUE!"}},{"$f":"IF(OR(X25=\"x\",A25<STAMMDATENBLATT!$B$32,A25>STAMMDATENBLATT!$D$32),\"0:00\",IF(MOD(B25,2)=0,VLOOKUP(WEEKDAY(A25,2),STAMMDATENBLATT!H$28:J$34,3,FALSE),VLOOKUP(WEEKDAY(A25,2),STAMMDATENBLATT!H$38:J$44,3,FALSE)))","v":{"$error":"#VALUE!"}},{"$f":"IF(X25=\"GD\",Feiertage!$E$21,\"\")","v":""},{"$error":"#VALUE!"},null,null,{"$f":"_xlfn.IFNA(VLOOKUP(A25,Feiertage!A:D,3,FALSE),\"\")","v":""},{"$f":"_xlfn.IFNA(VLOOKUP(A25,Feiertage!A:D,4,FALSE),\"\")","v":""}]
["2024-03-21",12,null,null,"00:00:00",{"$f":"IF(E26<Dropdwon!$A$3,Dropdwon!$B$2,IF(AND(E26<Dropdwon!$A$4,E26>=Dropdwon!$A$3),Dropdwon!$B$3,Dropdwon!$B$4))","v":"00:00:00"},null,null,"00:00:00",{"$f":"IF(I26<Dropdwon!$A$3,Dropdwon!$B$2,IF(AND(I26<Dropdwon!$A$4,I26>=Dropdwon!$A$3),Dropdwon!$B$3,Dropdwon!$B$4))","v":"00:00:00"},null,null,"00:00:00",{"$f":"IF(M26<Dropdwon!$A$3,Dropdwon!$B$2,IF(AND(M26<Dropdwon!$A$4,M26>=Dropdwon!$A$3),Dropdwon!$B$3,Dropdwon!$B$4))","v":"00:00:00"},"00:00:00","",{"$f":"IF(AND(W26<>\"\",W26<>\"verpflichtende FoBi\",W26<>\"förderliche FoBi\"),R26,IF(AND(W26=\"verpflichtende FoBi\",SUM(E26+I26+M26-O26)<=Dropdwon!$A$5),SUM(E26+I26+M26-O26),IF(AND(W26=\"förderliche FoBi\",SUM(E26+I26+M26-O26)<=Dropdwon!$A$5,SUM(E26+I26+M26-O26)<=R26),SUM(E26+I26+M26-O26),IF(AND(W26=\"förderliche FoBi\",SUM(E26+I26+M26-O26)>R26),R26,IF(AND(X26=\"GD\",SUM(E26+I26+M26-O26)>T26),T26,IF(AND(X26=\"GD\",SUM(E26+I26+M26-O26)<R26),SUM(E26+I26+M26-O26),IF(AND(X26=\"GD\",E26=\"\"),S26,IF(AND(X26=\"GD\",I26=\"\"),S26,IF(AND(X26=\"GD\",M26=\"\"),S26,IF(SUM(E26+I26+M26-O26)>Dropdwon!$A$5,Dropdwon!$C$5,SUM(E26+I26+M26-O26)))))))))))","v":{"$error":"#VALUE!"}},{"$f":"IF(OR(X26=\"x\",A26<STAMMDATENBLATT!$B$32,A26>STAMMDATENBLATT!$D$32),\"0:00\",IF(AND(X26=\"GD\",S26<T26),S26,IF(AND(X26=\"GD\",S26>T26),T26,S26)))","v":{"$error":"#VALUE!"}},{"$f":"IF(OR(X26=\"x\",A26<STAMMDATENBLATT!$B$32,A26>STAMMDATENBLATT!$D$32),\"0:00\",IF(MOD(B26,2)=0,VLOOKUP(WEEKDAY(A26,2),STAMMDATENBLATT!H$28:J$34,3,FALSE),VLOOKUP(WEEKDAY(A26,2),STAMMDATENBLATT!H$38:J$44,3,FALSE)))","v":{"$error":"#VALUE!"}},{"$f":"IF(X26=\"GD\",Feiertage!$E$21,\"\")","v":""},{"$error":"#VALUE!"},null,null,{"$f":"_xlfn.IFNA(VLOOKUP(A26,Feiertage!A:D,3,FALSE),\"\")","v":""},{"$f":"_xlfn.IFNA(VLOOKUP(A26,Feiertage!A:D,4,FALSE),\"\")","v":""}]
["2024-03-22",12,null,null,"00:00:00",{"$f":"IF(E27<Dropdwon!$A$3,Dropdwon!$B$2,IF(AND(E27<Dropdwon!$A$4,E27>=Dropdwon!$A$3),Dropdwon!$B$3,Dropdwon!$B$4))","v":"00:00:00"},null,null,"00:00:00",{"$f":"IF(I27<Dropdwon!$A$3,Dropdwon!$B$2,IF(AND(I27<Dropdwon!$A$4,I27>=Dropdwon!$A$3),Dropdwon!$B$3,Dropdwon!$B$4))","v":"00:00:00"},null,null,"00:00:00",{"$f":"IF(M27<Dropdwon!$A$3,Dropdwon!$B$2,IF(AND(M27<Dropdwon!$A$4,M27>=Dropdwon!$A$3),Dropdwon!$B$3,Dropdwon!$B$4))","v":"00:00:00"},"00:00:00","",{"$f":"IF(AND(W27<>\"\",W27<>\"verpflichtende FoBi\",W27<>\"förderliche FoBi\"),R27,IF(AND(W27=\"verpflichtende FoBi\",SUM(E27+I27+M27-O27)<=Dropdwon!$A$5),SUM(E27+I27+M27-O27),IF(AND(W27=\"förderliche FoBi\",SUM(E27+I27+M27-O27)<=Dropdwon!$A$5,SUM(E27+I27+M27-O27)<=R27),SUM(E27+I27+M27-O27),IF(AND(W27=\"förderliche FoBi\",SUM(E27+I27+M27-O27)>R27),R27,IF(AND(X27=\"GD\",SUM(E27+I27+M27-O27)>T27),T27,IF(AND(X27=\"GD\",SUM(E27+I27+M27-O27)<R27),SUM(E27+I27+M27-O27),IF(AND(X27=\"GD\",E27=\"\"),S27,IF(AND(X27=\"GD\",I27=\"\"),S27,IF(AND(X27=\"GD\",M27=\"\"),S27,IF(SUM(E27+I27+M27-O27)>Dropdwon!$A$5,Dropdwon!$C$5,SUM(E27+I27+M27-O27)))))))))))","v":{"$error":"#VALUE!"}},{"$f":"IF(OR(X27=\"x\",A27<STAMMDATENBLATT!$B$32,A27>STAMMDATENBLATT!$D$32),\"0:00\",IF(AND(X27=\"GD\",S27<T27),S27,IF(AND(X27=\"GD\",S27>T27),T27,S27)))","v":{"$error":"#VALUE!"}},{"$f":"IF(OR(X27=\"x\",A27<STAMMDATENBLATT!$B$32,A27>STAMMDATENBLATT!$D$32),\"0:00\",IF(MOD(B27,2)=0,VLOOKUP(WEEKDAY(A27,2),STAMMDATENBLATT!H$28:J$34,3,FALSE),VLOOKUP(WEEKDAY(A27,2),STAMMDATENBLATT!H$38:J$44,3,FALSE)))","v":{"$error":"#VALUE!"}},{"$f":"IF(X27=\"GD\",Feiertage!$E$21,\"\")","v":""},{"$error":"#VALUE!"},null,null,{"$f":"_xlfn.IFNA(VLOOKUP(A27,Feiertage!A:D,3,FALSE),\"\")","v":""},{"$f":"_xlfn.IFNA(VLOOKUP(A27,Feiertage!A:D,4,FALSE),\"\")","v":""}]
["2024-03-23",12,null,null,"00:00:00",{"$f":"IF(E28<Dropdwon!$A$3,Dropdwon!$B$2,IF(AND(E28<Dropdwon!$A$4,E28>=Dropdwon!$A$3),Dropdwon!$B$3,Dropdwon!$B$4))","v":"00:00:00"},null,null,"00:00:00",{"$f":"IF(I28<Dropdwon!$A$3,Dropdwon!$B$2,IF(AND(I28<Dropdwon!$A$4,I28>=Dropdwon!$A$3),Dropdwon!$B$3,Dropdwon!$B$4))","v":"00:00:00"},null,null,"00:00:00",{"$f":"IF(M28<Dropdwon!$A$3,Dropdwon!$B$2,IF(AND(M28<Dropdwon!$A$4,M28>=Dropdwon!$A$3),Dropdwon!$B$3,Dropdwon!$B$4))","v":"00:00:00"},"00:00:00","",{"$f":"IF(AND(W28<>\"\",W28<>\"verpflichtende FoBi\",W28<>\"förderliche FoBi\"),R28,IF(AND(W28=\"verpflichtende FoBi\",SUM(E28+I28+M28-O28)<=Dropdwon!$A$5),SUM(E28+I28+M28-O28),IF(AND(W28=\"förderliche FoBi\",SUM(E28+I28+M28-O28)<=Dropdwon!$A$5,SUM(E28+I28+M28-O28)<=R28),SUM(E28+I28+M28-O28),IF(AND(W28=\"förderliche FoBi\",SUM(E28+I28+M28-O28)>R28),R28,IF(AND(X28=\"GD\",SUM(E28+I28+M28-O28)>T28),T28,IF(AND(X28=\"GD\",SUM(E28+I28+M28-O28)<R28),SUM(E28+I28+M28-O28),IF(AND(X28=\"GD\",E28=\"\"),S28,IF(AND(X28=\"GD\",I28=\"\"),S28,IF(AND(X28=\"GD\",M28=\"\"),S28,IF(SUM(E28+I28+M28-O28)>Dropdwon!$A$5,Dropdwon!$C$5,SUM(E28+I28+M28-O28)))))))))))","v":"00:00:00"},{"$f":"IF(OR(X28=\"x\",A28<STAMMDATENBLATT!$B$32,A28>STAMMDATENBLATT!$D$32),\"0:00\",IF(AND(X28=\"GD\",S28<T28),S28,IF(AND(X28=\"GD\",S28>T28),T28,S28)))","v":"00:00:00"},{"$f":"IF(OR(X28=\"x\",A28<STAMMDATENBLATT!$B$32,A28>STAMMDATENBLATT!$D$32),\"0:00\",IF(MOD(B28,2)=0,VLOOKUP(WEEKDAY(A28,2),STAMMDATENBLATT!H$28:J$34,3,FALSE),VLOOKUP(WEEKDAY(A28,2),STAMMDATENBLATT!H$38:J$44,3,FALSE)))","v":"00:00:00"},{"$f":"IF(X28=\"GD\",Feiertage!$E$21,\"\")","v":""},"00:00:00",null,null,{"$f":"_xlfn.IFNA(VLOOKUP(A28,Feiertage!A:D,3,FALSE),\"\")","v":""},{"$f":"_xlfn.IFNA(VLOOKUP(A28,Feiertage!A:D,4,FALSE),\"\")","v":""}]
["2024-03-24",12,null,null,"00:00:00",{"$f":"IF(E29<Dropdwon!$A$3,Dropdwon!$B$2,IF(AND(E29<Dropdwon!$A$4,E29>=Dropdwon!$A$3),Dropdwon!$B$3,Dropdwon!$B$4))","v":"00:00:00"},null,null,"00:00:00",{"$f":"IF(I29<Dropdwon!$A$3,Dropdwon!$B$2,IF(AND(I29<Dropdwon!$A$4,I29>=Dropdwon!$A$3),Dropdwon!$B$3,Dropdwon!$B$4))","v":"00:00:00"},null,null,"00:00:00",{"$f":"IF(M29<Dropdwon!$A$3,Dropdwon!$B$2,IF(AND(M29<Dropdwon!$A$4,M29>=Dropdwon!$A$3),Dropdwon!$B$3,Dropdwon!$B$4))","v":"00:00:00"},"00:00:00","",{"$f":"IF(AND(W29<>\"\",W29<>\"verpflichtende FoBi\",W29<>\"förderliche FoBi\"),R29,IF(AND(W29=\"verpflichtende FoBi\",SUM(E29+I29+M29-O29)<=Dropdwon!$A$5),SUM(E29+I29+M29-O29),IF(AND(W29=\"förderliche FoBi\",SUM(E29+I29+M29-O29)<=Dropdwon!$A$5,SUM(E29+I29+M29-O29)<=R29),SUM(E29+I29+M29-O29),IF(AND(W29=\"förderliche FoBi\",SUM(E29+I29+M29-O29)>R29),R29,IF(AND(X29=\"GD\",SUM(E29+I29+M29-O29)>T29),T29,IF(AND(X29=\"GD\",SUM(E29+I29+M29-O29)<R29),SUM(E29+I29+M29-O29),IF(AND(X29=\"GD\",E29=\"\"),S29,IF(AND(X29=\"GD\",I29=\"\"),S29,IF(AND(X29=\"GD\",M29=\"\"),S29,IF(SUM(E29+I29+M29-O29)>Dropdwon!$A$5,Dropdwon!$C$5,SUM(E29+I29+M29-O29)))))))))))","v":"00:00:00"},{"$f":"IF(OR(X29=\"x\",A29<STAMMDATENBLATT!$B$32,A29>STAMMDATENBLATT!$D$32),\"0:00\",IF(AND(X29=\"GD\",S29<T29),S29,IF(AND(X29=\"GD\",S29>T29),T29,S29)))","v":"00:00:00"},{"$f":"IF(OR(X29=\"x\",A29<STAMMDATENBLATT!$B$32,A29>STAMMDATENBLATT!$D$32),\"0:00\",IF(MOD(B29,2)=0,VLOOKUP(WEEKDAY(A29,2),STAMMDATENBLATT!H$28:J$34,3,FALSE),VLOOKUP(WEEKDAY(A29,2),STAMMDATENBLATT!H$38:J$44,3,FALSE)))","v":"00:00:00"},{"$f":"IF(X29=\"GD\",Feiertage!$E$21,\"\")","v":""},"00:00:00",null,null,{"$f":"_xlfn.IFNA(VLOOKUP(A29,Feiertage!A:D,3,FALSE),\"\")","v":""},{"$f":"_xlfn.IFNA(VLOOKUP(A29,Feiertage!A:D,4,FALSE),\"\")","v":""}]
["2024-03-25",13,null,null,"00:00:00",{"$f":"IF(E30<Dropdwon!$A$3,Dropdwon!$B$2,IF(AND(E30<Dropdwon!$A$4,E30>=Dropdwon!$A$3),Dropdwon!$B$3,Dropdwon!$B$4))","v":"00:00:00"},null,null,"00:00:00",{"$f":"IF(I30<Dropdwon!$A$3,Dropdwon!$B$2,IF(AND(I30<Dropdwon!$A$4,I30>=Dropdwon!$A$3),Dropdwon!$B$3,Dropdwon!$B$4))","v":"00:00:00"},null,null,"00:00:00",{"$f":"IF(M30<Dropdwon!$A$3,Dropdwon!$B$2,IF(AND(M30<Dropdwon!$A$4,M30>=Dropdwon!$A$3),Dropdwon!$B$3,Dropdwon!$B$4))","v":"00:00:00"},"00:00:00","",{"$f":"IF(AND(W30<>\"\",W30<>\"verpflichtende FoBi\",W30<>\"förderliche FoBi\"),R30,IF(AND(W30=\"verpflichtende FoBi\",SUM(E30+I30+M30-O30)<=Dropdwon!$A$5),SUM(E30+I30+M30-O30),IF(AND(W30=\"förderliche FoBi\",SUM(E30+I30+M30-O30)<=Dropdwon!$A$5,SUM(E30+I30+M30-O30)<=R30),SUM(E30+I30+M30-O30),IF(AND(W30=\"förderliche FoBi\",SUM(E30+I30+M30-O30)>R30),R30,IF(AND(X30=\"GD\",SUM(E30+I30+M30-O30)>T30),T30,IF(AND(X30=\"GD\",SUM(E30+I30+M30-O30)<R30),SUM(E30+I30+M30-O30),IF(AND(X30=\"GD\",E30=\"\"),S30,IF(AND(X30=\"GD\",I30=\"\"),S30,IF(AND(X30=\"GD\",M30=\"\"),S30,IF(SUM(E30+I30+M30-O30)>Dropdwon!$A$5,Dropdwon!$C$5,SUM(E30+I30+M30-O30)))))))))))","v":{"$error":"#VALUE!"}},{"$f":"IF(OR(X30=\"x\",A30<STAMMDATENBLATT!$B$32,A30>STAMMDATENBLATT!$D$32),\"0:00\",IF(AND(X30=\"GD\",S30<T30),S30,IF(AND(X30=\"GD\",S30>T30),T30,S30)))","v":{"$error":"#VALUE!"}},{"$f":"IF(OR(X30=\"x\",A30<STAMMDATENBLATT!$B$32,A30>STAMMDATENBLATT!$D$32),\"0:00\",IF(MOD(B30,2)=0,VLOOKUP(WEEKDAY(A30,2),STAMMDATENBLATT!H$28:J$34,3,FALSE),VLOOKUP(WEEKDAY(A30,2),STAMMDATENBLATT!H$38:J$44,3,FALSE)))","v":{"$error":"#VALUE!"}},{"$f":"IF(X30=\"GD\",Feiertage!$E$21,\"\")","v":""},{"$error":"#VALUE!"},null,null,{"$f":"_xlfn.IFNA(VLOOKUP(A30,Feiertage!A:D,3,FALSE),\"\")","v":""},{"$f":"_xlfn.IFNA(VLOOKUP(A30,Feiertage!A:D,4,FALSE),\"\")","v":""}]
["2024-03-26",13,null,null,"00:00:00",{"$f":"IF(E31<Dropdwon!$A$3,Dropdwon!$B$2,IF(AND(E31<Dropdwon!$A$4,E31>=Dropdwon!$A$3),Dropdwon!$B$3,Dropdwon!$B$4))","v":"00:00:00"},null,null,"00:00:00",{"$f":"IF(I31<Dropdwon!$A$3,Dropdwon!$B$2,IF(AND(I31<Dropdwon!$A$4,I31>=Dropdwon!$A$3),Dropdwon!$B$3,Dropdwon!$B$4))","v":"00:00:00"},null,null,"00:00:00",{"$f":"IF(M31<Dropdwon!$A$3,Dropdwon!$B$2,IF(AND(M31<Dropdwon!$A$4,M31>=Dropdwon!$A$3),Dropdwon!$B$3,Dropdwon!$B$4))","v":"00:00:00"},"00:00:00","",{"$f":"IF(AND(W31<>\"\",W31<>\"verpflichtende FoBi\",W31<>\"förderliche FoBi\"),R31,IF(AND(W31=\"verpflichtende FoBi\",SUM(E31+I31+M31-O31)<=Dropdwon!$A$5),SUM(E31+I31+M31-O31),IF(AND(W31=\"förderliche FoBi\",SUM(E31+I31+M31-O31)<=Dropdwon!$A$5,SUM(E31+I31+M31-O31)<=R31),SUM(E31+I31+M31-O31),IF(AND(W31=\"förderliche FoBi\",SUM(E31+I31+M31-O31)>R31),R31,IF(AND(X31=\"GD\",SUM(E31+I31+M31-O31)>T31),T31,IF(AND(X31=\"GD\",SUM(E31+I31+M31-O31)<R31),SUM(E31+I31+M31-O31),IF(AND(X31=\"GD\",E31=\"\"),S31,IF(AND(X31=\"GD\",I31=\"\"),S31,IF(AND(X31=\"GD\",M31=\"\"),S31,IF(SUM(E31+I31+M31-O31)>Dropdwon!$A$5,Dropdwon!$C$5,SUM(E31+I31+M31-O31)))))))))))","v":{"$error":"#VALUE!"}},{"$f":"IF(OR(X31=\"x\",A31<STAMMDATENBLATT!$B$32,A31>STAMMDATENBLATT!$D$32),\"0:00\",IF(AND(X31=\"GD\",S31<T31),S31,IF(AND(X31=\"GD\",S31>T31),T31,S31)))","v":{"$error":"#VALUE!"}},{"$f":"IF(OR(X31=\"x\",A31<STAMMDATENBLATT!$B$32,A31>STAMMDATENBLATT!$D$32),\"0:00\",IF(MOD(B31,2)=0,VLOOKUP(WEEKDAY(A31,2),STAMMDATENBLATT!H$28:J$34,3,FALSE),VLOOKUP(WEEKDAY(A31,2),STAMMDATENBLATT!H$38:J$44,3,FALSE)))","v":{"$error":"#VALUE!"}},{"$f":"IF(X31=\"GD\",Feiertage!$E$21,\"\")","v":""},{"$error":"#VALUE!"},null,null,{"$f":"_xlfn.IFNA(VLOOKUP(A31,Feiertage!A:D,3,FALSE),\"\")","v":""},{"$f":"_xlfn.IFNA(VLOOKUP(A31,Feiertage!A:D,4,FALSE),\"\")","v":""}]
["2024-03-27",13,null,null,"00:00:00",{"$f":"IF(E32<Dropdwon!$A$3,Dropdwon!$B$2,IF(AND(E32<Dropdwon!$A$4,E32>=Dropdwon!$A$3),Dropdwon!$B$3,Dropdwon!$B$4))","v":"00:00:00"},null,null,"00:00:00",{"$f":"IF(I32<Dropdwon!$A$3,Dropdwon!$B$2,IF(AND(I32<Dropdwon!$A$4,I32>=Dropdwon!$A$3),Dropdwon!$B$3,Dropdwon!$B$4))","v":"00:00:00"},null,null,"00:00:00",{"$f":"IF(M32<Dropdwon!$A$3,Dropdwon!$B$2,IF(AND(M32<Dropdwon!$A$4,M32>=Dropdwon!$A$3),Dropdwon!$B$3,Dropdwon!$B$4))","v":"00:00:00"},"00:00:00","",{"$f":"IF(AND(W32<>\"\",W32<>\"verpflichtende FoBi\",W32<>\"förderliche FoBi\"),R32,IF(AND(W32=\"verpflichtende FoBi\",SUM(E32+I32+M32-O32)<=Dropdwon!$A$5),SUM(E32+I32+M32-O32),IF(AND(W32=\"förderliche FoBi\",SUM(E32+I32+M32-O32)<=Dropdwon!$A$5,SUM(E32+I32+M32-O32)<=R32),SUM(E32+I32+M32-O32),IF(AND(W32=\"förderliche FoBi\",SUM(E32+I32+M32-O32)>R32),R32,IF(AND(X32=\"GD\",SUM(E32+I32+M32-O32)>T32),T32,IF(AND(X32=\"GD\",SUM(E32+I32+M32-O32)<R32),SUM(E32+I32+M32-O32),IF(AND(X32=\"GD\",E32=\"\"),S32,IF(AND(X32=\"GD\",I32=\"\"),S32,IF(AND(X32=\"GD\",M32=\"\"),S32,IF(SUM(E32+I32+M32-O32)>Dropdwon!$A$5,Dropdwon!$C$5,SUM(E32+I32+M32-O32)))))))))))","v":{"$error":"#VALUE!"}},{"$f":"IF(OR(X32=\"x\",A32<STAMMDATENBLATT!$B$32,A32>STAMMDATENBLATT!$D$32),\"0:00\",IF(AND(X32=\"GD\",S32<T32),S32,IF(AND(X32=\"GD\",S32>T32),T32,S32)))","v":{"$error":"#VALUE!"}},{"$f":"IF(OR(X32=\"x\",A32<STAMMDATENBLATT!$B$32,A32>STAMMDATENBLATT!$D$32),\"0:00\",IF(MOD(B32,2)=0,VLOOKUP(WEEKDAY(A32,2),STAMMDATENBLATT!H$28:J$34,3,FALSE),VLOOKUP(WEEKDAY(A32,2),STAMMDATENBLATT!H$38:J$44,3,FALSE)))","v":{"$error":"#VALUE!"}},{"$f":"IF(X32=\"GD\",Feiertage!$E$21,\"\")","v":""},{"$error":"#VALUE!"},null,null,{"$f":"_xlfn.IFNA(VLOOKUP(A32,Feiertage!A:D,3,FALSE),\"\")","v":""},{"$f":"_xlfn.IFNA(VLOOKUP(A32,Feiertage!A:D,4,FALSE),\"\")","v":""}]
["2024-03-28",13,null,null,"00:00:00",{"$f":"IF(E33<Dropdwon!$A$3,Dropdwon!$B$2,IF(AND(E33<Dropdwon!$A$4,E33>=Dropdwon!$A$3),Dropdwon!$B$3,Dropdwon!$B$4))","v":"00:00:00"},null,null,"00:00:00",{"$f":"IF(I33<Dropdwon!$A$3,Dropdwon!$B$2,IF(AND(I33<Dropdwon!$A$4,I33>=Dropdwon!$A$3),Dropdwon!$B$3,Dropdwon!$B$4))","v":"00:00:00"},null,null,"00:00:00",{"$f":"IF(M33<Dropdwon!$A$3,Dropdwon!$B$2,IF(AND(M33<Dropdwon!$A$4,M33>=Dropdwon!$A$3),Dropdwon!$B$3,Dropdwon!$B$4))","v":"00:00:00"},"00:00:00","00:00:00",{"$f":"IF(AND(W33<>\"\",W33<>\"verpflichtende FoBi\",W33<>\"förderliche FoBi\"),R33,IF(AND(W33=\"verpflichtende FoBi\",SUM(E33+I33+M33-O33)<=Dropdwon!$A$5),SUM(E33+I33+M33-O33),IF(AND(W33=\"förderliche FoBi\",SUM(E33+I33+M33-O33)<=Dropdwon!$A$5,SUM(E33+I33+M33-O33)<=R33),SUM(E33+I33+M33-O33),IF(AND(W33=\"förderliche FoBi\",SUM(E33+I33+M33-O33)>R33),R33,IF(AND(X33=\"GD\",SUM(E33+I33+M33-O33)>T33),T33,IF(AND(X33=\"GD\",SUM(E33+I33+M33-O33)<R33),SUM(E33+I33+M33-O33),IF(AND(X33=\"GD\",E33=\"\"),S33,IF(AND(X33=\"GD\",I33=\"\"),S33,IF(AND(X33=\"GD\",M33=\"\"),S33,IF(SUM(E33+I33+M33-O33)>Dropdwon!$A$5,Dropdwon!$C$5,SUM(E33+I33+M33-O33)))))))))))","v":{"$error":"#VALUE!"}},{"$f":"IF(OR(X33=\"x\",A33<STAMMDATENBLATT!$B$32,A33>STAMMDATENBLATT!$D$32),\"0:00\",IF(AND(X33=\"GD\",S33<T33),S33,IF(AND(X33=\"GD\",S33>T33),T33,S33)))","v":{"$error":"#VALUE!"}},{"$f":"IF(OR(X33=\"x\",A33<STAMMDATENBLATT!$B$32,A33>STAMMDATENBLATT!$D$32),\"0:00\",IF(MOD(B33,2)=0,VLOOKUP(WEEKDAY(A33,2),STAMMDATENBLATT!H$28:J$34,3,FALSE),VLOOKUP(WEEKDAY(A33,2),STAMMDATENBLATT!H$38:J$44,3,FALSE)))","v":{"$error":"#VALUE!"}},{"$f":"IF(X33=\"GD\",Feiertage!$E$21,\"\")","v":"04:30:00"},{"$error":"#VALUE!"},null,null,{"$f":"_xlfn.IFNA(VLOOKUP(A33,Feiertage!A:D,3,FALSE),\"\")","v":"GD"},{"$f":"_xlfn.IFNA(VLOOKUP(A33,Feiertage!A:D,4,FALSE),\"\")","v":"Gründonnerstag"}]
["2024-03-29",13,null,null,"00:00:00",{"$f":"IF(E34<Dropdwon!$A$3,Dropdwon!$B$2,IF(AND(E34<Dropdwon!$A$4,E34>=Dropdwon!$A$3),Dropdwon!$B$3,Dropdwon!$B$4))","v":"00:00:00"},null,null,"00:00:00",{"$f":"IF(I34<Dropdwon!$A$3,Dropdwon!$B$2,IF(AND(I34<Dropdwon!$A$4,I34>=Dropdwon!$A$3),Dropdwon!$B$3,Dropdwon!$B$4))","v":"00:00:00"},null,null,"00:00:00",{"$f":"IF(M34<Dropdwon!$A$3,Dropdwon!$B$2,IF(AND(M34<Dropdwon!$A$4,M34>=Dropdwon!$A$3),Dropdwon!$B$3,Dropdwon!$B$4))","v":"00:00:00"},"00:00:00","",{"$f":"IF(AND(W34<>\"\",W34<>\"verpflichtende FoBi\",W34<>\"förderliche FoBi\"),R34,IF(AND(W34=\"verpflichtende FoBi\",SUM(E34+I34+M34-O34)<=Dropdwon!$A$5),SUM(E34+I34+M34-O34),IF(AND(W34=\"förderliche FoBi\",SUM(E34+I34+M34-O34)<=Dropdwon!$A$5,SUM(E34+I34+M34-O34)<=R34),SUM(E34+I34+M34-O34),IF(AND(W34=\"förderliche FoBi\",SUM(E34+I34+M34-O34)>R34),R34,IF(AND(X34=\"GD\",SUM(E34+I34+M34-O34)>T34),T34,IF(AND(X34=\"GD\",SUM(E34+I34+M34-O34)<R34),SUM(E34+I34+M34-O34),IF(AND(X34=\"GD\",E34=\"\"),S34,IF(AND(X34=\"GD\",I34=\"\"),S34,IF(AND(X34=\"GD\",M34=\"\"),S34,IF(SUM(E34+I34+M34-O34)>Dropdwon!$A$5,Dropdwon!$C$5,SUM(E34+I34+M34-O34)))))))))))","v":"00:00:00"},{"$f":"IF(OR(X34=\"x\",A34<STAMMDATENBLATT!$B$32,A34>STAMMDATENBLATT!$D$32),\"0:00\",IF(AND(X34=\"GD\",S34<T34),S34,IF(AND(X34=\"GD\",S34>T34),T34,S34)))","v":"0:00"},{"$f":"IF(OR(X34=\"x\",A34<STAMMDATENBLATT!$B$32,A34>STAMMDATENBLATT!$D$32),\"0:00\",IF(MOD(B34,2)=0,VLOOKUP(WEEKDAY(A34,2),STAMMDATENBLATT!H$28:J$34,3,FALSE),VLOOKUP(WEEKDAY(A34,2),STAMMDATENBLATT!H$38:J$44,3,FALSE)))","v":"0:00"},{"$f":"IF(X34=\"GD\",Feiertage!$E$21,\"\")","v":""},"00:00:00",null,null,{"$f":"_xlfn.IFNA(VLOOKUP(A34,Feiertage!A:D,3,FALSE),\"\")","v":"x"},{"$f":"_xlfn.IFNA(VLOOKUP(A34,Feiertage!A:D,4,FALSE),\"\")","v":"Karfreitag"}]
["2024-03-30",13,null,null,"00:00:00",{"$f":"IF(E35<Dropdwon!$A$3,Dropdwon!$B$2,IF(AND(E35<Dropdwon!$A$4,E35>=Dropdwon!$A$3),Dropdwon!$B$3,Dropdwon!$B$4))","v":"00:00:00"},null,null,"00:00:00",{"$f":"IF(I35<Dropdwon!$A$3,Dropdwon!$B$2,IF(AND(I35<Dropdwon!$A$4,I35>=Dropdwon!$A$3),Dropdwon!$B$3,Dropdwon!$B$4))","v":"00:00:00"},null,null,"00:00:00",{"$f":"IF(M35<Dropdwon!$A$3,Dropdwon!$B$2,IF(AND(M35<Dropdwon!$A$4,M35>=Dropdwon!$A$3),Dropdwon!$B$3,Dropdwon!$B$4))","v":"00:00:00"},"00:00:00","",{"$f":"IF(AND(W35<>\"\",W35<>\"verpflichtende FoBi\",W35<>\"förderliche FoBi\"),R35,IF(AND(W35=\"verpflichtende FoBi\",SUM(E35+I35+M35-O35)<=Dropdwon!$A$5),SUM(E35+I35+M35-O35),IF(AND(W35=\"förderliche FoBi\",SUM(E35+I35+M35-O35)<=Dropdwon!$A$5,SUM(E35+I35+M35-O35)<=R35),SUM(E35+I35+M35-O35),IF(AND(W35=\"förderliche FoBi\",SUM(E35+I35+M35-O35)>R35),R35,IF(AND(X35=\"GD\",SUM(E35+I35+M35-O35)>T35),T35,IF(AND(X35=\"GD\",SUM(E35+I35+M35-O35)<R35),SUM(E35+I35+M35-O35),IF(AND(X35=\"GD\",E35=\"\"),S35,IF(AND(X35=\"GD\",I35=\"\"),S35,IF(AND(X35=\"GD\",M35=\"\"),S35,IF(SUM(E35+I35+M35-O35)>Dropdwon!$A$5,Dropdwon!$C$5,SUM(E35+I35+M35-O35)))))))))))","v":"00:00:00"},{"$f":"IF(OR(X35=\"x\",A35<STAMMDATENBLATT!$B$32,A35>STAMMDATENBLATT!$D$32),\"0:00\",IF(AND(X35=\"GD\",S35<T35),S35,IF(AND(X35=\"GD\",S35>T35),T35,S35)))","v":"00:00:00"},{"$f":"IF(OR(X35=\"x\",A35<STAMMDATENBLATT!$B$32,A35>STAMMDATENBLATT!$D$32),\"0:00\",IF(MOD(B35,2)=0,VLOOKUP(WEEKDAY(A35,2),STAMMDATENBLATT!H$28:J$34,3,FALSE),VLOOKUP(WEEKDAY(A35,2),STAMMDATENBLATT!H$38:J$44,3,FALSE)))","v":"00:00:00"},{"$f":"IF(X35=\"GD\",Feiertage!$E$21,\"\")","v":""},"00:00:00",null,null,{"$f":"_xlfn.IFNA(VLOOKUP(A35,Feiertage!A:D,3,FALSE),\"\")","v":""},{"$f":"_xlfn.IFNA(VLOOKUP(A35,Feiertage!A:D,4,FALSE),\"\")","v":""}]
["2024-03-31",13,null,null,"00:00:00",{"$f":"IF(E36<Dropdwon!$A$3,Dropdwon!$B$2,IF(AND(E36<Dropdwon!$A$4,E36>=Dropdwon!$A$3),Dropdwon!$B$3,Dropdwon!$B$4))","v":"00:00:00"},null,null,"00:00:00",{"$f":"IF(I36<Dropdwon!$A$3,Dropdwon!$B$2,IF(AND(I36<Dropdwon!$A$4,I36>=Dropdwon!$A$3),Dropdwon!$B$3,Dropdwon!$B$4))","v":"00:00:00"},null,null,"00:00:00",{"$f":"IF(M36<Dropdwon!$A$3,Dropdwon!$B$2,IF(AND(M36<Dropdwon!$A$4,M36>=Dropdwon!$A$3),Dropdwon!$B$3,Dropdwon!$B$4))","v":"00:00:00"},"00:00:00","",{"$f":"IF(AND(W36<>\"\",W36<>\"verpflichtende FoBi\",W36<>\"förderliche FoBi\"),R36,IF(AND(W36=\"verpflichtende FoBi\",SUM(E36+I36+M36-O36)<=Dropdwon!$A$5),SUM(E36+I36+M36-O36),IF(AND(W36=\"förderliche FoBi\",SUM(E36+I36+M36-O36)<=Dropdwon!$A$5,SUM(E36+I36+M36-O36)<=R36),SUM(E36+I36+M36-O36),IF(AND(W36=\"förderliche FoBi\",SUM(E36+I36+M36-O36)>R36),R36,IF(AND(X36=\"GD\",SUM(E36+I36+M36-O36)>T36),T36,IF(AND(X36=\"GD\",SUM(E36+I36+M36-O36)<R36),SUM(E36+I36+M36-O36),IF(AND(X36=\"GD\",E36=\"\"),S36,IF(AND(X36=\"GD\",I36=\"\"),S36,IF(AND(X36=\"GD\",M36=\"\"),S36,IF(SUM(E36+I36+M36-O36)>Dropdwon!$A$5,Dropdwon!$C$5,SUM(E36+I36+M36-O36)))))))))))","v":"00:00:00"},{"$f":"IF(OR(X36=\"x\",A36<STAMMDATENBLATT!$B$32,A36>STAMMDATENBLATT!$D$32),\"0:00\",IF(AND(X36=\"GD\",S36<T36),S36,IF(AND(X36=\"GD\",S36>T36),T36,S36)))","v":"0:00"},{"$f":"IF(OR(X36=\"x\",A36<STAMMDATENBLATT!$B$32,A36>STAMMDATENBLATT!$D$32),\"0:00\",IF(MOD(B36,2)=0,VLOOKUP(WEEKDAY(A36,2),STAMMDATENBLATT!H$28:J$34,3,FALSE),VLOOKUP(WEEKDAY(A36,2),STAMMDATENBLATT!H$38:J$44,3,FALSE)))","v":"0:00"},{"$f":"IF(X36=\"GD\",Feiertage!$E$21,\"\")","v":""},{"$f":"SUM(Q36-R36)","v":"00:00:00"},null,null,{"$f":"_xlfn.IFNA(VLOOKUP(A36,Feiertage!A:D,3,FALSE),\"\")","v":"x"},{"$f":"_xlfn.IFNA(VLOOKUP(A36,Feiertage!A:D,4,FALSE),\"\")","v":"Ostersonntag"}]
[]
["Abschluss Std.konto:",null,{"$f":"SUM(U$1+SUM(U$6:U$36)-U$38)","v":{"$error":"#VALUE!"}},{"$nulls":3},"Auszahlung Mehrarbeit in Std./Minuten:",{"$nulls":13},{"$f":"SUMIF($V$6:$V$36,\"ja\",$U$6:$U$36)","v":0}]
["Abschluss Std. in Dezimal:",null,{"$f":"C38*24","v":{"$error":"#VALUE!"}},{"$nulls":4},"Auszahlung Mehrarbeit in Dezimal:",{"$nulls":12},{"$f":"U38*24","v":{"v":0,"d":"0.00"}}]
[{"$nulls":20},"zur Auszahlung angewiesen:"]
[]
[]
[]
["Ort, Datum / Unterschrift Mitarbeiter/in",{"$nulls":5},"Ort, Datum / Unterschrift Vorgesetzte/r",{"$nulls":13},"Ort, Datum / Unterschrift KGF",{"$nulls":4},{"$f":"STAMMDATENBLATT!$A$22","v":"Version: 01.2024.5"}]

{"sheet":"April","index":5,"n_rows":44,"n_cols":26,"rows_kept":44,"merged":[[0,2,0,7],[1,0,1,7],[2,0,2,7],[37,0,37,1],[37,6,37,16],[38,0,38,1],[38,7,38,16],[40,0,42,2],[40,6,42,13],[40,20,42,22]]}
[{"$f":"DATEVALUE(\"01.04.\"&STAMMDATENBLATT!$D$27)","v":"2024-04-01"},null,{"$f":"STAMMDATENBLATT!B27","v":"Vorname Nachname"},{"$nulls":7},{"$f":"STAMMDATENBLATT!$B$30","v":{"v":0,"d":"0.00%"}},{"$f":"IF(STAMMDATENBLATT!$B$29=\"\",\"\",STAMMDATENBLATT!$B$29)","v":""},{"$nulls":8},{"$f":"IF(STAMMDATENBLATT!E6<=STAMMDATENBLATT!$D$35,STAMMDATENBLATT!E6,STAMMDATENBLATT!$D$35)","v":{"$error":"#VALUE!"}}]
[{"$f":"STAMMDATENBLATT!B26","v":0}]
[{"$f":"STAMMDATENBLATT!A26","v":{"$error":"#N/A"}}]
[]
[null,"KW","Beginn 1","Ende 1","IST AZ 1","IST MP 1","Beginn 2","Ende 2","IST AZ 2","IST MP 2","Beginn 3","Ende 3","IST AZ 3","IST MP 3","MP gesamt","HS GD Ende","IST AZ","SOLL AZ","HS AZ SOLL","HS GD SOLL","Differenz","Auszahlung","Abwesenheit","Feiertag","Feiertag","Notiz"]
[{"$f":"A1","v":"2024-04-01"},{"$f":"WEEKNUM(A6,21)","v":14},null,null,{"$f":"IF(AND(WEEKDAY($A6,2)=6,HOUR(C6)>=13),SUM((D6-C6)*1.2),IF(WEEKDAY($A6,2)=7,SUM((D6-C6)*1.25),IF(AND($X6=\"x\",$Y6<>\"Gründonnerstag\"),SUM((D6-C6)*1.25),IF(AND($X6=\"GD\",C6<>\"\"),SUM($P6-C6),D6-C6))))","v":"00:00:00"},{"$f":"IF(E6<Dropdwon!$A$3,Dropdwon!$B$2,IF(AND(E6<Dropdwon!$A$4,E6>=Dropdwon!$A$3),Dropdwon!$B$3,Dropdwon!$B$4))","v":"00:00:00"},null,null,{"$f":"IF(AND(WEEKDAY($A6,2)=6,HOUR(G6)>=13),SUM((H6-G6)*1.2),IF(WEEKDAY($A6,2)=7,SUM((H6-G6)*1.25),IF(AND($X6=\"x\",$Y6<>\"Gründonnerstag\"),SUM((H6-G6)*1.25),IF(AND($X6=\"GD\",G6<>\"\"),SUM($P6-G6),H6-G6))))","v":"00:00:00"},{"$f":"IF(I6<Dropdwon!$A$3,Dropdwon!$B$2,IF(AND(I6<Dropdwon!$A$4,I6>=Dropdwon!$A$3),Dropdwon!$B$3,Dropdwon!$B$4))","v":"00:00:00"},null,null,{"$f":"IF(AND(WEEKDAY($A6,2)=6,HOUR(K6)>=13),SUM((L6-K6)*1.2),IF(WEEKDAY($A6,2)=7,SUM((L6-K6)*1.25),IF(AND($X6=\"x\",$Y6<>\"Gründonnerstag\"),SUM((L6-K6)*1.25),IF(AND($X6=\"GD\",K6<>\"\"),SUM($P6-K6),L6-K6))))","v":"00:00:00"},{"$f":"IF(M6<Dropdwon!$A$3,Dropdwon!$B$2,IF(AND(M6<Dropdwon!$A$4,M6>=Dropdwon!$A$3),Dropdwon!$B$3,Dropdwon!$B$4))","v":"00:00:00"},{"$f":"F6+J6+N6","v":"00:00:00"},{"$f":"IF(X6=\"GD\",MIN(MAX(D6,H6,L6),0.5),\"\")","v":""},{"$f":"IF(AND(W6<>\"\",W6<>\"verpflichtende FoBi\",W6<>\"förderliche FoBi\"),R6,IF(AND(W6=\"verpflichtende FoBi\",SUM(E6+I6+M6-O6)<=Dropdwon!$A$5),SUM(E6+I6+M6-O6),IF(AND(W6=\"förderliche FoBi\",SUM(E6+I6+M6-O6)<=Dropdwon!$A$5,SUM(E6+I6+M6-O6)<=R6),SUM(E6+I6+M6-O6),IF(AND(W6=\"förderliche FoBi\",SUM(E6+I6+M6-O6)>R6),R6,IF(AND(X6=\"GD\",SUM(E6+I6+M6-O6)>T6),T6,IF(AND(X6=\"GD\",SUM(E6+I6+M6-O6)<R6),SUM(E6+I6+M6-O6),IF(AND(X6=\"GD\",E6=\"\"),S6,IF(AND(X6=\"GD\",I6=\"\"),S6,IF(AND(X6=\"GD\",M6=\"\"),S6,IF(SUM(E6+I6+M6-O6)>Dropdwon!$A$5,Dropdwon!$C$5,SUM(E6+I6+M6-O6)))))))))))","v":"00:00:00"},{"$f":"IF(OR(X6=\"x\",A6<STAMMDATENBLATT!$B$32,A6>STAMMDATENBLATT!$D$32),\"0:00\",IF(AND(X6=\"GD\",S6<T6),S6,IF(AND(X6=\"GD\",S6>T6),T6,S6)))","v":"0:00"},{"$f":"IF(OR(X6=\"x\",A6<STAMMDATENBLATT!$B$32,A6>STAMMDATENBLATT!$D$32),\"0:00\",IF(MOD(B6,2)=0,VLOOKUP(WEEKDAY(A6,2),STAMMDATENBLATT!H$28:J$34,3,FALSE),VLOOKUP(WEEKDAY(A6,2),STAMMDATENBLATT!H$38:J$44,3,FALSE)))","v":"0:00"},{"$f":"IF(X6=\"GD\",Feiertage!$E$21,\"\")","v":""},{"$f":"SUM(Q6-R6)","v":"00:00:00"},null,null,{"$f":"_xlfn.IFNA(VLOOKUP(A6,Feiertage!A:D,3,FALSE),\"\")","v":"x"},{"$f":"_xlfn.IFNA(VLOOKUP(A6,Feiertage!A:D,4,FALSE),\"\")","v":"Ostermontag"}]
[{"$f":"A6+1","v":"2024-04-02"},{"$f":"WEEKNUM(A7,21)","v":14},null,null,{"$f":"IF(AND(WEEKDAY($A7,2)=6,HOUR(C7)>=13),SUM((D7-C7)*1.2),IF(WEEKDAY($A7,2)=7,SUM((D7-C7)*1.25),IF(AND($X7=\"x\",$Y7<>\"Gründonnerstag\"),SUM((D7-C7)*1.25),IF(AND($X7=\"GD\",C7<>\"\"),SUM($P7-C7),D7-C7))))","v":"00:00:00"},{"$f":"IF(E7<Dropdwon!$A$3,Dropdwon!$B$2,IF(AND(E7<Dropdwon!$A$4,E7>=Dropdwon!$A$3),Dropdwon!$B$3,Dropdwon!$B$4))","v":"00:00:00"},null,null,{"$f":"IF(AND(WEEKDAY($A7,2)=6,HOUR(G7)>=13),SUM((H7-G7)*1.2),IF(WEEKDAY($A7,2)=7,SUM((H7-G7)*1.25),IF(AND($X7=\"x\",$Y7<>\"Gründonnerstag\"),SUM((H7-G7)*1.25),IF(AND($X7=\"GD\",G7<>\"\"),SUM($P7-G7),H7-G7))))","v":"00:00:00"},{"$f":"IF(I7<Dropdwon!$A$3,Dropdwon!$B$2,IF(AND(I7<Dropdwon!$A$4,I7>=Dropdwon!$A$3),Dropdwon!$B$3,Dropdwon!$B$4))","v":"00:00:00"},null,null,{"$f":"IF(AND(WEEKDAY($A7,2)=6,HOUR(K7)>=13),SUM((L7-K7)*1.2),IF(WEEKDAY($A7,2)=7,SUM((L7-K7)*1.25),IF(AND($X7=\"x\",$Y7<>\"Gründonnerstag\"),SUM((L7-K7)*1.25),IF(AND($X7=\"GD\",K7<>\"\"),SUM($P7-K7),L7-K7))))","v":"00:00:00"},{"$f":"IF(M7<Dropdwon!$A$3,Dropdwon!$B$2,IF(AND(M7<Dropdwon!$A$4,M7>=Dropdwon!$A$3),Dropdwon!$B$3,Dropdwon!$B$4))","v":"00:00:00"},{"$f":"F7+J7+N7","v":"00:00:00"},"",{"$f":"IF(AND(W7<>\"\",W7<>\"verpflichtende FoBi\",W7<>\"förderliche FoBi\"),R7,IF(AND(W7=\"verpflichtende FoBi\",SUM(E7+I7+M7-O7)<=Dropdwon!$A$5),SUM(E7+I7+M7-O7),IF(AND(W7=\"förderliche FoBi\",SUM(E7+I7+M7-O7)<=Dropdwon!$A$5,SUM(E7+I7+M7-O7)<=R7),SUM(E7+I7+M7-O7),IF(AND(W7=\"förderliche FoBi\",SUM(E7+I7+M7-O7)>R7),R7,IF(AND(X7=\"GD\",SUM(E7+I7+M7-O7)>T7),T7,IF(AND(X7=\"GD\",SUM(E7+I7+M7-O7)<R7),SUM(E7+I7+M7-O7),IF(AND(X7=\"GD\",E7=\"\"),S7,IF(AND(X7=\"GD\",I7=\"\"),S7,IF(AND(X7=\"GD\",M7=\"\"),S7,IF(SUM(E7+I7+M7-O7)>Dropdwon!$A$5,Dropdwon!$C$5,SUM(E7+I7+M7-O7)))))))))))","v":{"$error":"#VALUE!"}},{"$f":"IF(OR(X7=\"x\",A7<STAMMDATENBLATT!$B$32,A7>STAMMDATENBLATT!$D$32),\"0:00\",IF(AND(X7=\"GD\",S7<T7),S7,IF(AND(X7=\"GD\",S7>T7),T7,S7)))","v":{"$error":"#VALUE!"}},{"$f":"IF(OR(X7=\"x\",A7<STAMMDATENBLATT!$B$32,A7>STAMMDATENBLATT!$D$32),\"0:00\",IF(MOD(B7,2)=0,VLOOKUP(WEEKDAY(A7,2),STAMMDATENBLATT!H$28:J$34,3,FALSE),VLOOKUP(WEEKDAY(A7,2),STAMMDATENBLATT!H$38:J$44,3,FALSE)))","v":{"$error":"#VALUE!"}},{"$f":"IF(X7=\"GD\",Feiertage!$E$21,\"\")","v":""},{"$f":"SUM(Q7-R7)","v":{"$error":"#VALUE!"}},null,null,{"$f":"_xlfn.IFNA(VLOOKUP(A7,Feiertage!A:D,3,FALSE),\"\")","v":""},{"$f":"_xlfn.IFNA(VLOOKUP(A7,Feiertage!A:D,4,FALSE),\"\")","v":""}]
[{"$f":"A7+1","v":"2024-04-03"},14,null,null,"00:00:00",{"$f":"IF(E8<Dropdwon!$A$3,Dropdwon!$B$2,IF(AND(E8<Dropdwon!$A$4,E8>=Dropdwon!$A$3),Dropdwon!$B$3,Dropdwon!$B$4))","v":"00:00:00"},null,null,"00:00:00",{"$f":"IF(I8<Dropdwon!$A$3,Dropdwon!$B$2,IF(AND(I8<Dropdwon!$A$4,I8>=Dropdwon!$A$3),Dropdwon!$B$3,Dropdwon!$B$4))","v":"00:00:00"},null,null,"00:00:00",{"$f":"IF(M8<Dropdwon!$A$3,Dropdwon!$B$2,IF(AND(M8<Dropdwon!$A$4,M8>=Dropdwon!$A$3),Dropdwon!$B$3,Dropdwon!$B$4))","v":"00:00:00"},{"$f":"F8+J8+N8","v":"00:00:00"},"",{"$f":"IF(AND(W8<>\"\",W8<>\"verpflichtende FoBi\",W8<>\"förderliche FoBi\"),R8,IF(AND(W8=\"verpflichtende FoBi\",SUM(E8+I8+M8-O8)<=Dropdwon!$A$5),SUM(E8+I8+M8-O8),IF(AND(W8=\"förderliche FoBi\",SUM(E8+I8+M8-O8)<=Dropdwon!$A$5,SUM(E8+I8+M8-O8)<=R8),SUM(E8+I8+M8-O8),IF(AND(W8=\"förderliche FoBi\",SUM(E8+I8+M8-O8)>R8),R8,IF(AND(X8=\"GD\",SUM(E8+I8+M8-O8)>T8),T8,IF(AND(X8=\"GD\",SUM(E8+I8+M8-O8)<R8),SUM(E8+I8+M8-O8),IF(AND(X8=\"GD\",E8=\"\"),S8,IF(AND(X8=\"GD\",I8=\"\"),S8,IF(AND(X8=\"GD\",M8=\"\"),S8,IF(SUM(E8+I8+M8-O8)>Dropdwon!$A$5,Dropdwon!$C$5,SUM(E8+I8+M8-O8)))))))))))","v":{"$error":"#VALUE!"}},{"$f":"IF(OR(X8=\"x\",A8<STAMMDATENBLATT!$B$32,A8>STAMMDATENBLATT!$D$32),\"0:00\",IF(AND(X8=\"GD\",S8<T8),S8,IF(AND(X8=\"GD\",S8>T8),T8,S8)))","v":{"$error":"#VALUE!"}},{"$f":"IF(OR(X8=\"x\",A8<STAMMDATENBLATT!$B$32,A8>STAMMDATENBLATT!$D$32),\"0:00\",IF(MOD(B8,2)=0,VLOOKUP(WEEKDAY(A8,2),STAMMDATENBLATT!H$28:J$34,3,FALSE),VLOOKUP(WEEKDAY(A8,2),STAMMDATENBLATT!H$38:J$44,3,FALSE)))","v":{"$error":"#VALUE!"}},{"$f":"IF(X8=\"GD\",Feiertage!$E$21,\"\")","v":""},{"$error":"#VALUE!"},null,null,{"$f":"_xlfn.IFNA(VLOOKUP(A8,Feiertage!A:D,3,FALSE),\"\")","v":""},{"$f":"_xlfn.IFNA(VLOOKUP(A8,Feiertage!A:D,4,FALSE),\"\")","v":""}]
[{"$f":"A8+1","v":"2024-04-04"},14,null,null,"00:00:00",{"$f":"IF(E9<Dropdwon!$A$3,Dropdwon!$B$2,IF(AND(E9<Dropdwon!$A$4,E9>=Dropdwon!$A$3),Dropdwon!$B$3,Dropdwon!$B$4))","v":"00:00:00"},null,null,"00:00:00",{"$f":"IF(I9<Dropdwon!$A$3,Dropdwon!$B$2,IF(AND(I9<Dropdwon!$A$4,I9>=Dropdwon!$A$3),Dropdwon!$B$3,Dropdwon!$B$4))","v":"00:00:00"},null,null,"00:00:00",{"$f":"IF(M9<Dropdwon!$A$3,Dropdwon!$B$2,IF(AND(M9<Dropdwon!$A$4,M9>=Dropdwon!$A$3),Dropdwon!$B$3,Dropdwon!$B$4))","v":"00:00:00"},"00:00:00","",{"$f":"IF(AND(W9<>\"\",W9<>\"verpflichtende FoBi\",W9<>\"förderliche FoBi\"),R9,IF(AND(W9=\"verpflichtende FoBi\",SUM(E9+I9+M9-O9)<=Dropdwon!$A$5),SUM(E9+I9+M9-O9),IF(AND(W9=\"förderliche FoBi\",SUM(E9+I9+M9-O9)<=Dropdwon!$A$5,SUM(E9+I9+M9-O9)<=R9),SUM(E9+I9+M9-O9),IF(AND(W9=\"förderliche FoBi\",SUM(E9+I9+M9-O9)>R9),R9,IF(AND(X9=\"GD\",SUM(E9+I9+M9-O9)>T9),T9,IF(AND(X9=\"GD\",SUM(E9+I9+M9-O9)<R9),SUM(E9+I9+M9-O9),IF(AND(X9=\"GD\",E9=\"\"),S9,IF(AND(X9=\"GD\",I9=\"\"),S9,IF(AND(X9=\"GD\",M9=\"\"),S9,IF(SUM(E9+I9+M9-O9)>Dropdwon!$A$5,Dropdwon!$C$5,SUM(E9+I9+M9-O9)))))))))))","v":{"$error":"#VALUE!"}},{"$f":"IF(OR(X9=\"x\",A9<STAMMDATENBLATT!$B$32,A9>STAMMDATENBLATT!$D$32),\"0:00\",IF(AND(X9=\"GD\",S9<T9),S9,IF(AND(X9=\"GD\",S9>T9),T9,S9)))","v":{"$error":"#VALUE!"}},{"$f":"IF(OR(X9=\"x\",A9<STAMMDATENBLATT!$B$32,A9>STAMMDATENBLATT!$D$32),\"0:00\",IF(MOD(B9,2)=0,VLOOKUP(WEEKDAY(A9,2),STAMMDATENBLATT!H$28:J$34,3,FALSE),VLOOKUP(WEEKDAY(A9,2),STAMMDATENBLATT!H$38:J$44,3,FALSE)))","v":{"$error":"#VALUE!"}},{"$f":"IF(X9=\"GD\",Feiertage!$E$21,\"\")","v":""},{"$error":"#VALUE!"},null,null,{"$f":"_xlfn.IFNA(VLOOKUP(A9,Feiertage!A:D,3,FALSE),\"\")","v":""},{"$f":"_xlfn.IFNA(VLOOKUP(A9,Feiertage!A:D,4,FALSE),\"\")","v":""}]
["2024-04-05",14,null,null,"00:00:00",{"$f":"IF(E10<Dropdwon!$A$3,Dropdwon!$B$2,IF(AND(E10<Dropdwon!$A$4,E10>=Dropdwon!$A$3),Dropdwon!$B$3,Dropdwon!$B$4))","v":"00:00:00"},null,null,"00:00:00",{"$f":"IF(I10<Dropdwon!$A$3,Dropdwon!$B$2,IF(AND(I10<Dropdwon!$A$4,I10>=Dropdwon!$A$3),Dropdwon!$B$3,Dropdwon!$B$4))","v":"00:00:00"},null,null,"00:00:00",{"$f":"IF(M10<Dropdwon!$A$3,Dropdwon!$B$2,IF(AND(M10<Dropdwon!$A$4,M10>=Dropdwon!$A$3),Dropdwon!$B$3,Dropdwon!$B$4))","v":"00:00:00"},"00:00:00","",{"$f":"IF(AND(W10<>\"\",W10<>\"verpflichtende FoBi\",W10<>\"förderliche FoBi\"),R10,IF(AND(W10=\"verpflichtende FoBi\",SUM(E10+I10+M10-O10)<=Dropdwon!$A$5),SUM(E10+I10+M10-O10),IF(AND(W10=\"förderliche FoBi\",SUM(E10+I10+M10-O10)<=Dropdwon!$A$5,SUM(E10+I10+M10-O10)<=R10),SUM(E10+I10+M10-O10),IF(AND(W10=\"förderliche FoBi\",SUM(E10+I10+M10-O10)>R10),R10,IF(AND(X10=\"GD\",SUM(E10+I10+M10-O10)>T10),T10,IF(AND(X10=\"GD\",SUM(E10+I10+M10-O10)<R10),SUM(E10+I10+M10-O10),IF(AND(X10=\"GD\",E10=\"\"),S10,IF(AND(X10=\"GD\",I10=\"\"),S10,IF(AND(X10=\"GD\",M10=\"\"),S10,IF(SUM(E10+I10+M10-O10)>Dropdwon!$A$5,Dropdwon!$C$5,SUM(E10+I10+M10-O10)))))))))))","v":{"$error":"#VALUE!"}},{"$f":"IF(OR(X10=\"x\",A10<STAMMDATENBLATT!$B$32,A10>STAMMDATENBLATT!$D$32),\"0:00\",IF(AND(X10=\"GD\",S10<T10),S10,IF(AND(X10=\"GD\",S10>T10),T10,S10)))","v":{"$error":"#VALUE!"}},{"$f":"IF(OR(X10=\"x\",A10<STAMMDATENBLATT!$B$32,A10>STAMMDATENBLATT!$D$32),\"0:00\",IF(MOD(B10,2)=0,VLOOKUP(WEEKDAY(A10,2),STAMMDATENBLATT!H$28:J$34,3,FALSE),VLOOKUP(WEEKDAY(A10,2),STAMMDATENBLATT!H$38:J$44,3,FALSE)))","v":{"$error":"#VALUE!"}},{"$f":"IF(X10=\"GD\",Feiertage!$E$21,\"\")","v":""},{"$error":"#VALUE!"},null,null,{"$f":"_xlfn.IFNA(VLOOKUP(A10,Feiertage!A:D,3,FALSE),\"\")","v":""},{"$f":"_xlfn.IFNA(VLOOKUP(A10,Feiertage!A:D,4,FALSE),\"\")","v":""}]
["2024-04-06",14,null,null,{"$f":"IF(AND(WEEKDAY($A11,2)=6,HOUR(C11)>=13),SUM((D11-C11)*1.2),IF(WEEKDAY($A11,2)=7,SUM((D11-C11)*1.25),IF(AND($X11=\"x\",$Y11<>\"Gründonnerstag\"),SUM((D11-C11)*1.25),IF(AND($X11=\"GD\",C11<>\"\"),SUM($P11-C11),D11-C11))))","v":"00:00:00"},{"$f":"IF(E11<Dropdwon!$A$3,Dropdwon!$B$2,IF(AND(E11<Dropdwon!$A$4,E11>=Dropdwon!$A$3),Dropdwon!$B$3,Dropdwon!$B$4))","v":"00:00:00"},null,null,"00:00:00",{"$f":"IF(I11<Dropdwon!$A$3,Dropdwon!$B$2,IF(AND(I11<Dropdwon!$A$4,I11>=Dropdwon!$A$3),Dropdwon!$B$3,Dropdwon!$B$4))","v":"00:00:00"},null,null,"00:00:00",{"$f":"IF(M11<Dropdwon!$A$3,Dropdwon!$B$2,IF(AND(M11<Dropdwon!$A$4,M11>=Dropdwon!$A$3),Dropdwon!$B$3,Dropdwon!$B$4))","v":"00:00:00"},"00:00:00",{"$f":"IF(X11=\"GD\",MIN(MAX(D11,H11,L11),0.5),\"\")","v":""},{"$f":"IF(AND(W11<>\"\",W11<>\"verpflichtende FoBi\",W11<>\"förderliche FoBi\"),R11,IF(AND(W11=\"verpflichtende FoBi\",SUM(E11+I11+M11-O11)<=Dropdwon!$A$5),SUM(E11+I11+M11-O11),IF(AND(W11=\"förderliche FoBi\",SUM(E11+I11+M11-O11)<=Dropdwon!$A$5,SUM(E11+I11+M11-O11)<=R11),SUM(E11+I11+M11-O11),IF(AND(W11=\"förderliche FoBi\",SUM(E11+I11+M11-O11)>R11),R11,IF(AND(X11=\"GD\",SUM(E11+I11+M11-O11)>T11),T11,IF(AND(X11=\"GD\",SUM(E11+I11+M11-O11)<R11),SUM(E11+I11+M11-O11),IF(AND(X11=\"GD\",E11=\"\"),S11,IF(AND(X11=\"GD\",I11=\"\"),S11,IF(AND(X11=\"GD\",M11=\"\"),S11,IF(SUM(E11+I11+M11-O11)>Dropdwon!$A$5,Dropdwon!$C$5,SUM(E11+I11+M11-O11)))))))))))","v":"00:00:00"},{"$f":"IF(OR(X11=\"x\",A11<STAMMDATENBLATT!$B$32,A11>STAMMDATENBLATT!$D$32),\"0:00\",IF(AND(X11=\"GD\",S11<T11),S11,IF(AND(X11=\"GD\",S11>T11),T11,S11)))","v":"00:00:00"},{"$f":"IF(OR(X11=\"x\",A11<STAMMDATENBLATT!$B$32,A11>STAMMDATENBLATT!$D$32),\"0:00\",IF(MOD(B11,2)=0,VLOOKUP(WEEKDAY(A11,2),STAMMDATENBLATT!H$28:J$34,3,FALSE),VLOOKUP(WEEKDAY(A11,2),STAMMDATENBLATT!H$38:J$44,3,FALSE)))","v":"00:00:00"},{"$f":"IF(X11=\"GD\",Feiertage!$E$21,\"\")","v":""},"00:00:00",null,null,{"$f":"_xlfn.IFNA(VLOOKUP(A11,Feiertage!A:D,3,FALSE),\"\")","v":""},{"$f":"_xlfn.IFNA(VLOOKUP(A11,Feiertage!A:D,4,FALSE),\"\")","v":""}]
["2024-04-07",14,null,null,"00:00:00",{"$f":"IF(E12<Dropdwon!$A$3,Dropdwon!$B$2,IF(AND(E12<Dropdwon!$A$4,E12>=Dropdwon!$A$3),Dropdwon!$B$3,Dropdwon!$B$4))","v":"00:00:00"},null,null,"00:00:00",{"$f":"IF(I12<Dropdwon!$A$3,Dropdwon!$B$2,IF(AND(I12<Dropdwon!$A$4,I12>=Dropdwon!$A$3),Dropdwon!$B$3,Dropdwon!$B$4))","v":"00:00:00"},null,null,"00:00:00",{"$f":"IF(M12<Dropdwon!$A$3,Dropdwon!$B$2,IF(AND(M12<Dropdwon!$A$4,M12>=Dropdwon!$A$3),Dropdwon!$B$3,Dropdwon!$B$4))","v":"00:00:00"},"00:00:00","",{"$f":"IF(AND(W12<>\"\",W12<>\"verpflichtende FoBi\",W12<>\"förderliche FoBi\"),R12,IF(AND(W12=\"verpflichtende FoBi\",SUM(E12+I12+M12-O12)<=Dropdwon!$A$5),SUM(E12+I12+M12-O12),IF(AND(W12=\"förderliche FoBi\",SUM(E12+I12+M12-O12)<=Dropdwon!$A$5,SUM(E12+I12+M12-O12)<=R12),SUM(E12+I12+M12-O12),IF(AND(W12=\"förderliche FoBi\",SUM(E12+I12+M12-O12)>R12),R12,IF(AND(X12=\"GD\",SUM(E12+I12+M12-O12)>T12),T12,IF(AND(X12=\"GD\",SUM(E12+I12+M12-O12)<R12),SUM(E12+I12+M12-O12),IF(AND(X12=\"GD\",E12=\"\"),S12,IF(AND(X12=\"GD\",I12=\"\"),S12,IF(AND(X12=\"GD\",M12=\"\"),S12,IF(SUM(E12+I12+M12-O12)>Dropdwon!$A$5,Dropdwon!$C$5,SUM(E12+I12+M12-O12)))))))))))","v":"00:00:00"},{"$f":"IF(OR(X12=\"x\",A12<STAMMDATENBLATT!$B$32,A12>STAMMDATENBLATT!$D$32),\"0:00\",IF(AND(X12=\"GD\",S12<T12),S12,IF(AND(X12=\"GD\",S12>T12),T12,S12)))","v":"00:00:00"},{"$f":"IF(OR(X12=\"x\",A12<STAMMDATENBLATT!$B$32,A12>STAMMDATENBLATT!$D$32),\"0:00\",IF(MOD(B12,2)=0,VLOOKUP(WEEKDAY(A12,2),STAMMDATENBLATT!H$28:J$34,3,FALSE),VLOOKUP(WEEKDAY(A12,2),STAMMDATENBLATT!H$38:J$44,3,FALSE)))","v":"00:00:00"},{"$f":"IF(X12=\"GD\",Feiertage!$E$21,\"\")","v":""},"00:00:00",null,null,{"$f":"_xlfn.IFNA(VLOOKUP(A12,Feiertage!A:D,3,FALSE),\"\")","v":""},{"$f":"_xlfn.IFNA(VLOOKUP(A12,Feiertage!A:D,4,FALSE),\"\")","v":""}]
["2024-04-08",15,null,null,"00:00:00",{"$f":"IF(E13<Dropdwon!$A$3,Dropdwon!$B$2,IF(AND(E13<Dropdwon!$A$4,E13>=Dropdwon!$A$3),Dropdwon!$B$3,Dropdwon!$B$4))","v":"00:00:00"},null,null,"00:00:00",{"$f":"IF(I13<Dropdwon!$A$3,Dropdwon!$B$2,IF(AND(I13<Dropdwon!$A$4,I13>=Dropdwon!$A$3),Dropdwon!$B$3,Dropdwon!$B$4))","v":"00:00:00"},null,null,"00:00:00",{"$f":"IF(M13<Dropdwon!$A$3,Dropdwon!$B$2,IF(AND(M13<Dropdwon!$A$4,M13>=Dropdwon!$A$3),Dropdwon!$B$3,Dropdwon!$B$4))","v":"00:00:00"},"00:00:00","",{"$f":"IF(AND(W13<>\"\",W13<>\"verpflichtende FoBi\",W13<>\"förderliche FoBi\"),R13,IF(AND(W13=\"verpflichtende FoBi\",SUM(E13+I13+M13-O13)<=Dropdwon!$A$5),SUM(E13+I13+M13-O13),IF(AND(W13=\"förderliche FoBi\",SUM(E13+I13+M13-O13)<=Dropdwon!$A$5,SUM(E13+I13+M13-O13)<=R13),SUM(E13+I13+M13-O13),IF(AND(W13=\"förderliche FoBi\",SUM(E13+I13+M13-O13)>R13),R13,IF(AND(X13=\"GD\",SUM(E13+I13+M13-O13)>T13),T13,IF(AND(X13=\"GD\",SUM(E13+I13+M13-O13)<R13),SUM(E13+I13+M13-O13),IF(AND(X13=\"GD\",E13=\"\"),S13,IF(AND(X13=\"GD\",I13=\"\"),S13,IF(AND(X13=\"GD\",M13=\"\"),S13,IF(SUM(E13+I13+M13-O13)>Dropdwon!$A$5,Dropdwon!$C$5,SUM(E13+I13+M13-O13)))))))))))","v":{"$error":"#VALUE!"}},{"$f":"IF(OR(X13=\"x\",A13<STAMMDATENBLATT!$B$32,A13>STAMMDATENBLATT!$D$32),\"0:00\",IF(AND(X13=\"GD\",S13<T13),S13,IF(AND(X13=\"GD\",S13>T13),T13,S13)))","v":{"$error":"#VALUE!"}},{"$f":"IF(OR(X13=\"x\",A13<STAMMDATENBLATT!$B$32,A13>STAMMDATENBLATT!$D$32),\"0:00\",IF(MOD(B13,2)=0,VLOOKUP(WEEKDAY(A13,2),STAMMDATENBLATT!H$28:J$34,3,FALSE),VLOOKUP(WEEKDAY(A13,2),STAMMDATENBLATT!H$38:J$44,3,FALSE)))","v":{"$error":"#VALUE!"}},{"$f":"IF(X13=\"GD\",Feiertage!$E$21,\"\")","v":""},{"$error":"#VALUE!"},null,null,{"$f":"_xlfn.IFNA(VLOOKUP(A13,Feiertage!A:D,3,FALSE),\"\")","v":""},{"$f":"_xlfn.IFNA(VLOOKUP(A13,Feiertage!A:D,4,FALSE),\"\")","v":""}]
["2024-04-09",15,null,null,"00:00:00",{"$f":"IF(E14<Dropdwon!$A$3,Dropdwon!$B$2,IF(AND(E14<Dropdwon!$A$4,E14>=Dropdwon!$A$3),Dropdwon!$B$3,Dropdwon!$B$4))","v":"00:00:00"},null,null,"00:00:00",{"$f":"IF(I14<Dropdwon!$A$3,Dropdwon!$B$2,IF(AND(I14<Dropdwon!$A$4,I14>=Dropdwon!$A$3),Dropdwon!$B$3,Dropdwon!$B$4))","v":"00:00:00"},null,null,"00:00:00",{"$f":"IF(M14<Dropdwon!$A$3,Dropdwon!$B$2,IF(AND(M14<Dropdwon!$A$4,M14>=Dropdwon!$A$3),Dropdwon!$B$3,Dropdwon!$B$4))","v":"00:00:00"},"00:00:00","",{"$f":"IF(AND(W14<>\"\",W14<>\"verpflichtende FoBi\",W14<>\"förderliche FoBi\"),R14,IF(AND(W14=\"verpflichtende FoBi\",SUM(E14+I14+M14-O14)<=Dropdwon!$A$5),SUM(E14+I14+M14-O14),IF(AND(W14=\"förderliche FoBi\",SUM(E14+I14+M14-O14)<=Dropdwon!$A$5,SUM(E14+I14+M14-O14)<=R14),SUM(E14+I14+M14-O14),IF(AND(W14=\"förderliche FoBi\",SUM(E14+I14+M14-O14)>R14),R14,IF(AND(X14=\"GD\",SUM(E14+I14+M14-O14)>T14),T14,IF(AND(X14=\"GD\",SUM(E14+I14+M14-O14)<R14),SUM(E14+I14+M14-O14),IF(AND(X14=\"GD\",E14=\"\"),S14,IF(AND(X14=\"GD\",I14=\"\"),S14,IF(AND(X14=\"GD\",M14=\"\"),S14,IF(SUM(E14+I14+M14-O14)>Dropdwon!$A$5,Dropdwon!$C$5,SUM(E14+I14+M14-O14)))))))))))","v":{"$error":"#VALUE!"}},{"$f":"IF(OR(X14=\"x\",A14<STAMMDATENBLATT!$B$32,A14>STAMMDATENBLATT!$D$32),\"0:00\",IF(AND(X14=\"GD\",S14<T14),S14,IF(AND(X14=\"GD\",S14>T14),T14,S14)))","v":{"$error":"#VALUE!"}},{"$f":"IF(OR(X14=\"x\",A14<STAMMDATENBLATT!$B$32,A14>STAMMDATENBLATT!$D$32),\"0:00\",IF(MOD(B14,2)=0,VLOOKUP(WEEKDAY(A14,2),STAMMDATENBLATT!H$28:J$34,3,FALSE),VLOOKUP(WEEKDAY(A14,2),STAMMDATENBLATT!H$38:J$44,3,FALSE)))","v":{"$error":"#VALUE!"}},{"$f":"IF(X14=\"GD\",Feiertage!$E$21,\"\")","v":""},{"$error":"#VALUE!"},null,null,{"$f":"_xlfn.IFNA(VLOOKUP(A14,Feiertage!A:D,3,FALSE),\"\")","v":""},{"$f":"_xlfn.IFNA(VLOOKUP(A14,Feiertage!A:D,4,FALSE),\"\")","v":""}]
["2024-04-10",15,null,null,"00:00:00",{"$f":"IF(E15<Dropdwon!$A$3,Dropdwon!$B$2,IF(AND(E15<Dropdwon!$A$4,E15>=Dropdwon!$A$3),Dropdwon!$B$3,Dropdwon!$B$4))","v":"00:00:00"},null,null,"00:00:00",{"$f":"IF(I15<Dropdwon!$A$3,Dropdwon!$B$2,IF(AND(I15<Dropdwon!$A$4,I15>=Dropdwon!$A$3),Dropdwon!$B$3,Dropdwon!$B$4))","v":"00:00:00"},null,null,"00:00:00",{"$f":"IF(M15<Dropdwon!$A$3,Dropdwon!$B$2,IF(AND(M15<Dropdwon!$A$4,M15>=Dropdwon!$A$3),Dropdwon!$B$3,Dropdwon!$B$4))","v":"00:00:00"},"00:00:00","",{"$f":"IF(AND(W15<>\"\",W15<>\"verpflichtende FoBi\",W15<>\"förderliche FoBi\"),R15,IF(AND(W15=\"verpflichtende FoBi\",SUM(E15+I15+M15-O15)<=Dropdwon!$A$5),SUM(E15+I15+M15-O15),IF(AND(W15=\"förderliche FoBi\",SUM(E15+I15+M15-O15)<=Dropdwon!$A$5,SUM(E15+I15+M15-O15)<=R15),SUM(E15+I15+M15-O15),IF(AND(W15=\"förderliche FoBi\",SUM(E15+I15+M15-O15)>R15),R15,IF(AND(X15=\"GD\",SUM(E15+I15+M15-O15)>T15),T15,IF(AND(X15=\"GD\",SUM(E15+I15+M15-O15)<R15),SUM(E15+I15+M15-O15),IF(AND(X15=\"GD\",E15=\"\"),S15,IF(AND(X15=\"GD\",I15=\"\"),S15,IF(AND(X15=\"GD\",M15=\"\"),S15,IF(SUM(E15+I15+M15-O15)>Dropdwon!$A$5,Dropdwon!$C$5,SUM(E15+I15+M15-O15)))))))))))","v":{"$error":"#VALUE!"}},{"$f":"IF(OR(X15=\"x\",A15<STAMMDATENBLATT!$B$32,A15>STAMMDATENBLATT!$D$32),\"0:00\",IF(AND(X15=\"GD\",S15<T15),S15,IF(AND(X15=\"GD\",S15>T15),T15,S15)))","v":{"$error":"#VALUE!"}},{"$f":"IF(OR(X15=\"x\",A15<STAMMDATENBLATT!$B$32,A15>STAMMDATENBLATT!$D$32),\"0:00\",IF(MOD(B15,2)=0,VLOOKUP(WEEKDAY(A15,2),STAMMDATENBLATT!H$28:J$34,3,FALSE),VLOOKUP(WEEKDAY(A15,2),STAMMDATENBLATT!H$38:J$44,3,FALSE)))","v":{"$error":"#VALUE!"}},{"$f":"IF(X15=\"GD\",Feiertage!$E$21,\"\")","v":""},{"$error":"#VALUE!"},null,null,{"$f":"_xlfn.IFNA(VLOOKUP(A15,Feiertage!A:D,3,FALSE),\"\")","v":""},{"$f":"_xlfn.IFNA(VLOOKUP(A15,Feiertage!A:D,4,FALSE),\"\")","v":""}]
["2024-04-11",15,null,null,"00:00:00",{"$f":"IF(E16<Dropdwon!$A$3,Dropdwon!$B$2,IF(AND(E16<Dropdwon!$A$4,E16>=Dropdwon!$A$3),Dropdwon!$B$3,Dropdwon!$B$4))","v":"00:00:00"},null,null,"00:00:00",{"$f":"IF(I16<Dropdwon!$A$3,Dropdwon!$B$2,IF(AND(I16<Dropdwon!$A$4,I16>=Dropdwon!$A$3),Dropdwon!$B$3,Dropdwon!$B$4))","v":"00:00:00"},null,null,"00:00:00",{"$f":"IF(M16<Dropdwon!$A$3,Dropdwon!$B$2,IF(AND(M16<Dropdwon!$A$4,M16>=Dropdwon!$A$3),Dropdwon!$B$3,Dropdwon!$B$4))","v":"00:00:00"},"00:00:00","",{"$f":"IF(AND(W16<>\"\",W16<>\"verpflichtende FoBi\",W16<>\"förderliche FoBi\"),R16,IF(AND(W16=\"verpflichtende FoBi\",SUM(E16+I16+M16-O16)<=Dropdwon!$A$5),SUM(E16+I16+M16-O16),IF(AND(W16=\"förderliche FoBi\",SUM(E16+I16+M16-O16)<=Dropdwon!$A$5,SUM(E16+I16+M16-O16)<=R16),SUM(E16+I16+M16-O16),IF(AND(W16=\"förderliche FoBi\",SUM(E16+I16+M16-O16)>R16),R16,IF(AND(X16=\"GD\",SUM(E16+I16+M16-O16)>T16),T16,IF(AND(X16=\"GD\",SUM(E16+I16+M16-O16)<R16),SUM(E16+I16+M16-O16),IF(AND(X16=\"GD\",E16=\"\"),S16,IF(AND(X16=\"GD\",I16=\"\"),S16,IF(AND(X16=\"GD\",M16=\"\"),S16,IF(SUM(E16+I16+M16-O16)>Dropdwon!$A$5,Dropdwon!$C$5,SUM(E16+I16+M16-O16)))))))))))","v":{"$error":"#VALUE!"}},{"$f":"IF(OR(X16=\"x\",A16<STAMMDATENBLATT!$B$32,A16>STAMMDATENBLATT!$D$32),\"0:00\",IF(AND(X16=\"GD\",S16<T16),S16,IF(AND(X16=\"GD\",S16>T16),T16,S16)))","v":{"$error":"#VALUE!"}},{"$f":"IF(OR(X16=\"x\",A16<STAMMDATENBLATT!$B$32,A16>STAMMDATENBLATT!$D$32),\"0:00\",IF(MOD(B16,2)=0,VLOOKUP(WEEKDAY(A16,2),STAMMDATENBLATT!H$28:J$34,3,FALSE),VLOOKUP(WEEKDAY(A16,2),STAMMDATENBLATT!H$38:J$44,3,FALSE)))","v":{"$error":"#VALUE!"}},{"$f":"IF(X16=\"GD\",Feiertage!$E$21,\"\")","v":""},{"$error":"#VALUE!"},null,null,{"$f":"_xlfn.IFNA(VLOOKUP(A16,Feiertage!A:D,3,FALSE),\"\")","v":""},{"$f":"_xlfn.IFNA(VLOOKUP(A16,Feiertage!A:D,4,FALSE),\"\")","v":""}]
["2024-04-12",15,null,null,"00:00:00",{"$f":"IF(E17<Dropdwon!$A$3,Dropdwon!$B$2,IF(AND(E17<Dropdwon!$A$4,E17>=Dropdwon!$A$3),Dropdwon!$B$3,Dropdwon!$B$4))","v":"00:00:00"},null,null,"00:00:00",{"$f":"IF(I17<Dropdwon!$A$3,Dropdwon!$B$2,IF(AND(I17<Dropdwon!$A$4,I17>=Dropdwon!$A$3),Dropdwon!$B$3,Dropdwon!$B$4))","v":"00:00:00"},null,null,"00:00:00",{"$f":"IF(M17<Dropdwon!$A$3,Dropdwon!$B$2,IF(AND(M17<Dropdwon!$A$4,M17>=Dropdwon!$A$3),Dropdwon!$B$3,Dropdwon!$B$4))","v":"00:00:00"},"00:00:00","",{"$f":"IF(AND(W17<>\"\",W17<>\"verpflichtende FoBi\",W17<>\"förderliche FoBi\"),R17,IF(AND(W17=\"verpflichtende FoBi\",SUM(E17+I17+M17-O17)<=Dropdwon!$A$5),SUM(E17+I17+M17-O17),IF(AND(W17=\"förderliche FoBi\",SUM(E17+I17+M17-O17)<=Dropdwon!$A$5,SUM(E17+I17+M17-O17)<=R17),SUM(E17+I17+M17-O17),IF(AND(W17=\"förderliche FoBi\",SUM(E17+I17+M17-O17)>R17),R17,IF(AND(X17=\"GD\",SUM(E17+I17+M17-O17)>T17),T17,IF(AND(X17=\"GD\",SUM(E17+I17+M17-O17)<R17),SUM(E17+I17+M17-O17),IF(AND(X17=\"GD\",E17=\"\"),S17,IF(AND(X17=\"GD\",I17=\"\"),S17,IF(AND(X17=\"GD\",M17=\"\"),S17,IF(SUM(E17+I17+M17-O17)>Dropdwon!$A$5,Dropdwon!$C$5,SUM(E17+I17+M17-O17)))))))))))","v":{"$error":"#VALUE!"}},{"$f":"IF(OR(X17=\"x\",A17<STAMMDATENBLATT!$B$32,A17>STAMMDATENBLATT!$D$32),\"0:00\",IF(AND(X17=\"GD\",S17<T17),S17,IF(AND(X17=\"GD\",S17>T17),T17,S17)))","v":{"$error":"#VALUE!"}},{"$f":"IF(OR(X17=\"x\",A17<STAMMDATENBLATT!$B$32,A17>STAMMDATENBLATT!$D$32),\"0:00\",IF(MOD(B17,2)=0,VLOOKUP(WEEKDAY(A17,2),STAMMDATENBLATT!H$28:J$34,3,FALSE),VLOOKUP(WEEKDAY(A17,2),STAMMDATENBLATT!H$38:J$44,3,FALSE)))","v":{"$error":"#VALUE!"}},{"$f":"IF(X17=\"GD\",Feiertage!$E$21,\"\")","v":""},{"$error":"#VALUE!"},null,null,{"$f":"_xlfn.IFNA(VLOOKUP(A17,Feiertage!A:D,3,FALSE),\"\")","v":""},{"$f":"_xlfn.IFNA(VLOOKUP(A17,Feiertage!A:D,4,FALSE),\"\")","v":""}]
["2024-04-13",15,null,null,"00:00:00",{"$f":"IF(E18<Dropdwon!$A$3,Dropdwon!$B$2,IF(AND(E18<Dropdwon!$A$4,E18>=Dropdwon!$A$3),Dropdwon!$B$3,Dropdwon!$B$4))","v":"00:00:00"},null,null,"00:00:00",{"$f":"IF(I18<Dropdwon!$A$3,Dropdwon!$B$2,IF(AND(I18<Dropdwon!$A$4,I18>=Dropdwon!$A$3),Dropdwon!$B$3,Dropdwon!$B$4))","v":"00:00:00"},null,null,"00:00:00",{"$f":"IF(M18<Dropdwon!$A$3,Dropdwon!$B$2,IF(AND(M18<Dropdwon!$A$4,M18>=Dropdwon!$A$3),Dropdwon!$B$3,Dropdwon!$B$4))","v":"00:00:00"},"00:00:00","",{"$f":"IF(AND(W18<>\"\",W18<>\"verpflichtende FoBi\",W18<>\"förderliche FoBi\"),R18,IF(AND(W18=\"verpflichtende FoBi\",SUM(E18+I18+M18-O18)<=Dropdwon!$A$5),SUM(E18+I18+M18-O18),IF(AND(W18=\"förderliche FoBi\",SUM(E18+I18+M18-O18)<=Dropdwon!$A$5,SUM(E18+I18+M18-O18)<=R18),SUM(E18+I18+M18-O18),IF(AND(W18=\"förderliche FoBi\",SUM(E18+I18+M18-O18)>R18),R18,IF(AND(X18=\"GD\",SUM(E18+I18+M18-O18)>T18),T18,IF(AND(X18=\"GD\",SUM(E18+I18+M18-O18)<R18),SUM(E18+I18+M18-O18),IF(AND(X18=\"GD\",E18=\"\"),S18,IF(AND(X18=\"GD\",I18=\"\"),S18,IF(AND(X18=\"GD\",M18=\"\"),S18,IF(SUM(E18+I18+M18-O18)>Dropdwon!$A$5,Dropdwon!$C$5,SUM(E18+I18+M18-O18)))))))))))","v":"00:00:00"},{"$f":"IF(OR(X18=\"x\",A18<STAMMDATENBLATT!$B$32,A18>STAMMDATENBLATT!$D$32),\"0:00\",IF(AND(X18=\"GD\",S18<T18),S18,IF(AND(X18=\"GD\",S18>T18),T18,S18)))","v":"00:00:00"},{"$f":"IF(OR(X18=\"x\",A18<STAMMDATENBLATT!$B$32,A18>STAMMDATENBLATT!$D$32),\"0:00\",IF(MOD(B18,2)=0,VLOOKUP(WEEKDAY(A18,2),STAMMDATENBLATT!H$28:J$34,3,FALSE),VLOOKUP(WEEKDAY(A18,2),STAMMDATENBLATT!H$38:J$44,3,FALSE)))","v":"00:00:00"},{"$f":"IF(X18=\"GD\",Feiertage!$E$21,\"\")","v":""},"00:00:00",null,null,{"$f":"_xlfn.IFNA(VLOOKUP(A18,Feiertage!A:D,3,FALSE),\"\")","v":""},{"$f":"_xlfn.IFNA(VLOOKUP(A18,Feiertage!A:D,4,FALSE),\"\")","v":""}]
["2024-04-14",15,null,null,"00:00:00",{"$f":"IF(E19<Dropdwon!$A$3,Dropdwon!$B$2,IF(AND(E19<Dropdwon!$A$4,E19>=Dropdwon!$A$3),Dropdwon!$B$3,Dropdwon!$B$4))","v":"00:00:00"},null,null,"00:00:00",{"$f":"IF(I19<Dropdwon!$A$3,Dropdwon!$B$2,IF(AND(I19<Dropdwon!$A$4,I19>=Dropdwon!$A$3),Dropdwon!$B$3,Dropdwon!$B$4))","v":"00:00:00"},null,null,"00:00:00",{"$f":"IF(M19<Dropdwon!$A$3,Dropdwon!$B$2,IF(AND(M19<Dropdwon!$A$4,M19>=Dropdwon!$A$3),Dropdwon!$B$3,Dropdwon!$B$4))","v":"00:00:00"},"00:00:00","",{"$f":"IF(AND(W19<>\"\",W19<>\"verpflichtende FoBi\",W19<>\"förderliche FoBi\"),R19,IF(AND(W19=\"verpflichtende FoBi\",SUM(E19+I19+M19-O19)<=Dropdwon!$A$5),SUM(E19+I19+M19-O19),IF(AND(W19=\"förderliche FoBi\",SUM(E19+I19+M19-O19)<=Dropdwon!$A$5,SUM(E19+I19+M19-O19)<=R19),SUM(E19+I19+M19-O19),IF(AND(W19=\"förderliche FoBi\",SUM(E19+I19+M19-O19)>R19),R19,IF(AND(X19=\"GD\",SUM(E19+I19+M19-O19)>T19),T19,IF(AND(X19=\"GD\",SUM(E19+I19+M19-O19)<R19),SUM(E19+I19+M19-O19),IF(AND(X19=\"GD\",E19=\"\"),S19,IF(AND(X19=\"GD\",I19=\"\"),S19,IF(AND(X19=\"GD\",M19=\"\"),S19,IF(SUM(E19+I19+M19-O19)>Dropdwon!$A$5,Dropdwon!$C$5,SUM(E19+I19+M19-O19)))))))))))","v":"00:00:00"},{"$f":"IF(OR(X19=\"x\",A19<STAMMDATENBLATT!$B$32,A19>STAMMDATENBLATT!$D$32),\"0:00\",IF(AND(X19=\"GD\",S19<T19),S19,IF(AND(X19=\"GD\",S19>T19),T19,S19)))","v":"00:00:00"},{"$f":"IF(OR(X19=\"x\",A19<STAMMDATENBLATT!$B$32,A19>STAMMDATENBLATT!$D$32),\"0:00\",IF(MOD(B19,2)=0,VLOOKUP(WEEKDAY(A19,2),STAMMDATENBLATT!H$28:J$34,3,FALSE),VLOOKUP(WEEKDAY(A19,2),STAMMDATENBLATT!H$38:J$44,3,FALSE)))","v":"00:00:00"},{"$f":"IF(X19=\"GD\",Feiertage!$E$21,\"\")","v":""},"00:00:00",null,null,{"$f":"_xlfn.IFNA(VLOOKUP(A19,Feiertage!A:D,3,FALSE),\"\")","v":""},{"$f":"_xlfn.IFNA(VLOOKUP(A19,Feiertage!A:D,4,FALSE),\"\")","v":""}]
["2024-04-15",16,null,null,"00:00:00",{"$f":"IF(E20<Dropdwon!$A$3,Dropdwon!$B$2,IF(AND(E20<Dropdwon!$A$4,E20>=Dropdwon!$A$3),Dropdwon!$B$3,Dropdwon!$B$4))","v":"00:00:00"},null,null,"00:00:00",{"$f":"IF(I20<Dropdwon!$A$3,Dropdwon!$B$2,IF(AND(I20<Dropdwon!$A$4,I20>=Dropdwon!$A$3),Dropdwon!$B$3,Dropdwon!$B$4))","v":"00:00:00"},null,null,"00:00:00",{"$f":"IF(M20<Dropdwon!$A$3,Dropdwon!$B$2,IF(AND(M20<Dropdwon!$A$4,M20>=Dropdwon!$A$3),Dropdwon!$B$3,Dropdwon!$B$4))","v":"00:00:00"},"00:00:00","",{"$f":"IF(AND(W20<>\"\",W20<>\"verpflichtende FoBi\",W20<>\"förderliche FoBi\"),R20,IF(AND(W20=\"verpflichtende FoBi\",SUM(E20+I20+M20-O20)<=Dropdwon!$A$5),SUM(E20+I20+M20-O20),IF(AND(W20=\"förderliche FoBi\",SUM(E20+I20+M20-O20)<=Dropdwon!$A$5,SUM(E20+I20+M20-O20)<=R20),SUM(E20+I20+M20-O20),IF(AND(W20=\"förderliche FoBi\",SUM(E20+I20+M20-O20)>R20),R20,IF(AND(X20=\"GD\",SUM(E20+I20+M20-O20)>T20),T20,IF(AND(X20=\"GD\",SUM(E20+I20+M20-O20)<R20),SUM(E20+I20+M20-O20),IF(AND(X20=\"GD\",E20=\"\"),S20,IF(AND(X20=\"GD\",I20=\"\"),S20,IF(AND(X20=\"GD\",M20=\"\"),S20,IF(SUM(E20+I20+M20-O20)>Dropdwon!$A$5,Dropdwon!$C$5,SUM(E20+I20+M20-O20)))))))))))","v":{"$error":"#VALUE!"}},{"$f":"IF(OR(X20=\"x\",A20<STAMMDATENBLATT!$B$32,A20>STAMMDATENBLATT!$D$32),\"0:00\",IF(AND(X20=\"GD\",S20<T20),S20,IF(AND(X20=\"GD\",S20>T20),T20,S20)))","v":{"$error":"#VALUE!"}},{"$f":"IF(OR(X20=\"x\",A20<STAMMDATENBLATT!$B$32,A20>STAMMDATENBLATT!$D$32),\"0:00\",IF(MOD(B20,2)=0,VLOOKUP(WEEKDAY(A20,2),STAMMDATENBLATT!H$28:J$34,3,FALSE),VLOOKUP(WEEKDAY(A20,2),STAMMDATENBLATT!H$38:J$44,3,FALSE)))","v":{"$error":"#VALUE!"}},{"$f":"IF(X20=\"GD\",Feiertage!$E$21,\"\")","v":""},{"$error":"#VALUE!"},null,null,{"$f":"_xlfn.IFNA(VLOOKUP(A20,Feiertage!A:D,3,FALSE),\"\")","v":""},{"$f":"_xlfn.IFNA(VLOOKUP(A20,Feiertage!A:D,4,FALSE),\"\")","v":""}]
["2024-04-16",16,null,null,"00:00:00",{"$f":"IF(E21<Dropdwon!$A$3,Dropdwon!$B$2,IF(AND(E21<Dropdwon!$A$4,E21>=Dropdwon!$A$3),Dropdwon!$B$3,Dropdwon!$B$4))","v":"00:00:00"},null,null,"00:00:00",{"$f":"IF(I21<Dropdwon!$A$3,Dropdwon!$B$2,IF(AND(I21<Dropdwon!$A$4,I21>=Dropdwon!$A$3),Dropdwon!$B$3,Dropdwon!$B$4))","v":"00:00:00"},null,null,"00:00:00",{"$f":"IF(M21<Dropdwon!$A$3,Dropdwon!$B$2,IF(AND(M21<Dropdwon!$A$4,M21>=Dropdwon!$A$3),Dropdwon!$B$3,Dropdwon!$B$4))","v":"00:00:00"},"00:00:00","",{"$f":"IF(AND(W21<>\"\",W21<>\"verpflichtende FoBi\",W21<>\"förderliche FoBi\"),R21,IF(AND(W21=\"verpflichtende FoBi\",SUM(E21+I21+M21-O21)<=Dropdwon!$A$5),SUM(E21+I21+M21-O21),IF(AND(W21=\"förderliche FoBi\",SUM(E21+I21+M21-O21)<=Dropdwon!$A$5,SUM(E21+I21+M21-O21)<=R21),SUM(E21+I21+M21-O21),IF(AND(W21=\"förderliche FoBi\",SUM(E21+I21+M21-O21)>R21),R21,IF(AND(X21=\"GD\",SUM(E21+I21+M21-O21)>T21),T21,IF(AND(X21=\"GD\",SUM(E21+I21+M21-O21)<R21),SUM(E21+I21+M21-O21),IF(AND(X21=\"GD\",E21=\"\"),S21,IF(AND(X21=\"GD\",I21=\"\"),S21,IF(AND(X21=\"GD\",M21=\"\"),S21,IF(SUM(E21+I21+M21-O21)>Dropdwon!$A$5,Dropdwon!$C$5,SUM(E21+I21+M21-O21)))))))))))","v":{"$error":"#VALUE!"}},{"$f":"IF(OR(X21=\"x\",A21<STAMMDATENBLATT!$B$32,A21>STAMMDATENBLATT!$D$32),\"0:00\",IF(AND(X21=\"GD\",S21<T21),S21,IF(AND(X21=\"GD\",S21>T21),T21,S21)))","v":{"$error":"#VALUE!"}},{"$f":"IF(OR(X21=\"x\",A21<STAMMDATENBLATT!$B$32,A21>STAMMDATENBLATT!$D$32),\"0:00\",IF(MOD(B21,2)=0,VLOOKUP(WEEKDAY(A21,2),STAMMDATENBLATT!H$28:J$34,3,FALSE),VLOOKUP(WEEKDAY(A21,2),STAMMDATENBLATT!H$38:J$44,3,FALSE)))","v":{"$error":"#VALUE!"}},{"$f":"IF(X21=\"GD\",Feiertage!$E$21,\"\")","v":""},{"$error":"#VALUE!"},null,null,{"$f":"_xlfn.IFNA(VLOOKUP(A21,Feiertage!A:D,3,FALSE),\"\")","v":""},{"$f":"_xlfn.IFNA(VLOOKUP(A21,Feiertage!A:D,4,FALSE),\"\")","v":""}]
["2024-04-17",16,null,null,"00:00:00",{"$f":"IF(E22<Dropdwon!$A$3,Dropdwon!$B$2,IF(AND(E22<Dropdwon!$A$4,E22>=Dropdwon!$A$3),Dropdwon!$B$3,Dropdwon!$B$4))","v":"00:00:00"},null,null,"00:00:00",{"$f":"IF(I22<Dropdwon!$A$3,Dropdwon!$B$2,IF(AND(I22<Dropdwon!$A$4,I22>=Dropdwon!$A$3),Dropdwon!$B$3,Dropdwon!$B$4))","v":"00:00:00"},null,null,"00:00:00",{"$f":"IF(M22<Dropdwon!$A$3,Dropdwon!$B$2,IF(AND(M22<Dropdwon!$A$4,M22>=Dropdwon!$A$3),Dropdwon!$B$3,Dropdwon!$B$4))","v":"00:00:00"},"00:00:00","",{"$f":"IF(AND(W22<>\"\",W22<>\"verpflichtende FoBi\",W22<>\"förderliche FoBi\"),R22,IF(AND(W22=\"verpflichtende FoBi\",SUM(E22+I22+M22-O22)<=Dropdwon!$A$5),SUM(E22+I22+M22-O22),IF(AND(W22=\"förderliche FoBi\",SUM(E22+I22+M22-O22)<=Dropdwon!$A$5,SUM(E22+I22+M22-O22)<=R22),SUM(E22+I22+M22-O22),IF(AND(W22=\"förderliche FoBi\",SUM(E22+I22+M22-O22)>R22),R22,IF(AND(X22=\"GD\",SUM(E22+I22+M22-O22)>T22),T22,IF(AND(X22=\"GD\",SUM(E22+I22+M22-O22)<R22),SUM(E22+I22+M22-O22),IF(AND(X22=\"GD\",E22=\"\"),S22,IF(AND(X22=\"GD\",I22=\"\"),S22,IF(AND(X22=\"GD\",M22=\"\"),S22,IF(SUM(E22+I22+M22-O22)>Dropdwon!$A$5,Dropdwon!$C$5,SUM(E22+I22+M22-O22)))))))))))","v":{"$error":"#VALUE!"}},{"$f":"IF(OR(X22=\"x\",A22<STAMMDATENBLATT!$B$32,A22>STAMMDATENBLATT!$D$32),\"0:00\",IF(AND(X22=\"GD\",S22<T22),S22,IF(AND(X22=\"GD\",S22>T22),T22,S22)))","v":{"$error":"#VALUE!"}},{"$f":"IF(OR(X22=\"x\",A22<STAMMDATENBLATT!$B$32,A22>STAMMDATENBLATT!$D$32),\"0:00\",IF(MOD(B22,2)=0,VLOOKUP(WEEKDAY(A22,2),STAMMDATENBLATT!H$28:J$34,3,FALSE),VLOOKUP(WEEKDAY(A22,2),STAMMDATENBLATT!H$38:J$44,3,FALSE)))","v":{"$error":"#VALUE!"}},{"$f":"IF(X22=\"GD\",Feiertage!$E$21,\"\")","v":""},{"$error":"#VALUE!"},null,null,{"$f":"_xlfn.IFNA(VLOOKUP(A22,Feiertage!A:D,3,FALSE),\"\")","v":""},{"$f":"_xlfn.IFNA(VLOOKUP(A22,Feiertage!A:D,4,FALSE),\"\")","v":""}]
["2024-04-18",16,null,null,"00:00:00",{"$f":"IF(E23<Dropdwon!$A$3,Dropdwon!$B$2,IF(AND(E23<Dropdwon!$A$4,E23>=Dropdwon!$A$3),Dropdwon!$B$3,Dropdwon!$B$4))","v":"00:00:00"},null,null,"00:00:00",{"$f":"IF(I23<Dropdwon!$A$3,Dropdwon!$B$2,IF(AND(I23<Dropdwon!$A$4,I23>=Dropdwon!$A$3),Dropdwon!$B$3,Dropdwon!$B$4))","v":"00:00:00"},null,null,"00:00:00",{"$f":"IF(M23<Dropdwon!$A$3,Dropdwon!$B$2,IF(AND(M23<Dropdwon!$A$4,M23>=Dropdwon!$A$3),Dropdwon!$B$3,Dropdwon!$B$4))","v":"00:00:00"},"00:00:00","",{"$f":"IF(AND(W23<>\"\",W23<>\"verpflichtende FoBi\",W23<>\"förderliche FoBi\"),R23,IF(AND(W23=\"verpflichtende FoBi\",SUM(E23+I23+M23-O23)<=Dropdwon!$A$5),SUM(E23+I23+M23-O23),IF(AND(W23=\"förderliche FoBi\",SUM(E23+I23+M23-O23)<=Dropdwon!$A$5,SUM(E23+I23+M23-O23)<=R23),SUM(E23+I23+M23-O23),IF(AND(W23=\"förderliche FoBi\",SUM(E23+I23+M23-O23)>R23),R23,IF(AND(X23=\"GD\",SUM(E23+I23+M23-O23)>T23),T23,IF(AND(X23=\"GD\",SUM(E23+I23+M23-O23)<R23),SUM(E23+I23+M23-O23),IF(AND(X23=\"GD\",E23=\"\"),S23,IF(AND(X23=\"GD\",I23=\"\"),S23,IF(AND(X23=\"GD\",M23=\"\"),S23,IF(SUM(E23+I23+M23-O23)>Dropdwon!$A$5,Dropdwon!$C$5,SUM(E23+I23+M23-O23)))))))))))","v":{"$error":"#VALUE!"}},{"$f":"IF(OR(X23=\"x\",A23<STAMMDATENBLATT!$B$32,A23>STAMMDATENBLATT!$D$32),\"0:00\",IF(AND(X23=\"GD\",S23<T23),S23,IF(AND(X23=\"GD\",S23>T23),T23,S23)))","v":{"$error":"#VALUE!"}},{"$f":"IF(OR(X23=\"x\",A23<STAMMDATENBLATT!$B$32,A23>STAMMDATENBLATT!$D$32),\"0:00\",IF(MOD(B23,2)=0,VLOOKUP(WEEKDAY(A23,2),STAMMDATENBLATT!H$28:J$34,3,FALSE),VLOOKUP(WEEKDAY(A23,2),STAMMDATENBLATT!H$38:J$44,3,FALSE)))","v":{"$error":"#VALUE!"}},{"$f":"IF(X23=\"GD\",Feiertage!$E$21,\"\")","v":""},{"$error":"#VALUE!"},null,null,{"$f":"_xlfn.IFNA(VLOOKUP(A23,Feiertage!A:D,3,FALSE),\"\")","v":""},{"$f":"_xlfn.IFNA(VLOOKUP(A23,Feiertage!A:D,4,FALSE),\"\")","v":""}]
["2024-04-19",16,null,null,"00:00:00",{"$f":"IF(E24<Dropdwon!$A$3,Dropdwon!$B$2,IF(AND(E24<Dropdwon!$A$4,E24>=Dropdwon!$A$3),Dropdwon!$B$3,Dropdwon!$B$4))","v":"00:00:00"},null,null,"00:00:00",{"$f":"IF(I24<Dropdwon!$A$3,Dropdwon!$B$2,IF(AND(I24<Dropdwon!$A$4,I24>=Dropdwon!$A$3),Dropdwon!$B$3,Dropdwon!$B$4))","v":"00:00:00"},null,null,"00:00:00",{"$f":"IF(M24<Dropdwon!$A$3,Dropdwon!$B$2,IF(AND(M24<Dropdwon!$A$4,M24>=Dropdwon!$A$3),Dropdwon!$B$3,Dropdwon!$B$4))","v":"00:00:00"},"00:00:00","",{"$f":"IF(AND(W24<>\"\",W24<>\"verpflichtende FoBi\",W24<>\"förderliche FoBi\"),R24,IF(AND(W24=\"verpflichtende FoBi\",SUM(E24+I24+M24-O24)<=Dropdwon!$A$5),SUM(E24+I24+M24-O24),IF(AND(W24=\"förderliche FoBi\",SUM(E24+I24+M24-O24)<=Dropdwon!$A$5,SUM(E24+I24+M24-O24)<=R24),SUM(E24+I24+M24-O24),IF(AND(W24=\"förderliche FoBi\",SUM(E24+I24+M24-O24)>R24),R24,IF(AND(X24=\"GD\",SUM(E24+I24+M24-O24)>T24),T24,IF(AND(X24=\"GD\",SUM(E24+I24+M24-O24)<R24),SUM(E24+I24+M24-O24),IF(AND(X24=\"GD\",E24=\"\"),S24,IF(AND(X24=\"GD\",I24=\"\"),S24,IF(AND(X24=\"GD\",M24=\"\"),S24,IF(SUM(E24+I24+M24-O24)>Dropdwon!$A$5,Dropdwon!$C$5,SUM(E24+I24+M24-O24)))))))))))","v":{"$error":"#VALUE!"}},{"$f":"IF(OR(X24=\"x\",A24<STAMMDATENBLATT!$B$32,A24>STAMMDATENBLATT!$D$32),\"0:00\",IF(AND(X24=\"GD\",S24<T24),S24,IF(AND(X24=\"GD\",S24>T24),T24,S24)))","v":{"$error":"#VALUE!"}},{"$f":"IF(OR(X24=\"x\",A24<STAMMDATENBLATT!$B$32,A24>STAMMDATENBLATT!$D$32),\"0:00\",IF(MOD(B24,2)=0,VLOOKUP(WEEKDAY(A24,2),STAMMDATENBLATT!H$28:J$34,3,FALSE),VLOOKUP(WEEKDAY(A24,2),STAMMDATENBLATT!H$38:J$44,3,FALSE)))","v":{"$error":"#VALUE!"}},{"$f":"IF(X24=\"GD\",Feiertage!$E$21,\"\")","v":""},{"$error":"#VALUE!"},null,null,{"$f":"_xlfn.IFNA(VLOOKUP(A24,Feiertage!A:D,3,FALSE),\"\")","v":""},{"$f":"_xlfn.IFNA(VLOOKUP(A24,Feiertage!A:D,4,FALSE),\"\")","v":""}]
["2024-04-20",16,null,null,"00:00:00",{"$f":"IF(E25<Dropdwon!$A$3,Dropdwon!$B$2,IF(AND(E25<Dropdwon!$A$4,E25>=Dropdwon!$A$3),Dropdwon!$B$3,Dropdwon!$B$4))","v":"00:00:00"},null,null,"00:00:00",{"$f":"IF(I25<Dropdwon!$A$3,Dropdwon!$B$2,IF(AND(I25<Dropdwon!$A$4,I25>=Dropdwon!$A$3),Dropdwon!$B$3,Dropdwon!$B$4))","v":"00:00:00"},null,null,"00:00:00",{"$f":"IF(M25<Dropdwon!$A$3,Dropdwon!$B$2,IF(AND(M25<Dropdwon!$A$4,M25>=Dropdwon!$A$3),Dropdwon!$B$3,Dropdwon!$B$4))","v":"00:00:00"},"00:00:00","",{"$f":"IF(AND(W25<>\"\",W25<>\"verpflichtende FoBi\",W25<>\"förderliche FoBi\"),R25,IF(AND(W25=\"verpflichtende FoBi\",SUM(E25+I25+M25-O25)<=Dropdwon!$A$5),SUM(E25+I25+M25-O25),IF(AND(W25=\"förderliche FoBi\",SUM(E25+I25+M25-O25)<=Dropdwon!$A$5,SUM(E25+I25+M25-O25)<=R25),SUM(E25+I25+M25-O25),IF(AND(W25=\"förderliche FoBi\",SUM(E25+I25+M25-O25)>R25),R25,IF(AND(X25=\"GD\",SUM(E25+I25+M25-O25)>T25),T25,IF(AND(X25=\"GD\",SUM(E25+I25+M25-O25)<R25),SUM(E25+I25+M25-O25),IF(AND(X25=\"GD\",E25=\"\"),S25,IF(AND(X25=\"GD\",I25=\"\"),S25,IF(AND(X25=\"GD\",M25=\"\"),S25,IF(SUM(E25+I25+M25-O25)>Dropdwon!$A$5,Dropdwon!$C$5,SUM(E25+I25+M25-O25)))))))))))","v":"00:00:00"},{"$f":"IF(OR(X25=\"x\",A25<STAMMDATENBLATT!$B$32,A25>STAMMDATENBLATT!$D$32),\"0:00\",IF(AND(X25=\"GD\",S25<T25),S25,IF(AND(X25=\"GD\",S25>T25),T25,S25)))","v":"00:00:00"},{"$f":"IF(OR(X25=\"x\",A25<STAMMDATENBLATT!$B$32,A25>STAMMDATENBLATT!$D$32),\"0:00\",IF(MOD(B25,2)=0,VLOOKUP(WEEKDAY(A25,2),STAMMDATENBLATT!H$28:J$34,3,FALSE),VLOOKUP(WEEKDAY(A25,2),STAMMDATENBLATT!H$38:J$44,3,FALSE)))","v":"00:00:00"},{"$f":"IF(X25=\"GD\",Feiertage!$E$21,\"\")","v":""},"00:00:00",null,null,{"$f":"_xlfn.IFNA(VLOOKUP(A25,Feiertage!A:D,3,FALSE),\"\")","v":""},{"$f":"_xlfn.IFNA(VLOOKUP(A25,Feiertage!A:D,4,FALSE),\"\")","v":""}]
["2024-04-21",16,null,null,"00:00:00",{"$f":"IF(E26<Dropdwon!$A$3,Dropdwon!$B$2,IF(AND(E26<Dropdwon!$A$4,E26>=Dropdwon!$A$3),Dropdwon!$B$3,Dropdwon!$B$4))","v":"00:00:00"},null,null,"00:00:00",{"$f":"IF(I26<Dropdwon!$A$3,Dropdwon!$B$2,IF(AND(I26<Dropdwon!$A$4,I26>=Dropdwon!$A$3),Dropdwon!$B$3,Dropdwon!$B$4))","v":"00:00:00"},null,null,"00:00:00",{"$f":"IF(M26<Dropdwon!$A$3,Dropdwon!$B$2,IF(AND(M26<Dropdwon!$A$4,M26>=Dropdwon!$A$3),Dropdwon!$B$3,Dropdwon!$B$4))","v":"00:00:00"},"00:00:00","",{"$f":"IF(AND(W26<>\"\",W26<>\"verpflichtende FoBi\",W26<>\"förderliche FoBi\"),R26,IF(AND(W26=\"verpflichtende FoBi\",SUM(E26+I26+M26-O26)<=Dropdwon!$A$5),SUM(E26+I26+M26-O26),IF(AND(W26=\"förderliche FoBi\",SUM(E26+I26+M26-O26)<=Dropdwon!$A$5,SUM(E26+I26+M26-O26)<=R26),SUM(E26+I26+M26-O26),IF(AND(W26=\"förderliche FoBi\",SUM(E26+I26+M26-O26)>R26),R26,IF(AND(X26=\"GD\",SUM(E26+I26+M26-O26)>T26),T26,IF(AND(X26=\"GD\",SUM(E26+I26+M26-O26)<R26),SUM(E26+I26+M26-O26),IF(AND(X26=\"GD\",E26=\"\"),S26,IF(AND(X26=\"GD\",I26=\"\"),S26,IF(AND(X26=\"GD\",M26=\"\"),S26,IF(SUM(E26+I26+M26-O26)>Dropdwon!$A$5,Dropdwon!$C$5,SUM(E26+I26+M26-O26)))))))))))","v":"00:00:00"},{"$f":"IF(OR(X26=\"x\",A26<STAMMDATENBLATT!$B$32,A26>STAMMDATENBLATT!$D$32),\"0:00\",IF(AND(X26=\"GD\",S26<T26),S26,IF(AND(X26=\"GD\",S26>T26),T26,S26)))","v":"00:00:00"},{"$f":"IF(OR(X26=\"x\",A26<STAMMDATENBLATT!$B$32,A26>STAMMDATENBLATT!$D$32),\"0:00\",IF(MOD(B26,2)=0,VLOOKUP(WEEKDAY(A26,2),STAMMDATENBLATT!H$28:J$34,3,FALSE),VLOOKUP(WEEKDAY(A26,2),STAMMDATENBLATT!H$38:J$44,3,FALSE)))","v":"00:00:00"},{"$f":"IF(X26=\"GD\",Feiertage!$E$21,\"\")","v":""},"00:00:00",null,null,{"$f":"_xlfn.IFNA(VLOOKUP(A26,Feiertage!A:D,3,FALSE),\"\")","v":""},{"$f":"_xlfn.IFNA(VLOOKUP(A26,Feiertage!A:D,4,FALSE),\"\")","v":""}]
["2024-04-22",17,null,null,"00:00:00",{"$f":"IF(E27<Dropdwon!$A$3,Dropdwon!$B$2,IF(AND(E27<Dropdwon!$A$4,E27>=Dropdwon!$A$3),Dropdwon!$B$3,Dropdwon!$B$4))","v":"00:00:00"},null,null,"00:00:00",{"$f":"IF(I27<Dropdwon!$A$3,Dropdwon!$B$2,IF(AND(I27<Dropdwon!$A$4,I27>=Dropdwon!$A$3),Dropdwon!$B$3,Dropdwon!$B$4))","v":"00:00:00"},null,null,"00:00:00",{"$f":"IF(M27<Dropdwon!$A$3,Dropdwon!$B$2,IF(AND(M27<Dropdwon!$A$4,M27>=Dropdwon!$A$3),Dropdwon!$B$3,Dropdwon!$B$4))","v":"00:00:00"},"00:00:00","",{"$f":"IF(AND(W27<>\"\",W27<>\"verpflichtende FoBi\",W27<>\"förderliche FoBi\"),R27,IF(AND(W27=\"verpflichtende FoBi\",SUM(E27+I27+M27-O27)<=Dropdwon!$A$5),SUM(E27+I27+M27-O27),IF(AND(W27=\"förderliche FoBi\",SUM(E27+I27+M27-O27)<=Dropdwon!$A$5,SUM(E27+I27+M27-O27)<=R27),SUM(E27+I27+M27-O27),IF(AND(W27=\"förderliche FoBi\",SUM(E27+I27+M27-O27)>R27),R27,IF(AND(X27=\"GD\",SUM(E27+I27+M27-O27)>T27),T27,IF(AND(X27=\"GD\",SUM(E27+I27+M27-O27)<R27),SUM(E27+I27+M27-O27),IF(AND(X27=\"GD\",E27=\"\"),S27,IF(AND(X27=\"GD\",I27=\"\"),S27,IF(AND(X27=\"GD\",M27=\"\"),S27,IF(SUM(E27+I27+M27-O27)>Dropdwon!$A$5,Dropdwon!$C$5,SUM(E27+I27+M27-O27)))))))))))","v":{"$error":"#VALUE!"}},{"$f":"IF(OR(X27=\"x\",A27<STAMMDATENBLATT!$B$32,A27>STAMMDATENBLATT!$D$32),\"0:00\",IF(AND(X27=\"GD\",S27<T27),S27,IF(AND(X27=\"GD\",S27>T27),T27,S27)))","v":{"$error":"#VALUE!"}},{"$f":"IF(OR(X27=\"x\",A27<STAMMDATENBLATT!$B$32,A27>STAMMDATENBLATT!$D$32),\"0:00\",IF(MOD(B27,2)=0,VLOOKUP(WEEKDAY(A27,2),STAMMDATENBLATT!H$28:J$34,3,FALSE),VLOOKUP(WEEKDAY(A27,2),STAMMDATENBLATT!H$38:J$44,3,FALSE)))","v":{"$error":"#VALUE!"}},{"$f":"IF(X27=\"GD\",Feiertage!$E$21,\"\")","v":""},{"$error":"#VALUE!"},null,null,{"$f":"_xlfn.IFNA(VLOOKUP(A27,Feiertage!A:D,3,FALSE),\"\")","v":""},{"$f":"_xlfn.IFNA(VLOOKUP(A27,Feiertage!A:D,4,FALSE),\"\")","v":""}]
["2024-04-23",17,null,null,"00:00:00",{"$f":"IF(E28<Dropdwon!$A$3,Dropdwon!$B$2,IF(AND(E28<Dropdwon!$A$4,E28>=Dropdwon!$A$3),Dropdwon!$B$3,Dropdwon!$B$4))","v":"00:00:00"},null,null,"00:00:00",{"$f":"IF(I28<Dropdwon!$A$3,Dropdwon!$B$2,IF(AND(I28<Dropdwon!$A$4,I28>=Dropdwon!$A$3),Dropdwon!$B$3,Dropdwon!$B$4))","v":"00:00:00"},null,null,"00:00:00",{"$f":"IF(M28<Dropdwon!$A$3,Dropdwon!$B$2,IF(AND(M28<Dropdwon!$A$4,M28>=Dropdwon!$A$3),Dropdwon!$B$3,Dropdwon!$B$4))","v":"00:00:00"},"00:00:00","",{"$f":"IF(AND(W28<>\"\",W28<>\"verpflichtende FoBi\",W28<>\"förderliche FoBi\"),R28,IF(AND(W28=\"verpflichtende FoBi\",SUM(E28+I28+M28-O28)<=Dropdwon!$A$5),SUM(E28+I28+M28-O28),IF(AND(W28=\"förderliche FoBi\",SUM(E28+I28+M28-O28)<=Dropdwon!$A$5,SUM(E28+I28+M28-O28)<=R28),SUM(E28+I28+M28-O28),IF(AND(W28=\"förderliche FoBi\",SUM(E28+I28+M28-O28)>R28),R28,IF(AND(X28=\"GD\",SUM(E28+I28+M28-O28)>T28),T28,IF(AND(X28=\"GD\",SUM(E28+I28+M28-O28)<R28),SUM(E28+I28+M28-O28),IF(AND(X28=\"GD\",E28=\"\"),S28,IF(AND(X28=\"GD\",I28=\"\"),S28,IF(AND(X28=\"GD\",M28=\"\"),S28,IF(SUM(E28+I28+M28-O28)>Dropdwon!$A$5,Dropdwon!$C$5,SUM(E28+I28+M28-O28)))))))))))","v":{"$error":"#VALUE!"}},{"$f":"IF(OR(X28=\"x\",A28<STAMMDATENBLATT!$B$32,A28>STAMMDATENBLATT!$D$32),\"0:00\",IF(AND(X28=\"GD\",S28<T28),S28,IF(AND(X28=\"GD\",S28>T28),T28,S28)))","v":{"$error":"#VALUE!"}},{"$f":"IF(OR(X28=\"x\",A28<STAMMDATENBLATT!$B$32,A28>STAMMDATENBLATT!$D$32),\"0:00\",IF(MOD(B28,2)=0,VLOOKUP(WEEKDAY(A28,2),STAMMDATENBLATT!H$28:J$34,3,FALSE),VLOOKUP(WEEKDAY(A28,2),STAMMDATENBLATT!H$38:J$44,3,FALSE)))","v":{"$error":"#VALUE!"}},{"$f":"IF(X28=\"GD\",Feiertage!$E$21,\"\")","v":""},{"$error":"#VALUE!"},null,null,{"$f":"_xlfn.IFNA(VLOOKUP(A28,Feiertage!A:D,3,FALSE),\"\")","v":""},{"$f":"_xlfn.IFNA(VLOOKUP(A28,Feiertage!A:D,4,FALSE),\"\")","v":""}]
["2024-04-24",17,null,null,"00:00:00",{"$f":"IF(E29<Dropdwon!$A$3,Dropdwon!$B$2,IF(AND(E29<Dropdwon!$A$4,E29>=Dropdwon!$A$3),Dropdwon!$B$3,Dropdwon!$B$4))","v":"00:00:00"},null,null,"00:00:00",{"$f":"IF(I29<Dropdwon!$A$3,Dropdwon!$B$2,IF(AND(I29<Dropdwon!$A$4,I29>=Dropdwon!$A$3),Dropdwon!$B$3,Dropdwon!$B$4))","v":"00:00:00"},null,null,"00:00:00",{"$f":"IF(M29<Dropdwon!$A$3,Dropdwon!$B$2,IF(AND(M29<Dropdwon!$A$4,M29>=Dropdwon!$A$3),Dropdwon!$B$3,Dropdwon!$B$4))","v":"00:00:00"},"00:00:00","",{"$f":"IF(AND(W29<>\"\",W29<>\"verpflichtende FoBi\",W29<>\"förderliche FoBi\"),R29,IF(AND(W29=\"verpflichtende FoBi\",SUM(E29+I29+M29-O29)<=Dropdwon!$A$5),SUM(E29+I29+M29-O29),IF(AND(W29=\"förderliche FoBi\",SUM(E29+I29+M29-O29)<=Dropdwon!$A$5,SUM(E29+I29+M29-O29)<=R29),SUM(E29+I29+M29-O29),IF(AND(W29=\"förderliche FoBi\",SUM(E29+I29+M29-O29)>R29),R29,IF(AND(X29=\"GD\",SUM(E29+I29+M29-O29)>T29),T29,IF(AND(X29=\"GD\",SUM(E29+I29+M29-O29)<R29),SUM(E29+I29+M29-O29),IF(AND(X29=\"GD\",E29=\"\"),S29,IF(AND(X29=\"GD\",I29=\"\"),S29,IF(AND(X29=\"GD\",M29=\"\"),S29,IF(SUM(E29+I29+M29-O29)>Dropdwon!$A$5,Dropdwon!$C$5,SUM(E29+I29+M29-O29)))))))))))","v":{"$error":"#VALUE!"}},{"$f":"IF(OR(X29=\"x\",A29<STAMMDATENBLATT!$B$32,A29>STAMMDATENBLATT!$D$32),\"0:00\",IF(AND(X29=\"GD\",S29<T29),S29,IF(AND(X29=\"GD\",S29>T29),T29,S29)))","v":{"$error":"#VALUE!"}},{"$f":"IF(OR(X29=\"x\",A29<STAMMDATENBLATT!$B$32,A29>STAMMDATENBLATT!$D$32),\"0:00\",IF(MOD(B29,2)=0,VLOOKUP(WEEKDAY(A29,2),STAMMDATENBLATT!H$28:J$34,3,FALSE),VLOOKUP(WEEKDAY(A29,2),STAMMDATENBLATT!H$38:J$44,3,FALSE)))","v":{"$error":"#VALUE!"}},{"$f":"IF(X29=\"GD\",Feiertage!$E$21,\"\")","v":""},{"$error":"#VALUE!"},null,null,{"$f":"_xlfn.IFNA(VLOOKUP(A29,Feiertage!A:D,3,FALSE),\"\")","v":""},{"$f":"_xlfn.IFNA(VLOOKUP(A29,Feiertage!A:D,4,FALSE),\"\")","v":""}]
["2024-04-25",17,null,null,"00:00:00",{"$f":"IF(E30<Dropdwon!$A$3,Dropdwon!$B$2,IF(AND(E30<Dropdwon!$A$4,E30>=Dropdwon!$A$3),Dropdwon!$B$3,Dropdwon!$B$4))","v":"00:00:00"},null,null,"00:00:00",{"$f":"IF(I30<Dropdwon!$A$3,Dropdwon!$B$2,IF(AND(I30<Dropdwon!$A$4,I30>=Dropdwon!$A$3),Dropdwon!$B$3,Dropdwon!$B$4))","v":"00:00:00"},null,null,"00:00:00",{"$f":"IF(M30<Dropdwon!$A$3,Dropdwon!$B$2,IF(AND(M30<Dropdwon!$A$4,M30>=Dropdwon!$A$3),Dropdwon!$B$3,Dropdwon!$B$4))","v":"00:00:00"},"00:00:00","",{"$f":"IF(AND(W30<>\"\",W30<>\"verpflichtende FoBi\",W30<>\"förderliche FoBi\"),R30,IF(AND(W30=\"verpflichtende FoBi\",SUM(E30+I30+M30-O30)<=Dropdwon!$A$5),SUM(E30+I30+M30-O30),IF(AND(W30=\"förderliche FoBi\",SUM(E30+I30+M30-O30)<=Dropdwon!$A$5,SUM(E30+I30+M30-O30)<=R30),SUM(E30+I30+M30-O30),IF(AND(W30=\"förderliche FoBi\",SUM(E30+I30+M30-O30)>R30),R30,IF(AND(X30=\"GD\",SUM(E30+I30+M30-O30)>T30),T30,IF(AND(X30=\"GD\",SUM(E30+I30+M30-O30)<R30),SUM(E30+I30+M30-O30),IF(AND(X30=\"GD\",E30=\"\"),S30,IF(AND(X30=\"GD\",I30=\"\"),S30,IF(AND(X30=\"GD\",M30=\"\"),S30,IF(SUM(E30+I30+M30-O30)>Dropdwon!$A$5,Dropdwon!$C$5,SUM(E30+I30+M30-O30)))))))))))","v":{"$error":"#VALUE!"}},{"$f":"IF(OR(X30=\"x\",A30<STAMMDATENBLATT!$B$32,A30>STAMMDATENBLATT!$D$32),\"0:00\",IF(AND(X30=\"GD\",S30<T30),S30,IF(AND(X30=\"GD\",S30>T30),T30,S30)))","v":{"$error":"#VALUE!"}},{"$f":"IF(OR(X30=\"x\",A30<STAMMDATENBLATT!$B$32,A30>STAMMDATENBLATT!$D$32),\"0:00\",IF(MOD(B30,2)=0,VLOOKUP(WEEKDAY(A30,2),STAMMDATENBLATT!H$28:J$34,3,FALSE),VLOOKUP(WEEKDAY(A30,2),STAMMDATENBLATT!H$38:J$44,3,FALSE)))","v":{"$error":"#VALUE!"}},{"$f":"IF(X30=\"GD\",Feiertage!$E$21,\"\")","v":""},{"$error":"#VALUE!"},null,null,{"$f":"_xlfn.IFNA(VLOOKUP(A30,Feiertage!A:D,3,FALSE),\"\")","v":""},{"$f":"_xlfn.IFNA(VLOOKUP(A30,Feiertage!A:D,4,FALSE),\"\")","v":""}]
["2024-04-26",17,null,null,"00:00:00",{"$f":"IF(E31<Dropdwon!$A$3,Dropdwon!$B$2,IF(AND(E31<Dropdwon!$A$4,E31>=Dropdwon!$A$3),Dropdwon!$B$3,Dropdwon!$B$4))","v":"00:00:00"},null,null,"00:00:00",{"$f":"IF(I31<Dropdwon!$A$3,Dropdwon!$B$2,IF(AND(I31<Dropdwon!$A$4,I31>=Dropdwon!$A$3),Dropdwon!$B$3,Dropdwon!$B$4))","v":"00:00:00"},null,null,"00:00:00",{"$f":"IF(M31<Dropdwon!$A$3,Dropdwon!$B$2,IF(AND(M31<Dropdwon!$A$4,M31>=Dropdwon!$A$3),Dropdwon!$B$3,Dropdwon!$B$4))","v":"00:00:00"},"00:00:00","",{"$f":"IF(AND(W31<>\"\",W31<>\"verpflichtende FoBi\",W31<>\"förderliche FoBi\"),R31,IF(AND(W31=\"verpflichtende FoBi\",SUM(E31+I31+M31-O31)<=Dropdwon!$A$5),SUM(E31+I31+M31-O31),IF(AND(W31=\"förderliche FoBi\",SUM(E31+I31+M31-O31)<=Dropdwon!$A$5,SUM(E31+I31+M31-O31)<=R31),SUM(E31+I31+M31-O31),IF(AND(W31=\"förderliche FoBi\",SUM(E31+I31+M31-O31)>R31),R31,IF(AND(X31=\"GD\",SUM(E31+I31+M31-O31)>T31),T31,IF(AND(X31=\"GD\",SUM(E31+I31+M31-O31)<R31),SUM(E31+I31+M31-O31),IF(AND(X31=\"GD\",E31=\"\"),S31,IF(AND(X31=\"GD\",I31=\"\"),S31,IF(AND(X31=\"GD\",M31=\"\"),S31,IF(SUM(E31+I31+M31-O31)>Dropdwon!$A$5,Dropdwon!$C$5,SUM(E31+I31+M31-O31)))))))))))","v":{"$error":"#VALUE!"}},{"$f":"IF(OR(X31=\"x\",A31<STAMMDATENBLATT!$B$32,A31>STAMMDATENBLATT!$D$32),\"0:00\",IF(AND(X31=\"GD\",S31<T31),S31,IF(AND(X31=\"GD\",S31>T31),T31,S31)))","v":{"$error":"#VALUE!"}},{"$f":"IF(OR(X31=\"x\",A31<STAMMDATENBLATT!$B$32,A31>STAMMDATENBLATT!$D$32),\"0:00\",IF(MOD(B31,2)=0,VLOOKUP(WEEKDAY(A31,2),STAMMDATENBLATT!H$28:J$34,3,FALSE),VLOOKUP(WEEKDAY(A31,2),STAMMDATENBLATT!H$38:J$44,3,FALSE)))","v":{"$error":"#VALUE!"}},{"$f":"IF(X31=\"GD\",Feiertage!$E$21,\"\")","v":""},{"$error":"#VALUE!"},null,null,{"$f":"_xlfn.IFNA(VLOOKUP(A31,Feiertage!A:D,3,FALSE),\"\")","v":""},{"$f":"_xlfn.IFNA(VLOOKUP(A31,Feiertage!A:D,4,FALSE),\"\")","v":""}]
["2024-04-27",17,null,null,"00:00:00",{"$f":"IF(E32<Dropdwon!$A$3,Dropdwon!$B$2,IF(AND(E32<Dropdwon!$A$4,E32>=Dropdwon!$A$3),Dropdwon!$B$3,Dropdwon!$B$4))","v":"00:00:00"},null,null,"00:00:00",{"$f":"IF(I32<Dropdwon!$A$3,Dropdwon!$B$2,IF(AND(I32<Dropdwon!$A$4,I32>=Dropdwon!$A$3),Dropdwon!$B$3,Dropdwon!$B$4))","v":"00:00:00"},null,null,"00:00:00",{"$f":"IF(M32<Dropdwon!$A$3,Dropdwon!$B$2,IF(AND(M32<Dropdwon!$A$4,M32>=Dropdwon!$A$3),Dropdwon!$B$3,Dropdwon!$B$4))","v":"00:00:00"},"00:00:00","",{"$f":"IF(AND(W32<>\"\",W32<>\"verpflichtende FoBi\",W32<>\"förderliche FoBi\"),R32,IF(AND(W32=\"verpflichtende FoBi\",SUM(E32+I32+M32-O32)<=Dropdwon!$A$5),SUM(E32+I32+M32-O32),IF(AND(W32=\"förderliche FoBi\",SUM(E32+I32+M32-O32)<=Dropdwon!$A$5,SUM(E32+I32+M32-O32)<=R32),SUM(E32+I32+M32-O32),IF(AND(W32=\"förderliche FoBi\",SUM(E32+I32+M32-O32)>R32),R32,IF(AND(X32=\"GD\",SUM(E32+I32+M32-O32)>T32),T32,IF(AND(X32=\"GD\",SUM(E32+I32+M32-O32)<R32),SUM(E32+I32+M32-O32),IF(AND(X32=\"GD\",E32=\"\"),S32,IF(AND(X32=\"GD\",I32=\"\"),S32,IF(AND(X32=\"GD\",M32=\"\"),S32,IF(SUM(E32+I32+M32-O32)>Dropdwon!$A$5,Dropdwon!$C$5,SUM(E32+I32+M32-O32)))))))))))","v":"00:00:00"},{"$f":"IF(OR(X32=\"x\",A32<STAMMDATENBLATT!$B$32,A32>STAMMDATENBLATT!$D$32),\"0:00\",IF(AND(X32=\"GD\",S32<T32),S32,IF(AND(X32=\"GD\",S32>T32),T32,S32)))","v":"00:00:00"},{"$f":"IF(OR(X32=\"x\",A32<STAMMDATENBLATT!$B$32,A32>STAMMDATENBLATT!$D$32),\"0:00\",IF(MOD(B32,2)=0,VLOOKUP(WEEKDAY(A32,2),STAMMDATENBLATT!H$28:J$34,3,FALSE),VLOOKUP(WEEKDAY(A32,2),STAMMDATENBLATT!H$38:J$44,3,FALSE)))","v":"00:00:00"},{"$f":"IF(X32=\"GD\",Feiertage!$E$21,\"\")","v":""},"00:00:00",null,null,{"$f":"_xlfn.IFNA(VLOOKUP(A32,Feiertage!A:D,3,FALSE),\"\")","v":""},{"$f":"_xlfn.IFNA(VLOOKUP(A32,Feiertage!A:D,4,FALSE),\"\")","v":""}]
["2024-04-28",17,null,null,"00:00:00",{"$f":"IF(E33<Dropdwon!$A$3,Dropdwon!$B$2,IF(AND(E33<Dropdwon!$A$4,E33>=Dropdwon!$A$3),Dropdwon!$B$3,Dropdwon!$B$4))","v":"00:00:00"},null,null,"00:00:00",{"$f":"IF(I33<Dropdwon!$A$3,Dropdwon!$B$2,IF(AND(I33<Dropdwon!$A$4,I33>=Dropdwon!$A$3),Dropdwon!$B$3,Dropdwon!$B$4))","v":"00:00:00"},null,null,"00:00:00",{"$f":"IF(M33<Dropdwon!$A$3,Dropdwon!$B$2,IF(AND(M33<Dropdwon!$A$4,M33>=Dropdwon!$A$3),Dropdwon!$B$3,Dropdwon!$B$4))","v":"00:00:00"},"00:00:00","",{"$f":"IF(AND(W33<>\"\",W33<>\"verpflichtende FoBi\",W33<>\"förderliche FoBi\"),R33,IF(AND(W33=\"verpflichtende FoBi\",SUM(E33+I33+M33-O33)<=Dropdwon!$A$5),SUM(E33+I33+M33-O33),IF(AND(W33=\"förderliche FoBi\",SUM(E33+I33+M33-O33)<=Dropdwon!$A$5,SUM(E33+I33+M33-O33)<=R33),SUM(E33+I33+M33-O33),IF(AND(W33=\"förderliche FoBi\",SUM(E33+I33+M33-O33)>R33),R33,IF(AND(X33=\"GD\",SUM(E33+I33+M33-O33)>T33),T33,IF(AND(X33=\"GD\",SUM(E33+I33+M33-O33)<R33),SUM(E33+I33+M33-O33),IF(AND(X33=\"GD\",E33=\"\"),S33,IF(AND(X33=\"GD\",I33=\"\"),S33,IF(AND(X33=\"GD\",M33=\"\"),S33,IF(SUM(E33+I33+M33-O33)>Dropdwon!$A$5,Dropdwon!$C$5,SUM(E33+I33+M33-O33)))))))))))","v":"00:00:00"},{"$f":"IF(OR(X33=\"x\",A33<STAMMDATENBLATT!$B$32,A33>STAMMDATENBLATT!$D$32),\"0:00\",IF(AND(X33=\"GD\",S33<T33),S33,IF(AND(X33=\"GD\",S33>T33),T33,S33)))","v":"00:00:00"},{"$f":"IF(OR(X33=\"x\",A33<STAMMDATENBLATT!$B$32,A33>STAMMDATENBLATT!$D$32),\"0:00\",IF(MOD(B33,2)=0,VLOOKUP(WEEKDAY(A33,2),STAMMDATENBLATT!H$28:J$34,3,FALSE),VLOOKUP(WEEKDAY(A33,2),STAMMDATENBLATT!H$38:J$44,3,FALSE)))","v":"00:00:00"},{"$f":"IF(X33=\"GD\",Feiertage!$E$21,\"\")","v":""},"00:00:00",null,null,{"$f":"_xlfn.IFNA(VLOOKUP(A33,Feiertage!A:D,3,FALSE),\"\")","v":""},{"$f":"_xlfn.IFNA(VLOOKUP(A33,Feiertage!A:D,4,FALSE),\"\")","v":""}]
["2024-04-29",18,null,null,"00:00:00",{"$f":"IF(E34<Dropdwon!$A$3,Dropdwon!$B$2,IF(AND(E34<Dropdwon!$A$4,E34>=Dropdwon!$A$3),Dropdwon!$B$3,Dropdwon!$B$4))","v":"00:00:00"},null,null,"00:00:00",{"$f":"IF(I34<Dropdwon!$A$3,Dropdwon!$B$2,IF(AND(I34<Dropdwon!$A$4,I34>=Dropdwon!$A$3),Dropdwon!$B$3,Dropdwon!$B$4))","v":"00:00:00"},null,null,"00:00:00",{"$f":"IF(M34<Dropdwon!$A$3,Dropdwon!$B$2,IF(AND(M34<Dropdwon!$A$4,M34>=Dropdwon!$A$3),Dropdwon!$B$3,Dropdwon!$B$4))","v":"00:00:00"},"00:00:00","",{"$f":"IF(AND(W34<>\"\",W34<>\"verpflichtende FoBi\",W34<>\"förderliche FoBi\"),R34,IF(AND(W34=\"verpflichtende FoBi\",SUM(E34+I34+M34-O34)<=Dropdwon!$A$5),SUM(E34+I34+M34-O34),IF(AND(W34=\"förderliche FoBi\",SUM(E34+I34+M34-O34)<=Dropdwon!$A$5,SUM(E34+I34+M34-O34)<=R34),SUM(E34+I34+M34-O34),IF(AND(W34=\"förderliche FoBi\",SUM(E34+I34+M34-O34)>R34),R34,IF(AND(X34=\"GD\",SUM(E34+I34+M34-O34)>T34),T34,IF(AND(X34=\"GD\",SUM(E34+I34+M34-O34)<R34),SUM(E34+I34+M34-O34),IF(AND(X34=\"GD\",E34=\"\"),S34,IF(AND(X34=\"GD\",I34=\"\"),S34,IF(AND(X34=\"GD\",M34=\"\"),S34,IF(SUM(E34+I34+M34-O34)>Dropdwon!$A$5,Dropdwon!$C$5,SUM(E34+I34+M34-O34)))))))))))","v":{"$error":"#VALUE!"}},{"$f":"IF(OR(X34=\"x\",A34<STAMMDATENBLATT!$B$32,A34>STAMMDATENBLATT!$D$32),\"0:00\",IF(AND(X34=\"GD\",S34<T34),S34,IF(AND(X34=\"GD\",S34>T34),T34,S34)))","v":{"$error":"#VALUE!"}},{"$f":"IF(OR(X34=\"x\",A34<STAMMDATENBLATT!$B$32,A34>STAMMDATENBLATT!$D$32),\"0:00\",IF(MOD(B34,2)=0,VLOOKUP(WEEKDAY(A34,2),STAMMDATENBLATT!H$28:J$34,3,FALSE),VLOOKUP(WEEKDAY(A34,2),STAMMDATENBLATT!H$38:J$44,3,FALSE)))","v":{"$error":"#VALUE!"}},{"$f":"IF(X34=\"GD\",Feiertage!$E$21,\"\")","v":""},{"$error":"#VALUE!"},null,null,{"$f":"_xlfn.IFNA(VLOOKUP(A34,Feiertage!A:D,3,FALSE),\"\")","v":""},{"$f":"_xlfn.IFNA(VLOOKUP(A34,Feiertage!A:D,4,FALSE),\"\")","v":""}]
["2024-04-30",18,null,null,"00:00:00",{"$f":"IF(E35<Dropdwon!$A$3,Dropdwon!$B$2,IF(AND(E35<Dropdwon!$A$4,E35>=Dropdwon!$A$3),Dropdwon!$B$3,Dropdwon!$B$4))","v":"00:00:00"},null,null,"00:00:00",{"$f":"IF(I35<Dropdwon!$A$3,Dropdwon!$B$2,IF(AND(I35<Dropdwon!$A$4,I35>=Dropdwon!$A$3),Dropdwon!$B$3,Dropdwon!$B$4))","v":"00:00:00"},null,null,"00:00:00",{"$f":"IF(M35<Dropdwon!$A$3,Dropdwon!$B$2,IF(AND(M35<Dropdwon!$A$4,M35>=Dropdwon!$A$3),Dropdwon!$B$3,Dropdwon!$B$4))","v":"00:00:00"},"00:00:00","",{"$f":"IF(AND(W35<>\"\",W35<>\"verpflichtende FoBi\",W35<>\"förderliche FoBi\"),R35,IF(AND(W35=\"verpflichtende FoBi\",SUM(E35+I35+M35-O35)<=Dropdwon!$A$5),SUM(E35+I35+M35-O35),IF(AND(W35=\"förderliche FoBi\",SUM(E35+I35+M35-O35)<=Dropdwon!$A$5,SUM(E35+I35+M35-O35)<=R35),SUM(E35+I35+M35-O35),IF(AND(W35=\"förderliche FoBi\",SUM(E35+I35+M35-O35)>R35),R35,IF(AND(X35=\"GD\",SUM(E35+I35+M35-O35)>T35),T35,IF(AND(X35=\"GD\",SUM(E35+I35+M35-O35)<R35),SUM(E35+I35+M35-O35),IF(AND(X35=\"GD\",E35=\"\"),S35,IF(AND(X35=\"GD\",I35=\"\"),S35,IF(AND(X35=\"GD\",M35=\"\"),S35,IF(SUM(E35+I35+M35-O35)>Dropdwon!$A$5,Dropdwon!$C$5,SUM(E35+I35+M35-O35)))))))))))","v":{"$error":"#VALUE!"}},{"$f":"IF(OR(X35=\"x\",A35<STAMMDATENBLATT!$B$32,A35>STAMMDATENBLATT!$D$32),\"0:00\",IF(AND(X35=\"GD\",S35<T35),S35,IF(AND(X35=\"GD\",S35>T35),T35,S35)))","v":{"$error":"#VALUE!"}},{"$f":"IF(OR(X35=\"x\",A35<STAMMDATENBLATT!$B$32,A35>STAMMDATENBLATT!$D$32),\"0:00\",IF(MOD(B35,2)=0,VLOOKUP(WEEKDAY(A35,2),STAMMDATENBLATT!H$28:J$34,3,FALSE),VLOOKUP(WEEKDAY(A35,2),STAMMDATENBLATT!H$38:J$44,3,FALSE)))","v":{"$error":"#VALUE!"}},{"$f":"IF(X35=\"GD\",Feiertage!$E$21,\"\")","v":""},{"$error":"#VALUE!"},null,null,{"$f":"_xlfn.IFNA(VLOOKUP(A35,Feiertage!A:D,3,FALSE),\"\")","v":""},{"$f":"_xlfn.IFNA(VLOOKUP(A35,Feiertage!A:D,4,FALSE),\"\")","v":""}]
[]
[]
["Abschluss Std.konto:",null,{"$f":"SUM(U$1+SUM(U$6:U$36)-U$38)","v":{"$error":"#VALUE!"}},{"$nulls":3},"Auszahlung Mehrarbeit in Std./Minuten:",{"$nulls":13},{"$f":"SUMIF($V$6:$V$36,\"ja\",$U$6:$U$36)","v":0}]
["Abschluss Std. in Dezimal:",null,{"$f":"C38*24","v":{"$error":"#VALUE!"}},{"$nulls":4},"Auszahlung Mehrarbeit in Dezimal:",{"$nulls":12},{"$f":"U38*24","v":{"v":0,"d":"0.00"}}]
[{"$nulls":20},"zur Auszahlung angewiesen:"]
[]
[]
[]
["Ort, Datum / Unterschrift Mitarbeiter/in",{"$nulls":5},"Ort, Datum / Unterschrift Vorgesetzte/r",{"$nulls":13},"Ort, Datum / Unterschrift KGF",{"$nulls":4},{"$f":"STAMMDATENBLATT!$A$22","v":"Version: 01.2024.5"}]

{"sheet":"Mai","index":6,"n_rows":44,"n_cols":23,"rows_kept":44,"merged":[[0,2,0,7],[1,0,1,7],[2,0,2,7],[37,0,37,1],[37,6,37,16],[38,0,38,1],[38,7,38,16],[40,0,42,2],[40,6,42,13],[40,17,42,20]]}
[{"$f":"DATEVALUE(\"01.05.\"&STAMMDATENBLATT!$D$27)","v":"2024-05-01"},null,{"$f":"STAMMDATENBLATT!B27","v":"Vorname Nachname"},{"$nulls":7},{"$f":"STAMMDATENBLATT!$B$30","v":{"v":0,"d":"0.00%"}},{"$f":"IF(STAMMDATENBLATT!$B$29=\"\",\"\",STAMMDATENBLATT!$B$29)","v":""},{"$nulls":5},{"$f":"IF(STAMMDATENBLATT!E7<=STAMMDATENBLATT!$D$35,STAMMDATENBLATT!E7,STAMMDATENBLATT!$D$35)","v":{"$error":"#VALUE!"}}]
[{"$f":"STAMMDATENBLATT!B26","v":0}]
[{"$f":"STAMMDATENBLATT!A26","v":{"$error":"#N/A"}}]
[]
[null,"KW","Beginn 1","Ende 1","IST AZ 1","IST MP 1","Beginn 2","Ende 2","IST AZ 2","IST MP 2","Beginn 3","Ende 3","IST AZ 3","IST MP 3","MP gesamt","IST AZ","SOLL AZ","Differenz","Auszahlung","Abwesenheit","Feiertag","Feiertag","Notiz"]
[{"$f":"A1","v":"2024-05-01"},{"$f":"WEEKNUM(A6,21)","v":18},null,null,{"$f":"IF(AND(WEEKDAY($A6,2)=6,HOUR(C6)>=13),SUM((D6-C6)*1.2),IF(WEEKDAY($A6,2)=7,SUM((D6-C6)*1.25),IF(AND($U6=\"x\",$V6<>\"Gründonnerstag\"),SUM((D6-C6)*1.25),D6-C6)))","v":"00:00:00"},{"$f":"IF(E6<Dropdwon!$A$3,Dropdwon!$B$2,IF(AND(E6<Dropdwon!$A$4,E6>=Dropdwon!$A$3),Dropdwon!$B$3,Dropdwon!$B$4))","v":"00:00:00"},null,null,{"$f":"IF(AND(WEEKDAY($A6,2)=6,HOUR(G6)>=13),SUM((H6-G6)*1.2),IF(WEEKDAY($A6,2)=7,SUM((H6-G6)*1.25),IF(AND($U6=\"x\",$V6<>\"Gründonnerstag\"),SUM((H6-G6)*1.25),H6-G6)))","v":"00:00:00"},{"$f":"IF(I6<Dropdwon!$A$3,Dropdwon!$B$2,IF(AND(I6<Dropdwon!$A$4,I6>=Dropdwon!$A$3),Dropdwon!$B$3,Dropdwon!$B$4))","v":"00:00:00"},null,null,{"$f":"IF(AND(WEEKDAY($A6,2)=6,HOUR(K6)>=13),SUM((L6-K6)*1.2),IF(WEEKDAY($A6,2)=7,SUM((L6-K6)*1.25),IF(AND($U6=\"x\",$V6<>\"Gründonnerstag\"),SUM((L6-K6)*1.25),L6-K6)))","v":"00:00:00"},{"$f":"IF(M6<Dropdwon!$A$3,Dropdwon!$B$2,IF(AND(M6<Dropdwon!$A$4,M6>=Dropdwon!$A$3),Dropdwon!$B$3,Dropdwon!$B$4))","v":"00:00:00"},{"$f":"F6+J6+N6","v":"00:00:00"},{"$f":"IF(AND(T6<>\"\",T6<>\"verpflichtende FoBi\",T6<>\"förderliche FoBi\"),Q6,IF(AND(T6=\"verpflichtende FoBi\",SUM(E6+I6+M6-O6)<=Dropdwon!$A$5),SUM(E6+I6+M6-O6),IF(AND(T6=\"förderliche FoBi\",SUM(E6+I6+M6-O6)<=Dropdwon!$A$5,SUM(E6+I6+M6-O6)<=Q6),SUM(E6+I6+M6-O6),IF(AND(T6=\"förderliche FoBi\",SUM(E6+I6+M6-O6)>Q6),Q6,IF(SUM(E6+I6+M6-O6)>Dropdwon!$A$5,Dropdwon!$C$5,SUM(E6+I6+M6-O6))))))","v":"00:00:00"},{"$f":"IF(OR(U6=\"x\",A6<STAMMDATENBLATT!$B$32,A6>STAMMDATENBLATT!$D$32),\"0:00\",IF(MOD(B6,2)=0,VLOOKUP(WEEKDAY(A6,2),STAMMDATENBLATT!H$28:J$34,3,FALSE),VLOOKUP(WEEKDAY(A6,2),STAMMDATENBLATT!H$38:J$44,3,FALSE)))","v":"0:00"},{"$f":"SUM(P6-Q6)","v":"00:00:00"},null,null,{"$f":"_xlfn.IFNA(VLOOKUP(A6,Feiertage!A:D,3,FALSE),\"\")","v":"x"},{"$f":"_xlfn.IFNA(VLOOKUP(A6,Feiertage!A:D,4,FALSE),\"\")","v":"Tag der Arbeit"}]
[{"$f":"A6+1","v":"2024-05-02"},{"$f":"WEEKNUM(A7,21)","v":18},null,null,{"$f":"IF(AND(WEEKDAY($A7,2)=6,HOUR(C7)>=13),SUM((D7-C7)*1.2),IF(WEEKDAY($A7,2)=7,SUM((D7-C7)*1.25),IF(AND($U7=\"x\",$V7<>\"Gründonnerstag\"),SUM((D7-C7)*1.25),D7-C7)))","v":"00:00:00"},{"$f":"IF(E7<Dropdwon!$A$3,Dropdwon!$B$2,IF(AND(E7<Dropdwon!$A$4,E7>=Dropdwon!$A$3),Dropdwon!$B$3,Dropdwon!$B$4))","v":"00:00:00"},null,null,{"$f":"IF(AND(WEEKDAY($A7,2)=6,HOUR(G7)>=13),SUM((H7-G7)*1.2),IF(WEEKDAY($A7,2)=7,SUM((H7-G7)*1.25),IF(AND($U7=\"x\",$V7<>\"Gründonnerstag\"),SUM((H7-G7)*1.25),H7-G7)))","v":"00:00:00"},{"$f":"IF(I7<Dropdwon!$A$3,Dropdwon!$B$2,IF(AND(I7<Dropdwon!$A$4,I7>=Dropdwon!$A$3),Dropdwon!$B$3,Dropdwon!$B$4))","v":"00:00:00"},null,null,{"$f":"IF(AND(WEEKDAY($A7,2)=6,HOUR(K7)>=13),SUM((L7-K7)*1.2),IF(WEEKDAY($A7,2)=7,SUM((L7-K7)*1.25),IF(AND($U7=\"x\",$V7<>\"Gründonnerstag\"),SUM((L7-K7)*1.25),L7-K7)))","v":"00:00:00"},{"$f":"IF(M7<Dropdwon!$A$3,Dropdwon!$B$2,IF(AND(M7<Dropdwon!$A$4,M7>=Dropdwon!$A$3),Dropdwon!$B$3,Dropdwon!$B$4))","v":"00:00:00"},{"$f":"F7+J7+N7","v":"00:00:00"},{"$f":"IF(AND(T7<>\"\",T7<>\"verpflichtende FoBi\",T7<>\"förderliche FoBi\"),Q7,IF(AND(T7=\"verpflichtende FoBi\",SUM(E7+I7+M7-O7)<=Dropdwon!$A$5),SUM(E7+I7+M7-O7),IF(AND(T7=\"förderliche FoBi\",SUM(E7+I7+M7-O7)<=Dropdwon!$A$5,SUM(E7+I7+M7-O7)<=Q7),SUM(E7+I7+M7-O7),IF(AND(T7=\"förderliche FoBi\",SUM(E7+I7+M7-O7)>Q7),Q7,IF(SUM(E7+I7+M7-O7)>Dropdwon!$A$5,Dropdwon!$C$5,SUM(E7+I7+M7-O7))))))","v":{"$error":"#VALUE!"}},{"$f":"IF(OR(U7=\"x\",A7<STAMMDATENBLATT!$B$32,A7>STAMMDATENBLATT!$D$32),\"0:00\",IF(MOD(B7,2)=0,VLOOKUP(WEEKDAY(A7,2),STAMMDATENBLATT!H$28:J$34,3,FALSE),VLOOKUP(WEEKDAY(A7,2),STAMMDATENBLATT!H$38:J$44,3,FALSE)))","v":{"$error":"#VALUE!"}},{"$error":"#VALUE!"},null,null,{"$f":"_xlfn.IFNA(VLOOKUP(A7,Feiertage!A:D,3,FALSE),\"\")","v":""},{"$f":"_xlfn.IFNA(VLOOKUP(A7,Feiertage!A:D,4,FALSE),\"\")","v":""}]
[{"$f":"A7+1","v":"2024-05-03"},18,null,null,"00:00:00",{"$f":"IF(E8<Dropdwon!$A$3,Dropdwon!$B$2,IF(AND(E8<Dropdwon!$A$4,E8>=Dropdwon!$A$3),Dropdwon!$B$3,Dropdwon!$B$4))","v":"00:00:00"},null,null,"00:00:00",{"$f":"IF(I8<Dropdwon!$A$3,Dropdwon!$B$2,IF(AND(I8<Dropdwon!$A$4,I8>=Dropdwon!$A$3),Dropdwon!$B$3,Dropdwon!$B$4))","v":"00:00:00"},null,null,"00:00:00",{"$f":"IF(M8<Dropdwon!$A$3,Dropdwon!$B$2,IF(AND(M8<Dropdwon!$A$4,M8>=Dropdwon!$A$3),Dropdwon!$B$3,Dropdwon!$B$4))","v":"00:00:00"},{"$f":"F8+J8+N8","v":"00:00:00"},{"$f":"IF(AND(T8<>\"\",T8<>\"verpflichtende FoBi\",T8<>\"förderliche FoBi\"),Q8,IF(AND(T8=\"verpflichtende FoBi\",SUM(E8+I8+M8-O8)<=Dropdwon!$A$5),SUM(E8+I8+M8-O8),IF(AND(T8=\"förderliche FoBi\",SUM(E8+I8+M8-O8)<=Dropdwon!$A$5,SUM(E8+I8+M8-O8)<=Q8),SUM(E8+I8+M8-O8),IF(AND(T8=\"förderliche FoBi\",SUM(E8+I8+M8-O8)>Q8),Q8,IF(SUM(E8+I8+M8-O8)>Dropdwon!$A$5,Dropdwon!$C$5,SUM(E8+I8+M8-O8))))))","v":{"$error":"#VALUE!"}},{"$f":"IF(OR(U8=\"x\",A8<STAMMDATENBLATT!$B$32,A8>STAMMDATENBLATT!$D$32),\"0:00\",IF(MOD(B8,2)=0,VLOOKUP(WEEKDAY(A8,2),STAMMDATENBLATT!H$28:J$34,3,FALSE),VLOOKUP(WEEKDAY(A8,2),STAMMDATENBLATT!H$38:J$44,3,FALSE)))","v":{"$error":"#VALUE!"}},{"$error":"#VALUE!"},null,null,{"$f":"_xlfn.IFNA(VLOOKUP(A8,Feiertage!A:D,3,FALSE),\"\")","v":""},{"$f":"_xlfn.IFNA(VLOOKUP(A8,Feiertage!A:D,4,FALSE),\"\")","v":""}]
[{"$f":"A8+1","v":"2024-05-04"},18,null,null,"00:00:00",{"$f":"IF(E9<Dropdwon!$A$3,Dropdwon!$B$2,IF(AND(E9<Dropdwon!$A$4,E9>=Dropdwon!$A$3),Dropdwon!$B$3,Dropdwon!$B$4))","v":"00:00:00"},null,null,"00:00:00",{"$f":"IF(I9<Dropdwon!$A$3,Dropdwon!$B$2,IF(AND(I9<Dropdwon!$A$4,I9>=Dropdwon!$A$3),Dropdwon!$B$3,Dropdwon!$B$4))","v":"00:00:00"},null,null,"00:00:00",{"$f":"IF(M9<Dropdwon!$A$3,Dropdwon!$B$2,IF(AND(M9<Dropdwon!$A$4,M9>=Dropdwon!$A$3),Dropdwon!$B$3,Dropdwon!$B$4))","v":"00:00:00"},"00:00:00",{"$f":"IF(AND(T9<>\"\",T9<>\"verpflichtende FoBi\",T9<>\"förderliche FoBi\"),Q9,IF(AND(T9=\"verpflichtende FoBi\",SUM(E9+I9+M9-O9)<=Dropdwon!$A$5),SUM(E9+I9+M9-O9),IF(AND(T9=\"förderliche FoBi\",SUM(E9+I9+M9-O9)<=Dropdwon!$A$5,SUM(E9+I9+M9-O9)<=Q9),SUM(E9+I9+M9-O9),IF(AND(T9=\"förderliche FoBi\",SUM(E9+I9+M9-O9)>Q9),Q9,IF(SUM(E9+I9+M9-O9)>Dropdwon!$A$5,Dropdwon!$C$5,SUM(E9+I9+M9-O9))))))","v":"00:00:00"},{"$f":"IF(OR(U9=\"x\",A9<STAMMDATENBLATT!$B$32,A9>STAMMDATENBLATT!$D$32),\"0:00\",IF(MOD(B9,2)=0,VLOOKUP(WEEKDAY(A9,2),STAMMDATENBLATT!H$28:J$34,3,FALSE),VLOOKUP(WEEKDAY(A9,2),STAMMDATENBLATT!H$38:J$44,3,FALSE)))","v":"00:00:00"},"00:00:00",null,null,{"$f":"_xlfn.IFNA(VLOOKUP(A9,Feiertage!A:D,3,FALSE),\"\")","v":""},{"$f":"_xlfn.IFNA(VLOOKUP(A9,Feiertage!A:D,4,FALSE),\"\")","v":""}]
["2024-05-05",18,null,null,"00:00:00",{"$f":"IF(E10<Dropdwon!$A$3,Dropdwon!$B$2,IF(AND(E10<Dropdwon!$A$4,E10>=Dropdwon!$A$3),Dropdwon!$B$3,Dropdwon!$B$4))","v":"00:00:00"},null,null,"00:00:00",{"$f":"IF(I10<Dropdwon!$A$3,Dropdwon!$B$2,IF(AND(I10<Dropdwon!$A$4,I10>=Dropdwon!$A$3),Dropdwon!$B$3,Dropdwon!$B$4))","v":"00:00:00"},null,null,"00:00:00",{"$f":"IF(M10<Dropdwon!$A$3,Dropdwon!$B$2,IF(AND(M10<Dropdwon!$A$4,M10>=Dropdwon!$A$3),Dropdwon!$B$3,Dropdwon!$B$4))","v":"00:00:00"},"00:00:00",{"$f":"IF(AND(T10<>\"\",T10<>\"verpflichtende FoBi\",T10<>\"förderliche FoBi\"),Q10,IF(AND(T10=\"verpflichtende FoBi\",SUM(E10+I10+M10-O10)<=Dropdwon!$A$5),SUM(E10+I10+M10-O10),IF(AND(T10=\"förderliche FoBi\",SUM(E10+I10+M10-O10)<=Dropdwon!$A$5,SUM(E10+I10+M10-O10)<=Q10),SUM(E10+I10+M10-O10),IF(AND(T10=\"förderliche FoBi\",SUM(E10+I10+M10-O10)>Q10),Q10,IF(SUM(E10+I10+M10-O10)>Dropdwon!$A$5,Dropdwon!$C$5,SUM(E10+I10+M10-O10))))))","v":"00:00:00"},{"$f":"IF(OR(U10=\"x\",A10<STAMMDATENBLATT!$B$32,A10>STAMMDATENBLATT!$D$32),\"0:00\",IF(MOD(B10,2)=0,VLOOKUP(WEEKDAY(A10,2),STAMMDATENBLATT!H$28:J$34,3,FALSE),VLOOKUP(WEEKDAY(A10,2),STAMMDATENBLATT!H$38:J$44,3,FALSE)))","v":"00:00:00"},"00:00:00",null,null,{"$f":"_xlfn.IFNA(VLOOKUP(A10,Feiertage!A:D,3,FALSE),\"\")","v":""},{"$f":"_xlfn.IFNA(VLOOKUP(A10,Feiertage!A:D,4,FALSE),\"\")","v":""}]
["2024-05-06",19,null,null,"00:00:00",{"$f":"IF(E11<Dropdwon!$A$3,Dropdwon!$B$2,IF(AND(E11<Dropdwon!$A$4,E11>=Dropdwon!$A$3),Dropdwon!$B$3,Dropdwon!$B$4))","v":"00:00:00"},null,null,"00:00:00",{"$f":"IF(I11<Dropdwon!$A$3,Dropdwon!$B$2,IF(AND(I11<Dropdwon!$A$4,I11>=Dropdwon!$A$3),Dropdwon!$B$3,Dropdwon!$B$4))","v":"00:00:00"},null,null,"00:00:00",{"$f":"IF(M11<Dropdwon!$A$3,Dropdwon!$B$2,IF(AND(M11<Dropdwon!$A$4,M11>=Dropdwon!$A$3),Dropdwon!$B$3,Dropdwon!$B$4))","v":"00:00:00"},"00:00:00",{"$f":"IF(AND(T11<>\"\",T11<>\"verpflichtende FoBi\",T11<>\"förderliche FoBi\"),Q11,IF(AND(T11=\"verpflichtende FoBi\",SUM(E11+I11+M11-O11)<=Dropdwon!$A$5),SUM(E11+I11+M11-O11),IF(AND(T11=\"förderliche FoBi\",SUM(E11+I11+M11-O11)<=Dropdwon!$A$5,SUM(E11+I11+M11-O11)<=Q11),SUM(E11+I11+M11-O11),IF(AND(T11=\"förderliche FoBi\",SUM(E11+I11+M11-O11)>Q11),Q11,IF(SUM(E11+I11+M11-O11)>Dropdwon!$A$5,Dropdwon!$C$5,SUM(E11+I11+M11-O11))))))","v":{"$error":"#VALUE!"}},{"$f":"IF(OR(U11=\"x\",A11<STAMMDATENBLATT!$B$32,A11>STAMMDATENBLATT!$D$32),\"0:00\",IF(MOD(B11,2)=0,VLOOKUP(WEEKDAY(A11,2),STAMMDATENBLATT!H$28:J$34,3,FALSE),VLOOKUP(WEEKDAY(A11,2),STAMMDATENBLATT!H$38:J$44,3,FALSE)))","v":{"$error":"#VALUE!"}},{"$error":"#VALUE!"},null,null,{"$f":"_xlfn.IFNA(VLOOKUP(A11,Feiertage!A:D,3,FALSE),\"\")","v":""},{"$f":"_xlfn.IFNA(VLOOKUP(A11,Feiertage!A:D,4,FALSE),\"\")","v":""}]
["2024-05-07",19,null,null,"00:00:00",{"$f":"IF(E12<Dropdwon!$A$3,Dropdwon!$B$2,IF(AND(E12<Dropdwon!$A$4,E12>=Dropdwon!$A$3),Dropdwon!$B$3,Dropdwon!$B$4))","v":"00:00:00"},null,null,"00:00:00",{"$f":"IF(I12<Dropdwon!$A$3,Dropdwon!$B$2,IF(AND(I12<Dropdwon!$A$4,I12>=Dropdwon!$A$3),Dropdwon!$B$3,Dropdwon!$B$4))","v":"00:00:00"},null,null,"00:00:00",{"$f":"IF(M12<Dropdwon!$A$3,Dropdwon!$B$2,IF(AND(M12<Dropdwon!$A$4,M12>=Dropdwon!$A$3),Dropdwon!$B$3,Dropdwon!$B$4))","v":"00:00:00"},"00:00:00",{"$f":"IF(AND(T12<>\"\",T12<>\"verpflichtende FoBi\",T12<>\"förderliche FoBi\"),Q12,IF(AND(T12=\"verpflichtende FoBi\",SUM(E12+I12+M12-O12)<=Dropdwon!$A$5),SUM(E12+I12+M12-O12),IF(AND(T12=\"förderliche FoBi\",SUM(E12+I12+M12-O12)<=Dropdwon!$A$5,SUM(E12+I12+M12-O12)<=Q12),SUM(E12+I12+M12-O12),IF(AND(T12=\"förderliche FoBi\",SUM(E12+I12+M12-O12)>Q12),Q12,IF(SUM(E12+I12+M12-O12)>Dropdwon!$A$5,Dropdwon!$C$5,SUM(E12+I12+M12-O12))))))","v":{"$error":"#VALUE!"}},{"$f":"IF(OR(U12=\"x\",A12<STAMMDATENBLATT!$B$32,A12>STAMMDATENBLATT!$D$32),\"0:00\",IF(MOD(B12,2)=0,VLOOKUP(WEEKDAY(A12,2),STAMMDATENBLATT!H$28:J$34,3,FALSE),VLOOKUP(WEEKDAY(A12,2),STAMMDATENBLATT!H$38:J$44,3,FALSE)))","v":{"$error":"#VALUE!"}},{"$error":"#VALUE!"},null,null,{"$f":"_xlfn.IFNA(VLOOKUP(A12,Feiertage!A:D,3,FALSE),\"\")","v":""},{"$f":"_xlfn.IFNA(VLOOKUP(A12,Feiertage!A:D,4,FALSE),\"\")","v":""}]
["2024-05-08",19,null,null,"00:00:00",{"$f":"IF(E13<Dropdwon!$A$3,Dropdwon!$B$2,IF(AND(E13<Dropdwon!$A$4,E13>=Dropdwon!$A$3),Dropdwon!$B$3,Dropdwon!$B$4))","v":"00:00:00"},null,null,"00:00:00",{"$f":"IF(I13<Dropdwon!$A$3,Dropdwon!$B$2,IF(AND(I13<Dropdwon!$A$4,I13>=Dropdwon!$A$3),Dropdwon!$B$3,Dropdwon!$B$4))","v":"00:00:00"},null,null,"00:00:00",{"$f":"IF(M13<Dropdwon!$A$3,Dropdwon!$B$2,IF(AND(M13<Dropdwon!$A$4,M13>=Dropdwon!$A$3),Dropdwon!$B$3,Dropdwon!$B$4))","v":"00:00:00"},"00:00:00",{"$f":"IF(AND(T13<>\"\",T13<>\"verpflichtende FoBi\",T13<>\"förderliche FoBi\"),Q13,IF(AND(T13=\"verpflichtende FoBi\",SUM(E13+I13+M13-O13)<=Dropdwon!$A$5),SUM(E13+I13+M13-O13),IF(AND(T13=\"förderliche FoBi\",SUM(E13+I13+M13-O13)<=Dropdwon!$A$5,SUM(E13+I13+M13-O13)<=Q13),SUM(E13+I13+M13-O13),IF(AND(T13=\"förderliche FoBi\",SUM(E13+I13+M13-O13)>Q13),Q13,IF(SUM(E13+I13+M13-O13)>Dropdwon!$A$5,Dropdwon!$C$5,SUM(E13+I13+M13-O13))))))","v":{"$error":"#VALUE!"}},{"$f":"IF(OR(U13=\"x\",A13<STAMMDATENBLATT!$B$32,A13>STAMMDATENBLATT!$D$32),\"0:00\",IF(MOD(B13,2)=0,VLOOKUP(WEEKDAY(A13,2),STAMMDATENBLATT!H$28:J$34,3,FALSE),VLOOKUP(WEEKDAY(A13,2),STAMMDATENBLATT!H$38:J$44,3,FALSE)))","v":{"$error":"#VALUE!"}},{"$error":"#VALUE!"},null,null,{"$f":"_xlfn.IFNA(VLOOKUP(A13,Feiertage!A:D,3,FALSE),\"\")","v":""},{"$f":"_xlfn.IFNA(VLOOKUP(A13,Feiertage!A:D,4,FALSE),\"\")","v":""}]
["2024-05-09",19,null,null,"00:00:00",{"$f":"IF(E14<Dropdwon!$A$3,Dropdwon!$B$2,IF(AND(E14<Dropdwon!$A$4,E14>=Dropdwon!$A$3),Dropdwon!$B$3,Dropdwon!$B$4))","v":"00:00:00"},null,null,"00:00:00",{"$f":"IF(I14<Dropdwon!$A$3,Dropdwon!$B$2,IF(AND(I14<Dropdwon!$A$4,I14>=Dropdwon!$A$3),Dropdwon!$B$3,Dropdwon!$B$4))","v":"00:00:00"},null,null,"00:00:00",{"$f":"IF(M14<Dropdwon!$A$3,Dropdwon!$B$2,IF(AND(M14<Dropdwon!$A$4,M14>=Dropdwon!$A$3),Dropdwon!$B$3,Dropdwon!$B$4))","v":"00:00:00"},"00:00:00",{"$f":"IF(AND(T14<>\"\",T14<>\"verpflichtende FoBi\",T14<>\"förderliche FoBi\"),Q14,IF(AND(T14=\"verpflichtende FoBi\",SUM(E14+I14+M14-O14)<=Dropdwon!$A$5),SUM(E14+I14+M14-O14),IF(AND(T14=\"förderliche FoBi\",SUM(E14+I14+M14-O14)<=Dropdwon!$A$5,SUM(E14+I14+M14-O14)<=Q14),SUM(E14+I14+M14-O14),IF(AND(T14=\"förderliche FoBi\",SUM(E14+I14+M14-O14)>Q14),Q14,IF(SUM(E14+I14+M14-O14)>Dropdwon!$A$5,Dropdwon!$C$5,SUM(E14+I14+M14-O14))))))","v":"00:00:00"},{"$f":"IF(OR(U14=\"x\",A14<STAMMDATENBLATT!$B$32,A14>STAMMDATENBLATT!$D$32),\"0:00\",IF(MOD(B14,2)=0,VLOOKUP(WEEKDAY(A14,2),STAMMDATENBLATT!H$28:J$34,3,FALSE),VLOOKUP(WEEKDAY(A14,2),STAMMDATENBLATT!H$38:J$44,3,FALSE)))","v":"0:00"},"00:00:00",null,null,{"$f":"_xlfn.IFNA(VLOOKUP(A14,Feiertage!A:D,3,FALSE),\"\")","v":"x"},{"$f":"_xlfn.IFNA(VLOOKUP(A14,Feiertage!A:D,4,FALSE),\"\")","v":"Christi Himmelfahrt"}]
["2024-05-10",19,null,null,"00:00:00",{"$f":"IF(E15<Dropdwon!$A$3,Dropdwon!$B$2,IF(AND(E15<Dropdwon!$A$4,E15>=Dropdwon!$A$3),Dropdwon!$B$3,Dropdwon!$B$4))","v":"00:00:00"},null,null,"00:00:00",{"$f":"IF(I15<Dropdwon!$A$3,Dropdwon!$B$2,IF(AND(I15<Dropdwon!$A$4,I15>=Dropdwon!$A$3),Dropdwon!$B$3,Dropdwon!$B$4))","v":"00:00:00"},null,null,"00:00:00",{"$f":"IF(M15<Dropdwon!$A$3,Dropdwon!$B$2,IF(AND(M15<Dropdwon!$A$4,M15>=Dropdwon!$A$3),Dropdwon!$B$3,Dropdwon!$B$4))","v":"00:00:00"},"00:00:00",{"$f":"IF(AND(T15<>\"\",T15<>\"verpflichtende FoBi\",T15<>\"förderliche FoBi\"),Q15,IF(AND(T15=\"verpflichtende FoBi\",SUM(E15+I15+M15-O15)<=Dropdwon!$A$5),SUM(E15+I15+M15-O15),IF(AND(T15=\"förderliche FoBi\",SUM(E15+I15+M15-O15)<=Dropdwon!$A$5,SUM(E15+I15+M15-O15)<=Q15),SUM(E15+I15+M15-O15),IF(AND(T15=\"förderliche FoBi\",SUM(E15+I15+M15-O15)>Q15),Q15,IF(SUM(E15+I15+M15-O15)>Dropdwon!$A$5,Dropdwon!$C$5,SUM(E15+I15+M15-O15))))))","v":{"$error":"#VALUE!"}},{"$f":"IF(OR(U15=\"x\",A15<STAMMDATENBLATT!$B$32,A15>STAMMDATENBLATT!$D$32),\"0:00\",IF(MOD(B15,2)=0,VLOOKUP(WEEKDAY(A15,2),STAMMDATENBLATT!H$28:J$34,3,FALSE),VLOOKUP(WEEKDAY(A15,2),STAMMDATENBLATT!H$38:J$44,3,FALSE)))","v":{"$error":"#VALUE!"}},{"$error":"#VALUE!"},null,null,{"$f":"_xlfn.IFNA(VLOOKUP(A15,Feiertage!A:D,3,FALSE),\"\")","v":""},{"$f":"_xlfn.IFNA(VLOOKUP(A15,Feiertage!A:D,4,FALSE),\"\")","v":""}]
["2024-05-11",19,null,null,"00:00:00",{"$f":"IF(E16<Dropdwon!$A$3,Dropdwon!$B$2,IF(AND(E16<Dropdwon!$A$4,E16>=Dropdwon!$A$3),Dropdwon!$B$3,Dropdwon!$B$4))","v":"00:00:00"},null,null,"00:00:00",{"$f":"IF(I16<Dropdwon!$A$3,Dropdwon!$B$2,IF(AND(I16<Dropdwon!$A$4,I16>=Dropdwon!$A$3),Dropdwon!$B$3,Dropdwon!$B$4))","v":"00:00:00"},null,null,"00:00:00",{"$f":"IF(M16<Dropdwon!$A$3,Dropdwon!$B$2,IF(AND(M16<Dropdwon!$A$4,M16>=Dropdwon!$A$3),Dropdwon!$B$3,Dropdwon!$B$4))","v":"00:00:00"},"00:00:00",{"$f":"IF(AND(T16<>\"\",T16<>\"verpflichtende FoBi\",T16<>\"förderliche FoBi\"),Q16,IF(AND(T16=\"verpflichtende FoBi\",SUM(E16+I16+M16-O16)<=Dropdwon!$A$5),SUM(E16+I16+M16-O16),IF(AND(T16=\"förderliche FoBi\",SUM(E16+I16+M16-O16)<=Dropdwon!$A$5,SUM(E16+I16+M16-O16)<=Q16),SUM(E16+I16+M16-O16),IF(AND(T16=\"förderliche FoBi\",SUM(E16+I16+M16-O16)>Q16),Q16,IF(SUM(E16+I16+M16-O16)>Dropdwon!$A$5,Dropdwon!$C$5,SUM(E16+I16+M16-O16))))))","v":"00:00:00"},{"$f":"IF(OR(U16=\"x\",A16<STAMMDATENBLATT!$B$32,A16>STAMMDATENBLATT!$D$32),\"0:00\",IF(MOD(B16,2)=0,VLOOKUP(WEEKDAY(A16,2),STAMMDATENBLATT!H$28:J$34,3,FALSE),VLOOKUP(WEEKDAY(A16,2),STAMMDATENBLATT!H$38:J$44,3,FALSE)))","v":"00:00:00"},"00:00:00",null,null,{"$f":"_xlfn.IFNA(VLOOKUP(A16,Feiertage!A:D,3,FALSE),\"\")","v":""},{"$f":"_xlfn.IFNA(VLOOKUP(A16,Feiertage!A:D,4,FALSE),\"\")","v":""}]
["2024-05-12",19,null,null,"00:00:00",{"$f":"IF(E17<Dropdwon!$A$3,Dropdwon!$B$2,IF(AND(E17<Dropdwon!$A$4,E17>=Dropdwon!$A$3),Dropdwon!$B$3,Dropdwon!$B$4))","v":"00:00:00"},null,null,"00:00:00",{"$f":"IF(I17<Dropdwon!$A$3,Dropdwon!$B$2,IF(AND(I17<Dropdwon!$A$4,I17>=Dropdwon!$A$3),Dropdwon!$B$3,Dropdwon!$B$4))","v":"00:00:00"},null,null,"00:00:00",{"$f":"IF(M17<Dropdwon!$A$3,Dropdwon!$B$2,IF(AND(M17<Dropdwon!$A$4,M17>=Dropdwon!$A$3),Dropdwon!$B$3,Dropdwon!$B$4))","v":"00:00:00"},"00:00:00",{"$f":"IF(AND(T17<>\"\",T17<>\"verpflichtende FoBi\",T17<>\"förderliche FoBi\"),Q17,IF(AND(T17=\"verpflichtende FoBi\",SUM(E17+I17+M17-O17)<=Dropdwon!$A$5),SUM(E17+I17+M17-O17),IF(AND(T17=\"förderliche FoBi\",SUM(E17+I17+M17-O17)<=Dropdwon!$A$5,SUM(E17+I17+M17-O17)<=Q17),SUM(E17+I17+M17-O17),IF(AND(T17=\"förderliche FoBi\",SUM(E17+I17+M17-O17)>Q17),Q17,IF(SUM(E17+I17+M17-O17)>Dropdwon!$A$5,Dropdwon!$C$5,SUM(E17+I17+M17-O17))))))","v":"00:00:00"},{"$f":"IF(OR(U17=\"x\",A17<STAMMDATENBLATT!$B$32,A17>STAMMDATENBLATT!$D$32),\"0:00\",IF(MOD(B17,2)=0,VLOOKUP(WEEKDAY(A17,2),STAMMDATENBLATT!H$28:J$34,3,FALSE),VLOOKUP(WEEKDAY(A17,2),STAMMDATENBLATT!H$38:J$44,3,FALSE)))","v":"00:00:00"},"00:00:00",null,null,{"$f":"_xlfn.IFNA(VLOOKUP(A17,Feiertage!A:D,3,FALSE),\"\")","v":""},{"$f":"_xlfn.IFNA(VLOOKUP(A17,Feiertage!A:D,4,FALSE),\"\")","v":""}]
["2024-05-13",20,null,null,"00:00:00",{"$f":"IF(E18<Dropdwon!$A$3,Dropdwon!$B$2,IF(AND(E18<Dropdwon!$A$4,E18>=Dropdwon!$A$3),Dropdwon!$B$3,Dropdwon!$B$4))","v":"00:00:00"},null,null,"00:00:00",{"$f":"IF(I18<Dropdwon!$A$3,Dropdwon!$B$2,IF(AND(I18<Dropdwon!$A$4,I18>=Dropdwon!$A$3),Dropdwon!$B$3,Dropdwon!$B$4))","v":"00:00:00"},null,null,"00:00:00",{"$f":"IF(M18<Dropdwon!$A$3,Dropdwon!$B$2,IF(AND(M18<Dropdwon!$A$4,M18>=Dropdwon!$A$3),Dropdwon!$B$3,Dropdwon!$B$4))","v":"00:00:00"},"00:00:00",{"$f":"IF(AND(T18<>\"\",T18<>\"verpflichtende FoBi\",T18<>\"förderliche FoBi\"),Q18,IF(AND(T18=\"verpflichtende FoBi\",SUM(E18+I18+M18-O18)<=Dropdwon!$A$5),SUM(E18+I18+M18-O18),IF(AND(T18=\"förderliche FoBi\",SUM(E18+I18+M18-O18)<=Dropdwon!$A$5,SUM(E18+I18+M18-O18)<=Q18),SUM(E18+I18+M18-O18),IF(AND(T18=\"förderliche FoBi\",SUM(E18+I18+M18-O18)>Q18),Q18,IF(SUM(E18+I18+M18-O18)>Dropdwon!$A$5,Dropdwon!$C$5,SUM(E18+I18+M18-O18))))))","v":{"$error":"#VALUE!"}},{"$f":"IF(OR(U18=\"x\",A18<STAMMDATENBLATT!$B$32,A18>STAMMDATENBLATT!$D$32),\"0:00\",IF(MOD(B18,2)=0,VLOOKUP(WEEKDAY(A18,2),STAMMDATENBLATT!H$28:J$34,3,FALSE),VLOOKUP(WEEKDAY(A18,2),STAMMDATENBLATT!H$38:J$44,3,FALSE)))","v":{"$error":"#VALUE!"}},{"$error":"#VALUE!"},null,null,{"$f":"_xlfn.IFNA(VLOOKUP(A18,Feiertage!A:D,3,FALSE),\"\")","v":""},{"$f":"_xlfn.IFNA(VLOOKUP(A18,Feiertage!A:D,4,FALSE),\"\")","v":""}]
["2024-05-14",20,null,null,"00:00:00",{"$f":"IF(E19<Dropdwon!$A$3,Dropdwon!$B$2,IF(AND(E19<Dropdwon!$A$4,E19>=Dropdwon!$A$3),Dropdwon!$B$3,Dropdwon!$B$4))","v":"00:00:00"},null,null,"00:00:00",{"$f":"IF(I19<Dropdwon!$A$3,Dropdwon!$B$2,IF(AND(I19<Dropdwon!$A$4,I19>=Dropdwon!$A$3),Dropdwon!$B$3,Dropdwon!$B$4))","v":"00:00:00"},null,null,"00:00:00",{"$f":"IF(M19<Dropdwon!$A$3,Dropdwon!$B$2,IF(AND(M19<Dropdwon!$A$4,M19>=Dropdwon!$A$3),Dropdwon!$B$3,Dropdwon!$B$4))","v":"00:00:00"},"00:00:00",{"$f":"IF(AND(T19<>\"\",T19<>\"verpflichtende FoBi\",T19<>\"förderliche FoBi\"),Q19,IF(AND(T19=\"verpflichtende FoBi\",SUM(E19+I19+M19-O19)<=Dropdwon!$A$5),SUM(E19+I19+M19-O19),IF(AND(T19=\"förderliche FoBi\",SUM(E19+I19+M19-O19)<=Dropdwon!$A$5,SUM(E19+I19+M19-O19)<=Q19),SUM(E19+I19+M19-O19),IF(AND(T19=\"förderliche FoBi\",SUM(E19+I19+M19-O19)>Q19),Q19,IF(SUM(E19+I19+M19-O19)>Dropdwon!$A$5,Dropdwon!$C$5,SUM(E19+I19+M19-O19))))))","v":{"$error":"#VALUE!"}},{"$f":"IF(OR(U19=\"x\",A19<STAMMDATENBLATT!$B$32,A19>STAMMDATENBLATT!$D$32),\"0:00\",IF(MOD(B19,2)=0,VLOOKUP(WEEKDAY(A19,2),STAMMDATENBLATT!H$28:J$34,3,FALSE),VLOOKUP(WEEKDAY(A19,2),STAMMDATENBLATT!H$38:J$44,3,FALSE)))","v":{"$error":"#VALUE!"}},{"$error":"#VALUE!"},null,null,{"$f":"_xlfn.IFNA(VLOOKUP(A19,Feiertage!A:D,3,FALSE),\"\")","v":""},{"$f":"_xlfn.IFNA(VLOOKUP(A19,Feiertage!A:D,4,FALSE),\"\")","v":""}]
["2024-05-15",20,null,null,"00:00:00",{"$f":"IF(E20<Dropdwon!$A$3,Dropdwon!$B$2,IF(AND(E20<Dropdwon!$A$4,E20>=Dropdwon!$A$3),Dropdwon!$B$3,Dropdwon!$B$4))","v":"00:00:00"},null,null,"00:00:00",{"$f":"IF(I20<Dropdwon!$A$3,Dropdwon!$B$2,IF(AND(I20<Dropdwon!$A$4,I20>=Dropdwon!$A$3),Dropdwon!$B$3,Dropdwon!$B$4))","v":"00:00:00"},null,null,"00:00:00",{"$f":"IF(M20<Dropdwon!$A$3,Dropdwon!$B$2,IF(AND(M20<Dropdwon!$A$4,M20>=Dropdwon!$A$3),Dropdwon!$B$3,Dropdwon!$B$4))","v":"00:00:00"},"00:00:00",{"$f":"IF(AND(T20<>\"\",T20<>\"verpflichtende FoBi\",T20<>\"förderliche FoBi\"),Q20,IF(AND(T20=\"verpflichtende FoBi\",SUM(E20+I20+M20-O20)<=Dropdwon!$A$5),SUM(E20+I20+M20-O20),IF(AND(T20=\"förderliche FoBi\",SUM(E20+I20+M20-O20)<=Dropdwon!$A$5,SUM(E20+I20+M20-O20)<=Q20),SUM(E20+I20+M20-O20),IF(AND(T20=\"förderliche FoBi\",SUM(E20+I20+M20-O20)>Q20),Q20,IF(SUM(E20+I20+M20-O20)>Dropdwon!$A$5,Dropdwon!$C$5,SUM(E20+I20+M20-O20))))))","v":{"$error":"#VALUE!"}},{"$f":"IF(OR(U20=\"x\",A20<STAMMDATENBLATT!$B$32,A20>STAMMDATENBLATT!$D$32),\"0:00\",IF(MOD(B20,2)=0,VLOOKUP(WEEKDAY(A20,2),STAMMDATENBLATT!H$28:J$34,3,FALSE),VLOOKUP(WEEKDAY(A20,2),STAMMDATENBLATT!H$38:J$44,3,FALSE)))","v":{"$error":"#VALUE!"}},{"$error":"#VALUE!"},null,null,{"$f":"_xlfn.IFNA(VLOOKUP(A20,Feiertage!A:D,3,FALSE),\"\")","v":""},{"$f":"_xlfn.IFNA(VLOOKUP(A20,Feiertage!A:D,4,FALSE),\"\")","v":""}]
["2024-05-16",20,null,null,"00:00:00",{"$f":"IF(E21<Dropdwon!$A$3,Dropdwon!$B$2,IF(AND(E21<Dropdwon!$A$4,E21>=Dropdwon!$A$3),Dropdwon!$B$3,Dropdwon!$B$4))","v":"00:00:00"},null,null,"00:00:00",{"$f":"IF(I21<Dropdwon!$A$3,Dropdwon!$B$2,IF(AND(I21<Dropdwon!$A$4,I21>=Dropdwon!$A$3),Dropdwon!$B$3,Dropdwon!$B$4))","v":"00:00:00"},null,null,"00:00:00",{"$f":"IF(M21<Dropdwon!$A$3,Dropdwon!$B$2,IF(AND(M21<Dropdwon!$A$4,M21>=Dropdwon!$A$3),Dropdwon!$B$3,Dropdwon!$B$4))","v":"00:00:00"},"00:00:00",{"$f":"IF(AND(T21<>\"\",T21<>\"verpflichtende FoBi\",T21<>\"förderliche FoBi\"),Q21,IF(AND(T21=\"verpflichtende FoBi\",SUM(E21+I21+M21-O21)<=Dropdwon!$A$5),SUM(E21+I21+M21-O21),IF(AND(T21=\"förderliche FoBi\",SUM(E21+I21+M21-O21)<=Dropdwon!$A$5,SUM(E21+I21+M21-O21)<=Q21),SUM(E21+I21+M21-O21),IF(AND(T21=\"förderliche FoBi\",SUM(E21+I21+M21-O21)>Q21),Q21,IF(SUM(E21+I21+M21-O21)>Dropdwon!$A$5,Dropdwon!$C$5,SUM(E21+I21+M21-O21))))))","v":{"$error":"#VALUE!"}},{"$f":"IF(OR(U21=\"x\",A21<STAMMDATENBLATT!$B$32,A21>STAMMDATENBLATT!$D$32),\"0:00\",IF(MOD(B21,2)=0,VLOOKUP(WEEKDAY(A21,2),STAMMDATENBLATT!H$28:J$34,3,FALSE),VLOOKUP(WEEKDAY(A21,2),STAMMDATENBLATT!H$38:J$44,3,FALSE)))","v":{"$error":"#VALUE!"}},{"$error":"#VALUE!"},null,null,{"$f":"_xlfn.IFNA(VLOOKUP(A21,Feiertage!A:D,3,FALSE),\"\")","v":""},{"$f":"_xlfn.IFNA(VLOOKUP(A21,Feiertage!A:D,4,FALSE),\"\")","v":""}]
["2024-05-17",20,null,null,"00:00:00",{"$f":"IF(E22<Dropdwon!$A$3,Dropdwon!$B$2,IF(AND(E22<Dropdwon!$A$4,E22>=Dropdwon!$A$3),Dropdwon!$B$3,Dropdwon!$B$4))","v":"00:00:00"},null,null,"00:00:00",{"$f":"IF(I22<Dropdwon!$A$3,Dropdwon!$B$2,IF(AND(I22<Dropdwon!$A$4,I22>=Dropdwon!$A$3),Dropdwon!$B$3,Dropdwon!$B$4))","v":"00:00:00"},null,null,"00:00:00",{"$f":"IF(M22<Dropdwon!$A$3,Dropdwon!$B$2,IF(AND(M22<Dropdwon!$A$4,M22>=Dropdwon!$A$3),Dropdwon!$B$3,Dropdwon!$B$4))","v":"00:00:00"},"00:00:00",{"$f":"IF(AND(T22<>\"\",T22<>\"verpflichtende FoBi\",T22<>\"förderliche FoBi\"),Q22,IF(AND(T22=\"verpflichtende FoBi\",SUM(E22+I22+M22-O22)<=Dropdwon!$A$5),SUM(E22+I22+M22-O22),IF(AND(T22=\"förderliche FoBi\",SUM(E22+I22+M22-O22)<=Dropdwon!$A$5,SUM(E22+I22+M22-O22)<=Q22),SUM(E22+I22+M22-O22),IF(AND(T22=\"förderliche FoBi\",SUM(E22+I22+M22-O22)>Q22),Q22,IF(SUM(E22+I22+M22-O22)>Dropdwon!$A$5,Dropdwon!$C$5,SUM(E22+I22+M22-O22))))))","v":{"$error":"#VALUE!"}},{"$f":"IF(OR(U22=\"x\",A22<STAMMDATENBLATT!$B$32,A22>STAMMDATENBLATT!$D$32),\"0:00\",IF(MOD(B22,2)=0,VLOOKUP(WEEKDAY(A22,2),STAMMDATENBLATT!H$28:J$34,3,FALSE),VLOOKUP(WEEKDAY(A22,2),STAMMDATENBLATT!H$38:J$44,3,FALSE)))","v":{"$error":"#VALUE!"}},{"$error":"#VALUE!"},null,null,{"$f":"_xlfn.IFNA(VLOOKUP(A22,Feiertage!A:D,3,FALSE),\"\")","v":""},{"$f":"_xlfn.IFNA(VLOOKUP(A22,Feiertage!A:D,4,FALSE),\"\")","v":""}]
["2024-05-18",20,null,null,"00:00:00",{"$f":"IF(E23<Dropdwon!$A$3,Dropdwon!$B$2,IF(AND(E23<Dropdwon!$A$4,E23>=Dropdwon!$A$3),Dropdwon!$B$3,Dropdwon!$B$4))","v":"00:00:00"},null,null,"00:00:00",{"$f":"IF(I23<Dropdwon!$A$3,Dropdwon!$B$2,IF(AND(I23<Dropdwon!$A$4,I23>=Dropdwon!$A$3),Dropdwon!$B$3,Dropdwon!$B$4))","v":"00:00:00"},null,null,"00:00:00",{"$f":"IF(M23<Dropdwon!$A$3,Dropdwon!$B$2,IF(AND(M23<Dropdwon!$A$4,M23>=Dropdwon!$A$3),Dropdwon!$B$3,Dropdwon!$B$4))","v":"00:00:00"},"00:00:00",{"$f":"IF(AND(T23<>\"\",T23<>\"verpflichtende FoBi\",T23<>\"förderliche FoBi\"),Q23,IF(AND(T23=\"verpflichtende FoBi\",SUM(E23+I23+M23-O23)<=Dropdwon!$A$5),SUM(E23+I23+M23-O23),IF(AND(T23=\"förderliche FoBi\",SUM(E23+I23+M23-O23)<=Dropdwon!$A$5,SUM(E23+I23+M23-O23)<=Q23),SUM(E23+I23+M23-O23),IF(AND(T23=\"förderliche FoBi\",SUM(E23+I23+M23-O23)>Q23),Q23,IF(SUM(E23+I23+M23-O23)>Dropdwon!$A$5,Dropdwon!$C$5,SUM(E23+I23+M23-O23))))))","v":"00:00:00"},{"$f":"IF(OR(U23=\"x\",A23<STAMMDATENBLATT!$B$32,A23>STAMMDATENBLATT!$D$32),\"0:00\",IF(MOD(B23,2)=0,VLOOKUP(WEEKDAY(A23,2),STAMMDATENBLATT!H$28:J$34,3,FALSE),VLOOKUP(WEEKDAY(A23,2),STAMMDATENBLATT!H$38:J$44,3,FALSE)))","v":"00:00:00"},"00:00:00",null,null,{"$f":"_xlfn.IFNA(VLOOKUP(A23,Feiertage!A:D,3,FALSE),\"\")","v":""},{"$f":"_xlfn.IFNA(VLOOKUP(A23,Feiertage!A:D,4,FALSE),\"\")","v":""}]
["2024-05-19",20,null,null,"00:00:00",{"$f":"IF(E24<Dropdwon!$A$3,Dropdwon!$B$2,IF(AND(E24<Dropdwon!$A$4,E24>=Dropdwon!$A$3),Dropdwon!$B$3,Dropdwon!$B$4))","v":"00:00:00"},null,null,"00:00:00",{"$f":"IF(I24<Dropdwon!$A$3,Dropdwon!$B$2,IF(AND(I24<Dropdwon!$A$4,I24>=Dropdwon!$A$3),Dropdwon!$B$3,Dropdwon!$B$4))","v":"00:00:00"},null,null,"00:00:00",{"$f":"IF(M24<Dropdwon!$A$3,Dropdwon!$B$2,IF(AND(M24<Dropdwon!$A$4,M24>=Dropdwon!$A$3),Dropdwon!$B$3,Dropdwon!$B$4))","v":"00:00:00"},"00:00:00",{"$f":"IF(AND(T24<>\"\",T24<>\"verpflichtende FoBi\",T24<>\"förderliche FoBi\"),Q24,IF(AND(T24=\"verpflichtende FoBi\",SUM(E24+I24+M24-O24)<=Dropdwon!$A$5),SUM(E24+I24+M24-O24),IF(AND(T24=\"förderliche FoBi\",SUM(E24+I24+M24-O24)<=Dropdwon!$A$5,SUM(E24+I24+M24-O24)<=Q24),SUM(E24+I24+M24-O24),IF(AND(T24=\"förderliche FoBi\",SUM(E24+I24+M24-O24)>Q24),Q24,IF(SUM(E24+I24+M24-O24)>Dropdwon!$A$5,Dropdwon!$C$5,SUM(E24+I24+M24-O24))))))","v":"00:00:00"},{"$f":"IF(OR(U24=\"x\",A24<STAMMDATENBLATT!$B$32,A24>STAMMDATENBLATT!$D$32),\"0:00\",IF(MOD(B24,2)=0,VLOOKUP(WEEKDAY(A24,2),STAMMDATENBLATT!H$28:J$34,3,FALSE),VLOOKUP(WEEKDAY(A24,2),STAMMDATENBLATT!H$38:J$44,3,FALSE)))","v":"0:00"},"00:00:00",null,null,{"$f":"_xlfn.IFNA(VLOOKUP(A24,Feiertage!A:D,3,FALSE),\"\")","v":"x"},{"$f":"_xlfn.IFNA(VLOOKUP(A24,Feiertage!A:D,4,FALSE),\"\")","v":"Pfingstsonntag"}]
["2024-05-20",21,null,null,"00:00:00",{"$f":"IF(E25<Dropdwon!$A$3,Dropdwon!$B$2,IF(AND(E25<Dropdwon!$A$4,E25>=Dropdwon!$A$3),Dropdwon!$B$3,Dropdwon!$B$4))","v":"00:00:00"},null,null,"00:00:00",{"$f":"IF(I25<Dropdwon!$A$3,Dropdwon!$B$2,IF(AND(I25<Dropdwon!$A$4,I25>=Dropdwon!$A$3),Dropdwon!$B$3,Dropdwon!$B$4))","v":"00:00:00"},null,null,"00:00:00",{"$f":"IF(M25<Dropdwon!$A$3,Dropdwon!$B$2,IF(AND(M25<Dropdwon!$A$4,M25>=Dropdwon!$A$3),Dropdwon!$B$3,Dropdwon!$B$4))","v":"00:00:00"},"00:00:00",{"$f":"IF(AND(T25<>\"\",T25<>\"verpflichtende FoBi\",T25<>\"förderliche FoBi\"),Q25,IF(AND(T25=\"verpflichtende FoBi\",SUM(E25+I25+M25-O25)<=Dropdwon!$A$5),SUM(E25+I25+M25-O25),IF(AND(T25=\"förderliche FoBi\",SUM(E25+I25+M25-O25)<=Dropdwon!$A$5,SUM(E25+I25+M25-O25)<=Q25),SUM(E25+I25+M25-O25),IF(AND(T25=\"förderliche FoBi\",SUM(E25+I25+M25-O25)>Q25),Q25,IF(SUM(E25+I25+M25-O25)>Dropdwon!$A$5,Dropdwon!$C$5,SUM(E25+I25+M25-O25))))))","v":"00:00:00"},{"$f":"IF(OR(U25=\"x\",A25<STAMMDATENBLATT!$B$32,A25>STAMMDATENBLATT!$D$32),\"0:00\",IF(MOD(B25,2)=0,VLOOKUP(WEEKDAY(A25,2),STAMMDATENBLATT!H$28:J$34,3,FALSE),VLOOKUP(WEEKDAY(A25,2),STAMMDATENBLATT!H$38:J$44,3,FALSE)))","v":"0:00"},"00:00:00",null,null,{"$f":"_xlfn.IFNA(VLOOKUP(A25,Feiertage!A:D,3,FALSE),\"\")","v":"x"},{"$f":"_xlfn.IFNA(VLOOKUP(A25,Feiertage!A:D,4,FALSE),\"\")","v":"Pfingstmontag"}]
["2024-05-21",21,null,null,"00:00:00",{"$f":"IF(E26<Dropdwon!$A$3,Dropdwon!$B$2,IF(AND(E26<Dropdwon!$A$4,E26>=Dropdwon!$A$3),Dropdwon!$B$3,Dropdwon!$B$4))","v":"00:00:00"},null,null,"00:00:00",{"$f":"IF(I26<Dropdwon!$A$3,Dropdwon!$B$2,IF(AND(I26<Dropdwon!$A$4,I26>=Dropdwon!$A$3),Dropdwon!$B$3,Dropdwon!$B$4))","v":"00:00:00"},null,null,"00:00:00",{"$f":"IF(M26<Dropdwon!$A$3,Dropdwon!$B$2,IF(AND(M26<Dropdwon!$A$4,M26>=Dropdwon!$A$3),Dropdwon!$B$3,Dropdwon!$B$4))","v":"00:00:00"},"00:00:00",{"$f":"IF(AND(T26<>\"\",T26<>\"verpflichtende FoBi\",T26<>\"förderliche FoBi\"),Q26,IF(AND(T26=\"verpflichtende FoBi\",SUM(E26+I26+M26-O26)<=Dropdwon!$A$5),SUM(E26+I26+M26-O26),IF(AND(T26=\"förderliche FoBi\",SUM(E26+I26+M26-O26)<=Dropdwon!$A$5,SUM(E26+I26+M26-O26)<=Q26),SUM(E26+I26+M26-O26),IF(AND(T26=\"förderliche FoBi\",SUM(E26+I26+M26-O26)>Q26),Q26,IF(SUM(E26+I26+M26-O26)>Dropdwon!$A$5,Dropdwon!$C$5,SUM(E26+I26+M26-O26))))))","v":{"$error":"#VALUE!"}},{"$f":"IF(OR(U26=\"x\",A26<STAMMDATENBLATT!$B$32,A26>STAMMDATENBLATT!$D$32),\"0:00\",IF(MOD(B26,2)=0,VLOOKUP(WEEKDAY(A26,2),STAMMDATENBLATT!H$28:J$34,3,FALSE),VLOOKUP(WEEKDAY(A26,2),STAMMDATENBLATT!H$38:J$44,3,FALSE)))","v":{"$error":"#VALUE!"}},{"$error":"#VALUE!"},null,null,{"$f":"_xlfn.IFNA(VLOOKUP(A26,Feiertage!A:D,3,FALSE),\"\")","v":""},{"$f":"_xlfn.IFNA(VLOOKUP(A26,Feiertage!A:D,4,FALSE),\"\")","v":""}]
["2024-05-22",21,null,null,"00:00:00",{"$f":"IF(E27<Dropdwon!$A$3,Dropdwon!$B$2,IF(AND(E27<Dropdwon!$A$4,E27>=Dropdwon!$A$3),Dropdwon!$B$3,Dropdwon!$B$4))","v":"00:00:00"},null,null,"00:00:00",{"$f":"IF(I27<Dropdwon!$A$3,Dropdwon!$B$2,IF(AND(I27<Dropdwon!$A$4,I27>=Dropdwon!$A$3),Dropdwon!$B$3,Dropdwon!$B$4))","v":"00:00:00"},null,null,"00:00:00",{"$f":"IF(M27<Dropdwon!$A$3,Dropdwon!$B$2,IF(AND(M27<Dropdwon!$A$4,M27>=Dropdwon!$A$3),Dropdwon!$B$3,Dropdwon!$B$4))","v":"00:00:00"},"00:00:00",{"$f":"IF(AND(T27<>\"\",T27<>\"verpflichtende FoBi\",T27<>\"förderliche FoBi\"),Q27,IF(AND(T27=\"verpflichtende FoBi\",SUM(E27+I27+M27-O27)<=Dropdwon!$A$5),SUM(E27+I27+M27-O27),IF(AND(T27=\"förderliche FoBi\",SUM(E27+I27+M27-O27)<=Dropdwon!$A$5,SUM(E27+I27+M27-O27)<=Q27),SUM(E27+I27+M27-O27),IF(AND(T27=\"förderliche FoBi\",SUM(E27+I27+M27-O27)>Q27),Q27,IF(SUM(E27+I27+M27-O27)>Dropdwon!$A$5,Dropdwon!$C$5,SUM(E27+I27+M27-O27))))))","v":{"$error":"#VALUE!"}},{"$f":"IF(OR(U27=\"x\",A27<STAMMDATENBLATT!$B$32,A27>STAMMDATENBLATT!$D$32),\"0:00\",IF(MOD(B27,2)=0,VLOOKUP(WEEKDAY(A27,2),STAMMDATENBLATT!H$28:J$34,3,FALSE),VLOOKUP(WEEKDAY(A27,2),STAMMDATENBLATT!H$38:J$44,3,FALSE)))","v":{"$error":"#VALUE!"}},{"$error":"#VALUE!"},null,null,{"$f":"_xlfn.IFNA(VLOOKUP(A27,Feiertage!A:D,3,FALSE),\"\")","v":""},{"$f":"_xlfn.IFNA(VLOOKUP(A27,Feiertage!A:D,4,FALSE),\"\")","v":""}]
["2024-05-23",21,null,null,"00:00:00",{"$f":"IF(E28<Dropdwon!$A$3,Dropdwon!$B$2,IF(AND(E28<Dropdwon!$A$4,E28>=Dropdwon!$A$3),Dropdwon!$B$3,Dropdwon!$B$4))","v":"00:00:00"},null,null,"00:00:00",{"$f":"IF(I28<Dropdwon!$A$3,Dropdwon!$B$2,IF(AND(I28<Dropdwon!$A$4,I28>=Dropdwon!$A$3),Dropdwon!$B$3,Dropdwon!$B$4))","v":"00:00:00"},null,null,"00:00:00",{"$f":"IF(M28<Dropdwon!$A$3,Dropdwon!$B$2,IF(AND(M28<Dropdwon!$A$4,M28>=Dropdwon!$A$3),Dropdwon!$B$3,Dropdwon!$B$4))","v":"00:00:00"},"00:00:00",{"$f":"IF(AND(T28<>\"\",T28<>\"verpflichtende FoBi\",T28<>\"förderliche FoBi\"),Q28,IF(AND(T28=\"verpflichtende FoBi\",SUM(E28+I28+M28-O28)<=Dropdwon!$A$5),SUM(E28+I28+M28-O28),IF(AND(T28=\"förderliche FoBi\",SUM(E28+I28+M28-O28)<=Dropdwon!$A$5,SUM(E28+I28+M28-O28)<=Q28),SUM(E28+I28+M28-O28),IF(AND(T28=\"förderliche FoBi\",SUM(E28+I28+M28-O28)>Q28),Q28,IF(SUM(E28+I28+M28-O28)>Dropdwon!$A$5,Dropdwon!$C$5,SUM(E28+I28+M28-O28))))))","v":{"$error":"#VALUE!"}},{"$f":"IF(OR(U28=\"x\",A28<STAMMDATENBLATT!$B$32,A28>STAMMDATENBLATT!$D$32),\"0:00\",IF(MOD(B28,2)=0,VLOOKUP(WEEKDAY(A28,2),STAMMDATENBLATT!H$28:J$34,3,FALSE),VLOOKUP(WEEKDAY(A28,2),STAMMDATENBLATT!H$38:J$44,3,FALSE)))","v":{"$error":"#VALUE!"}},{"$error":"#VALUE!"},null,null,{"$f":"_xlfn.IFNA(VLOOKUP(A28,Feiertage!A:D,3,FALSE),\"\")","v":""},{"$f":"_xlfn.IFNA(VLOOKUP(A28,Feiertage!A:D,4,FALSE),\"\")","v":""}]
["2024-05-24",21,null,null,"00:00:00",{"$f":"IF(E29<Dropdwon!$A$3,Dropdwon!$B$2,IF(AND(E29<Dropdwon!$A$4,E29>=Dropdwon!$A$3),Dropdwon!$B$3,Dropdwon!$B$4))","v":"00:00:00"},null,null,"00:00:00",{"$f":"IF(I29<Dropdwon!$A$3,Dropdwon!$B$2,IF(AND(I29<Dropdwon!$A$4,I29>=Dropdwon!$A$3),Dropdwon!$B$3,Dropdwon!$B$4))","v":"00:00:00"},null,null,"00:00:00",{"$f":"IF(M29<Dropdwon!$A$3,Dropdwon!$B$2,IF(AND(M29<Dropdwon!$A$4,M29>=Dropdwon!$A$3),Dropdwon!$B$3,Dropdwon!$B$4))","v":"00:00:00"},"00:00:00",{"$f":"IF(AND(T29<>\"\",T29<>\"verpflichtende FoBi\",T29<>\"förderliche FoBi\"),Q29,IF(AND(T29=\"verpflichtende FoBi\",SUM(E29+I29+M29-O29)<=Dropdwon!$A$5),SUM(E29+I29+M29-O29),IF(AND(T29=\"förderliche FoBi\",SUM(E29+I29+M29-O29)<=Dropdwon!$A$5,SUM(E29+I29+M29-O29)<=Q29),SUM(E29+I29+M29-O29),IF(AND(T29=\"förderliche FoBi\",SUM(E29+I29+M29-O29)>Q29),Q29,IF(SUM(E29+I29+M29-O29)>Dropdwon!$A$5,Dropdwon!$C$5,SUM(E29+I29+M29-O29))))))","v":{"$error":"#VALUE!"}},{"$f":"IF(OR(U29=\"x\",A29<STAMMDATENBLATT!$B$32,A29>STAMMDATENBLATT!$D$32),\"0:00\",IF(MOD(B29,2)=0,VLOOKUP(WEEKDAY(A29,2),STAMMDATENBLATT!H$28:J$34,3,FALSE),VLOOKUP(WEEKDAY(A29,2),STAMMDATENBLATT!H$38:J$44,3,FALSE)))","v":{"$error":"#VALUE!"}},{"$error":"#VALUE!"},null,null,{"$f":"_xlfn.IFNA(VLOOKUP(A29,Feiertage!A:D,3,FALSE),\"\")","v":""},{"$f":"_xlfn.IFNA(VLOOKUP(A29,Feiertage!A:D,4,FALSE),\"\")","v":""}]
["2024-05-25",21,null,null,"00:00:00",{"$f":"IF(E30<Dropdwon!$A$3,Dropdwon!$B$2,IF(AND(E30<Dropdwon!$A$4,E30>=Dropdwon!$A$3),Dropdwon!$B$3,Dropdwon!$B$4))","v":"00:00:00"},null,null,"00:00:00",{"$f":"IF(I30<Dropdwon!$A$3,Dropdwon!$B$2,IF(AND(I30<Dropdwon!$A$4,I30>=Dropdwon!$A$3),Dropdwon!$B$3,Dropdwon!$B$4))","v":"00:00:00"},null,null,"00:00:00",{"$f":"IF(M30<Dropdwon!$A$3,Dropdwon!$B$2,IF(AND(M30<Dropdwon!$A$4,M30>=Dropdwon!$A$3),Dropdwon!$B$3,Dropdwon!$B$4))","v":"00:00:00"},"00:00:00",{"$f":"IF(AND(T30<>\"\",T30<>\"verpflichtende FoBi\",T30<>\"förderliche FoBi\"),Q30,IF(AND(T30=\"verpflichtende FoBi\",SUM(E30+I30+M30-O30)<=Dropdwon!$A$5),SUM(E30+I30+M30-O30),IF(AND(T30=\"förderliche FoBi\",SUM(E30+I30+M30-O30)<=Dropdwon!$A$5,SUM(E30+I30+M30-O30)<=Q30),SUM(E30+I30+M30-O30),IF(AND(T30=\"förderliche FoBi\",SUM(E30+I30+M30-O30)>Q30),Q30,IF(SUM(E30+I30+M30-O30)>Dropdwon!$A$5,Dropdwon!$C$5,SUM(E30+I30+M30-O30))))))","v":"00:00:00"},{"$f":"IF(OR(U30=\"x\",A30<STAMMDATENBLATT!$B$32,A30>STAMMDATENBLATT!$D$32),\"0:00\",IF(MOD(B30,2)=0,VLOOKUP(WEEKDAY(A30,2),STAMMDATENBLATT!H$28:J$34,3,FALSE),VLOOKUP(WEEKDAY(A30,2),STAMMDATENBLATT!H$38:J$44,3,FALSE)))","v":"00:00:00"},"00:00:00",null,null,{"$f":"_xlfn.IFNA(VLOOKUP(A30,Feiertage!A:D,3,FALSE),\"\")","v":""},{"$f":"_xlfn.IFNA(VLOOKUP(A30,Feiertage!A:D,4,FALSE),\"\")","v":""}]
["2024-05-26",21,null,null,"00:00:00",{"$f":"IF(E31<Dropdwon!$A$3,Dropdwon!$B$2,IF(AND(E31<Dropdwon!$A$4,E31>=Dropdwon!$A$3),Dropdwon!$B$3,Dropdwon!$B$4))","v":"00:00:00"},null,null,"00:00:00",{"$f":"IF(I31<Dropdwon!$A$3,Dropdwon!$B$2,IF(AND(I31<Dropdwon!$A$4,I31>=Dropdwon!$A$3),Dropdwon!$B$3,Dropdwon!$B$4))","v":"00:00:00"},null,null,"00:00:00",{"$f":"IF(M31<Dropdwon!$A$3,Dropdwon!$B$2,IF(AND(M31<Dropdwon!$A$4,M31>=Dropdwon!$A$3),Dropdwon!$B$3,Dropdwon!$B$4))","v":"00:00:00"},"00:00:00",{"$f":"IF(AND(T31<>\"\",T31<>\"verpflichtende FoBi\",T31<>\"förderliche FoBi\"),Q31,IF(AND(T31=\"verpflichtende FoBi\",SUM(E31+I31+M31-O31)<=Dropdwon!$A$5),SUM(E31+I31+M31-O31),IF(AND(T31=\"förderliche FoBi\",SUM(E31+I31+M31-O31)<=Dropdwon!$A$5,SUM(E31+I31+M31-O31)<=Q31),SUM(E31+I31+M31-O31),IF(AND(T31=\"förderliche FoBi\",SUM(E31+I31+M31-O31)>Q31),Q31,IF(SUM(E31+I31+M31-O31)>Dropdwon!$A$5,Dropdwon!$C$5,SUM(E31+I31+M31-O31))))))","v":"00:00:00"},{"$f":"IF(OR(U31=\"x\",A31<STAMMDATENBLATT!$B$32,A31>STAMMDATENBLATT!$D$32),\"0:00\",IF(MOD(B31,2)=0,VLOOKUP(WEEKDAY(A31,2),STAMMDATENBLATT!H$28:J$34,3,FALSE),VLOOKUP(WEEKDAY(A31,2),STAMMDATENBLATT!H$38:J$44,3,FALSE)))","v":"00:00:00"},"00:00:00",null,null,{"$f":"_xlfn.IFNA(VLOOKUP(A31,Feiertage!A:D,3,FALSE),\"\")","v":""},{"$f":"_xlfn.IFNA(VLOOKUP(A31,Feiertage!A:D,4,FALSE),\"\")","v":""}]
["2024-05-27",22,null,null,"00:00:00",{"$f":"IF(E32<Dropdwon!$A$3,Dropdwon!$B$2,IF(AND(E32<Dropdwon!$A$4,E32>=Dropdwon!$A$3),Dropdwon!$B$3,Dropdwon!$B$4))","v":"00:00:00"},null,null,"00:00:00",{"$f":"IF(I32<Dropdwon!$A$3,Dropdwon!$B$2,IF(AND(I32<Dropdwon!$A$4,I32>=Dropdwon!$A$3),Dropdwon!$B$3,Dropdwon!$B$4))","v":"00:00:00"},null,null,"00:00:00",{"$f":"IF(M32<Dropdwon!$A$3,Dropdwon!$B$2,IF(AND(M32<Dropdwon!$A$4,M32>=Dropdwon!$A$3),Dropdwon!$B$3,Dropdwon!$B$4))","v":"00:00:00"},"00:00:00",{"$f":"IF(AND(T32<>\"\",T32<>\"verpflichtende FoBi\",T32<>\"förderliche FoBi\"),Q32,IF(AND(T32=\"verpflichtende FoBi\",SUM(E32+I32+M32-O32)<=Dropdwon!$A$5),SUM(E32+I32+M32-O32),IF(AND(T32=\"förderliche FoBi\",SUM(E32+I32+M32-O32)<=Dropdwon!$A$5,SUM(E32+I32+M32-O32)<=Q32),SUM(E32+I32+M32-O32),IF(AND(T32=\"förderliche FoBi\",SUM(E32+I32+M32-O32)>Q32),Q32,IF(SUM(E32+I32+M32-O32)>Dropdwon!$A$5,Dropdwon!$C$5,SUM(E32+I32+M32-O32))))))","v":{"$error":"#VALUE!"}},{"$f":"IF(OR(U32=\"x\",A32<STAMMDATENBLATT!$B$32,A32>STAMMDATENBLATT!$D$32),\"0:00\",IF(MOD(B32,2)=0,VLOOKUP(WEEKDAY(A32,2),STAMMDATENBLATT!H$28:J$34,3,FALSE),VLOOKUP(WEEKDAY(A32,2),STAMMDATENBLATT!H$38:J$44,3,FALSE)))","v":{"$error":"#VALUE!"}},{"$error":"#VALUE!"},null,null,{"$f":"_xlfn.IFNA(VLOOKUP(A32,Feiertage!A:D,3,FALSE),\"\")","v":""},{"$f":"_xlfn.IFNA(VLOOKUP(A32,Feiertage!A:D,4,FALSE),\"\")","v":""}]
["2024-05-28",22,null,null,"00:00:00",{"$f":"IF(E33<Dropdwon!$A$3,Dropdwon!$B$2,IF(AND(E33<Dropdwon!$A$4,E33>=Dropdwon!$A$3),Dropdwon!$B$3,Dropdwon!$B$4))","v":"00:00:00"},null,null,"00:00:00",{"$f":"IF(I33<Dropdwon!$A$3,Dropdwon!$B$2,IF(AND(I33<Dropdwon!$A$4,I33>=Dropdwon!$A$3),Dropdwon!$B$3,Dropdwon!$B$4))","v":"00:00:00"},null,null,"00:00:00",{"$f":"IF(M33<Dropdwon!$A$3,Dropdwon!$B$2,IF(AND(M33<Dropdwon!$A$4,M33>=Dropdwon!$A$3),Dropdwon!$B$3,Dropdwon!$B$4))","v":"00:00:00"},"00:00:00",{"$f":"IF(AND(T33<>\"\",T33<>\"verpflichtende FoBi\",T33<>\"förderliche FoBi\"),Q33,IF(AND(T33=\"verpflichtende FoBi\",SUM(E33+I33+M33-O33)<=Dropdwon!$A$5),SUM(E33+I33+M33-O33),IF(AND(T33=\"förderliche FoBi\",SUM(E33+I33+M33-O33)<=Dropdwon!$A$5,SUM(E33+I33+M33-O33)<=Q33),SUM(E33+I33+M33-O33),IF(AND(T33=\"förderliche FoBi\",SUM(E33+I33+M33-O33)>Q33),Q33,IF(SUM(E33+I33+M33-O33)>Dropdwon!$A$5,Dropdwon!$C$5,SUM(E33+I33+M33-O33))))))","v":{"$error":"#VALUE!"}},{"$f":"IF(OR(U33=\"x\",A33<STAMMDATENBLATT!$B$32,A33>STAMMDATENBLATT!$D$32),\"0:00\",IF(MOD(B33,2)=0,VLOOKUP(WEEKDAY(A33,2),STAMMDATENBLATT!H$28:J$34,3,FALSE),VLOOKUP(WEEKDAY(A33,2),STAMMDATENBLATT!H$38:J$44,3,FALSE)))","v":{"$error":"#VALUE!"}},{"$error":"#VALUE!"},null,null,{"$f":"_xlfn.IFNA(VLOOKUP(A33,Feiertage!A:D,3,FALSE),\"\")","v":""},{"$f":"_xlfn.IFNA(VLOOKUP(A33,Feiertage!A:D,4,FALSE),\"\")","v":""}]
["2024-05-29",22,null,null,"00:00:00",{"$f":"IF(E34<Dropdwon!$A$3,Dropdwon!$B$2,IF(AND(E34<Dropdwon!$A$4,E34>=Dropdwon!$A$3),Dropdwon!$B$3,Dropdwon!$B$4))","v":"00:00:00"},null,null,"00:00:00",{"$f":"IF(I34<Dropdwon!$A$3,Dropdwon!$B$2,IF(AND(I34<Dropdwon!$A$4,I34>=Dropdwon!$A$3),Dropdwon!$B$3,Dropdwon!$B$4))","v":"00:00:00"},null,null,"00:00:00",{"$f":"IF(M34<Dropdwon!$A$3,Dropdwon!$B$2,IF(AND(M34<Dropdwon!$A$4,M34>=Dropdwon!$A$3),Dropdwon!$B$3,Dropdwon!$B$4))","v":"00:00:00"},"00:00:00",{"$f":"IF(AND(T34<>\"\",T34<>\"verpflichtende FoBi\",T34<>\"förderliche FoBi\"),Q34,IF(AND(T34=\"verpflichtende FoBi\",SUM(E34+I34+M34-O34)<=Dropdwon!$A$5),SUM(E34+I34+M34-O34),IF(AND(T34=\"förderliche FoBi\",SUM(E34+I34+M34-O34)<=Dropdwon!$A$5,SUM(E34+I34+M34-O34)<=Q34),SUM(E34+I34+M34-O34),IF(AND(T34=\"förderliche FoBi\",SUM(E34+I34+M34-O34)>Q34),Q34,IF(SUM(E34+I34+M34-O34)>Dropdwon!$A$5,Dropdwon!$C$5,SUM(E34+I34+M34-O34))))))","v":{"$error":"#VALUE!"}},{"$f":"IF(OR(U34=\"x\",A34<STAMMDATENBLATT!$B$32,A34>STAMMDATENBLATT!$D$32),\"0:00\",IF(MOD(B34,2)=0,VLOOKUP(WEEKDAY(A34,2),STAMMDATENBLATT!H$28:J$34,3,FALSE),VLOOKUP(WEEKDAY(A34,2),STAMMDATENBLATT!H$38:J$44,3,FALSE)))","v":{"$error":"#VALUE!"}},{"$error":"#VALUE!"},null,null,{"$f":"_xlfn.IFNA(VLOOKUP(A34,Feiertage!A:D,3,FALSE),\"\")","v":""},{"$f":"_xlfn.IFNA(VLOOKUP(A34,Feiertage!A:D,4,FALSE),\"\")","v":""}]
["2024-05-30",22,null,null,"00:00:00",{"$f":"IF(E35<Dropdwon!$A$3,Dropdwon!$B$2,IF(AND(E35<Dropdwon!$A$4,E35>=Dropdwon!$A$3),Dropdwon!$B$3,Dropdwon!$B$4))","v":"00:00:00"},null,null,"00:00:00",{"$f":"IF(I35<Dropdwon!$A$3,Dropdwon!$B$2,IF(AND(I35<Dropdwon!$A$4,I35>=Dropdwon!$A$3),Dropdwon!$B$3,Dropdwon!$B$4))","v":"00:00:00"},null,null,"00:00:00",{"$f":"IF(M35<Dropdwon!$A$3,Dropdwon!$B$2,IF(AND(M35<Dropdwon!$A$4,M35>=Dropdwon!$A$3),Dropdwon!$B$3,Dropdwon!$B$4))","v":"00:00:00"},"00:00:00",{"$f":"IF(AND(T35<>\"\",T35<>\"verpflichtende FoBi\",T35<>\"förderliche FoBi\"),Q35,IF(AND(T35=\"verpflichtende FoBi\",SUM(E35+I35+M35-O35)<=Dropdwon!$A$5),SUM(E35+I35+M35-O35),IF(AND(T35=\"förderliche FoBi\",SUM(E35+I35+M35-O35)<=Dropdwon!$A$5,SUM(E35+I35+M35-O35)<=Q35),SUM(E35+I35+M35-O35),IF(AND(T35=\"förderliche FoBi\",SUM(E35+I35+M35-O35)>Q35),Q35,IF(SUM(E35+I35+M35-O35)>Dropdwon!$A$5,Dropdwon!$C$5,SUM(E35+I35+M35-O35))))))","v":"00:00:00"},{"$f":"IF(OR(U35=\"x\",A35<STAMMDATENBLATT!$B$32,A35>STAMMDATENBLATT!$D$32),\"0:00\",IF(MOD(B35,2)=0,VLOOKUP(WEEKDAY(A35,2),STAMMDATENBLATT!H$28:J$34,3,FALSE),VLOOKUP(WEEKDAY(A35,2),STAMMDATENBLATT!H$38:J$44,3,FALSE)))","v":"0:00"},"00:00:00",null,null,{"$f":"_xlfn.IFNA(VLOOKUP(A35,Feiertage!A:D,3,FALSE),\"\")","v":"x"},{"$f":"_xlfn.IFNA(VLOOKUP(A35,Feiertage!A:D,4,FALSE),\"\")","v":"Fronleichnam"}]
["2024-05-31",22,null,null,"00:00:00",{"$f":"IF(E36<Dropdwon!$A$3,Dropdwon!$B$2,IF(AND(E36<Dropdwon!$A$4,E36>=Dropdwon!$A$3),Dropdwon!$B$3,Dropdwon!$B$4))","v":"00:00:00"},null,null,"00:00:00",{"$f":"IF(I36<Dropdwon!$A$3,Dropdwon!$B$2,IF(AND(I36<Dropdwon!$A$4,I36>=Dropdwon!$A$3),Dropdwon!$B$3,Dropdwon!$B$4))","v":"00:00:00"},null,null,"00:00:00",{"$f":"IF(M36<Dropdwon!$A$3,Dropdwon!$B$2,IF(AND(M36<Dropdwon!$A$4,M36>=Dropdwon!$A$3),Dropdwon!$B$3,Dropdwon!$B$4))","v":"00:00:00"},"00:00:00",{"$f":"IF(AND(T36<>\"\",T36<>\"verpflichtende FoBi\",T36<>\"förderliche FoBi\"),Q36,IF(AND(T36=\"verpflichtende FoBi\",SUM(E36+I36+M36-O36)<=Dropdwon!$A$5),SUM(E36+I36+M36-O36),IF(AND(T36=\"förderliche FoBi\",SUM(E36+I36+M36-O36)<=Dropdwon!$A$5,SUM(E36+I36+M36-O36)<=Q36),SUM(E36+I36+M36-O36),IF(AND(T36=\"förderliche FoBi\",SUM(E36+I36+M36-O36)>Q36),Q36,IF(SUM(E36+I36+M36-O36)>Dropdwon!$A$5,Dropdwon!$C$5,SUM(E36+I36+M36-O36))))))","v":{"$error":"#VALUE!"}},{"$f":"IF(OR(U36=\"x\",A36<STAMMDATENBLATT!$B$32,A36>STAMMDATENBLATT!$D$32),\"0:00\",IF(MOD(B36,2)=0,VLOOKUP(WEEKDAY(A36,2),STAMMDATENBLATT!H$28:J$34,3,FALSE),VLOOKUP(WEEKDAY(A36,2),STAMMDATENBLATT!H$38:J$44,3,FALSE)))","v":{"$error":"#VALUE!"}},{"$error":"#VALUE!"},null,null,{"$f":"_xlfn.IFNA(VLOOKUP(A36,Feiertage!A:D,3,FALSE),\"\")","v":""},{"$f":"_xlfn.IFNA(VLOOKUP(A36,Feiertage!A:D,4,FALSE),\"\")","v":""}]
[]
["Abschluss Std.konto:",null,{"$f":"SUM(R$1+SUM(R$6:R$36)-R$38)","v":{"$error":"#VALUE!"}},{"$nulls":3},"Auszahlung Mehrarbeit in Std./Minuten:",{"$nulls":10},{"$f":"SUMIF($S$6:$S$36,\"ja\",$R$6:$R$36)","v":0}]
["Abschluss Std. in Dezimal:",null,{"$f":"C38*24","v":{"$error":"#VALUE!"}},{"$nulls":4},"Auszahlung Mehrarbeit in Dezimal:",{"$nulls":9},{"$f":"R38*24","v":{"v":0,"d":"0.00"}}]
[{"$nulls":17},"zur Auszahlung angewiesen:"]
[]
[]
[]
["Ort, Datum / Unterschrift Mitarbeiter/in",{"$nulls":5},"Ort, Datum / Unterschrift Vorgesetzte/r",{"$nulls":10},"Ort, Datum / Unterschrift KGF",{"$nulls":4},{"$f":"STAMMDATENBLATT!$A$22","v":"Version: 01.2024.5"}]

{"sheet":"Juni","index":7,"n_rows":44,"n_cols":23,"rows_kept":44,"merged":[[0,2,0,7],[1,0,1,7],[2,0,2,7],[37,0,37,1],[37,6,37,16],[38,0,38,1],[38,7,38,16],[40,0,42,2],[40,6,42,13],[40,17,42,20]]}
[{"$f":"DATEVALUE(\"01.06.\"&STAMMDATENBLATT!$D$27)","v":"2024-06-01"},null,{"$f":"STAMMDATENBLATT!B27","v":"Vorname Nachname"},{"$nulls":7},{"$f":"STAMMDATENBLATT!$B$30","v":{"v":0,"d":"0.00%"}},{"$f":"IF(STAMMDATENBLATT!$B$29=\"\",\"\",STAMMDATENBLATT!$B$29)","v":""},{"$nulls":5},{"$f":"IF(STAMMDATENBLATT!E8<=STAMMDATENBLATT!$D$35,STAMMDATENBLATT!E8,STAMMDATENBLATT!$D$35)","v":{"$error":"#VALUE!"}}]
[{"$f":"STAMMDATENBLATT!B26","v":0}]
[{"$f":"STAMMDATENBLATT!A26","v":{"$error":"#N/A"}}]
[]
[null,"KW","Beginn 1","Ende 1","IST AZ 1","IST MP 1","Beginn 2","Ende 2","IST AZ 2","IST MP 2","Beginn 3","Ende 3","IST AZ 3","IST MP 3","MP gesamt","IST AZ","SOLL AZ","Differenz","Auszahlung","Abwesenheit","Feiertag","Feiertag","Notiz"]
[{"$f":"A1","v":"2024-06-01"},{"$f":"WEEKNUM(A6,21)","v":22},null,null,{"$f":"IF(AND(WEEKDAY($A6,2)=6,HOUR(C6)>=13),SUM((D6-C6)*1.2),IF(WEEKDAY($A6,2)=7,SUM((D6-C6)*1.25),IF(AND($U6=\"x\",$V6<>\"Gründonnerstag\"),SUM((D6-C6)*1.25),D6-C6)))","v":"00:00:00"},{"$f":"IF(E6<Dropdwon!$A$3,Dropdwon!$B$2,IF(AND(E6<Dropdwon!$A$4,E6>=Dropdwon!$A$3),Dropdwon!$B$3,Dropdwon!$B$4))","v":"00:00:00"},null,null,{"$f":"IF(AND(WEEKDAY($A6,2)=6,HOUR(G6)>=13),SUM((H6-G6)*1.2),IF(WEEKDAY($A6,2)=7,SUM((H6-G6)*1.25),IF(AND($U6=\"x\",$V6<>\"Gründonnerstag\"),SUM((H6-G6)*1.25),H6-G6)))","v":"00:00:00"},{"$f":"IF(I6<Dropdwon!$A$3,Dropdwon!$B$2,IF(AND(I6<Dropdwon!$A$4,I6>=Dropdwon!$A$3),Dropdwon!$B$3,Dropdwon!$B$4))","v":"00:00:00"},null,null,{"$f":"IF(AND(WEEKDAY($A6,2)=6,HOUR(K6)>=13),SUM((L6-K6)*1.2),IF(WEEKDAY($A6,2)=7,SUM((L6-K6)*1.25),IF(AND($U6=\"x\",$V6<>\"Gründonnerstag\"),SUM((L6-K6)*1.25),L6-K6)))","v":"00:00:00"},{"$f":"IF(M6<Dropdwon!$A$3,Dropdwon!$B$2,IF(AND(M6<Dropdwon!$A$4,M6>=Dropdwon!$A$3),Dropdwon!$B$3,Dropdwon!$B$4))","v":"00:00:00"},{"$f":"F6+J6+N6","v":"00:00:00"},{"$f":"IF(AND(T6<>\"\",T6<>\"verpflichtende FoBi\",T6<>\"förderliche FoBi\"),Q6,IF(AND(T6=\"verpflichtende FoBi\",SUM(E6+I6+M6-O6)<=Dropdwon!$A$5),SUM(E6+I6+M6-O6),IF(AND(T6=\"förderliche FoBi\",SUM(E6+I6+M6-O6)<=Dropdwon!$A$5,SUM(E6+I6+M6-O6)<=Q6),SUM(E6+I6+M6-O6),IF(AND(T6=\"förderliche FoBi\",SUM(E6+I6+M6-O6)>Q6),Q6,IF(SUM(E6+I6+M6-O6)>Dropdwon!$A$5,Dropdwon!$C$5,SUM(E6+I6+M6-O6))))))","v":"00:00:00"},{"$f":"IF(OR(U6=\"x\",A6<STAMMDATENBLATT!$B$32,A6>STAMMDATENBLATT!$D$32),\"0:00\",IF(MOD(B6,2)=0,VLOOKUP(WEEKDAY(A6,2),STAMMDATENBLATT!H$28:J$34,3,FALSE),VLOOKUP(WEEKDAY(A6,2),STAMMDATENBLATT!H$38:J$44,3,FALSE)))","v":"00:00:00"},{"$f":"SUM(P6-Q6)","v":"00:00:00"},null,null,{"$f":"_xlfn.IFNA(VLOOKUP(A6,Feiertage!A:D,3,FALSE),\"\")","v":""},{"$f":"_xlfn.IFNA(VLOOKUP(A6,Feiertage!A:D,4,FALSE),\"\")","v":""}]
[{"$f":"A6+1","v":"2024-06-02"},{"$f":"WEEKNUM(A7,21)","v":22},null,null,{"$f":"IF(AND(WEEKDAY($A7,2)=6,HOUR(C7)>=13),SUM((D7-C7)*1.2),IF(WEEKDAY($A7,2)=7,SUM((D7-C7)*1.25),IF(AND($U7=\"x\",$V7<>\"Gründonnerstag\"),SUM((D7-C7)*1.25),D7-C7)))","v":"00:00:00"},{"$f":"IF(E7<Dropdwon!$A$3,Dropdwon!$B$2,IF(AND(E7<Dropdwon!$A$4,E7>=Dropdwon!$A$3),Dropdwon!$B$3,Dropdwon!$B$4))","v":"00:00:00"},null,null,{"$f":"IF(AND(WEEKDAY($A7,2)=6,HOUR(G7)>=13),SUM((H7-G7)*1.2),IF(WEEKDAY($A7,2)=7,SUM((H7-G7)*1.25),IF(AND($U7=\"x\",$V7<>\"Gründonnerstag\"),SUM((H7-G7)*1.25),H7-G7)))","v":"00:00:00"},{"$f":"IF(I7<Dropdwon!$A$3,Dropdwon!$B$2,IF(AND(I7<Dropdwon!$A$4,I7>=Dropdwon!$A$3),Dropdwon!$B$3,Dropdwon!$B$4))","v":"00:00:00"},null,null,{"$f":"IF(AND(WEEKDAY($A7,2)=6,HOUR(K7)>=13),SUM((L7-K7)*1.2),IF(WEEKDAY($A7,2)=7,SUM((L7-K7)*1.25),IF(AND($U7=\"x\",$V7<>\"Gründonnerstag\"),SUM((L7-K7)*1.25),L7-K7)))","v":"00:00:00"},{"$f":"IF(M7<Dropdwon!$A$3,Dropdwon!$B$2,IF(AND(M7<Dropdwon!$A$4,M7>=Dropdwon!$A$3),Dropdwon!$B$3,Dropdwon!$B$4))","v":"00:00:00"},{"$f":"F7+J7+N7","v":"00:00:00"},{"$f":"IF(AND(T7<>\"\",T7<>\"verpflichtende FoBi\",T7<>\"förderliche FoBi\"),Q7,IF(AND(T7=\"verpflichtende FoBi\",SUM(E7+I7+M7-O7)<=Dropdwon!$A$5),SUM(E7+I7+M7-O7),IF(AND(T7=\"förderliche FoBi\",SUM(E7+I7+M7-O7)<=Dropdwon!$A$5,SUM(E7+I7+M7-O7)<=Q7),SUM(E7+I7+M7-O7),IF(AND(T7=\"förderliche FoBi\",SUM(E7+I7+M7-O7)>Q7),Q7,IF(SUM(E7+I7+M7-O7)>Dropdwon!$A$5,Dropdwon!$C$5,SUM(E7+I7+M7-O7))))))","v":"00:00:00"},{"$f":"IF(OR(U7=\"x\",A7<STAMMDATENBLATT!$B$32,A7>STAMMDATENBLATT!$D$32),\"0:00\",IF(MOD(B7,2)=0,VLOOKUP(WEEKDAY(A7,2),STAMMDATENBLATT!H$28:J$34,3,FALSE),VLOOKUP(WEEKDAY(A7,2),STAMMDATENBLATT!H$38:J$44,3,FALSE)))","v":"00:00:00"},"00:00:00",null,null,{"$f":"_xlfn.IFNA(VLOOKUP(A7,Feiertage!A:D,3,FALSE),\"\")","v":""},{"$f":"_xlfn.IFNA(VLOOKUP(A7,Feiertage!A:D,4,FALSE),\"\")","v":""}]
[{"$f":"A7+1","v":"2024-06-03"},23,null,null,"00:00:00",{"$f":"IF(E8<Dropdwon!$A$3,Dropdwon!$B$2,IF(AND(E8<Dropdwon!$A$4,E8>=Dropdwon!$A$3),Dropdwon!$B$3,Dropdwon!$B$4))","v":"00:00:00"},null,null,"00:00:00",{"$f":"IF(I8<Dropdwon!$A$3,Dropdwon!$B$2,IF(AND(I8<Dropdwon!$A$4,I8>=Dropdwon!$A$3),Dropdwon!$B$3,Dropdwon!$B$4))","v":"00:00:00"},null,null,"00:00:00",{"$f":"IF(M8<Dropdwon!$A$3,Dropdwon!$B$2,IF(AND(M8<Dropdwon!$A$4,M8>=Dropdwon!$A$3),Dropdwon!$B$3,Dropdwon!$B$4))","v":"00:00:00"},{"$f":"F8+J8+N8","v":"00:00:00"},{"$f":"IF(AND(T8<>\"\",T8<>\"verpflichtende FoBi\",T8<>\"förderliche FoBi\"),Q8,IF(AND(T8=\"verpflichtende FoBi\",SUM(E8+I8+M8-O8)<=Dropdwon!$A$5),SUM(E8+I8+M8-O8),IF(AND(T8=\"förderliche FoBi\",SUM(E8+I8+M8-O8)<=Dropdwon!$A$5,SUM(E8+I8+M8-O8)<=Q8),SUM(E8+I8+M8-O8),IF(AND(T8=\"förderliche FoBi\",SUM(E8+I8+M8-O8)>Q8),Q8,IF(SUM(E8+I8+M8-O8)>Dropdwon!$A$5,Dropdwon!$C$5,SUM(E8+I8+M8-O8))))))","v":{"$error":"#VALUE!"}},{"$f":"IF(OR(U8=\"x\",A8<STAMMDATENBLATT!$B$32,A8>STAMMDATENBLATT!$D$32),\"0:00\",IF(MOD(B8,2)=0,VLOOKUP(WEEKDAY(A8,2),STAMMDATENBLATT!H$28:J$34,3,FALSE),VLOOKUP(WEEKDAY(A8,2),STAMMDATENBLATT!H$38:J$44,3,FALSE)))","v":{"$error":"#VALUE!"}},{"$error":"#VALUE!"},null,null,{"$f":"_xlfn.IFNA(VLOOKUP(A8,Feiertage!A:D,3,FALSE),\"\")","v":""},{"$f":"_xlfn.IFNA(VLOOKUP(A8,Feiertage!A:D,4,FALSE),\"\")","v":""}]
[{"$f":"A8+1","v":"2024-06-04"},23,null,null,"00:00:00",{"$f":"IF(E9<Dropdwon!$A$3,Dropdwon!$B$2,IF(AND(E9<Dropdwon!$A$4,E9>=Dropdwon!$A$3),Dropdwon!$B$3,Dropdwon!$B$4))","v":"00:00:00"},null,null,"00:00:00",{"$f":"IF(I9<Dropdwon!$A$3,Dropdwon!$B$2,IF(AND(I9<Dropdwon!$A$4,I9>=Dropdwon!$A$3),Dropdwon!$B$3,Dropdwon!$B$4))","v":"00:00:00"},null,null,"00:00:00",{"$f":"IF(M9<Dropdwon!$A$3,Dropdwon!$B$2,IF(AND(M9<Dropdwon!$A$4,M9>=Dropdwon!$A$3),Dropdwon!$B$3,Dropdwon!$B$4))","v":"00:00:00"},"00:00:00",{"$f":"IF(AND(T9<>\"\",T9<>\"verpflichtende FoBi\",T9<>\"förderliche FoBi\"),Q9,IF(AND(T9=\"verpflichtende FoBi\",SUM(E9+I9+M9-O9)<=Dropdwon!$A$5),SUM(E9+I9+M9-O9),IF(AND(T9=\"förderliche FoBi\",SUM(E9+I9+M9-O9)<=Dropdwon!$A$5,SUM(E9+I9+M9-O9)<=Q9),SUM(E9+I9+M9-O9),IF(AND(T9=\"förderliche FoBi\",SUM(E9+I9+M9-O9)>Q9),Q9,IF(SUM(E9+I9+M9-O9)>Dropdwon!$A$5,Dropdwon!$C$5,SUM(E9+I9+M9-O9))))))","v":{"$error":"#VALUE!"}},{"$f":"IF(OR(U9=\"x\",A9<STAMMDATENBLATT!$B$32,A9>STAMMDATENBLATT!$D$32),\"0:00\",IF(MOD(B9,2)=0,VLOOKUP(WEEKDAY(A9,2),STAMMDATENBLATT!H$28:J$34,3,FALSE),VLOOKUP(WEEKDAY(A9,2),STAMMDATENBLATT!H$38:J$44,3,FALSE)))","v":{"$error":"#VALUE!"}},{"$error":"#VALUE!"},null,null,{"$f":"_xlfn.IFNA(VLOOKUP(A9,Feiertage!A:D,3,FALSE),\"\")","v":""},{"$f":"_xlfn.IFNA(VLOOKUP(A9,Feiertage!A:D,4,FALSE),\"\")","v":""}]
["2024-06-05",23,null,null,"00:00:00",{"$f":"IF(E10<Dropdwon!$A$3,Dropdwon!$B$2,IF(AND(E10<Dropdwon!$A$4,E10>=Dropdwon!$A$3),Dropdwon!$B$3,Dropdwon!$B$4))","v":"00:00:00"},null,null,"00:00:00",{"$f":"IF(I10<Dropdwon!$A$3,Dropdwon!$B$2,IF(AND(I10<Dropdwon!$A$4,I10>=Dropdwon!$A$3),Dropdwon!$B$3,Dropdwon!$B$4))","v":"00:00:00"},null,null,"00:00:00",{"$f":"IF(M10<Dropdwon!$A$3,Dropdwon!$B$2,IF(AND(M10<Dropdwon!$A$4,M10>=Dropdwon!$A$3),Dropdwon!$B$3,Dropdwon!$B$4))","v":"00:00:00"},"00:00:00",{"$f":"IF(AND(T10<>\"\",T10<>\"verpflichtende FoBi\",T10<>\"förderliche FoBi\"),Q10,IF(AND(T10=\"verpflichtende FoBi\",SUM(E10+I10+M10-O10)<=Dropdwon!$A$5),SUM(E10+I10+M10-O10),IF(AND(T10=\"förderliche FoBi\",SUM(E10+I10+M10-O10)<=Dropdwon!$A$5,SUM(E10+I10+M10-O10)<=Q10),SUM(E10+I10+M10-O10),IF(AND(T10=\"förderliche FoBi\",SUM(E10+I10+M10-O10)>Q10),Q10,IF(SUM(E10+I10+M10-O10)>Dropdwon!$A$5,Dropdwon!$C$5,SUM(E10+I10+M10-O10))))))","v":{"$error":"#VALUE!"}},{"$f":"IF(OR(U10=\"x\",A10<STAMMDATENBLATT!$B$32,A10>STAMMDATENBLATT!$D$32),\"0:00\",IF(MOD(B10,2)=0,VLOOKUP(WEEKDAY(A10,2),STAMMDATENBLATT!H$28:J$34,3,FALSE),VLOOKUP(WEEKDAY(A10,2),STAMMDATENBLATT!H$38:J$44,3,FALSE)))","v":{"$error":"#VALUE!"}},{"$error":"#VALUE!"},null,null,{"$f":"_xlfn.IFNA(VLOOKUP(A10,Feiertage!A:D,3,FALSE),\"\")","v":""},{"$f":"_xlfn.IFNA(VLOOKUP(A10,Feiertage!A:D,4,FALSE),\"\")","v":""}]
["2024-06-06",23,null,null,"00:00:00",{"$f":"IF(E11<Dropdwon!$A$3,Dropdwon!$B$2,IF(AND(E11<Dropdwon!$A$4,E11>=Dropdwon!$A$3),Dropdwon!$B$3,Dropdwon!$B$4))","v":"00:00:00"},null,null,"00:00:00",{"$f":"IF(I11<Dropdwon!$A$3,Dropdwon!$B$2,IF(AND(I11<Dropdwon!$A$4,I11>=Dropdwon!$A$3),Dropdwon!$B$3,Dropdwon!$B$4))","v":"00:00:00"},null,null,"00:00:00",{"$f":"IF(M11<Dropdwon!$A$3,Dropdwon!$B$2,IF(AND(M11<Dropdwon!$A$4,M11>=Dropdwon!$A$3),Dropdwon!$B$3,Dropdwon!$B$4))","v":"00:00:00"},"00:00:00",{"$f":"IF(AND(T11<>\"\",T11<>\"verpflichtende FoBi\",T11<>\"förderliche FoBi\"),Q11,IF(AND(T11=\"verpflichtende FoBi\",SUM(E11+I11+M11-O11)<=Dropdwon!$A$5),SUM(E11+I11+M11-O11),IF(AND(T11=\"förderliche FoBi\",SUM(E11+I11+M11-O11)<=Dropdwon!$A$5,SUM(E11+I11+M11-O11)<=Q11),SUM(E11+I11+M11-O11),IF(AND(T11=\"förderliche FoBi\",SUM(E11+I11+M11-O11)>Q11),Q11,IF(SUM(E11+I11+M11-O11)>Dropdwon!$A$5,Dropdwon!$C$5,SUM(E11+I11+M11-O11))))))","v":{"$error":"#VALUE!"}},{"$f":"IF(OR(U11=\"x\",A11<STAMMDATENBLATT!$B$32,A11>STAMMDATENBLATT!$D$32),\"0:00\",IF(MOD(B11,2)=0,VLOOKUP(WEEKDAY(A11,2),STAMMDATENBLATT!H$28:J$34,3,FALSE),VLOOKUP(WEEKDAY(A11,2),STAMMDATENBLATT!H$38:J$44,3,FALSE)))","v":{"$error":"#VALUE!"}},{"$error":"#VALUE!"},null,null,{"$f":"_xlfn.IFNA(VLOOKUP(A11,Feiertage!A:D,3,FALSE),\"\")","v":""},{"$f":"_xlfn.IFNA(VLOOKUP(A11,Feiertage!A:D,4,FALSE),\"\")","v":""}]
["2024-06-07",23,null,null,"00:00:00",{"$f":"IF(E12<Dropdwon!$A$3,Dropdwon!$B$2,IF(AND(E12<Dropdwon!$A$4,E12>=Dropdwon!$A$3),Dropdwon!$B$3,Dropdwon!$B$4))","v":"00:00:00"},null,null,"00:00:00",{"$f":"IF(I12<Dropdwon!$A$3,Dropdwon!$B$2,IF(AND(I12<Dropdwon!$A$4,I12>=Dropdwon!$A$3),Dropdwon!$B$3,Dropdwon!$B$4))","v":"00:00:00"},null,null,"00:00:00",{"$f":"IF(M12<Dropdwon!$A$3,Dropdwon!$B$2,IF(AND(M12<Dropdwon!$A$4,M12>=Dropdwon!$A$3),Dropdwon!$B$3,Dropdwon!$B$4))","v":"00:00:00"},"00:00:00",{"$f":"IF(AND(T12<>\"\",T12<>\"verpflichtende FoBi\",T12<>\"förderliche FoBi\"),Q12,IF(AND(T12=\"verpflichtende FoBi\",SUM(E12+I12+M12-O12)<=Dropdwon!$A$5),SUM(E12+I12+M12-O12),IF(AND(T12=\"förderliche FoBi\",SUM(E12+I12+M12-O12)<=Dropdwon!$A$5,SUM(E12+I12+M12-O12)<=Q12),SUM(E12+I12+M12-O12),IF(AND(T12=\"förderliche FoBi\",SUM(E12+I12+M12-O12)>Q12),Q12,IF(SUM(E12+I12+M12-O12)>Dropdwon!$A$5,Dropdwon!$C$5,SUM(E12+I12+M12-O12))))))","v":{"$error":"#VALUE!"}},{"$f":"IF(OR(U12=\"x\",A12<STAMMDATENBLATT!$B$32,A12>STAMMDATENBLATT!$D$32),\"0:00\",IF(MOD(B12,2)=0,VLOOKUP(WEEKDAY(A12,2),STAMMDATENBLATT!H$28:J$34,3,FALSE),VLOOKUP(WEEKDAY(A12,2),STAMMDATENBLATT!H$38:J$44,3,FALSE)))","v":{"$error":"#VALUE!"}},{"$error":"#VALUE!"},null,null,{"$f":"_xlfn.IFNA(VLOOKUP(A12,Feiertage!A:D,3,FALSE),\"\")","v":""},{"$f":"_xlfn.IFNA(VLOOKUP(A12,Feiertage!A:D,4,FALSE),\"\")","v":""}]
["2024-06-08",23,null,null,"00:00:00",{"$f":"IF(E13<Dropdwon!$A$3,Dropdwon!$B$2,IF(AND(E13<Dropdwon!$A$4,E13>=Dropdwon!$A$3),Dropdwon!$B$3,Dropdwon!$B$4))","v":"00:00:00"},null,null,"00:00:00",{"$f":"IF(I13<Dropdwon!$A$3,Dropdwon!$B$2,IF(AND(I13<Dropdwon!$A$4,I13>=Dropdwon!$A$3),Dropdwon!$B$3,Dropdwon!$B$4))","v":"00:00:00"},null,null,"00:00:00",{"$f":"IF(M13<Dropdwon!$A$3,Dropdwon!$B$2,IF(AND(M13<Dropdwon!$A$4,M13>=Dropdwon!$A$3),Dropdwon!$B$3,Dropdwon!$B$4))","v":"00:00:00"},"00:00:00",{"$f":"IF(AND(T13<>\"\",T13<>\"verpflichtende FoBi\",T13<>\"förderliche FoBi\"),Q13,IF(AND(T13=\"verpflichtende FoBi\",SUM(E13+I13+M13-O13)<=Dropdwon!$A$5),SUM(E13+I13+M13-O13),IF(AND(T13=\"förderliche FoBi\",SUM(E13+I13+M13-O13)<=Dropdwon!$A$5,SUM(E13+I13+M13-O13)<=Q13),SUM(E13+I13+M13-O13),IF(AND(T13=\"förderliche FoBi\",SUM(E13+I13+M13-O13)>Q13),Q13,IF(SUM(E13+I13+M13-O13)>Dropdwon!$A$5,Dropdwon!$C$5,SUM(E13+I13+M13-O13))))))","v":"00:00:00"},{"$f":"IF(OR(U13=\"x\",A13<STAMMDATENBLATT!$B$32,A13>STAMMDATENBLATT!$D$32),\"0:00\",IF(MOD(B13,2)=0,VLOOKUP(WEEKDAY(A13,2),STAMMDATENBLATT!H$28:J$34,3,FALSE),VLOOKUP(WEEKDAY(A13,2),STAMMDATENBLATT!H$38:J$44,3,FALSE)))","v":"00:00:00"},"00:00:00",null,null,{"$f":"_xlfn.IFNA(VLOOKUP(A13,Feiertage!A:D,3,FALSE),\"\")","v":""},{"$f":"_xlfn.IFNA(VLOOKUP(A13,Feiertage!A:D,4,FALSE),\"\")","v":""}]
["2024-06-09",23,null,null,"00:00:00",{"$f":"IF(E14<Dropdwon!$A$3,Dropdwon!$B$2,IF(AND(E14<Dropdwon!$A$4,E14>=Dropdwon!$A$3),Dropdwon!$B$3,Dropdwon!$B$4))","v":"00:00:00"},null,null,"00:00:00",{"$f":"IF(I14<Dropdwon!$A$3,Dropdwon!$B$2,IF(AND(I14<Dropdwon!$A$4,I14>=Dropdwon!$A$3),Dropdwon!$B$3,Dropdwon!$B$4))","v":"00:00:00"},null,null,"00:00:00",{"$f":"IF(M14<Dropdwon!$A$3,Dropdwon!$B$2,IF(AND(M14<Dropdwon!$A$4,M14>=Dropdwon!$A$3),Dropdwon!$B$3,Dropdwon!$B$4))","v":"00:00:00"},"00:00:00",{"$f":"IF(AND(T14<>\"\",T14<>\"verpflichtende FoBi\",T14<>\"förderliche FoBi\"),Q14,IF(AND(T14=\"verpflichtende FoBi\",SUM(E14+I14+M14-O14)<=Dropdwon!$A$5),SUM(E14+I14+M14-O14),IF(AND(T14=\"förderliche FoBi\",SUM(E14+I14+M14-O14)<=Dropdwon!$A$5,SUM(E14+I14+M14-O14)<=Q14),SUM(E14+I14+M14-O14),IF(AND(T14=\"förderliche FoBi\",SUM(E14+I14+M14-O14)>Q14),Q14,IF(SUM(E14+I14+M14-O14)>Dropdwon!$A$5,Dropdwon!$C$5,SUM(E14+I14+M14-O14))))))","v":"00:00:00"},{"$f":"IF(OR(U14=\"x\",A14<STAMMDATENBLATT!$B$32,A14>STAMMDATENBLATT!$D$32),\"0:00\",IF(MOD(B14,2)=0,VLOOKUP(WEEKDAY(A14,2),STAMMDATENBLATT!H$28:J$34,3,FALSE),VLOOKUP(WEEKDAY(A14,2),STAMMDATENBLATT!H$38:J$44,3,FALSE)))","v":"00:00:00"},"00:00:00",null,null,{"$f":"_xlfn.IFNA(VLOOKUP(A14,Feiertage!A:D,3,FALSE),\"\")","v":""},{"$f":"_xlfn.IFNA(VLOOKUP(A14,Feiertage!A:D,4,FALSE),\"\")","v":""}]
["2024-06-10",24,null,null,"00:00:00",{"$f":"IF(E15<Dropdwon!$A$3,Dropdwon!$B$2,IF(AND(E15<Dropdwon!$A$4,E15>=Dropdwon!$A$3),Dropdwon!$B$3,Dropdwon!$B$4))","v":"00:00:00"},null,null,"00:00:00",{"$f":"IF(I15<Dropdwon!$A$3,Dropdwon!$B$2,IF(AND(I15<Dropdwon!$A$4,I15>=Dropdwon!$A$3),Dropdwon!$B$3,Dropdwon!$B$4))","v":"00:00:00"},null,null,"00:00:00",{"$f":"IF(M15<Dropdwon!$A$3,Dropdwon!$B$2,IF(AND(M15<Dropdwon!$A$4,M15>=Dropdwon!$A$3),Dropdwon!$B$3,Dropdwon!$B$4))","v":"00:00:00"},"00:00:00",{"$f":"IF(AND(T15<>\"\",T15<>\"verpflichtende FoBi\",T15<>\"förderliche FoBi\"),Q15,IF(AND(T15=\"verpflichtende FoBi\",SUM(E15+I15+M15-O15)<=Dropdwon!$A$5),SUM(E15+I15+M15-O15),IF(AND(T15=\"förderliche FoBi\",SUM(E15+I15+M15-O15)<=Dropdwon!$A$5,SUM(E15+I15+M15-O15)<=Q15),SUM(E15+I15+M15-O15),IF(AND(T15=\"förderliche FoBi\",SUM(E15+I15+M15-O15)>Q15),Q15,IF(SUM(E15+I15+M15-O15)>Dropdwon!$A$5,Dropdwon!$C$5,SUM(E15+I15+M15-O15))))))","v":{"$error":"#VALUE!"}},{"$f":"IF(OR(U15=\"x\",A15<STAMMDATENBLATT!$B$32,A15>STAMMDATENBLATT!$D$32),\"0:00\",IF(MOD(B15,2)=0,VLOOKUP(WEEKDAY(A15,2),STAMMDATENBLATT!H$28:J$34,3,FALSE),VLOOKUP(WEEKDAY(A15,2),STAMMDATENBLATT!H$38:J$44,3,FALSE)))","v":{"$error":"#VALUE!"}},{"$error":"#VALUE!"},null,null,{"$f":"_xlfn.IFNA(VLOOKUP(A15,Feiertage!A:D,3,FALSE),\"\")","v":""},{"$f":"_xlfn.IFNA(VLOOKUP(A15,Feiertage!A:D,4,FALSE),\"\")","v":""}]
["2024-06-11",24,null,null,"00:00:00",{"$f":"IF(E16<Dropdwon!$A$3,Dropdwon!$B$2,IF(AND(E16<Dropdwon!$A$4,E16>=Dropdwon!$A$3),Dropdwon!$B$3,Dropdwon!$B$4))","v":"00:00:00"},null,null,"00:00:00",{"$f":"IF(I16<Dropdwon!$A$3,Dropdwon!$B$2,IF(AND(I16<Dropdwon!$A$4,I16>=Dropdwon!$A$3),Dropdwon!$B$3,Dropdwon!$B$4))","v":"00:00:00"},null,null,"00:00:00",{"$f":"IF(M16<Dropdwon!$A$3,Dropdwon!$B$2,IF(AND(M16<Dropdwon!$A$4,M16>=Dropdwon!$A$3),Dropdwon!$B$3,Dropdwon!$B$4))","v":"00:00:00"},"00:00:00",{"$f":"IF(AND(T16<>\"\",T16<>\"verpflichtende FoBi\",T16<>\"förderliche FoBi\"),Q16,IF(AND(T16=\"verpflichtende FoBi\",SUM(E16+I16+M16-O16)<=Dropdwon!$A$5),SUM(E16+I16+M16-O16),IF(AND(T16=\"förderliche FoBi\",SUM(E16+I16+M16-O16)<=Dropdwon!$A$5,SUM(E16+I16+M16-O16)<=Q16),SUM(E16+I16+M16-O16),IF(AND(T16=\"förderliche FoBi\",SUM(E16+I16+M16-O16)>Q16),Q16,IF(SUM(E16+I16+M16-O16)>Dropdwon!$A$5,Dropdwon!$C$5,SUM(E16+I16+M16-O16))))))","v":{"$error":"#VALUE!"}},{"$f":"IF(OR(U16=\"x\",A16<STAMMDATENBLATT!$B$32,A16>STAMMDATENBLATT!$D$32),\"0:00\",IF(MOD(B16,2)=0,VLOOKUP(WEEKDAY(A16,2),STAMMDATENBLATT!H$28:J$34,3,FALSE),VLOOKUP(WEEKDAY(A16,2),STAMMDATENBLATT!H$38:J$44,3,FALSE)))","v":{"$error":"#VALUE!"}},{"$error":"#VALUE!"},null,null,{"$f":"_xlfn.IFNA(VLOOKUP(A16,Feiertage!A:D,3,FALSE),\"\")","v":""},{"$f":"_xlfn.IFNA(VLOOKUP(A16,Feiertage!A:D,4,FALSE),\"\")","v":""}]
["2024-06-12",24,null,null,"00:00:00",{"$f":"IF(E17<Dropdwon!$A$3,Dropdwon!$B$2,IF(AND(E17<Dropdwon!$A$4,E17>=Dropdwon!$A$3),Dropdwon!$B$3,Dropdwon!$B$4))","v":"00:00:00"},null,null,"00:00:00",{"$f":"IF(I17<Dropdwon!$A$3,Dropdwon!$B$2,IF(AND(I17<Dropdwon!$A$4,I17>=Dropdwon!$A$3),Dropdwon!$B$3,Dropdwon!$B$4))","v":"00:00:00"},null,null,"00:00:00",{"$f":"IF(M17<Dropdwon!$A$3,Dropdwon!$B$2,IF(AND(M17<Dropdwon!$A$4,M17>=Dropdwon!$A$3),Dropdwon!$B$3,Dropdwon!$B$4))","v":"00:00:00"},"00:00:00",{"$f":"IF(AND(T17<>\"\",T17<>\"verpflichtende FoBi\",T17<>\"förderliche FoBi\"),Q17,IF(AND(T17=\"verpflichtende FoBi\",SUM(E17+I17+M17-O17)<=Dropdwon!$A$5),SUM(E17+I17+M17-O17),IF(AND(T17=\"förderliche FoBi\",SUM(E17+I17+M17-O17)<=Dropdwon!$A$5,SUM(E17+I17+M17-O17)<=Q17),SUM(E17+I17+M17-O17),IF(AND(T17=\"förderliche FoBi\",SUM(E17+I17+M17-O17)>Q17),Q17,IF(SUM(E17+I17+M17-O17)>Dropdwon!$A$5,Dropdwon!$C$5,SUM(E17+I17+M17-O17))))))","v":{"$error":"#VALUE!"}},{"$f":"IF(OR(U17=\"x\",A17<STAMMDATENBLATT!$B$32,A17>STAMMDATENBLATT!$D$32),\"0:00\",IF(MOD(B17,2)=0,VLOOKUP(WEEKDAY(A17,2),STAMMDATENBLATT!H$28:J$34,3,FALSE),VLOOKUP(WEEKDAY(A17,2),STAMMDATENBLATT!H$38:J$44,3,FALSE)))","v":{"$error":"#VALUE!"}},{"$error":"#VALUE!"},null,null,{"$f":"_xlfn.IFNA(VLOOKUP(A17,Feiertage!A:D,3,FALSE),\"\")","v":""},{"$f":"_xlfn.IFNA(VLOOKUP(A17,Feiertage!A:D,4,FALSE),\"\")","v":""}]
["2024-06-13",24,null,null,"00:00:00",{"$f":"IF(E18<Dropdwon!$A$3,Dropdwon!$B$2,IF(AND(E18<Dropdwon!$A$4,E18>=Dropdwon!$A$3),Dropdwon!$B$3,Dropdwon!$B$4))","v":"00:00:00"},null,null,"00:00:00",{"$f":"IF(I18<Dropdwon!$A$3,Dropdwon!$B$2,IF(AND(I18<Dropdwon!$A$4,I18>=Dropdwon!$A$3),Dropdwon!$B$3,Dropdwon!$B$4))","v":"00:00:00"},null,null,"00:00:00",{"$f":"IF(M18<Dropdwon!$A$3,Dropdwon!$B$2,IF(AND(M18<Dropdwon!$A$4,M18>=Dropdwon!$A$3),Dropdwon!$B$3,Dropdwon!$B$4))","v":"00:00:00"},"00:00:00",{"$f":"IF(AND(T18<>\"\",T18<>\"verpflichtende FoBi\",T18<>\"förderliche FoBi\"),Q18,IF(AND(T18=\"verpflichtende FoBi\",SUM(E18+I18+M18-O18)<=Dropdwon!$A$5),SUM(E18+I18+M18-O18),IF(AND(T18=\"förderliche FoBi\",SUM(E18+I18+M18-O18)<=Dropdwon!$A$5,SUM(E18+I18+M18-O18)<=Q18),SUM(E18+I18+M18-O18),IF(AND(T18=\"förderliche FoBi\",SUM(E18+I18+M18-O18)>Q18),Q18,IF(SUM(E18+I18+M18-O18)>Dropdwon!$A$5,Dropdwon!$C$5,SUM(E18+I18+M18-O18))))))","v":{"$error":"#VALUE!"}},{"$f":"IF(OR(U18=\"x\",A18<STAMMDATENBLATT!$B$32,A18>STAMMDATENBLATT!$D$32),\"0:00\",IF(MOD(B18,2)=0,VLOOKUP(WEEKDAY(A18,2),STAMMDATENBLATT!H$28:J$34,3,FALSE),VLOOKUP(WEEKDAY(A18,2),STAMMDATENBLATT!H$38:J$44,3,FALSE)))","v":{"$error":"#VALUE!"}},{"$error":"#VALUE!"},null,null,{"$f":"_xlfn.IFNA(VLOOKUP(A18,Feiertage!A:D,3,FALSE),\"\")","v":""},{"$f":"_xlfn.IFNA(VLOOKUP(A18,Feiertage!A:D,4,FALSE),\"\")","v":""}]
["2024-06-14",24,null,null,"00:00:00",{"$f":"IF(E19<Dropdwon!$A$3,Dropdwon!$B$2,IF(AND(E19<Dropdwon!$A$4,E19>=Dropdwon!$A$3),Dropdwon!$B$3,Dropdwon!$B$4))","v":"00:00:00"},null,null,"00:00:00",{"$f":"IF(I19<Dropdwon!$A$3,Dropdwon!$B$2,IF(AND(I19<Dropdwon!$A$4,I19>=Dropdwon!$A$3),Dropdwon!$B$3,Dropdwon!$B$4))","v":"00:00:00"},null,null,"00:00:00",{"$f":"IF(M19<Dropdwon!$A$3,Dropdwon!$B$2,IF(AND(M19<Dropdwon!$A$4,M19>=Dropdwon!$A$3),Dropdwon!$B$3,Dropdwon!$B$4))","v":"00:00:00"},"00:00:00",{"$f":"IF(AND(T19<>\"\",T19<>\"verpflichtende FoBi\",T19<>\"förderliche FoBi\"),Q19,IF(AND(T19=\"verpflichtende FoBi\",SUM(E19+I19+M19-O19)<=Dropdwon!$A$5),SUM(E19+I19+M19-O19),IF(AND(T19=\"förderliche FoBi\",SUM(E19+I19+M19-O19)<=Dropdwon!$A$5,SUM(E19+I19+M19-O19)<=Q19),SUM(E19+I19+M19-O19),IF(AND(T19=\"förderliche FoBi\",SUM(E19+I19+M19-O19)>Q19),Q19,IF(SUM(E19+I19+M19-O19)>Dropdwon!$A$5,Dropdwon!$C$5,SUM(E19+I19+M19-O19))))))","v":{"$error":"#VALUE!"}},{"$f":"IF(OR(U19=\"x\",A19<STAMMDATENBLATT!$B$32,A19>STAMMDATENBLATT!$D$32),\"0:00\",IF(MOD(B19,2)=0,VLOOKUP(WEEKDAY(A19,2),STAMMDATENBLATT!H$28:J$34,3,FALSE),VLOOKUP(WEEKDAY(A19,2),STAMMDATENBLATT!H$38:J$44,3,FALSE)))","v":{"$error":"#VALUE!"}},{"$error":"#VALUE!"},null,null,{"$f":"_xlfn.IFNA(VLOOKUP(A19,Feiertage!A:D,3,FALSE),\"\")","v":""},{"$f":"_xlfn.IFNA(VLOOKUP(A19,Feiertage!A:D,4,FALSE),\"\")","v":""}]
["2024-06-15",24,null,null,"00:00:00",{"$f":"IF(E20<Dropdwon!$A$3,Dropdwon!$B$2,IF(AND(E20<Dropdwon!$A$4,E20>=Dropdwon!$A$3),Dropdwon!$B$3,Dropdwon!$B$4))","v":"00:00:00"},null,null,"00:00:00",{"$f":"IF(I20<Dropdwon!$A$3,Dropdwon!$B$2,IF(AND(I20<Dropdwon!$A$4,I20>=Dropdwon!$A$3),Dropdwon!$B$3,Dropdwon!$B$4))","v":"00:00:00"},null,null,"00:00:00",{"$f":"IF(M20<Dropdwon!$A$3,Dropdwon!$B$2,IF(AND(M20<Dropdwon!$A$4,M20>=Dropdwon!$A$3),Dropdwon!$B$3,Dropdwon!$B$4))","v":"00:00:00"},"00:00:00",{"$f":"IF(AND(T20<>\"\",T20<>\"verpflichtende FoBi\",T20<>\"förderliche FoBi\"),Q20,IF(AND(T20=\"verpflichtende FoBi\",SUM(E20+I20+M20-O20)<=Dropdwon!$A$5),SUM(E20+I20+M20-O20),IF(AND(T20=\"förderliche FoBi\",SUM(E20+I20+M20-O20)<=Dropdwon!$A$5,SUM(E20+I20+M20-O20)<=Q20),SUM(E20+I20+M20-O20),IF(AND(T20=\"förderliche FoBi\",SUM(E20+I20+M20-O20)>Q20),Q20,IF(SUM(E20+I20+M20-O20)>Dropdwon!$A$5,Dropdwon!$C$5,SUM(E20+I20+M20-O20))))))","v":"00:00:00"},{"$f":"IF(OR(U20=\"x\",A20<STAMMDATENBLATT!$B$32,A20>STAMMDATENBLATT!$D$32),\"0:00\",IF(MOD(B20,2)=0,VLOOKUP(WEEKDAY(A20,2),STAMMDATENBLATT!H$28:J$34,3,FALSE),VLOOKUP(WEEKDAY(A20,2),STAMMDATENBLATT!H$38:J$44,3,FALSE)))","v":"00:00:00"},"00:00:00",null,null,{"$f":"_xlfn.IFNA(VLOOKUP(A20,Feiertage!A:D,3,FALSE),\"\")","v":""},{"$f":"_xlfn.IFNA(VLOOKUP(A20,Feiertage!A:D,4,FALSE),\"\")","v":""}]
["2024-06-16",24,null,null,"00:00:00",{"$f":"IF(E21<Dropdwon!$A$3,Dropdwon!$B$2,IF(AND(E21<Dropdwon!$A$4,E21>=Dropdwon!$A$3),Dropdwon!$B$3,Dropdwon!$B$4))","v":"00:00:00"},null,null,"00:00:00",{"$f":"IF(I21<Dropdwon!$A$3,Dropdwon!$B$2,IF(AND(I21<Dropdwon!$A$4,I21>=Dropdwon!$A$3),Dropdwon!$B$3,Dropdwon!$B$4))","v":"00:00:00"},null,null,"00:00:00",{"$f":"IF(M21<Dropdwon!$A$3,Dropdwon!$B$2,IF(AND(M21<Dropdwon!$A$4,M21>=Dropdwon!$A$3),Dropdwon!$B$3,Dropdwon!$B$4))","v":"00:00:00"},"00:00:00",{"$f":"IF(AND(T21<>\"\",T21<>\"verpflichtende FoBi\",T21<>\"förderliche FoBi\"),Q21,IF(AND(T21=\"verpflichtende FoBi\",SUM(E21+I21+M21-O21)<=Dropdwon!$A$5),SUM(E21+I21+M21-O21),IF(AND(T21=\"förderliche FoBi\",SUM(E21+I21+M21-O21)<=Dropdwon!$A$5,SUM(E21+I21+M21-O21)<=Q21),SUM(E21+I21+M21-O21),IF(AND(T21=\"förderliche FoBi\",SUM(E21+I21+M21-O21)>Q21),Q21,IF(SUM(E21+I21+M21-O21)>Dropdwon!$A$5,Dropdwon!$C$5,SUM(E21+I21+M21-O21))))))","v":"00:00:00"},{"$f":"IF(OR(U21=\"x\",A21<STAMMDATENBLATT!$B$32,A21>STAMMDATENBLATT!$D$32),\"0:00\",IF(MOD(B21,2)=0,VLOOKUP(WEEKDAY(A21,2),STAMMDATENBLATT!H$28:J$34,3,FALSE),VLOOKUP(WEEKDAY(A21,2),STAMMDATENBLATT!H$38:J$44,3,FALSE)))","v":"00:00:00"},"00:00:00",null,null,{"$f":"_xlfn.IFNA(VLOOKUP(A21,Feiertage!A:D,3,FALSE),\"\")","v":""},{"$f":"_xlfn.IFNA(VLOOKUP(A21,Feiertage!A:D,4,FALSE),\"\")","v":""}]
["2024-06-17",25,null,null,"00:00:00",{"$f":"IF(E22<Dropdwon!$A$3,Dropdwon!$B$2,IF(AND(E22<Dropdwon!$A$4,E22>=Dropdwon!$A$3),Dropdwon!$B$3,Dropdwon!$B$4))","v":"00:00:00"},null,null,"00:00:00",{"$f":"IF(I22<Dropdwon!$A$3,Dropdwon!$B$2,IF(AND(I22<Dropdwon!$A$4,I22>=Dropdwon!$A$3),Dropdwon!$B$3,Dropdwon!$B$4))","v":"00:00:00"},null,null,"00:00:00",{"$f":"IF(M22<Dropdwon!$A$3,Dropdwon!$B$2,IF(AND(M22<Dropdwon!$A$4,M22>=Dropdwon!$A$3),Dropdwon!$B$3,Dropdwon!$B$4))","v":"00:00:00"},"00:00:00",{"$f":"IF(AND(T22<>\"\",T22<>\"verpflichtende FoBi\",T22<>\"förderliche FoBi\"),Q22,IF(AND(T22=\"verpflichtende FoBi\",SUM(E22+I22+M22-O22)<=Dropdwon!$A$5),SUM(E22+I22+M22-O22),IF(AND(T22=\"förderliche FoBi\",SUM(E22+I22+M22-O22)<=Dropdwon!$A$5,SUM(E22+I22+M22-O22)<=Q22),SUM(E22+I22+M22-O22),IF(AND(T22=\"förderliche FoBi\",SUM(E22+I22+M22-O22)>Q22),Q22,IF(SUM(E22+I22+M22-O22)>Dropdwon!$A$5,Dropdwon!$C$5,SUM(E22+I22+M22-O22))))))","v":{"$error":"#VALUE!"}},{"$f":"IF(OR(U22=\"x\",A22<STAMMDATENBLATT!$B$32,A22>STAMMDATENBLATT!$D$32),\"0:00\",IF(MOD(B22,2)=0,VLOOKUP(WEEKDAY(A22,2),STAMMDATENBLATT!H$28:J$34,3,FALSE),VLOOKUP(WEEKDAY(A22,2),STAMMDATENBLATT!H$38:J$44,3,FALSE)))","v":{"$error":"#VALUE!"}},{"$error":"#VALUE!"},null,null,{"$f":"_xlfn.IFNA(VLOOKUP(A22,Feiertage!A:D,3,FALSE),\"\")","v":""},{"$f":"_xlfn.IFNA(VLOOKUP(A22,Feiertage!A:D,4,FALSE),\"\")","v":""}]
["2024-06-18",25,null,null,"00:00:00",{"$f":"IF(E23<Dropdwon!$A$3,Dropdwon!$B$2,IF(AND(E23<Dropdwon!$A$4,E23>=Dropdwon!$A$3),Dropdwon!$B$3,Dropdwon!$B$4))","v":"00:00:00"},null,null,"00:00:00",{"$f":"IF(I23<Dropdwon!$A$3,Dropdwon!$B$2,IF(AND(I23<Dropdwon!$A$4,I23>=Dropdwon!$A$3),Dropdwon!$B$3,Dropdwon!$B$4))","v":"00:00:00"},null,null,"00:00:00",{"$f":"IF(M23<Dropdwon!$A$3,Dropdwon!$B$2,IF(AND(M23<Dropdwon!$A$4,M23>=Dropdwon!$A$3),Dropdwon!$B$3,Dropdwon!$B$4))","v":"00:00:00"},"00:00:00",{"$f":"IF(AND(T23<>\"\",T23<>\"verpflichtende FoBi\",T23<>\"förderliche FoBi\"),Q23,IF(AND(T23=\"verpflichtende FoBi\",SUM(E23+I23+M23-O23)<=Dropdwon!$A$5),SUM(E23+I23+M23-O23),IF(AND(T23=\"förderliche FoBi\",SUM(E23+I23+M23-O23)<=Dropdwon!$A$5,SUM(E23+I23+M23-O23)<=Q23),SUM(E23+I23+M23-O23),IF(AND(T23=\"förderliche FoBi\",SUM(E23+I23+M23-O23)>Q23),Q23,IF(SUM(E23+I23+M23-O23)>Dropdwon!$A$5,Dropdwon!$C$5,SUM(E23+I23+M23-O23))))))","v":{"$error":"#VALUE!"}},{"$f":"IF(OR(U23=\"x\",A23<STAMMDATENBLATT!$B$32,A23>STAMMDATENBLATT!$D$32),\"0:00\",IF(MOD(B23,2)=0,VLOOKUP(WEEKDAY(A23,2),STAMMDATENBLATT!H$28:J$34,3,FALSE),VLOOKUP(WEEKDAY(A23,2),STAMMDATENBLATT!H$38:J$44,3,FALSE)))","v":{"$error":"#VALUE!"}},{"$error":"#VALUE!"},null,null,{"$f":"_xlfn.IFNA(VLOOKUP(A23,Feiertage!A:D,3,FALSE),\"\")","v":""},{"$f":"_xlfn.IFNA(VLOOKUP(A23,Feiertage!A:D,4,FALSE),\"\")","v":""}]
["2024-06-19",25,null,null,"00:00:00",{"$f":"IF(E24<Dropdwon!$A$3,Dropdwon!$B$2,IF(AND(E24<Dropdwon!$A$4,E24>=Dropdwon!$A$3),Dropdwon!$B$3,Dropdwon!$B$4))","v":"00:00:00"},null,null,"00:00:00",{"$f":"IF(I24<Dropdwon!$A$3,Dropdwon!$B$2,IF(AND(I24<Dropdwon!$A$4,I24>=Dropdwon!$A$3),Dropdwon!$B$3,Dropdwon!$B$4))","v":"00:00:00"},null,null,"00:00:00",{"$f":"IF(M24<Dropdwon!$A$3,Dropdwon!$B$2,IF(AND(M24<Dropdwon!$A$4,M24>=Dropdwon!$A$3),Dropdwon!$B$3,Dropdwon!$B$4))","v":"00:00:00"},"00:00:00",{"$f":"IF(AND(T24<>\"\",T24<>\"verpflichtende FoBi\",T24<>\"förderliche FoBi\"),Q24,IF(AND(T24=\"verpflichtende FoBi\",SUM(E24+I24+M24-O24)<=Dropdwon!$A$5),SUM(E24+I24+M24-O24),IF(AND(T24=\"förderliche FoBi\",SUM(E24+I24+M24-O24)<=Dropdwon!$A$5,SUM(E24+I24+M24-O24)<=Q24),SUM(E24+I24+M24-O24),IF(AND(T24=\"förderliche FoBi\",SUM(E24+I24+M24-O24)>Q24),Q24,IF(SUM(E24+I24+M24-O24)>Dropdwon!$A$5,Dropdwon!$C$5,SUM(E24+I24+M24-O24))))))","v":{"$error":"#VALUE!"}},{"$f":"IF(OR(U24=\"x\",A24<STAMMDATENBLATT!$B$32,A24>STAMMDATENBLATT!$D$32),\"0:00\",IF(MOD(B24,2)=0,VLOOKUP(WEEKDAY(A24,2),STAMMDATENBLATT!H$28:J$34,3,FALSE),VLOOKUP(WEEKDAY(A24,2),STAMMDATENBLATT!H$38:J$44,3,FALSE)))","v":{"$error":"#VALUE!"}},{"$error":"#VALUE!"},null,null,{"$f":"_xlfn.IFNA(VLOOKUP(A24,Feiertage!A:D,3,FALSE),\"\")","v":""},{"$f":"_xlfn.IFNA(VLOOKUP(A24,Feiertage!A:D,4,FALSE),\"\")","v":""}]
["2024-06-20",25,null,null,"00:00:00",{"$f":"IF(E25<Dropdwon!$A$3,Dropdwon!$B$2,IF(AND(E25<Dropdwon!$A$4,E25>=Dropdwon!$A$3),Dropdwon!$B$3,Dropdwon!$B$4))","v":"00:00:00"},null,null,"00:00:00",{"$f":"IF(I25<Dropdwon!$A$3,Dropdwon!$B$2,IF(AND(I25<Dropdwon!$A$4,I25>=Dropdwon!$A$3),Dropdwon!$B$3,Dropdwon!$B$4))","v":"00:00:00"},null,null,"00:00:00",{"$f":"IF(M25<Dropdwon!$A$3,Dropdwon!$B$2,IF(AND(M25<Dropdwon!$A$4,M25>=Dropdwon!$A$3),Dropdwon!$B$3,Dropdwon!$B$4))","v":"00:00:00"},"00:00:00",{"$f":"IF(AND(T25<>\"\",T25<>\"verpflichtende FoBi\",T25<>\"förderliche FoBi\"),Q25,IF(AND(T25=\"verpflichtende FoBi\",SUM(E25+I25+M25-O25)<=Dropdwon!$A$5),SUM(E25+I25+M25-O25),IF(AND(T25=\"förderliche FoBi\",SUM(E25+I25+M25-O25)<=Dropdwon!$A$5,SUM(E25+I25+M25-O25)<=Q25),SUM(E25+I25+M25-O25),IF(AND(T25=\"förderliche FoBi\",SUM(E25+I25+M25-O25)>Q25),Q25,IF(SUM(E25+I25+M25-O25)>Dropdwon!$A$5,Dropdwon!$C$5,SUM(E25+I25+M25-O25))))))","v":{"$error":"#VALUE!"}},{"$f":"IF(OR(U25=\"x\",A25<STAMMDATENBLATT!$B$32,A25>STAMMDATENBLATT!$D$32),\"0:00\",IF(MOD(B25,2)=0,VLOOKUP(WEEKDAY(A25,2),STAMMDATENBLATT!H$28:J$34,3,FALSE),VLOOKUP(WEEKDAY(A25,2),STAMMDATENBLATT!H$38:J$44,3,FALSE)))","v":{"$error":"#VALUE!"}},{"$error":"#VALUE!"},null,null,{"$f":"_xlfn.IFNA(VLOOKUP(A25,Feiertage!A:D,3,FALSE),\"\")","v":""},{"$f":"_xlfn.IFNA(VLOOKUP(A25,Feiertage!A:D,4,FALSE),\"\")","v":""}]
["2024-06-21",25,null,null,"00:00:00",{"$f":"IF(E26<Dropdwon!$A$3,Dropdwon!$B$2,IF(AND(E26<Dropdwon!$A$4,E26>=Dropdwon!$A$3),Dropdwon!$B$3,Dropdwon!$B$4))","v":"00:00:00"},null,null,"00:00:00",{"$f":"IF(I26<Dropdwon!$A$3,Dropdwon!$B$2,IF(AND(I26<Dropdwon!$A$4,I26>=Dropdwon!$A$3),Dropdwon!$B$3,Dropdwon!$B$4))","v":"00:00:00"},null,null,"00:00:00",{"$f":"IF(M26<Dropdwon!$A$3,Dropdwon!$B$2,IF(AND(M26<Dropdwon!$A$4,M26>=Dropdwon!$A$3),Dropdwon!$B$3,Dropdwon!$B$4))","v":"00:00:00"},"00:00:00",{"$f":"IF(AND(T26<>\"\",T26<>\"verpflichtende FoBi\",T26<>\"förderliche FoBi\"),Q26,IF(AND(T26=\"verpflichtende FoBi\",SUM(E26+I26+M26-O26)<=Dropdwon!$A$5),SUM(E26+I26+M26-O26),IF(AND(T26=\"förderliche FoBi\",SUM(E26+I26+M26-O26)<=Dropdwon!$A$5,SUM(E26+I26+M26-O26)<=Q26),SUM(E26+I26+M26-O26),IF(AND(T26=\"förderliche FoBi\",SUM(E26+I26+M26-O26)>Q26),Q26,IF(SUM(E26+I26+M26-O26)>Dropdwon!$A$5,Dropdwon!$C$5,SUM(E26+I26+M26-O26))))))","v":{"$error":"#VALUE!"}},{"$f":"IF(OR(U26=\"x\",A26<STAMMDATENBLATT!$B$32,A26>STAMMDATENBLATT!$D$32),\"0:00\",IF(MOD(B26,2)=0,VLOOKUP(WEEKDAY(A26,2),STAMMDATENBLATT!H$28:J$34,3,FALSE),VLOOKUP(WEEKDAY(A26,2),STAMMDATENBLATT!H$38:J$44,3,FALSE)))","v":{"$error":"#VALUE!"}},{"$error":"#VALUE!"},null,null,{"$f":"_xlfn.IFNA(VLOOKUP(A26,Feiertage!A:D,3,FALSE),\"\")","v":""},{"$f":"_xlfn.IFNA(VLOOKUP(A26,Feiertage!A:D,4,FALSE),\"\")","v":""}]
["2024-06-22",25,null,null,"00:00:00",{"$f":"IF(E27<Dropdwon!$A$3,Dropdwon!$B$2,IF(AND(E27<Dropdwon!$A$4,E27>=Dropdwon!$A$3),Dropdwon!$B$3,Dropdwon!$B$4))","v":"00:00:00"},null,null,"00:00:00",{"$f":"IF(I27<Dropdwon!$A$3,Dropdwon!$B$2,IF(AND(I27<Dropdwon!$A$4,I27>=Dropdwon!$A$3),Dropdwon!$B$3,Dropdwon!$B$4))","v":"00:00:00"},null,null,"00:00:00",{"$f":"IF(M27<Dropdwon!$A$3,Dropdwon!$B$2,IF(AND(M27<Dropdwon!$A$4,M27>=Dropdwon!$A$3),Dropdwon!$B$3,Dropdwon!$B$4))","v":"00:00:00"},"00:00:00",{"$f":"IF(AND(T27<>\"\",T27<>\"verpflichtende FoBi\",T27<>\"förderliche FoBi\"),Q27,IF(AND(T27=\"verpflichtende FoBi\",SUM(E27+I27+M27-O27)<=Dropdwon!$A$5),SUM(E27+I27+M27-O27),IF(AND(T27=\"förderliche FoBi\",SUM(E27+I27+M27-O27)<=Dropdwon!$A$5,SUM(E27+I27+M27-O27)<=Q27),SUM(E27+I27+M27-O27),IF(AND(T27=\"förderliche FoBi\",SUM(E27+I27+M27-O27)>Q27),Q27,IF(SUM(E27+I27+M27-O27)>Dropdwon!$A$5,Dropdwon!$C$5,SUM(E27+I27+M27-O27))))))","v":"00:00:00"},{"$f":"IF(OR(U27=\"x\",A27<STAMMDATENBLATT!$B$32,A27>STAMMDATENBLATT!$D$32),\"0:00\",IF(MOD(B27,2)=0,VLOOKUP(WEEKDAY(A27,2),STAMMDATENBLATT!H$28:J$34,3,FALSE),VLOOKUP(WEEKDAY(A27,2),STAMMDATENBLATT!H$38:J$44,3,FALSE)))","v":"00:00:00"},"00:00:00",null,null,{"$f":"_xlfn.IFNA(VLOOKUP(A27,Feiertage!A:D,3,FALSE),\"\")","v":""},{"$f":"_xlfn.IFNA(VLOOKUP(A27,Feiertage!A:D,4,FALSE),\"\")","v":""}]
["2024-06-23",25,null,null,"00:00:00",{"$f":"IF(E28<Dropdwon!$A$3,Dropdwon!$B$2,IF(AND(E28<Dropdwon!$A$4,E28>=Dropdwon!$A$3),Dropdwon!$B$3,Dropdwon!$B$4))","v":"00:00:00"},null,null,"00:00:00",{"$f":"IF(I28<Dropdwon!$A$3,Dropdwon!$B$2,IF(AND(I28<Dropdwon!$A$4,I28>=Dropdwon!$A$3),Dropdwon!$B$3,Dropdwon!$B$4))","v":"00:00:00"},null,null,"00:00:00",{"$f":"IF(M28<Dropdwon!$A$3,Dropdwon!$B$2,IF(AND(M28<Dropdwon!$A$4,M28>=Dropdwon!$A$3),Dropdwon!$B$3,Dropdwon!$B$4))","v":"00:00:00"},"00:00:00",{"$f":"IF(AND(T28<>\"\",T28<>\"verpflichtende FoBi\",T28<>\"förderliche FoBi\"),Q28,IF(AND(T28=\"verpflichtende FoBi\",SUM(E28+I28+M28-O28)<=Dropdwon!$A$5),SUM(E28+I28+M28-O28),IF(AND(T28=\"förderliche FoBi\",SUM(E28+I28+M28-O28)<=Dropdwon!$A$5,SUM(E28+I28+M28-O28)<=Q28),SUM(E28+I28+M28-O28),IF(AND(T28=\"förderliche FoBi\",SUM(E28+I28+M28-O28)>Q28),Q28,IF(SUM(E28+I28+M28-O28)>Dropdwon!$A$5,Dropdwon!$C$5,SUM(E28+I28+M28-O28))))))","v":"00:00:00"},{"$f":"IF(OR(U28=\"x\",A28<STAMMDATENBLATT!$B$32,A28>STAMMDATENBLATT!$D$32),\"0:00\",IF(MOD(B28,2)=0,VLOOKUP(WEEKDAY(A28,2),STAMMDATENBLATT!H$28:J$34,3,FALSE),VLOOKUP(WEEKDAY(A28,2),STAMMDATENBLATT!H$38:J$44,3,FALSE)))","v":"00:00:00"},"00:00:00",null,null,{"$f":"_xlfn.IFNA(VLOOKUP(A28,Feiertage!A:D,3,FALSE),\"\")","v":""},{"$f":"_xlfn.IFNA(VLOOKUP(A28,Feiertage!A:D,4,FALSE),\"\")","v":""}]
["2024-06-24",26,null,null,"00:00:00",{"$f":"IF(E29<Dropdwon!$A$3,Dropdwon!$B$2,IF(AND(E29<Dropdwon!$A$4,E29>=Dropdwon!$A$3),Dropdwon!$B$3,Dropdwon!$B$4))","v":"00:00:00"},null,null,"00:00:00",{"$f":"IF(I29<Dropdwon!$A$3,Dropdwon!$B$2,IF(AND(I29<Dropdwon!$A$4,I29>=Dropdwon!$A$3),Dropdwon!$B$3,Dropdwon!$B$4))","v":"00:00:00"},null,null,"00:00:00",{"$f":"IF(M29<Dropdwon!$A$3,Dropdwon!$B$2,IF(AND(M29<Dropdwon!$A$4,M29>=Dropdwon!$A$3),Dropdwon!$B$3,Dropdwon!$B$4))","v":"00:00:00"},"00:00:00",{"$f":"IF(AND(T29<>\"\",T29<>\"verpflichtende FoBi\",T29<>\"förderliche FoBi\"),Q29,IF(AND(T29=\"verpflichtende FoBi\",SUM(E29+I29+M29-O29)<=Dropdwon!$A$5),SUM(E29+I29+M29-O29),IF(AND(T29=\"förderliche FoBi\",SUM(E29+I29+M29-O29)<=Dropdwon!$A$5,SUM(E29+I29+M29-O29)<=Q29),SUM(E29+I29+M29-O29),IF(AND(T29=\"förderliche FoBi\",SUM(E29+I29+M29-O29)>Q29),Q29,IF(SUM(E29+I29+M29-O29)>Dropdwon!$A$5,Dropdwon!$C$5,SUM(E29+I29+M29-O29))))))","v":{"$error":"#VALUE!"}},{"$f":"IF(OR(U29=\"x\",A29<STAMMDATENBLATT!$B$32,A29>STAMMDATENBLATT!$D$32),\"0:00\",IF(MOD(B29,2)=0,VLOOKUP(WEEKDAY(A29,2),STAMMDATENBLATT!H$28:J$34,3,FALSE),VLOOKUP(WEEKDAY(A29,2),STAMMDATENBLATT!H$38:J$44,3,FALSE)))","v":{"$error":"#VALUE!"}},{"$error":"#VALUE!"},null,null,{"$f":"_xlfn.IFNA(VLOOKUP(A29,Feiertage!A:D,3,FALSE),\"\")","v":""},{"$f":"_xlfn.IFNA(VLOOKUP(A29,Feiertage!A:D,4,FALSE),\"\")","v":""}]
["2024-06-25",26,null,null,"00:00:00",{"$f":"IF(E30<Dropdwon!$A$3,Dropdwon!$B$2,IF(AND(E30<Dropdwon!$A$4,E30>=Dropdwon!$A$3),Dropdwon!$B$3,Dropdwon!$B$4))","v":"00:00:00"},null,null,"00:00:00",{"$f":"IF(I30<Dropdwon!$A$3,Dropdwon!$B$2,IF(AND(I30<Dropdwon!$A$4,I30>=Dropdwon!$A$3),Dropdwon!$B$3,Dropdwon!$B$4))","v":"00:00:00"},null,null,"00:00:00",{"$f":"IF(M30<Dropdwon!$A$3,Dropdwon!$B$2,IF(AND(M30<Dropdwon!$A$4,M30>=Dropdwon!$A$3),Dropdwon!$B$3,Dropdwon!$B$4))","v":"00:00:00"},"00:00:00",{"$f":"IF(AND(T30<>\"\",T30<>\"verpflichtende FoBi\",T30<>\"förderliche FoBi\"),Q30,IF(AND(T30=\"verpflichtende FoBi\",SUM(E30+I30+M30-O30)<=Dropdwon!$A$5),SUM(E30+I30+M30-O30),IF(AND(T30=\"förderliche FoBi\",SUM(E30+I30+M30-O30)<=Dropdwon!$A$5,SUM(E30+I30+M30-O30)<=Q30),SUM(E30+I30+M30-O30),IF(AND(T30=\"förderliche FoBi\",SUM(E30+I30+M30-O30)>Q30),Q30,IF(SUM(E30+I30+M30-O30)>Dropdwon!$A$5,Dropdwon!$C$5,SUM(E30+I30+M30-O30))))))","v":{"$error":"#VALUE!"}},{"$f":"IF(OR(U30=\"x\",A30<STAMMDATENBLATT!$B$32,A30>STAMMDATENBLATT!$D$32),\"0:00\",IF(MOD(B30,2)=0,VLOOKUP(WEEKDAY(A30,2),STAMMDATENBLATT!H$28:J$34,3,FALSE),VLOOKUP(WEEKDAY(A30,2),STAMMDATENBLATT!H$38:J$44,3,FALSE)))","v":{"$error":"#VALUE!"}},{"$error":"#VALUE!"},null,null,{"$f":"_xlfn.IFNA(VLOOKUP(A30,Feiertage!A:D,3,FALSE),\"\")","v":""},{"$f":"_xlfn.IFNA(VLOOKUP(A30,Feiertage!A:D,4,FALSE),\"\")","v":""}]
["2024-06-26",26,null,null,"00:00:00",{"$f":"IF(E31<Dropdwon!$A$3,Dropdwon!$B$2,IF(AND(E31<Dropdwon!$A$4,E31>=Dropdwon!$A$3),Dropdwon!$B$3,Dropdwon!$B$4))","v":"00:00:00"},null,null,"00:00:00",{"$f":"IF(I31<Dropdwon!$A$3,Dropdwon!$B$2,IF(AND(I31<Dropdwon!$A$4,I31>=Dropdwon!$A$3),Dropdwon!$B$3,Dropdwon!$B$4))","v":"00:00:00"},null,null,"00:00:00",{"$f":"IF(M31<Dropdwon!$A$3,Dropdwon!$B$2,IF(AND(M31<Dropdwon!$A$4,M31>=Dropdwon!$A$3),Dropdwon!$B$3,Dropdwon!$B$4))","v":"00:00:00"},"00:00:00",{"$f":"IF(AND(T31<>\"\",T31<>\"verpflichtende FoBi\",T31<>\"förderliche FoBi\"),Q31,IF(AND(T31=\"verpflichtende FoBi\",SUM(E31+I31+M31-O31)<=Dropdwon!$A$5),SUM(E31+I31+M31-O31),IF(AND(T31=\"förderliche FoBi\",SUM(E31+I31+M31-O31)<=Dropdwon!$A$5,SUM(E31+I31+M31-O31)<=Q31),SUM(E31+I31+M31-O31),IF(AND(T31=\"förderliche FoBi\",SUM(E31+I31+M31-O31)>Q31),Q31,IF(SUM(E31+I31+M31-O31)>Dropdwon!$A$5,Dropdwon!$C$5,SUM(E31+I31+M31-O31))))))","v":{"$error":"#VALUE!"}},{"$f":"IF(OR(U31=\"x\",A31<STAMMDATENBLATT!$B$32,A31>STAMMDATENBLATT!$D$32),\"0:00\",IF(MOD(B31,2)=0,VLOOKUP(WEEKDAY(A31,2),STAMMDATENBLATT!H$28:J$34,3,FALSE),VLOOKUP(WEEKDAY(A31,2),STAMMDATENBLATT!H$38:J$44,3,FALSE)))","v":{"$error":"#VALUE!"}},{"$error":"#VALUE!"},null,null,{"$f":"_xlfn.IFNA(VLOOKUP(A31,Feiertage!A:D,3,FALSE),\"\")","v":""},{"$f":"_xlfn.IFNA(VLOOKUP(A31,Feiertage!A:D,4,FALSE),\"\")","v":""}]
["2024-06-27",26,null,null,"00:00:00",{"$f":"IF(E32<Dropdwon!$A$3,Dropdwon!$B$2,IF(AND(E32<Dropdwon!$A$4,E32>=Dropdwon!$A$3),Dropdwon!$B$3,Dropdwon!$B$4))","v":"00:00:00"},null,null,"00:00:00",{"$f":"IF(I32<Dropdwon!$A$3,Dropdwon!$B$2,IF(AND(I32<Dropdwon!$A$4,I32>=Dropdwon!$A$3),Dropdwon!$B$3,Dropdwon!$B$4))","v":"00:00:00"},null,null,"00:00:00",{"$f":"IF(M32<Dropdwon!$A$3,Dropdwon!$B$2,IF(AND(M32<Dropdwon!$A$4,M32>=Dropdwon!$A$3),Dropdwon!$B$3,Dropdwon!$B$4))","v":"00:00:00"},"00:00:00",{"$f":"IF(AND(T32<>\"\",T32<>\"verpflichtende FoBi\",T32<>\"förderliche FoBi\"),Q32,IF(AND(T32=\"verpflichtende FoBi\",SUM(E32+I32+M32-O32)<=Dropdwon!$A$5),SUM(E32+I32+M32-O32),IF(AND(T32=\"förderliche FoBi\",SUM(E32+I32+M32-O32)<=Dropdwon!$A$5,SUM(E32+I32+M32-O32)<=Q32),SUM(E32+I32+M32-O32),IF(AND(T32=\"förderliche FoBi\",SUM(E32+I32+M32-O32)>Q32),Q32,IF(SUM(E32+I32+M32-O32)>Dropdwon!$A$5,Dropdwon!$C$5,SUM(E32+I32+M32-O32))))))","v":{"$error":"#VALUE!"}},{"$f":"IF(OR(U32=\"x\",A32<STAMMDATENBLATT!$B$32,A32>STAMMDATENBLATT!$D$32),\"0:00\",IF(MOD(B32,2)=0,VLOOKUP(WEEKDAY(A32,2),STAMMDATENBLATT!H$28:J$34,3,FALSE),VLOOKUP(WEEKDAY(A32,2),STAMMDATENBLATT!H$38:J$44,3,FALSE)))","v":{"$error":"#VALUE!"}},{"$error":"#VALUE!"},null,null,{"$f":"_xlfn.IFNA(VLOOKUP(A32,Feiertage!A:D,3,FALSE),\"\")","v":""},{"$f":"_xlfn.IFNA(VLOOKUP(A32,Feiertage!A:D,4,FALSE),\"\")","v":""}]
["2024-06-28",26,null,null,"00:00:00",{"$f":"IF(E33<Dropdwon!$A$3,Dropdwon!$B$2,IF(AND(E33<Dropdwon!$A$4,E33>=Dropdwon!$A$3),Dropdwon!$B$3,Dropdwon!$B$4))","v":"00:00:00"},null,null,"00:00:00",{"$f":"IF(I33<Dropdwon!$A$3,Dropdwon!$B$2,IF(AND(I33<Dropdwon!$A$4,I33>=Dropdwon!$A$3),Dropdwon!$B$3,Dropdwon!$B$4))","v":"00:00:00"},null,null,"00:00:00",{"$f":"IF(M33<Dropdwon!$A$3,Dropdwon!$B$2,IF(AND(M33<Dropdwon!$A$4,M33>=Dropdwon!$A$3),Dropdwon!$B$3,Dropdwon!$B$4))","v":"00:00:00"},"00:00:00",{"$f":"IF(AND(T33<>\"\",T33<>\"verpflichtende FoBi\",T33<>\"förderliche FoBi\"),Q33,IF(AND(T33=\"verpflichtende FoBi\",SUM(E33+I33+M33-O33)<=Dropdwon!$A$5),SUM(E33+I33+M33-O33),IF(AND(T33=\"förderliche FoBi\",SUM(E33+I33+M33-O33)<=Dropdwon!$A$5,SUM(E33+I33+M33-O33)<=Q33),SUM(E33+I33+M33-O33),IF(AND(T33=\"förderliche FoBi\",SUM(E33+I33+M33-O33)>Q33),Q33,IF(SUM(E33+I33+M33-O33)>Dropdwon!$A$5,Dropdwon!$C$5,SUM(E33+I33+M33-O33))))))","v":{"$error":"#VALUE!"}},{"$f":"IF(OR(U33=\"x\",A33<STAMMDATENBLATT!$B$32,A33>STAMMDATENBLATT!$D$32),\"0:00\",IF(MOD(B33,2)=0,VLOOKUP(WEEKDAY(A33,2),STAMMDATENBLATT!H$28:J$34,3,FALSE),VLOOKUP(WEEKDAY(A33,2),STAMMDATENBLATT!H$38:J$44,3,FALSE)))","v":{"$error":"#VALUE!"}},{"$error":"#VALUE!"},null,null,{"$f":"_xlfn.IFNA(VLOOKUP(A33,Feiertage!A:D,3,FALSE),\"\")","v":""},{"$f":"_xlfn.IFNA(VLOOKUP(A33,Feiertage!A:D,4,FALSE),\"\")","v":""}]
["2024-06-29",26,null,null,"00:00:00",{"$f":"IF(E34<Dropdwon!$A$3,Dropdwon!$B$2,IF(AND(E34<Dropdwon!$A$4,E34>=Dropdwon!$A$3),Dropdwon!$B$3,Dropdwon!$B$4))","v":"00:00:00"},null,null,"00:00:00",{"$f":"IF(I34<Dropdwon!$A$3,Dropdwon!$B$2,IF(AND(I34<Dropdwon!$A$4,I34>=Dropdwon!$A$3),Dropdwon!$B$3,Dropdwon!$B$4))","v":"00:00:00"},null,null,"00:00:00",{"$f":"IF(M34<Dropdwon!$A$3,Dropdwon!$B$2,IF(AND(M34<Dropdwon!$A$4,M34>=Dropdwon!$A$3),Dropdwon!$B$3,Dropdwon!$B$4))","v":"00:00:00"},"00:00:00",{"$f":"IF(AND(T34<>\"\",T34<>\"verpflichtende FoBi\",T34<>\"förderliche FoBi\"),Q34,IF(AND(T34=\"verpflichtende FoBi\",SUM(E34+I34+M34-O34)<=Dropdwon!$A$5),SUM(E34+I34+M34-O34),IF(AND(T34=\"förderliche FoBi\",SUM(E34+I34+M34-O34)<=Dropdwon!$A$5,SUM(E34+I34+M34-O34)<=Q34),SUM(E34+I34+M34-O34),IF(AND(T34=\"förderliche FoBi\",SUM(E34+I34+M34-O34)>Q34),Q34,IF(SUM(E34+I34+M34-O34)>Dropdwon!$A$5,Dropdwon!$C$5,SUM(E34+I34+M34-O34))))))","v":"00:00:00"},{"$f":"IF(OR(U34=\"x\",A34<STAMMDATENBLATT!$B$32,A34>STAMMDATENBLATT!$D$32),\"0:00\",IF(MOD(B34,2)=0,VLOOKUP(WEEKDAY(A34,2),STAMMDATENBLATT!H$28:J$34,3,FALSE),VLOOKUP(WEEKDAY(A34,2),STAMMDATENBLATT!H$38:J$44,3,FALSE)))","v":"00:00:00"},"00:00:00",null,null,{"$f":"_xlfn.IFNA(VLOOKUP(A34,Feiertage!A:D,3,FALSE),\"\")","v":""},{"$f":"_xlfn.IFNA(VLOOKUP(A34,Feiertage!A:D,4,FALSE),\"\")","v":""}]
["2024-06-30",26,null,null,"00:00:00",{"$f":"IF(E35<Dropdwon!$A$3,Dropdwon!$B$2,IF(AND(E35<Dropdwon!$A$4,E35>=Dropdwon!$A$3),Dropdwon!$B$3,Dropdwon!$B$4))","v":"00:00:00"},null,null,"00:00:00",{"$f":"IF(I35<Dropdwon!$A$3,Dropdwon!$B$2,IF(AND(I35<Dropdwon!$A$4,I35>=Dropdwon!$A$3),Dropdwon!$B$3,Dropdwon!$B$4))","v":"00:00:00"},null,null,"00:00:00",{"$f":"IF(M35<Dropdwon!$A$3,Dropdwon!$B$2,IF(AND(M35<Dropdwon!$A$4,M35>=Dropdwon!$A$3),Dropdwon!$B$3,Dropdwon!$B$4))","v":"00:00:00"},"00:00:00",{"$f":"IF(AND(T35<>\"\",T35<>\"verpflichtende FoBi\",T35<>\"förderliche FoBi\"),Q35,IF(AND(T35=\"verpflichtende FoBi\",SUM(E35+I35+M35-O35)<=Dropdwon!$A$5),SUM(E35+I35+M35-O35),IF(AND(T35=\"förderliche FoBi\",SUM(E35+I35+M35-O35)<=Dropdwon!$A$5,SUM(E35+I35+M35-O35)<=Q35),SUM(E35+I35+M35-O35),IF(AND(T35=\"förderliche FoBi\",SUM(E35+I35+M35-O35)>Q35),Q35,IF(SUM(E35+I35+M35-O35)>Dropdwon!$A$5,Dropdwon!$C$5,SUM(E35+I35+M35-O35))))))","v":"00:00:00"},{"$f":"IF(OR(U35=\"x\",A35<STAMMDATENBLATT!$B$32,A35>STAMMDATENBLATT!$D$32),\"0:00\",IF(MOD(B35,2)=0,VLOOKUP(WEEKDAY(A35,2),STAMMDATENBLATT!H$28:J$34,3,FALSE),VLOOKUP(WEEKDAY(A35,2),STAMMDATENBLATT!H$38:J$44,3,FALSE)))","v":"00:00:00"},"00:00:00",null,null,{"$f":"_xlfn.IFNA(VLOOKUP(A35,Feiertage!A:D,3,FALSE),\"\")","v":""},{"$f":"_xlfn.IFNA(VLOOKUP(A35,Feiertage!A:D,4,FALSE),\"\")","v":""}]
[]
[]
["Abschluss Std.konto:",null,{"$f":"SUM(R$1+SUM(R$6:R$36)-R$38)","v":{"$error":"#VALUE!"}},{"$nulls":3},"Auszahlung Mehrarbeit in Std./Minuten:",{"$nulls":10},{"$f":"SUMIF($S$6:$S$36,\"ja\",$R$6:$R$36)","v":0}]
["Abschluss Std. in Dezimal:",null,{"$f":"C38*24","v":{"$error":"#VALUE!"}},{"$nulls":4},"Auszahlung Mehrarbeit in Dezimal:",{"$nulls":9},{"$f":"R38*24","v":{"v":0,"d":"0.00"}}]
[{"$nulls":17},"zur Auszahlung angewiesen:"]
[]
[]
[]
["Ort, Datum / Unterschrift Mitarbeiter/in",{"$nulls":5},"Ort, Datum / Unterschrift Vorgesetzte/r",{"$nulls":10},"Ort, Datum / Unterschrift KGF",{"$nulls":4},{"$f":"STAMMDATENBLATT!$A$22","v":"Version: 01.2024.5"}]

{"sheet":"Juli","index":8,"n_rows":44,"n_cols":23,"rows_kept":44,"merged":[[0,2,0,7],[1,0,1,7],[2,0,2,7],[37,0,37,1],[37,6,37,16],[38,0,38,1],[38,7,38,16],[40,0,42,2],[40,6,42,13],[40,17,42,20]]}
[{"$f":"DATEVALUE(\"01.07.\"&STAMMDATENBLATT!$D$27)","v":"2024-07-01"},null,{"$f":"STAMMDATENBLATT!B27","v":"Vorname Nachname"},{"$nulls":7},{"$f":"STAMMDATENBLATT!$B$30","v":{"v":0,"d":"0.00%"}},{"$f":"IF(STAMMDATENBLATT!$B$29=\"\",\"\",STAMMDATENBLATT!$B$29)","v":""},{"$nulls":5},{"$f":"IF(STAMMDATENBLATT!E9<=STAMMDATENBLATT!$D$35,STAMMDATENBLATT!E9,STAMMDATENBLATT!$D$35)","v":{"$error":"#VALUE!"}}]
[{"$f":"STAMMDATENBLATT!B26","v":0}]
[{"$f":"STAMMDATENBLATT!A26","v":{"$error":"#N/A"}}]
[]
[null,"KW","Beginn 1","Ende 1","IST AZ 1","IST MP 1","Beginn 2","Ende 2","IST AZ 2","IST MP 2","Beginn 3","Ende 3","IST AZ 3","IST MP 3","MP gesamt","IST AZ","SOLL AZ","Differenz","Auszahlung","Abwesenheit","Feiertag","Feiertag","Notiz"]
[{"$f":"A1","v":"2024-07-01"},{"$f":"WEEKNUM(A6,21)","v":27},null,null,{"$f":"IF(AND(WEEKDAY($A6,2)=6,HOUR(C6)>=13),SUM((D6-C6)*1.2),IF(WEEKDAY($A6,2)=7,SUM((D6-C6)*1.25),IF(AND($U6=\"x\",$V6<>\"Gründonnerstag\"),SUM((D6-C6)*1.25),D6-C6)))","v":"00:00:00"},{"$f":"IF(E6<Dropdwon!$A$3,Dropdwon!$B$2,IF(AND(E6<Dropdwon!$A$4,E6>=Dropdwon!$A$3),Dropdwon!$B$3,Dropdwon!$B$4))","v":"00:00:00"},null,null,{"$f":"IF(AND(WEEKDAY($A6,2)=6,HOUR(G6)>=13),SUM((H6-G6)*1.2),IF(WEEKDAY($A6,2)=7,SUM((H6-G6)*1.25),IF(AND($U6=\"x\",$V6<>\"Gründonnerstag\"),SUM((H6-G6)*1.25),H6-G6)))","v":"00:00:00"},{"$f":"IF(I6<Dropdwon!$A$3,Dropdwon!$B$2,IF(AND(I6<Dropdwon!$A$4,I6>=Dropdwon!$A$3),Dropdwon!$B$3,Dropdwon!$B$4))","v":"00:00:00"},null,null,{"$f":"IF(AND(WEEKDAY($A6,2)=6,HOUR(K6)>=13),SUM((L6-K6)*1.2),IF(WEEKDAY($A6,2)=7,SUM((L6-K6)*1.25),IF(AND($U6=\"x\",$V6<>\"Gründonnerstag\"),SUM((L6-K6)*1.25),L6-K6)))","v":"00:00:00"},{"$f":"IF(M6<Dropdwon!$A$3,Dropdwon!$B$2,IF(AND(M6<Dropdwon!$A$4,M6>=Dropdwon!$A$3),Dropdwon!$B$3,Dropdwon!$B$4))","v":"00:00:00"},{"$f":"F6+J6+N6","v":"00:00:00"},{"$f":"IF(AND(T6<>\"\",T6<>\"verpflichtende FoBi\",T6<>\"förderliche FoBi\"),Q6,IF(AND(T6=\"verpflichtende FoBi\",SUM(E6+I6+M6-O6)<=Dropdwon!$A$5),SUM(E6+I6+M6-O6),IF(AND(T6=\"förderliche FoBi\",SUM(E6+I6+M6-O6)<=Dropdwon!$A$5,SUM(E6+I6+M6-O6)<=Q6),SUM(E6+I6+M6-O6),IF(AND(T6=\"förderliche FoBi\",SUM(E6+I6+M6-O6)>Q6),Q6,IF(SUM(E6+I6+M6-O6)>Dropdwon!$A$5,Dropdwon!$C$5,SUM(E6+I6+M6-O6))))))","v":{"$error":"#VALUE!"}},{"$f":"IF(OR(U6=\"x\",A6<STAMMDATENBLATT!$B$32,A6>STAMMDATENBLATT!$D$32),\"0:00\",IF(MOD(B6,2)=0,VLOOKUP(WEEKDAY(A6,2),STAMMDATENBLATT!H$28:J$34,3,FALSE),VLOOKUP(WEEKDAY(A6,2),STAMMDATENBLATT!H$38:J$44,3,FALSE)))","v":{"$error":"#VALUE!"}},{"$f":"SUM(P6-Q6)","v":{"$error":"#VALUE!"}},null,null,{"$f":"_xlfn.IFNA(VLOOKUP(A6,Feiertage!A:D,3,FALSE),\"\")","v":""},{"$f":"_xlfn.IFNA(VLOOKUP(A6,Feiertage!A:D,4,FALSE),\"\")","v":""}]
[{"$f":"A6+1","v":"2024-07-02"},{"$f":"WEEKNUM(A7,21)","v":27},null,null,{"$f":"IF(AND(WEEKDAY($A7,2)=6,HOUR(C7)>=13),SUM((D7-C7)*1.2),IF(WEEKDAY($A7,2)=7,SUM((D7-C7)*1.25),IF(AND($U7=\"x\",$V7<>\"Gründonnerstag\"),SUM((D7-C7)*1.25),D7-C7)))","v":"00:00:00"},{"$f":"IF(E7<Dropdwon!$A$3,Dropdwon!$B$2,IF(AND(E7<Dropdwon!$A$4,E7>=Dropdwon!$A$3),Dropdwon!$B$3,Dropdwon!$B$4))","v":"00:00:00"},null,null,{"$f":"IF(AND(WEEKDAY($A7,2)=6,HOUR(G7)>=13),SUM((H7-G7)*1.2),IF(WEEKDAY($A7,2)=7,SUM((H7-G7)*1.25),IF(AND($U7=\"x\",$V7<>\"Gründonnerstag\"),SUM((H7-G7)*1.25),H7-G7)))","v":"00:00:00"},{"$f":"IF(I7<Dropdwon!$A$3,Dropdwon!$B$2,IF(AND(I7<Dropdwon!$A$4,I7>=Dropdwon!$A$3),Dropdwon!$B$3,Dropdwon!$B$4))","v":"00:00:00"},null,null,{"$f":"IF(AND(WEEKDAY($A7,2)=6,HOUR(K7)>=13),SUM((L7-K7)*1.2),IF(WEEKDAY($A7,2)=7,SUM((L7-K7)*1.25),IF(AND($U7=\"x\",$V7<>\"Gründonnerstag\"),SUM((L7-K7)*1.25),L7-K7)))","v":"00:00:00"},{"$f":"IF(M7<Dropdwon!$A$3,Dropdwon!$B$2,IF(AND(M7<Dropdwon!$A$4,M7>=Dropdwon!$A$3),Dropdwon!$B$3,Dropdwon!$B$4))","v":"00:00:00"},{"$f":"F7+J7+N7","v":"00:00:00"},{"$f":"IF(AND(T7<>\"\",T7<>\"verpflichtende FoBi\",T7<>\"förderliche FoBi\"),Q7,IF(AND(T7=\"verpflichtende FoBi\",SUM(E7+I7+M7-O7)<=Dropdwon!$A$5),SUM(E7+I7+M7-O7),IF(AND(T7=\"förderliche FoBi\",SUM(E7+I7+M7-O7)<=Dropdwon!$A$5,SUM(E7+I7+M7-O7)<=Q7),SUM(E7+I7+M7-O7),IF(AND(T7=\"förderliche FoBi\",SUM(E7+I7+M7-O7)>Q7),Q7,IF(SUM(E7+I7+M7-O7)>Dropdwon!$A$5,Dropdwon!$C$5,SUM(E7+I7+M7-O7))))))","v":{"$error":"#VALUE!"}},{"$f":"IF(OR(U7=\"x\",A7<STAMMDATENBLATT!$B$32,A7>STAMMDATENBLATT!$D$32),\"0:00\",IF(MOD(B7,2)=0,VLOOKUP(WEEKDAY(A7,2),STAMMDATENBLATT!H$28:J$34,3,FALSE),VLOOKUP(WEEKDAY(A7,2),STAMMDATENBLATT!H$38:J$44,3,FALSE)))","v":{"$error":"#VALUE!"}},{"$error":"#VALUE!"},null,null,{"$f":"_xlfn.IFNA(VLOOKUP(A7,Feiertage!A:D,3,FALSE),\"\")","v":""},{"$f":"_xlfn.IFNA(VLOOKUP(A7,Feiertage!A:D,4,FALSE),\"\")","v":""}]
[{"$f":"A7+1","v":"2024-07-03"},27,null,null,"00:00:00",{"$f":"IF(E8<Dropdwon!$A$3,Dropdwon!$B$2,IF(AND(E8<Dropdwon!$A$4,E8>=Dropdwon!$A$3),Dropdwon!$B$3,Dropdwon!$B$4))","v":"00:00:00"},null,null,"00:00:00",{"$f":"IF(I8<Dropdwon!$A$3,Dropdwon!$B$2,IF(AND(I8<Dropdwon!$A$4,I8>=Dropdwon!$A$3),Dropdwon!$B$3,Dropdwon!$B$4))","v":"00:00:00"},null,null,"00:00:00",{"$f":"IF(M8<Dropdwon!$A$3,Dropdwon!$B$2,IF(AND(M8<Dropdwon!$A$4,M8>=Dropdwon!$A$3),Dropdwon!$B$3,Dropdwon!$B$4))","v":"00:00:00"},{"$f":"F8+J8+N8","v":"00:00:00"},{"$f":"IF(AND(T8<>\"\",T8<>\"verpflichtende FoBi\",T8<>\"förderliche FoBi\"),Q8,IF(AND(T8=\"verpflichtende FoBi\",SUM(E8+I8+M8-O8)<=Dropdwon!$A$5),SUM(E8+I8+M8-O8),IF(AND(T8=\"förderliche FoBi\",SUM(E8+I8+M8-O8)<=Dropdwon!$A$5,SUM(E8+I8+M8-O8)<=Q8),SUM(E8+I8+M8-O8),IF(AND(T8=\"förderliche FoBi\",SUM(E8+I8+M8-O8)>Q8),Q8,IF(SUM(E8+I8+M8-O8)>Dropdwon!$A$5,Dropdwon!$C$5,SUM(E8+I8+M8-O8))))))","v":{"$error":"#VALUE!"}},{"$f":"IF(OR(U8=\"x\",A8<STAMMDATENBLATT!$B$32,A8>STAMMDATENBLATT!$D$32),\"0:00\",IF(MOD(B8,2)=0,VLOOKUP(WEEKDAY(A8,2),STAMMDATENBLATT!H$28:J$34,3,FALSE),VLOOKUP(WEEKDAY(A8,2),STAMMDATENBLATT!H$38:J$44,3,FALSE)))","v":{"$error":"#VALUE!"}},{"$error":"#VALUE!"},null,null,{"$f":"_xlfn.IFNA(VLOOKUP(A8,Feiertage!A:D,3,FALSE),\"\")","v":""},{"$f":"_xlfn.IFNA(VLOOKUP(A8,Feiertage!A:D,4,FALSE),\"\")","v":""}]
[{"$f":"A8+1","v":"2024-07-04"},27,null,null,"00:00:00",{"$f":"IF(E9<Dropdwon!$A$3,Dropdwon!$B$2,IF(AND(E9<Dropdwon!$A$4,E9>=Dropdwon!$A$3),Dropdwon!$B$3,Dropdwon!$B$4))","v":"00:00:00"},null,null,"00:00:00",{"$f":"IF(I9<Dropdwon!$A$3,Dropdwon!$B$2,IF(AND(I9<Dropdwon!$A$4,I9>=Dropdwon!$A$3),Dropdwon!$B$3,Dropdwon!$B$4))","v":"00:00:00"},null,null,"00:00:00",{"$f":"IF(M9<Dropdwon!$A$3,Dropdwon!$B$2,IF(AND(M9<Dropdwon!$A$4,M9>=Dropdwon!$A$3),Dropdwon!$B$3,Dropdwon!$B$4))","v":"00:00:00"},"00:00:00",{"$f":"IF(AND(T9<>\"\",T9<>\"verpflichtende FoBi\",T9<>\"förderliche FoBi\"),Q9,IF(AND(T9=\"verpflichtende FoBi\",SUM(E9+I9+M9-O9)<=Dropdwon!$A$5),SUM(E9+I9+M9-O9),IF(AND(T9=\"förderliche FoBi\",SUM(E9+I9+M9-O9)<=Dropdwon!$A$5,SUM(E9+I9+M9-O9)<=Q9),SUM(E9+I9+M9-O9),IF(AND(T9=\"förderliche FoBi\",SUM(E9+I9+M9-O9)>Q9),Q9,IF(SUM(E9+I9+M9-O9)>Dropdwon!$A$5,Dropdwon!$C$5,SUM(E9+I9+M9-O9))))))","v":{"$error":"#VALUE!"}},{"$f":"IF(OR(U9=\"x\",A9<STAMMDATENBLATT!$B$32,A9>STAMMDATENBLATT!$D$32),\"0:00\",IF(MOD(B9,2)=0,VLOOKUP(WEEKDAY(A9,2),STAMMDATENBLATT!H$28:J$34,3,FALSE),VLOOKUP(WEEKDAY(A9,2),STAMMDATENBLATT!H$38:J$44,3,FALSE)))","v":{"$error":"#VALUE!"}},{"$error":"#VALUE!"},null,null,{"$f":"_xlfn.IFNA(VLOOKUP(A9,Feiertage!A:D,3,FALSE),\"\")","v":""},{"$f":"_xlfn.IFNA(VLOOKUP(A9,Feiertage!A:D,4,FALSE),\"\")","v":""}]
["2024-07-05",27,null,null,"00:00:00",{"$f":"IF(E10<Dropdwon!$A$3,Dropdwon!$B$2,IF(AND(E10<Dropdwon!$A$4,E10>=Dropdwon!$A$3),Dropdwon!$B$3,Dropdwon!$B$4))","v":"00:00:00"},null,null,"00:00:00",{"$f":"IF(I10<Dropdwon!$A$3,Dropdwon!$B$2,IF(AND(I10<Dropdwon!$A$4,I10>=Dropdwon!$A$3),Dropdwon!$B$3,Dropdwon!$B$4))","v":"00:00:00"},null,null,"00:00:00",{"$f":"IF(M10<Dropdwon!$A$3,Dropdwon!$B$2,IF(AND(M10<Dropdwon!$A$4,M10>=Dropdwon!$A$3),Dropdwon!$B$3,Dropdwon!$B$4))","v":"00:00:00"},"00:00:00",{"$f":"IF(AND(T10<>\"\",T10<>\"verpflichtende FoBi\",T10<>\"förderliche FoBi\"),Q10,IF(AND(T10=\"verpflichtende FoBi\",SUM(E10+I10+M10-O10)<=Dropdwon!$A$5),SUM(E10+I10+M10-O10),IF(AND(T10=\"förderliche FoBi\",SUM(E10+I10+M10-O10)<=Dropdwon!$A$5,SUM(E10+I10+M10-O10)<=Q10),SUM(E10+I10+M10-O10),IF(AND(T10=\"förderliche FoBi\",SUM(E10+I10+M10-O10)>Q10),Q10,IF(SUM(E10+I10+M10-O10)>Dropdwon!$A$5,Dropdwon!$C$5,SUM(E10+I10+M10-O10))))))","v":{"$error":"#VALUE!"}},{"$f":"IF(OR(U10=\"x\",A10<STAMMDATENBLATT!$B$32,A10>STAMMDATENBLATT!$D$32),\"0:00\",IF(MOD(B10,2)=0,VLOOKUP(WEEKDAY(A10,2),STAMMDATENBLATT!H$28:J$34,3,FALSE),VLOOKUP(WEEKDAY(A10,2),STAMMDATENBLATT!H$38:J$44,3,FALSE)))","v":{"$error":"#VALUE!"}},{"$error":"#VALUE!"},null,null,{"$f":"_xlfn.IFNA(VLOOKUP(A10,Feiertage!A:D,3,FALSE),\"\")","v":""},{"$f":"_xlfn.IFNA(VLOOKUP(A10,Feiertage!A:D,4,FALSE),\"\")","v":""}]
["2024-07-06",27,null,null,"00:00:00",{"$f":"IF(E11<Dropdwon!$A$3,Dropdwon!$B$2,IF(AND(E11<Dropdwon!$A$4,E11>=Dropdwon!$A$3),Dropdwon!$B$3,Dropdwon!$B$4))","v":"00:00:00"},null,null,"00:00:00",{"$f":"IF(I11<Dropdwon!$A$3,Dropdwon!$B$2,IF(AND(I11<Dropdwon!$A$4,I11>=Dropdwon!$A$3),Dropdwon!$B$3,Dropdwon!$B$4))","v":"00:00:00"},null,null,"00:00:00",{"$f":"IF(M11<Dropdwon!$A$3,Dropdwon!$B$2,IF(AND(M11<Dropdwon!$A$4,M11>=Dropdwon!$A$3),Dropdwon!$B$3,Dropdwon!$B$4))","v":"00:00:00"},"00:00:00",{"$f":"IF(AND(T11<>\"\",T11<>\"verpflichtende FoBi\",T11<>\"förderliche FoBi\"),Q11,IF(AND(T11=\"verpflichtende FoBi\",SUM(E11+I11+M11-O11)<=Dropdwon!$A$5),SUM(E11+I11+M11-O11),IF(AND(T11=\"förderliche FoBi\",SUM(E11+I11+M11-O11)<=Dropdwon!$A$5,SUM(E11+I11+M11-O11)<=Q11),SUM(E11+I11+M11-O11),IF(AND(T11=\"förderliche FoBi\",SUM(E11+I11+M11-O11)>Q11),Q11,IF(SUM(E11+I11+M11-O11)>Dropdwon!$A$5,Dropdwon!$C$5,SUM(E11+I11+M11-O11))))))","v":"00:00:00"},{"$f":"IF(OR(U11=\"x\",A11<STAMMDATENBLATT!$B$32,A11>STAMMDATENBLATT!$D$32),\"0:00\",IF(MOD(B11,2)=0,VLOOKUP(WEEKDAY(A11,2),STAMMDATENBLATT!H$28:J$34,3,FALSE),VLOOKUP(WEEKDAY(A11,2),STAMMDATENBLATT!H$38:J$44,3,FALSE)))","v":"00:00:00"},"00:00:00",null,null,{"$f":"_xlfn.IFNA(VLOOKUP(A11,Feiertage!A:D,3,FALSE),\"\")","v":""},{"$f":"_xlfn.IFNA(VLOOKUP(A11,Feiertage!A:D,4,FALSE),\"\")","v":""}]
["2024-07-07",27,null,null,"00:00:00",{"$f":"IF(E12<Dropdwon!$A$3,Dropdwon!$B$2,IF(AND(E12<Dropdwon!$A$4,E12>=Dropdwon!$A$3),Dropdwon!$B$3,Dropdwon!$B$4))","v":"00:00:00"},null,null,"00:00:00",{"$f":"IF(I12<Dropdwon!$A$3,Dropdwon!$B$2,IF(AND(I12<Dropdwon!$A$4,I12>=Dropdwon!$A$3),Dropdwon!$B$3,Dropdwon!$B$4))","v":"00:00:00"},null,null,"00:00:00",{"$f":"IF(M12<Dropdwon!$A$3,Dropdwon!$B$2,IF(AND(M12<Dropdwon!$A$4,M12>=Dropdwon!$A$3),Dropdwon!$B$3,Dropdwon!$B$4))","v":"00:00:00"},"00:00:00",{"$f":"IF(AND(T12<>\"\",T12<>\"verpflichtende FoBi\",T12<>\"förderliche FoBi\"),Q12,IF(AND(T12=\"verpflichtende FoBi\",SUM(E12+I12+M12-O12)<=Dropdwon!$A$5),SUM(E12+I12+M12-O12),IF(AND(T12=\"förderliche FoBi\",SUM(E12+I12+M12-O12)<=Dropdwon!$A$5,SUM(E12+I12+M12-O12)<=Q12),SUM(E12+I12+M12-O12),IF(AND(T12=\"förderliche FoBi\",SUM(E12+I12+M12-O12)>Q12),Q12,IF(SUM(E12+I12+M12-O12)>Dropdwon!$A$5,Dropdwon!$C$5,SUM(E12+I12+M12-O12))))))","v":"00:00:00"},{"$f":"IF(OR(U12=\"x\",A12<STAMMDATENBLATT!$B$32,A12>STAMMDATENBLATT!$D$32),\"0:00\",IF(MOD(B12,2)=0,VLOOKUP(WEEKDAY(A12,2),STAMMDATENBLATT!H$28:J$34,3,FALSE),VLOOKUP(WEEKDAY(A12,2),STAMMDATENBLATT!H$38:J$44,3,FALSE)))","v":"00:00:00"},"00:00:00",null,null,{"$f":"_xlfn.IFNA(VLOOKUP(A12,Feiertage!A:D,3,FALSE),\"\")","v":""},{"$f":"_xlfn.IFNA(VLOOKUP(A12,Feiertage!A:D,4,FALSE),\"\")","v":""}]
["2024-07-08",28,null,null,"00:00:00",{"$f":"IF(E13<Dropdwon!$A$3,Dropdwon!$B$2,IF(AND(E13<Dropdwon!$A$4,E13>=Dropdwon!$A$3),Dropdwon!$B$3,Dropdwon!$B$4))","v":"00:00:00"},null,null,"00:00:00",{"$f":"IF(I13<Dropdwon!$A$3,Dropdwon!$B$2,IF(AND(I13<Dropdwon!$A$4,I13>=Dropdwon!$A$3),Dropdwon!$B$3,Dropdwon!$B$4))","v":"00:00:00"},null,null,"00:00:00",{"$f":"IF(M13<Dropdwon!$A$3,Dropdwon!$B$2,IF(AND(M13<Dropdwon!$A$4,M13>=Dropdwon!$A$3),Dropdwon!$B$3,Dropdwon!$B$4))","v":"00:00:00"},"00:00:00",{"$f":"IF(AND(T13<>\"\",T13<>\"verpflichtende FoBi\",T13<>\"förderliche FoBi\"),Q13,IF(AND(T13=\"verpflichtende FoBi\",SUM(E13+I13+M13-O13)<=Dropdwon!$A$5),SUM(E13+I13+M13-O13),IF(AND(T13=\"förderliche FoBi\",SUM(E13+I13+M13-O13)<=Dropdwon!$A$5,SUM(E13+I13+M13-O13)<=Q13),SUM(E13+I13+M13-O13),IF(AND(T13=\"förderliche FoBi\",SUM(E13+I13+M13-O13)>Q13),Q13,IF(SUM(E13+I13+M13-O13)>Dropdwon!$A$5,Dropdwon!$C$5,SUM(E13+I13+M13-O13))))))","v":{"$error":"#VALUE!"}},{"$f":"IF(OR(U13=\"x\",A13<STAMMDATENBLATT!$B$32,A13>STAMMDATENBLATT!$D$32),\"0:00\",IF(MOD(B13,2)=0,VLOOKUP(WEEKDAY(A13,2),STAMMDATENBLATT!H$28:J$34,3,FALSE),VLOOKUP(WEEKDAY(A13,2),STAMMDATENBLATT!H$38:J$44,3,FALSE)))","v":{"$error":"#VALUE!"}},{"$error":"#VALUE!"},null,null,{"$f":"_xlfn.IFNA(VLOOKUP(A13,Feiertage!A:D,3,FALSE),\"\")","v":""},{"$f":"_xlfn.IFNA(VLOOKUP(A13,Feiertage!A:D,4,FALSE),\"\")","v":""}]
["2024-07-09",28,null,null,"00:00:00",{"$f":"IF(E14<Dropdwon!$A$3,Dropdwon!$B$2,IF(AND(E14<Dropdwon!$A$4,E14>=Dropdwon!$A$3),Dropdwon!$B$3,Dropdwon!$B$4))","v":"00:00:00"},null,null,"00:00:00",{"$f":"IF(I14<Dropdwon!$A$3,Dropdwon!$B$2,IF(AND(I14<Dropdwon!$A$4,I14>=Dropdwon!$A$3),Dropdwon!$B$3,Dropdwon!$B$4))","v":"00:00:00"},null,null,"00:00:00",{"$f":"IF(M14<Dropdwon!$A$3,Dropdwon!$B$2,IF(AND(M14<Dropdwon!$A$4,M14>=Dropdwon!$A$3),Dropdwon!$B$3,Dropdwon!$B$4))","v":"00:00:00"},"00:00:00",{"$f":"IF(AND(T14<>\"\",T14<>\"verpflichtende FoBi\",T14<>\"förderliche FoBi\"),Q14,IF(AND(T14=\"verpflichtende FoBi\",SUM(E14+I14+M14-O14)<=Dropdwon!$A$5),SUM(E14+I14+M14-O14),IF(AND(T14=\"förderliche FoBi\",SUM(E14+I14+M14-O14)<=Dropdwon!$A$5,SUM(E14+I14+M14-O14)<=Q14),SUM(E14+I14+M14-O14),IF(AND(T14=\"förderliche FoBi\",SUM(E14+I14+M14-O14)>Q14),Q14,IF(SUM(E14+I14+M14-O14)>Dropdwon!$A$5,Dropdwon!$C$5,SUM(E14+I14+M14-O14))))))","v":{"$error":"#VALUE!"}},{"$f":"IF(OR(U14=\"x\",A14<STAMMDATENBLATT!$B$32,A14>STAMMDATENBLATT!$D$32),\"0:00\",IF(MOD(B14,2)=0,VLOOKUP(WEEKDAY(A14,2),STAMMDATENBLATT!H$28:J$34,3,FALSE),VLOOKUP(WEEKDAY(A14,2),STAMMDATENBLATT!H$38:J$44,3,FALSE)))","v":{"$error":"#VALUE!"}},{"$error":"#VALUE!"},null,null,{"$f":"_xlfn.IFNA(VLOOKUP(A14,Feiertage!A:D,3,FALSE),\"\")","v":""},{"$f":"_xlfn.IFNA(VLOOKUP(A14,Feiertage!A:D,4,FALSE),\"\")","v":""}]
["2024-07-10",28,null,null,"00:00:00",{"$f":"IF(E15<Dropdwon!$A$3,Dropdwon!$B$2,IF(AND(E15<Dropdwon!$A$4,E15>=Dropdwon!$A$3),Dropdwon!$B$3,Dropdwon!$B$4))","v":"00:00:00"},null,null,"00:00:00",{"$f":"IF(I15<Dropdwon!$A$3,Dropdwon!$B$2,IF(AND(I15<Dropdwon!$A$4,I15>=Dropdwon!$A$3),Dropdwon!$B$3,Dropdwon!$B$4))","v":"00:00:00"},null,null,"00:00:00",{"$f":"IF(M15<Dropdwon!$A$3,Dropdwon!$B$2,IF(AND(M15<Dropdwon!$A$4,M15>=Dropdwon!$A$3),Dropdwon!$B$3,Dropdwon!$B$4))","v":"00:00:00"},"00:00:00",{"$f":"IF(AND(T15<>\"\",T15<>\"verpflichtende FoBi\",T15<>\"förderliche FoBi\"),Q15,IF(AND(T15=\"verpflichtende FoBi\",SUM(E15+I15+M15-O15)<=Dropdwon!$A$5),SUM(E15+I15+M15-O15),IF(AND(T15=\"förderliche FoBi\",SUM(E15+I15+M15-O15)<=Dropdwon!$A$5,SUM(E15+I15+M15-O15)<=Q15),SUM(E15+I15+M15-O15),IF(AND(T15=\"förderliche FoBi\",SUM(E15+I15+M15-O15)>Q15),Q15,IF(SUM(E15+I15+M15-O15)>Dropdwon!$A$5,Dropdwon!$C$5,SUM(E15+I15+M15-O15))))))","v":{"$error":"#VALUE!"}},{"$f":"IF(OR(U15=\"x\",A15<STAMMDATENBLATT!$B$32,A15>STAMMDATENBLATT!$D$32),\"0:00\",IF(MOD(B15,2)=0,VLOOKUP(WEEKDAY(A15,2),STAMMDATENBLATT!H$28:J$34,3,FALSE),VLOOKUP(WEEKDAY(A15,2),STAMMDATENBLATT!H$38:J$44,3,FALSE)))","v":{"$error":"#VALUE!"}},{"$error":"#VALUE!"},null,null,{"$f":"_xlfn.IFNA(VLOOKUP(A15,Feiertage!A:D,3,FALSE),\"\")","v":""},{"$f":"_xlfn.IFNA(VLOOKUP(A15,Feiertage!A:D,4,FALSE),\"\")","v":""}]
["2024-07-11",28,null,null,"00:00:00",{"$f":"IF(E16<Dropdwon!$A$3,Dropdwon!$B$2,IF(AND(E16<Dropdwon!$A$4,E16>=Dropdwon!$A$3),Dropdwon!$B$3,Dropdwon!$B$4))","v":"00:00:00"},null,null,"00:00:00",{"$f":"IF(I16<Dropdwon!$A$3,Dropdwon!$B$2,IF(AND(I16<Dropdwon!$A$4,I16>=Dropdwon!$A$3),Dropdwon!$B$3,Dropdwon!$B$4))","v":"00:00:00"},null,null,"00:00:00",{"$f":"IF(M16<Dropdwon!$A$3,Dropdwon!$B$2,IF(AND(M16<Dropdwon!$A$4,M16>=Dropdwon!$A$3),Dropdwon!$B$3,Dropdwon!$B$4))","v":"00:00:00"},"00:00:00",{"$f":"IF(AND(T16<>\"\",T16<>\"verpflichtende FoBi\",T16<>\"förderliche FoBi\"),Q16,IF(AND(T16=\"verpflichtende FoBi\",SUM(E16+I16+M16-O16)<=Dropdwon!$A$5),SUM(E16+I16+M16-O16),IF(AND(T16=\"förderliche FoBi\",SUM(E16+I16+M16-O16)<=Dropdwon!$A$5,SUM(E16+I16+M16-O16)<=Q16),SUM(E16+I16+M16-O16),IF(AND(T16=\"förderliche FoBi\",SUM(E16+I16+M16-O16)>Q16),Q16,IF(SUM(E16+I16+M16-O16)>Dropdwon!$A$5,Dropdwon!$C$5,SUM(E16+I16+M16-O16))))))","v":{"$error":"#VALUE!"}},{"$f":"IF(OR(U16=\"x\",A16<STAMMDATENBLATT!$B$32,A16>STAMMDATENBLATT!$D$32),\"0:00\",IF(MOD(B16,2)=0,VLOOKUP(WEEKDAY(A16,2),STAMMDATENBLATT!H$28:J$34,3,FALSE),VLOOKUP(WEEKDAY(A16,2),STAMMDATENBLATT!H$38:J$44,3,FALSE)))","v":{"$error":"#VALUE!"}},{"$error":"#VALUE!"},null,null,{"$f":"_xlfn.IFNA(VLOOKUP(A16,Feiertage!A:D,3,FALSE),\"\")","v":""},{"$f":"_xlfn.IFNA(VLOOKUP(A16,Feiertage!A:D,4,FALSE),\"\")","v":""}]
["2024-07-12",28,null,null,"00:00:00",{"$f":"IF(E17<Dropdwon!$A$3,Dropdwon!$B$2,IF(AND(E17<Dropdwon!$A$4,E17>=Dropdwon!$A$3),Dropdwon!$B$3,Dropdwon!$B$4))","v":"00:00:00"},null,null,"00:00:00",{"$f":"IF(I17<Dropdwon!$A$3,Dropdwon!$B$2,IF(AND(I17<Dropdwon!$A$4,I17>=Dropdwon!$A$3),Dropdwon!$B$3,Dropdwon!$B$4))","v":"00:00:00"},null,null,"00:00:00",{"$f":"IF(M17<Dropdwon!$A$3,Dropdwon!$B$2,IF(AND(M17<Dropdwon!$A$4,M17>=Dropdwon!$A$3),Dropdwon!$B$3,Dropdwon!$B$4))","v":"00:00:00"},"00:00:00",{"$f":"IF(AND(T17<>\"\",T17<>\"verpflichtende FoBi\",T17<>\"förderliche FoBi\"),Q17,IF(AND(T17=\"verpflichtende FoBi\",SUM(E17+I17+M17-O17)<=Dropdwon!$A$5),SUM(E17+I17+M17-O17),IF(AND(T17=\"förderliche FoBi\",SUM(E17+I17+M17-O17)<=Dropdwon!$A$5,SUM(E17+I17+M17-O17)<=Q17),SUM(E17+I17+M17-O17),IF(AND(T17=\"förderliche FoBi\",SUM(E17+I17+M17-O17)>Q17),Q17,IF(SUM(E17+I17+M17-O17)>Dropdwon!$A$5,Dropdwon!$C$5,SUM(E17+I17+M17-O17))))))","v":{"$error":"#VALUE!"}},{"$f":"IF(OR(U17=\"x\",A17<STAMMDATENBLATT!$B$32,A17>STAMMDATENBLATT!$D$32),\"0:00\",IF(MOD(B17,2)=0,VLOOKUP(WEEKDAY(A17,2),STAMMDATENBLATT!H$28:J$34,3,FALSE),VLOOKUP(WEEKDAY(A17,2),STAMMDATENBLATT!H$38:J$44,3,FALSE)))","v":{"$error":"#VALUE!"}},{"$error":"#VALUE!"},null,null,{"$f":"_xlfn.IFNA(VLOOKUP(A17,Feiertage!A:D,3,FALSE),\"\")","v":""},{"$f":"_xlfn.IFNA(VLOOKUP(A17,Feiertage!A:D,4,FALSE),\"\")","v":""}]
["2024-07-13",28,null,null,"00:00:00",{"$f":"IF(E18<Dropdwon!$A$3,Dropdwon!$B$2,IF(AND(E18<Dropdwon!$A$4,E18>=Dropdwon!$A$3),Dropdwon!$B$3,Dropdwon!$B$4))","v":"00:00:00"},null,null,"00:00:00",{"$f":"IF(I18<Dropdwon!$A$3,Dropdwon!$B$2,IF(AND(I18<Dropdwon!$A$4,I18>=Dropdwon!$A$3),Dropdwon!$B$3,Dropdwon!$B$4))","v":"00:00:00"},null,null,"00:00:00",{"$f":"IF(M18<Dropdwon!$A$3,Dropdwon!$B$2,IF(AND(M18<Dropdwon!$A$4,M18>=Dropdwon!$A$3),Dropdwon!$B$3,Dropdwon!$B$4))","v":"00:00:00"},"00:00:00",{"$f":"IF(AND(T18<>\"\",T18<>\"verpflichtende FoBi\",T18<>\"förderliche FoBi\"),Q18,IF(AND(T18=\"verpflichtende FoBi\",SUM(E18+I18+M18-O18)<=Dropdwon!$A$5),SUM(E18+I18+M18-O18),IF(AND(T18=\"förderliche FoBi\",SUM(E18+I18+M18-O18)<=Dropdwon!$A$5,SUM(E18+I18+M18-O18)<=Q18),SUM(E18+I18+M18-O18),IF(AND(T18=\"förderliche FoBi\",SUM(E18+I18+M18-O18)>Q18),Q18,IF(SUM(E18+I18+M18-O18)>Dropdwon!$A$5,Dropdwon!$C$5,SUM(E18+I18+M18-O18))))))","v":"00:00:00"},{"$f":"IF(OR(U18=\"x\",A18<STAMMDATENBLATT!$B$32,A18>STAMMDATENBLATT!$D$32),\"0:00\",IF(MOD(B18,2)=0,VLOOKUP(WEEKDAY(A18,2),STAMMDATENBLATT!H$28:J$34,3,FALSE),VLOOKUP(WEEKDAY(A18,2),STAMMDATENBLATT!H$38:J$44,3,FALSE)))","v":"00:00:00"},"00:00:00",null,null,{"$f":"_xlfn.IFNA(VLOOKUP(A18,Feiertage!A:D,3,FALSE),\"\")","v":""},{"$f":"_xlfn.IFNA(VLOOKUP(A18,Feiertage!A:D,4,FALSE),\"\")","v":""}]
["2024-07-14",28,null,null,"00:00:00",{"$f":"IF(E19<Dropdwon!$A$3,Dropdwon!$B$2,IF(AND(E19<Dropdwon!$A$4,E19>=Dropdwon!$A$3),Dropdwon!$B$3,Dropdwon!$B$4))","v":"00:00:00"},null,null,"00:00:00",{"$f":"IF(I19<Dropdwon!$A$3,Dropdwon!$B$2,IF(AND(I19<Dropdwon!$A$4,I19>=Dropdwon!$A$3),Dropdwon!$B$3,Dropdwon!$B$4))","v":"00:00:00"},null,null,"00:00:00",{"$f":"IF(M19<Dropdwon!$A$3,Dropdwon!$B$2,IF(AND(M19<Dropdwon!$A$4,M19>=Dropdwon!$A$3),Dropdwon!$B$3,Dropdwon!$B$4))","v":"00:00:00"},"00:00:00",{"$f":"IF(AND(T19<>\"\",T19<>\"verpflichtende FoBi\",T19<>\"förderliche FoBi\"),Q19,IF(AND(T19=\"verpflichtende FoBi\",SUM(E19+I19+M19-O19)<=Dropdwon!$A$5),SUM(E19+I19+M19-O19),IF(AND(T19=\"förderliche FoBi\",SUM(E19+I19+M19-O19)<=Dropdwon!$A$5,SUM(E19+I19+M19-O19)<=Q19),SUM(E19+I19+M19-O19),IF(AND(T19=\"förderliche FoBi\",SUM(E19+I19+M19-O19)>Q19),Q19,IF(SUM(E19+I19+M19-O19)>Dropdwon!$A$5,Dropdwon!$C$5,SUM(E19+I19+M19-O19))))))","v":"00:00:00"},{"$f":"IF(OR(U19=\"x\",A19<STAMMDATENBLATT!$B$32,A19>STAMMDATENBLATT!$D$32),\"0:00\",IF(MOD(B19,2)=0,VLOOKUP(WEEKDAY(A19,2),STAMMDATENBLATT!H$28:J$34,3,FALSE),VLOOKUP(WEEKDAY(A19,2),STAMMDATENBLATT!H$38:J$44,3,FALSE)))","v":"00:00:00"},"00:00:00",null,null,{"$f":"_xlfn.IFNA(VLOOKUP(A19,Feiertage!A:D,3,FALSE),\"\")","v":""},{"$f":"_xlfn.IFNA(VLOOKUP(A19,Feiertage!A:D,4,FALSE),\"\")","v":""}]
["2024-07-15",29,null,null,"00:00:00",{"$f":"IF(E20<Dropdwon!$A$3,Dropdwon!$B$2,IF(AND(E20<Dropdwon!$A$4,E20>=Dropdwon!$A$3),Dropdwon!$B$3,Dropdwon!$B$4))","v":"00:00:00"},null,null,"00:00:00",{"$f":"IF(I20<Dropdwon!$A$3,Dropdwon!$B$2,IF(AND(I20<Dropdwon!$A$4,I20>=Dropdwon!$A$3),Dropdwon!$B$3,Dropdwon!$B$4))","v":"00:00:00"},null,null,"00:00:00",{"$f":"IF(M20<Dropdwon!$A$3,Dropdwon!$B$2,IF(AND(M20<Dropdwon!$A$4,M20>=Dropdwon!$A$3),Dropdwon!$B$3,Dropdwon!$B$4))","v":"00:00:00"},"00:00:00",{"$f":"IF(AND(T20<>\"\",T20<>\"verpflichtende FoBi\",T20<>\"förderliche FoBi\"),Q20,IF(AND(T20=\"verpflichtende FoBi\",SUM(E20+I20+M20-O20)<=Dropdwon!$A$5),SUM(E20+I20+M20-O20),IF(AND(T20=\"förderliche FoBi\",SUM(E20+I20+M20-O20)<=Dropdwon!$A$5,SUM(E20+I20+M20-O20)<=Q20),SUM(E20+I20+M20-O20),IF(AND(T20=\"förderliche FoBi\",SUM(E20+I20+M20-O20)>Q20),Q20,IF(SUM(E20+I20+M20-O20)>Dropdwon!$A$5,Dropdwon!$C$5,SUM(E20+I20+M20-O20))))))","v":{"$error":"#VALUE!"}},{"$f":"IF(OR(U20=\"x\",A20<STAMMDATENBLATT!$B$32,A20>STAMMDATENBLATT!$D$32),\"0:00\",IF(MOD(B20,2)=0,VLOOKUP(WEEKDAY(A20,2),STAMMDATENBLATT!H$28:J$34,3,FALSE),VLOOKUP(WEEKDAY(A20,2),STAMMDATENBLATT!H$38:J$44,3,FALSE)))","v":{"$error":"#VALUE!"}},{"$error":"#VALUE!"},null,null,{"$f":"_xlfn.IFNA(VLOOKUP(A20,Feiertage!A:D,3,FALSE),\"\")","v":""},{"$f":"_xlfn.IFNA(VLOOKUP(A20,Feiertage!A:D,4,FALSE),\"\")","v":""}]
["2024-07-16",29,null,null,"00:00:00",{"$f":"IF(E21<Dropdwon!$A$3,Dropdwon!$B$2,IF(AND(E21<Dropdwon!$A$4,E21>=Dropdwon!$A$3),Dropdwon!$B$3,Dropdwon!$B$4))","v":"00:00:00"},null,null,"00:00:00",{"$f":"IF(I21<Dropdwon!$A$3,Dropdwon!$B$2,IF(AND(I21<Dropdwon!$A$4,I21>=Dropdwon!$A$3),Dropdwon!$B$3,Dropdwon!$B$4))","v":"00:00:00"},null,null,"00:00:00",{"$f":"IF(M21<Dropdwon!$A$3,Dropdwon!$B$2,IF(AND(M21<Dropdwon!$A$4,M21>=Dropdwon!$A$3),Dropdwon!$B$3,Dropdwon!$B$4))","v":"00:00:00"},"00:00:00",{"$f":"IF(AND(T21<>\"\",T21<>\"verpflichtende FoBi\",T21<>\"förderliche FoBi\"),Q21,IF(AND(T21=\"verpflichtende FoBi\",SUM(E21+I21+M21-O21)<=Dropdwon!$A$5),SUM(E21+I21+M21-O21),IF(AND(T21=\"förderliche FoBi\",SUM(E21+I21+M21-O21)<=Dropdwon!$A$5,SUM(E21+I21+M21-O21)<=Q21),SUM(E21+I21+M21-O21),IF(AND(T21=\"förderliche FoBi\",SUM(E21+I21+M21-O21)>Q21),Q21,IF(SUM(E21+I21+M21-O21)>Dropdwon!$A$5,Dropdwon!$C$5,SUM(E21+I21+M21-O21))))))","v":{"$error":"#VALUE!"}},{"$f":"IF(OR(U21=\"x\",A21<STAMMDATENBLATT!$B$32,A21>STAMMDATENBLATT!$D$32),\"0:00\",IF(MOD(B21,2)=0,VLOOKUP(WEEKDAY(A21,2),STAMMDATENBLATT!H$28:J$34,3,FALSE),VLOOKUP(WEEKDAY(A21,2),STAMMDATENBLATT!H$38:J$44,3,FALSE)))","v":{"$error":"#VALUE!"}},{"$error":"#VALUE!"},null,null,{"$f":"_xlfn.IFNA(VLOOKUP(A21,Feiertage!A:D,3,FALSE),\"\")","v":""},{"$f":"_xlfn.IFNA(VLOOKUP(A21,Feiertage!A:D,4,FALSE),\"\")","v":""}]
["2024-07-17",29,null,null,"00:00:00",{"$f":"IF(E22<Dropdwon!$A$3,Dropdwon!$B$2,IF(AND(E22<Dropdwon!$A$4,E22>=Dropdwon!$A$3),Dropdwon!$B$3,Dropdwon!$B$4))","v":"00:00:00"},null,null,"00:00:00",{"$f":"IF(I22<Dropdwon!$A$3,Dropdwon!$B$2,IF(AND(I22<Dropdwon!$A$4,I22>=Dropdwon!$A$3),Dropdwon!$B$3,Dropdwon!$B$4))","v":"00:00:00"},null,null,"00:00:00",{"$f":"IF(M22<Dropdwon!$A$3,Dropdwon!$B$2,IF(AND(M22<Dropdwon!$A$4,M22>=Dropdwon!$A$3),Dropdwon!$B$3,Dropdwon!$B$4))","v":"00:00:00"},"00:00:00",{"$f":"IF(AND(T22<>\"\",T22<>\"verpflichtende FoBi\",T22<>\"förderliche FoBi\"),Q22,IF(AND(T22=\"verpflichtende FoBi\",SUM(E22+I22+M22-O22)<=Dropdwon!$A$5),SUM(E22+I22+M22-O22),IF(AND(T22=\"förderliche FoBi\",SUM(E22+I22+M22-O22)<=Dropdwon!$A$5,SUM(E22+I22+M22-O22)<=Q22),SUM(E22+I22+M22-O22),IF(AND(T22=\"förderliche FoBi\",SUM(E22+I22+M22-O22)>Q22),Q22,IF(SUM(E22+I22+M22-O22)>Dropdwon!$A$5,Dropdwon!$C$5,SUM(E22+I22+M22-O22))))))","v":{"$error":"#VALUE!"}},{"$f":"IF(OR(U22=\"x\",A22<STAMMDATENBLATT!$B$32,A22>STAMMDATENBLATT!$D$32),\"0:00\",IF(MOD(B22,2)=0,VLOOKUP(WEEKDAY(A22,2),STAMMDATENBLATT!H$28:J$34,3,FALSE),VLOOKUP(WEEKDAY(A22,2),STAMMDATENBLATT!H$38:J$44,3,FALSE)))","v":{"$error":"#VALUE!"}},{"$error":"#VALUE!"},null,null,{"$f":"_xlfn.IFNA(VLOOKUP(A22,Feiertage!A:D,3,FALSE),\"\")","v":""},{"$f":"_xlfn.IFNA(VLOOKUP(A22,Feiertage!A:D,4,FALSE),\"\")","v":""}]
["2024-07-18",29,null,null,"00:00:00",{"$f":"IF(E23<Dropdwon!$A$3,Dropdwon!$B$2,IF(AND(E23<Dropdwon!$A$4,E23>=Dropdwon!$A$3),Dropdwon!$B$3,Dropdwon!$B$4))","v":"00:00:00"},null,null,"00:00:00",{"$f":"IF(I23<Dropdwon!$A$3,Dropdwon!$B$2,IF(AND(I23<Dropdwon!$A$4,I23>=Dropdwon!$A$3),Dropdwon!$B$3,Dropdwon!$B$4))","v":"00:00:00"},null,null,"00:00:00",{"$f":"IF(M23<Dropdwon!$A$3,Dropdwon!$B$2,IF(AND(M23<Dropdwon!$A$4,M23>=Dropdwon!$A$3),Dropdwon!$B$3,Dropdwon!$B$4))","v":"00:00:00"},"00:00:00",{"$f":"IF(AND(T23<>\"\",T23<>\"verpflichtende FoBi\",T23<>\"förderliche FoBi\"),Q23,IF(AND(T23=\"verpflichtende FoBi\",SUM(E23+I23+M23-O23)<=Dropdwon!$A$5),SUM(E23+I23+M23-O23),IF(AND(T23=\"förderliche FoBi\",SUM(E23+I23+M23-O23)<=Dropdwon!$A$5,SUM(E23+I23+M23-O23)<=Q23),SUM(E23+I23+M23-O23),IF(AND(T23=\"förderliche FoBi\",SUM(E23+I23+M23-O23)>Q23),Q23,IF(SUM(E23+I23+M23-O23)>Dropdwon!$A$5,Dropdwon!$C$5,SUM(E23+I23+M23-O23))))))","v":{"$error":"#VALUE!"}},{"$f":"IF(OR(U23=\"x\",A23<STAMMDATENBLATT!$B$32,A23>STAMMDATENBLATT!$D$32),\"0:00\",IF(MOD(B23,2)=0,VLOOKUP(WEEKDAY(A23,2),STAMMDATENBLATT!H$28:J$34,3,FALSE),VLOOKUP(WEEKDAY(A23,2),STAMMDATENBLATT!H$38:J$44,3,FALSE)))","v":{"$error":"#VALUE!"}},{"$error":"#VALUE!"},null,null,{"$f":"_xlfn.IFNA(VLOOKUP(A23,Feiertage!A:D,3,FALSE),\"\")","v":""},{"$f":"_xlfn.IFNA(VLOOKUP(A23,Feiertage!A:D,4,FALSE),\"\")","v":""}]
["2024-07-19",29,null,null,"00:00:00",{"$f":"IF(E24<Dropdwon!$A$3,Dropdwon!$B$2,IF(AND(E24<Dropdwon!$A$4,E24>=Dropdwon!$A$3),Dropdwon!$B$3,Dropdwon!$B$4))","v":"00:00:00"},null,null,"00:00:00",{"$f":"IF(I24<Dropdwon!$A$3,Dropdwon!$B$2,IF(AND(I24<Dropdwon!$A$4,I24>=Dropdwon!$A$3),Dropdwon!$B$3,Dropdwon!$B$4))","v":"00:00:00"},null,null,"00:00:00",{"$f":"IF(M24<Dropdwon!$A$3,Dropdwon!$B$2,IF(AND(M24<Dropdwon!$A$4,M24>=Dropdwon!$A$3),Dropdwon!$B$3,Dropdwon!$B$4))","v":"00:00:00"},"00:00:00",{"$f":"IF(AND(T24<>\"\",T24<>\"verpflichtende FoBi\",T24<>\"förderliche FoBi\"),Q24,IF(AND(T24=\"verpflichtende FoBi\",SUM(E24+I24+M24-O24)<=Dropdwon!$A$5),SUM(E24+I24+M24-O24),IF(AND(T24=\"förderliche FoBi\",SUM(E24+I24+M24-O24)<=Dropdwon!$A$5,SUM(E24+I24+M24-O24)<=Q24),SUM(E24+I24+M24-O24),IF(AND(T24=\"förderliche FoBi\",SUM(E24+I24+M24-O24)>Q24),Q24,IF(SUM(E24+I24+M24-O24)>Dropdwon!$A$5,Dropdwon!$C$5,SUM(E24+I24+M24-O24))))))","v":{"$error":"#VALUE!"}},{"$f":"IF(OR(U24=\"x\",A24<STAMMDATENBLATT!$B$32,A24>STAMMDATENBLATT!$D$32),\"0:00\",IF(MOD(B24,2)=0,VLOOKUP(WEEKDAY(A24,2),STAMMDATENBLATT!H$28:J$34,3,FALSE),VLOOKUP(WEEKDAY(A24,2),STAMMDATENBLATT!H$38:J$44,3,FALSE)))","v":{"$error":"#VALUE!"}},{"$error":"#VALUE!"},null,null,{"$f":"_xlfn.IFNA(VLOOKUP(A24,Feiertage!A:D,3,FALSE),\"\")","v":""},{"$f":"_xlfn.IFNA(VLOOKUP(A24,Feiertage!A:D,4,FALSE),\"\")","v":""}]
["2024-07-20",29,null,null,"00:00:00",{"$f":"IF(E25<Dropdwon!$A$3,Dropdwon!$B$2,IF(AND(E25<Dropdwon!$A$4,E25>=Dropdwon!$A$3),Dropdwon!$B$3,Dropdwon!$B$4))","v":"00:00:00"},null,null,"00:00:00",{"$f":"IF(I25<Dropdwon!$A$3,Dropdwon!$B$2,IF(AND(I25<Dropdwon!$A$4,I25>=Dropdwon!$A$3),Dropdwon!$B$3,Dropdwon!$B$4))","v":"00:00:00"},null,null,"00:00:00",{"$f":"IF(M25<Dropdwon!$A$3,Dropdwon!$B$2,IF(AND(M25<Dropdwon!$A$4,M25>=Dropdwon!$A$3),Dropdwon!$B$3,Dropdwon!$B$4))","v":"00:00:00"},"00:00:00",{"$f":"IF(AND(T25<>\"\",T25<>\"verpflichtende FoBi\",T25<>\"förderliche FoBi\"),Q25,IF(AND(T25=\"verpflichtende FoBi\",SUM(E25+I25+M25-O25)<=Dropdwon!$A$5),SUM(E25+I25+M25-O25),IF(AND(T25=\"förderliche FoBi\",SUM(E25+I25+M25-O25)<=Dropdwon!$A$5,SUM(E25+I25+M25-O25)<=Q25),SUM(E25+I25+M25-O25),IF(AND(T25=\"förderliche FoBi\",SUM(E25+I25+M25-O25)>Q25),Q25,IF(SUM(E25+I25+M25-O25)>Dropdwon!$A$5,Dropdwon!$C$5,SUM(E25+I25+M25-O25))))))","v":"00:00:00"},{"$f":"IF(OR(U25=\"x\",A25<STAMMDATENBLATT!$B$32,A25>STAMMDATENBLATT!$D$32),\"0:00\",IF(MOD(B25,2)=0,VLOOKUP(WEEKDAY(A25,2),STAMMDATENBLATT!H$28:J$34,3,FALSE),VLOOKUP(WEEKDAY(A25,2),STAMMDATENBLATT!H$38:J$44,3,FALSE)))","v":"00:00:00"},"00:00:00",null,null,{"$f":"_xlfn.IFNA(VLOOKUP(A25,Feiertage!A:D,3,FALSE),\"\")","v":""},{"$f":"_xlfn.IFNA(VLOOKUP(A25,Feiertage!A:D,4,FALSE),\"\")","v":""}]
["2024-07-21",29,null,null,"00:00:00",{"$f":"IF(E26<Dropdwon!$A$3,Dropdwon!$B$2,IF(AND(E26<Dropdwon!$A$4,E26>=Dropdwon!$A$3),Dropdwon!$B$3,Dropdwon!$B$4))","v":"00:00:00"},null,null,"00:00:00",{"$f":"IF(I26<Dropdwon!$A$3,Dropdwon!$B$2,IF(AND(I26<Dropdwon!$A$4,I26>=Dropdwon!$A$3),Dropdwon!$B$3,Dropdwon!$B$4))","v":"00:00:00"},null,null,"00:00:00",{"$f":"IF(M26<Dropdwon!$A$3,Dropdwon!$B$2,IF(AND(M26<Dropdwon!$A$4,M26>=Dropdwon!$A$3),Dropdwon!$B$3,Dropdwon!$B$4))","v":"00:00:00"},"00:00:00",{"$f":"IF(AND(T26<>\"\",T26<>\"verpflichtende FoBi\",T26<>\"förderliche FoBi\"),Q26,IF(AND(T26=\"verpflichtende FoBi\",SUM(E26+I26+M26-O26)<=Dropdwon!$A$5),SUM(E26+I26+M26-O26),IF(AND(T26=\"förderliche FoBi\",SUM(E26+I26+M26-O26)<=Dropdwon!$A$5,SUM(E26+I26+M26-O26)<=Q26),SUM(E26+I26+M26-O26),IF(AND(T26=\"förderliche FoBi\",SUM(E26+I26+M26-O26)>Q26),Q26,IF(SUM(E26+I26+M26-O26)>Dropdwon!$A$5,Dropdwon!$C$5,SUM(E26+I26+M26-O26))))))","v":"00:00:00"},{"$f":"IF(OR(U26=\"x\",A26<STAMMDATENBLATT!$B$32,A26>STAMMDATENBLATT!$D$32),\"0:00\",IF(MOD(B26,2)=0,VLOOKUP(WEEKDAY(A26,2),STAMMDATENBLATT!H$28:J$34,3,FALSE),VLOOKUP(WEEKDAY(A26,2),STAMMDATENBLATT!H$38:J$44,3,FALSE)))","v":"00:00:00"},"00:00:00",null,null,{"$f":"_xlfn.IFNA(VLOOKUP(A26,Feiertage!A:D,3,FALSE),\"\")","v":""},{"$f":"_xlfn.IFNA(VLOOKUP(A26,Feiertage!A:D,4,FALSE),\"\")","v":""}]
["2024-07-22",30,null,null,"00:00:00",{"$f":"IF(E27<Dropdwon!$A$3,Dropdwon!$B$2,IF(AND(E27<Dropdwon!$A$4,E27>=Dropdwon!$A$3),Dropdwon!$B$3,Dropdwon!$B$4))","v":"00:00:00"},null,null,"00:00:00",{"$f":"IF(I27<Dropdwon!$A$3,Dropdwon!$B$2,IF(AND(I27<Dropdwon!$A$4,I27>=Dropdwon!$A$3),Dropdwon!$B$3,Dropdwon!$B$4))","v":"00:00:00"},null,null,"00:00:00",{"$f":"IF(M27<Dropdwon!$A$3,Dropdwon!$B$2,IF(AND(M27<Dropdwon!$A$4,M27>=Dropdwon!$A$3),Dropdwon!$B$3,Dropdwon!$B$4))","v":"00:00:00"},"00:00:00",{"$f":"IF(AND(T27<>\"\",T27<>\"verpflichtende FoBi\",T27<>\"förderliche FoBi\"),Q27,IF(AND(T27=\"verpflichtende FoBi\",SUM(E27+I27+M27-O27)<=Dropdwon!$A$5),SUM(E27+I27+M27-O27),IF(AND(T27=\"förderliche FoBi\",SUM(E27+I27+M27-O27)<=Dropdwon!$A$5,SUM(E27+I27+M27-O27)<=Q27),SUM(E27+I27+M27-O27),IF(AND(T27=\"förderliche FoBi\",SUM(E27+I27+M27-O27)>Q27),Q27,IF(SUM(E27+I27+M27-O27)>Dropdwon!$A$5,Dropdwon!$C$5,SUM(E27+I27+M27-O27))))))","v":{"$error":"#VALUE!"}},{"$f":"IF(OR(U27=\"x\",A27<STAMMDATENBLATT!$B$32,A27>STAMMDATENBLATT!$D$32),\"0:00\",IF(MOD(B27,2)=0,VLOOKUP(WEEKDAY(A27,2),STAMMDATENBLATT!H$28:J$34,3,FALSE),VLOOKUP(WEEKDAY(A27,2),STAMMDATENBLATT!H$38:J$44,3,FALSE)))","v":{"$error":"#VALUE!"}},{"$error":"#VALUE!"},null,null,{"$f":"_xlfn.IFNA(VLOOKUP(A27,Feiertage!A:D,3,FALSE),\"\")","v":""},{"$f":"_xlfn.IFNA(VLOOKUP(A27,Feiertage!A:D,4,FALSE),\"\")","v":""}]
["2024-07-23",30,null,null,"00:00:00",{"$f":"IF(E28<Dropdwon!$A$3,Dropdwon!$B$2,IF(AND(E28<Dropdwon!$A$4,E28>=Dropdwon!$A$3),Dropdwon!$B$3,Dropdwon!$B$4))","v":"00:00:00"},null,null,"00:00:00",{"$f":"IF(I28<Dropdwon!$A$3,Dropdwon!$B$2,IF(AND(I28<Dropdwon!$A$4,I28>=Dropdwon!$A$3),Dropdwon!$B$3,Dropdwon!$B$4))","v":"00:00:00"},null,null,"00:00:00",{"$f":"IF(M28<Dropdwon!$A$3,Dropdwon!$B$2,IF(AND(M28<Dropdwon!$A$4,M28>=Dropdwon!$A$3),Dropdwon!$B$3,Dropdwon!$B$4))","v":"00:00:00"},"00:00:00",{"$f":"IF(AND(T28<>\"\",T28<>\"verpflichtende FoBi\",T28<>\"förderliche FoBi\"),Q28,IF(AND(T28=\"verpflichtende FoBi\",SUM(E28+I28+M28-O28)<=Dropdwon!$A$5),SUM(E28+I28+M28-O28),IF(AND(T28=\"förderliche FoBi\",SUM(E28+I28+M28-O28)<=Dropdwon!$A$5,SUM(E28+I28+M28-O28)<=Q28),SUM(E28+I28+M28-O28),IF(AND(T28=\"förderliche FoBi\",SUM(E28+I28+M28-O28)>Q28),Q28,IF(SUM(E28+I28+M28-O28)>Dropdwon!$A$5,Dropdwon!$C$5,SUM(E28+I28+M28-O28))))))","v":{"$error":"#VALUE!"}},{"$f":"IF(OR(U28=\"x\",A28<STAMMDATENBLATT!$B$32,A28>STAMMDATENBLATT!$D$32),\"0:00\",IF(MOD(B28,2)=0,VLOOKUP(WEEKDAY(A28,2),STAMMDATENBLATT!H$28:J$34,3,FALSE),VLOOKUP(WEEKDAY(A28,2),STAMMDATENBLATT!H$38:J$44,3,FALSE)))","v":{"$error":"#VALUE!"}},{"$error":"#VALUE!"},null,null,{"$f":"_xlfn.IFNA(VLOOKUP(A28,Feiertage!A:D,3,FALSE),\"\")","v":""},{"$f":"_xlfn.IFNA(VLOOKUP(A28,Feiertage!A:D,4,FALSE),\"\")","v":""}]
["2024-07-24",30,null,null,"00:00:00",{"$f":"IF(E29<Dropdwon!$A$3,Dropdwon!$B$2,IF(AND(E29<Dropdwon!$A$4,E29>=Dropdwon!$A$3),Dropdwon!$B$3,Dropdwon!$B$4))","v":"00:00:00"},null,null,"00:00:00",{"$f":"IF(I29<Dropdwon!$A$3,Dropdwon!$B$2,IF(AND(I29<Dropdwon!$A$4,I29>=Dropdwon!$A$3),Dropdwon!$B$3,Dropdwon!$B$4))","v":"00:00:00"},null,null,"00:00:00",{"$f":"IF(M29<Dropdwon!$A$3,Dropdwon!$B$2,IF(AND(M29<Dropdwon!$A$4,M29>=Dropdwon!$A$3),Dropdwon!$B$3,Dropdwon!$B$4))","v":"00:00:00"},"00:00:00",{"$f":"IF(AND(T29<>\"\",T29<>\"verpflichtende FoBi\",T29<>\"förderliche FoBi\"),Q29,IF(AND(T29=\"verpflichtende FoBi\",SUM(E29+I29+M29-O29)<=Dropdwon!$A$5),SUM(E29+I29+M29-O29),IF(AND(T29=\"förderliche FoBi\",SUM(E29+I29+M29-O29)<=Dropdwon!$A$5,SUM(E29+I29+M29-O29)<=Q29),SUM(E29+I29+M29-O29),IF(AND(T29=\"förderliche FoBi\",SUM(E29+I29+M29-O29)>Q29),Q29,IF(SUM(E29+I29+M29-O29)>Dropdwon!$A$5,Dropdwon!$C$5,SUM(E29+I29+M29-O29))))))","v":{"$error":"#VALUE!"}},{"$f":"IF(OR(U29=\"x\",A29<STAMMDATENBLATT!$B$32,A29>STAMMDATENBLATT!$D$32),\"0:00\",IF(MOD(B29,2)=0,VLOOKUP(WEEKDAY(A29,2),STAMMDATENBLATT!H$28:J$34,3,FALSE),VLOOKUP(WEEKDAY(A29,2),STAMMDATENBLATT!H$38:J$44,3,FALSE)))","v":{"$error":"#VALUE!"}},{"$error":"#VALUE!"},null,null,{"$f":"_xlfn.IFNA(VLOOKUP(A29,Feiertage!A:D,3,FALSE),\"\")","v":""},{"$f":"_xlfn.IFNA(VLOOKUP(A29,Feiertage!A:D,4,FALSE),\"\")","v":""}]
["2024-07-25",30,null,null,"00:00:00",{"$f":"IF(E30<Dropdwon!$A$3,Dropdwon!$B$2,IF(AND(E30<Dropdwon!$A$4,E30>=Dropdwon!$A$3),Dropdwon!$B$3,Dropdwon!$B$4))","v":"00:00:00"},null,null,"00:00:00",{"$f":"IF(I30<Dropdwon!$A$3,Dropdwon!$B$2,IF(AND(I30<Dropdwon!$A$4,I30>=Dropdwon!$A$3),Dropdwon!$B$3,Dropdwon!$B$4))","v":"00:00:00"},null,null,"00:00:00",{"$f":"IF(M30<Dropdwon!$A$3,Dropdwon!$B$2,IF(AND(M30<Dropdwon!$A$4,M30>=Dropdwon!$A$3),Dropdwon!$B$3,Dropdwon!$B$4))","v":"00:00:00"},"00:00:00",{"$f":"IF(AND(T30<>\"\",T30<>\"verpflichtende FoBi\",T30<>\"förderliche FoBi\"),Q30,IF(AND(T30=\"verpflichtende FoBi\",SUM(E30+I30+M30-O30)<=Dropdwon!$A$5),SUM(E30+I30+M30-O30),IF(AND(T30=\"förderliche FoBi\",SUM(E30+I30+M30-O30)<=Dropdwon!$A$5,SUM(E30+I30+M30-O30)<=Q30),SUM(E30+I30+M30-O30),IF(AND(T30=\"förderliche FoBi\",SUM(E30+I30+M30-O30)>Q30),Q30,IF(SUM(E30+I30+M30-O30)>Dropdwon!$A$5,Dropdwon!$C$5,SUM(E30+I30+M30-O30))))))","v":{"$error":"#VALUE!"}},{"$f":"IF(OR(U30=\"x\",A30<STAMMDATENBLATT!$B$32,A30>STAMMDATENBLATT!$D$32),\"0:00\",IF(MOD(B30,2)=0,VLOOKUP(WEEKDAY(A30,2),STAMMDATENBLATT!H$28:J$34,3,FALSE),VLOOKUP(WEEKDAY(A30,2),STAMMDATENBLATT!H$38:J$44,3,FALSE)))","v":{"$error":"#VALUE!"}},{"$error":"#VALUE!"},null,null,{"$f":"_xlfn.IFNA(VLOOKUP(A30,Feiertage!A:D,3,FALSE),\"\")","v":""},{"$f":"_xlfn.IFNA(VLOOKUP(A30,Feiertage!A:D,4,FALSE),\"\")","v":""}]
["2024-07-26",30,null,null,"00:00:00",{"$f":"IF(E31<Dropdwon!$A$3,Dropdwon!$B$2,IF(AND(E31<Dropdwon!$A$4,E31>=Dropdwon!$A$3),Dropdwon!$B$3,Dropdwon!$B$4))","v":"00:00:00"},null,null,"00:00:00",{"$f":"IF(I31<Dropdwon!$A$3,Dropdwon!$B$2,IF(AND(I31<Dropdwon!$A$4,I31>=Dropdwon!$A$3),Dropdwon!$B$3,Dropdwon!$B$4))","v":"00:00:00"},null,null,"00:00:00",{"$f":"IF(M31<Dropdwon!$A$3,Dropdwon!$B$2,IF(AND(M31<Dropdwon!$A$4,M31>=Dropdwon!$A$3),Dropdwon!$B$3,Dropdwon!$B$4))","v":"00:00:00"},"00:00:00",{"$f":"IF(AND(T31<>\"\",T31<>\"verpflichtende FoBi\",T31<>\"förderliche FoBi\"),Q31,IF(AND(T31=\"verpflichtende FoBi\",SUM(E31+I31+M31-O31)<=Dropdwon!$A$5),SUM(E31+I31+M31-O31),IF(AND(T31=\"förderliche FoBi\",SUM(E31+I31+M31-O31)<=Dropdwon!$A$5,SUM(E31+I31+M31-O31)<=Q31),SUM(E31+I31+M31-O31),IF(AND(T31=\"förderliche FoBi\",SUM(E31+I31+M31-O31)>Q31),Q31,IF(SUM(E31+I31+M31-O31)>Dropdwon!$A$5,Dropdwon!$C$5,SUM(E31+I31+M31-O31))))))","v":{"$error":"#VALUE!"}},{"$f":"IF(OR(U31=\"x\",A31<STAMMDATENBLATT!$B$32,A31>STAMMDATENBLATT!$D$32),\"0:00\",IF(MOD(B31,2)=0,VLOOKUP(WEEKDAY(A31,2),STAMMDATENBLATT!H$28:J$34,3,FALSE),VLOOKUP(WEEKDAY(A31,2),STAMMDATENBLATT!H$38:J$44,3,FALSE)))","v":{"$error":"#VALUE!"}},{"$error":"#VALUE!"},null,null,{"$f":"_xlfn.IFNA(VLOOKUP(A31,Feiertage!A:D,3,FALSE),\"\")","v":""},{"$f":"_xlfn.IFNA(VLOOKUP(A31,Feiertage!A:D,4,FALSE),\"\")","v":""}]
["2024-07-27",30,null,null,"00:00:00",{"$f":"IF(E32<Dropdwon!$A$3,Dropdwon!$B$2,IF(AND(E32<Dropdwon!$A$4,E32>=Dropdwon!$A$3),Dropdwon!$B$3,Dropdwon!$B$4))","v":"00:00:00"},null,null,"00:00:00",{"$f":"IF(I32<Dropdwon!$A$3,Dropdwon!$B$2,IF(AND(I32<Dropdwon!$A$4,I32>=Dropdwon!$A$3),Dropdwon!$B$3,Dropdwon!$B$4))","v":"00:00:00"},null,null,"00:00:00",{"$f":"IF(M32<Dropdwon!$A$3,Dropdwon!$B$2,IF(AND(M32<Dropdwon!$A$4,M32>=Dropdwon!$A$3),Dropdwon!$B$3,Dropdwon!$B$4))","v":"00:00:00"},"00:00:00",{"$f":"IF(AND(T32<>\"\",T32<>\"verpflichtende FoBi\",T32<>\"förderliche FoBi\"),Q32,IF(AND(T32=\"verpflichtende FoBi\",SUM(E32+I32+M32-O32)<=Dropdwon!$A$5),SUM(E32+I32+M32-O32),IF(AND(T32=\"förderliche FoBi\",SUM(E32+I32+M32-O32)<=Dropdwon!$A$5,SUM(E32+I32+M32-O32)<=Q32),SUM(E32+I32+M32-O32),IF(AND(T32=\"förderliche FoBi\",SUM(E32+I32+M32-O32)>Q32),Q32,IF(SUM(E32+I32+M32-O32)>Dropdwon!$A$5,Dropdwon!$C$5,SUM(E32+I32+M32-O32))))))","v":"00:00:00"},{"$f":"IF(OR(U32=\"x\",A32<STAMMDATENBLATT!$B$32,A32>STAMMDATENBLATT!$D$32),\"0:00\",IF(MOD(B32,2)=0,VLOOKUP(WEEKDAY(A32,2),STAMMDATENBLATT!H$28:J$34,3,FALSE),VLOOKUP(WEEKDAY(A32,2),STAMMDATENBLATT!H$38:J$44,3,FALSE)))","v":"00:00:00"},"00:00:00",null,null,{"$f":"_xlfn.IFNA(VLOOKUP(A32,Feiertage!A:D,3,FALSE),\"\")","v":""},{"$f":"_xlfn.IFNA(VLOOKUP(A32,Feiertage!A:D,4,FALSE),\"\")","v":""}]
["2024-07-28",30,null,null,"00:00:00",{"$f":"IF(E33<Dropdwon!$A$3,Dropdwon!$B$2,IF(AND(E33<Dropdwon!$A$4,E33>=Dropdwon!$A$3),Dropdwon!$B$3,Dropdwon!$B$4))","v":"00:00:00"},null,null,"00:00:00",{"$f":"IF(I33<Dropdwon!$A$3,Dropdwon!$B$2,IF(AND(I33<Dropdwon!$A$4,I33>=Dropdwon!$A$3),Dropdwon!$B$3,Dropdwon!$B$4))","v":"00:00:00"},null,null,"00:00:00",{"$f":"IF(M33<Dropdwon!$A$3,Dropdwon!$B$2,IF(AND(M33<Dropdwon!$A$4,M33>=Dropdwon!$A$3),Dropdwon!$B$3,Dropdwon!$B$4))","v":"00:00:00"},"00:00:00",{"$f":"IF(AND(T33<>\"\",T33<>\"verpflichtende FoBi\",T33<>\"förderliche FoBi\"),Q33,IF(AND(T33=\"verpflichtende FoBi\",SUM(E33+I33+M33-O33)<=Dropdwon!$A$5),SUM(E33+I33+M33-O33),IF(AND(T33=\"förderliche FoBi\",SUM(E33+I33+M33-O33)<=Dropdwon!$A$5,SUM(E33+I33+M33-O33)<=Q33),SUM(E33+I33+M33-O33),IF(AND(T33=\"förderliche FoBi\",SUM(E33+I33+M33-O33)>Q33),Q33,IF(SUM(E33+I33+M33-O33)>Dropdwon!$A$5,Dropdwon!$C$5,SUM(E33+I33+M33-O33))))))","v":"00:00:00"},{"$f":"IF(OR(U33=\"x\",A33<STAMMDATENBLATT!$B$32,A33>STAMMDATENBLATT!$D$32),\"0:00\",IF(MOD(B33,2)=0,VLOOKUP(WEEKDAY(A33,2),STAMMDATENBLATT!H$28:J$34,3,FALSE),VLOOKUP(WEEKDAY(A33,2),STAMMDATENBLATT!H$38:J$44,3,FALSE)))","v":"00:00:00"},"00:00:00",null,null,{"$f":"_xlfn.IFNA(VLOOKUP(A33,Feiertage!A:D,3,FALSE),\"\")","v":""},{"$f":"_xlfn.IFNA(VLOOKUP(A33,Feiertage!A:D,4,FALSE),\"\")","v":""}]
["2024-07-29",31,null,null,"00:00:00",{"$f":"IF(E34<Dropdwon!$A$3,Dropdwon!$B$2,IF(AND(E34<Dropdwon!$A$4,E34>=Dropdwon!$A$3),Dropdwon!$B$3,Dropdwon!$B$4))","v":"00:00:00"},null,null,"00:00:00",{"$f":"IF(I34<Dropdwon!$A$3,Dropdwon!$B$2,IF(AND(I34<Dropdwon!$A$4,I34>=Dropdwon!$A$3),Dropdwon!$B$3,Dropdwon!$B$4))","v":"00:00:00"},null,null,"00:00:00",{"$f":"IF(M34<Dropdwon!$A$3,Dropdwon!$B$2,IF(AND(M34<Dropdwon!$A$4,M34>=Dropdwon!$A$3),Dropdwon!$B$3,Dropdwon!$B$4))","v":"00:00:00"},"00:00:00",{"$f":"IF(AND(T34<>\"\",T34<>\"verpflichtende FoBi\",T34<>\"förderliche FoBi\"),Q34,IF(AND(T34=\"verpflichtende FoBi\",SUM(E34+I34+M34-O34)<=Dropdwon!$A$5),SUM(E34+I34+M34-O34),IF(AND(T34=\"förderliche FoBi\",SUM(E34+I34+M34-O34)<=Dropdwon!$A$5,SUM(E34+I34+M34-O34)<=Q34),SUM(E34+I34+M34-O34),IF(AND(T34=\"förderliche FoBi\",SUM(E34+I34+M34-O34)>Q34),Q34,IF(SUM(E34+I34+M34-O34)>Dropdwon!$A$5,Dropdwon!$C$5,SUM(E34+I34+M34-O34))))))","v":{"$error":"#VALUE!"}},{"$f":"IF(OR(U34=\"x\",A34<STAMMDATENBLATT!$B$32,A34>STAMMDATENBLATT!$D$32),\"0:00\",IF(MOD(B34,2)=0,VLOOKUP(WEEKDAY(A34,2),STAMMDATENBLATT!H$28:J$34,3,FALSE),VLOOKUP(WEEKDAY(A34,2),STAMMDATENBLATT!H$38:J$44,3,FALSE)))","v":{"$error":"#VALUE!"}},{"$error":"#VALUE!"},null,null,{"$f":"_xlfn.IFNA(VLOOKUP(A34,Feiertage!A:D,3,FALSE),\"\")","v":""},{"$f":"_xlfn.IFNA(VLOOKUP(A34,Feiertage!A:D,4,FALSE),\"\")","v":""}]
["2024-07-30",31,null,null,"00:00:00",{"$f":"IF(E35<Dropdwon!$A$3,Dropdwon!$B$2,IF(AND(E35<Dropdwon!$A$4,E35>=Dropdwon!$A$3),Dropdwon!$B$3,Dropdwon!$B$4))","v":"00:00:00"},null,null,"00:00:00",{"$f":"IF(I35<Dropdwon!$A$3,Dropdwon!$B$2,IF(AND(I35<Dropdwon!$A$4,I35>=Dropdwon!$A$3),Dropdwon!$B$3,Dropdwon!$B$4))","v":"00:00:00"},null,null,"00:00:00",{"$f":"IF(M35<Dropdwon!$A$3,Dropdwon!$B$2,IF(AND(M35<Dropdwon!$A$4,M35>=Dropdwon!$A$3),Dropdwon!$B$3,Dropdwon!$B$4))","v":"00:00:00"},"00:00:00",{"$f":"IF(AND(T35<>\"\",T35<>\"verpflichtende FoBi\",T35<>\"förderliche FoBi\"),Q35,IF(AND(T35=\"verpflichtende FoBi\",SUM(E35+I35+M35-O35)<=Dropdwon!$A$5),SUM(E35+I35+M35-O35),IF(AND(T35=\"förderliche FoBi\",SUM(E35+I35+M35-O35)<=Dropdwon!$A$5,SUM(E35+I35+M35-O35)<=Q35),SUM(E35+I35+M35-O35),IF(AND(T35=\"förderliche FoBi\",SUM(E35+I35+M35-O35)>Q35),Q35,IF(SUM(E35+I35+M35-O35)>Dropdwon!$A$5,Dropdwon!$C$5,SUM(E35+I35+M35-O35))))))","v":{"$error":"#VALUE!"}},{"$f":"IF(OR(U35=\"x\",A35<STAMMDATENBLATT!$B$32,A35>STAMMDATENBLATT!$D$32),\"0:00\",IF(MOD(B35,2)=0,VLOOKUP(WEEKDAY(A35,2),STAMMDATENBLATT!H$28:J$34,3,FALSE),VLOOKUP(WEEKDAY(A35,2),STAMMDATENBLATT!H$38:J$44,3,FALSE)))","v":{"$error":"#VALUE!"}},{"$error":"#VALUE!"},null,null,{"$f":"_xlfn.IFNA(VLOOKUP(A35,Feiertage!A:D,3,FALSE),\"\")","v":""},{"$f":"_xlfn.IFNA(VLOOKUP(A35,Feiertage!A:D,4,FALSE),\"\")","v":""}]
["2024-07-31",31,null,null,"00:00:00",{"$f":"IF(E36<Dropdwon!$A$3,Dropdwon!$B$2,IF(AND(E36<Dropdwon!$A$4,E36>=Dropdwon!$A$3),Dropdwon!$B$3,Dropdwon!$B$4))","v":"00:00:00"},null,null,"00:00:00",{"$f":"IF(I36<Dropdwon!$A$3,Dropdwon!$B$2,IF(AND(I36<Dropdwon!$A$4,I36>=Dropdwon!$A$3),Dropdwon!$B$3,Dropdwon!$B$4))","v":"00:00:00"},null,null,"00:00:00",{"$f":"IF(M36<Dropdwon!$A$3,Dropdwon!$B$2,IF(AND(M36<Dropdwon!$A$4,M36>=Dropdwon!$A$3),Dropdwon!$B$3,Dropdwon!$B$4))","v":"00:00:00"},"00:00:00",{"$f":"IF(AND(T36<>\"\",T36<>\"verpflichtende FoBi\",T36<>\"förderliche FoBi\"),Q36,IF(AND(T36=\"verpflichtende FoBi\",SUM(E36+I36+M36-O36)<=Dropdwon!$A$5),SUM(E36+I36+M36-O36),IF(AND(T36=\"förderliche FoBi\",SUM(E36+I36+M36-O36)<=Dropdwon!$A$5,SUM(E36+I36+M36-O36)<=Q36),SUM(E36+I36+M36-O36),IF(AND(T36=\"förderliche FoBi\",SUM(E36+I36+M36-O36)>Q36),Q36,IF(SUM(E36+I36+M36-O36)>Dropdwon!$A$5,Dropdwon!$C$5,SUM(E36+I36+M36-O36))))))","v":{"$error":"#VALUE!"}},{"$f":"IF(OR(U36=\"x\",A36<STAMMDATENBLATT!$B$32,A36>STAMMDATENBLATT!$D$32),\"0:00\",IF(MOD(B36,2)=0,VLOOKUP(WEEKDAY(A36,2),STAMMDATENBLATT!H$28:J$34,3,FALSE),VLOOKUP(WEEKDAY(A36,2),STAMMDATENBLATT!H$38:J$44,3,FALSE)))","v":{"$error":"#VALUE!"}},{"$error":"#VALUE!"},null,null,{"$f":"_xlfn.IFNA(VLOOKUP(A36,Feiertage!A:D,3,FALSE),\"\")","v":""},{"$f":"_xlfn.IFNA(VLOOKUP(A36,Feiertage!A:D,4,FALSE),\"\")","v":""}]
[]
["Abschluss Std.konto:",null,{"$f":"SUM(R$1+SUM(R$6:R$36)-R$38)","v":{"$error":"#VALUE!"}},{"$nulls":3},"Auszahlung Mehrarbeit in Std./Minuten:",{"$nulls":10},{"$f":"SUMIF($S$6:$S$36,\"ja\",$R$6:$R$36)","v":0}]
["Abschluss Std. in Dezimal:",null,{"$f":"C38*24","v":{"$error":"#VALUE!"}},{"$nulls":4},"Auszahlung Mehrarbeit in Dezimal:",{"$nulls":9},{"$f":"R38*24","v":{"v":0,"d":"0.00"}}]
[{"$nulls":17},"zur Auszahlung angewiesen:"]
[]
[]
[]
["Ort, Datum / Unterschrift Mitarbeiter/in",{"$nulls":5},"Ort, Datum / Unterschrift Vorgesetzte/r",{"$nulls":10},"Ort, Datum / Unterschrift KGF",{"$nulls":4},{"$f":"STAMMDATENBLATT!$A$22","v":"Version: 01.2024.5"}]

{"sheet":"August","index":9,"n_rows":44,"n_cols":23,"rows_kept":44,"merged":[[0,2,0,7],[1,0,1,7],[2,0,2,7],[37,0,37,1],[37,6,37,16],[38,0,38,1],[38,7,38,16],[40,0,42,2],[40,6,42,13],[40,17,42,20]]}
[{"$f":"DATEVALUE(\"01.08.\"&STAMMDATENBLATT!$D$27)","v":"2024-08-01"},null,{"$f":"STAMMDATENBLATT!B27","v":"Vorname Nachname"},{"$nulls":7},{"$f":"STAMMDATENBLATT!$B$30","v":{"v":0,"d":"0.00%"}},{"$f":"IF(STAMMDATENBLATT!$B$29=\"\",\"\",STAMMDATENBLATT!$B$29)","v":""},{"$nulls":5},{"$f":"IF(STAMMDATENBLATT!E10<=STAMMDATENBLATT!$D$35,STAMMDATENBLATT!E10,STAMMDATENBLATT!$D$35)","v":{"$error":"#VALUE!"}}]
[{"$f":"STAMMDATENBLATT!B26","v":0}]
[{"$f":"STAMMDATENBLATT!A26","v":{"$error":"#N/A"}}]
[]
[null,"KW","Beginn 1","Ende 1","IST AZ 1","IST MP 1","Beginn 2","Ende 2","IST AZ 2","IST MP 2","Beginn 3","Ende 3","IST AZ 3","IST MP 3","MP gesamt","IST AZ","SOLL AZ","Differenz","Auszahlung","Abwesenheit","Feiertag","Feiertag","Notiz"]
[{"$f":"A1","v":"2024-08-01"},{"$f":"WEEKNUM(A6,21)","v":31},null,null,{"$f":"IF(AND(WEEKDAY($A6,2)=6,HOUR(C6)>=13),SUM((D6-C6)*1.2),IF(WEEKDAY($A6,2)=7,SUM((D6-C6)*1.25),IF(AND($U6=\"x\",$V6<>\"Gründonnerstag\"),SUM((D6-C6)*1.25),D6-C6)))","v":"00:00:00"},{"$f":"IF(E6<Dropdwon!$A$3,Dropdwon!$B$2,IF(AND(E6<Dropdwon!$A$4,E6>=Dropdwon!$A$3),Dropdwon!$B$3,Dropdwon!$B$4))","v":"00:00:00"},null,null,{"$f":"IF(AND(WEEKDAY($A6,2)=6,HOUR(G6)>=13),SUM((H6-G6)*1.2),IF(WEEKDAY($A6,2)=7,SUM((H6-G6)*1.25),IF(AND($U6=\"x\",$V6<>\"Gründonnerstag\"),SUM((H6-G6)*1.25),H6-G6)))","v":"00:00:00"},{"$f":"IF(I6<Dropdwon!$A$3,Dropdwon!$B$2,IF(AND(I6<Dropdwon!$A$4,I6>=Dropdwon!$A$3),Dropdwon!$B$3,Dropdwon!$B$4))","v":"00:00:00"},null,null,{"$f":"IF(AND(WEEKDAY($A6,2)=6,HOUR(K6)>=13),SUM((L6-K6)*1.2),IF(WEEKDAY($A6,2)=7,SUM((L6-K6)*1.25),IF(AND($U6=\"x\",$V6<>\"Gründonnerstag\"),SUM((L6-K6)*1.25),L6-K6)))","v":"00:00:00"},{"$f":"IF(M6<Dropdwon!$A$3,Dropdwon!$B$2,IF(AND(M6<Dropdwon!$A$4,M6>=Dropdwon!$A$3),Dropdwon!$B$3,Dropdwon!$B$4))","v":"00:00:00"},{"$f":"F6+J6+N6","v":"00:00:00"},{"$f":"IF(AND(T6<>\"\",T6<>\"verpflichtende FoBi\",T6<>\"förderliche FoBi\"),Q6,IF(AND(T6=\"verpflichtende FoBi\",SUM(E6+I6+M6-O6)<=Dropdwon!$A$5),SUM(E6+I6+M6-O6),IF(AND(T6=\"förderliche FoBi\",SUM(E6+I6+M6-O6)<=Dropdwon!$A$5,SUM(E6+I6+M6-O6)<=Q6),SUM(E6+I6+M6-O6),IF(AND(T6=\"förderliche FoBi\",SUM(E6+I6+M6-O6)>Q6),Q6,IF(SUM(E6+I6+M6-O6)>Dropdwon!$A$5,Dropdwon!$C$5,SUM(E6+I6+M6-O6))))))","v":{"$error":"#VALUE!"}},{"$f":"IF(OR(U6=\"x\",A6<STAMMDATENBLATT!$B$32,A6>STAMMDATENBLATT!$D$32),\"0:00\",IF(MOD(B6,2)=0,VLOOKUP(WEEKDAY(A6,2),STAMMDATENBLATT!H$28:J$34,3,FALSE),VLOOKUP(WEEKDAY(A6,2),STAMMDATENBLATT!H$38:J$44,3,FALSE)))","v":{"$error":"#VALUE!"}},{"$f":"SUM(P6-Q6)","v":{"$error":"#VALUE!"}},null,null,{"$f":"_xlfn.IFNA(VLOOKUP(A6,Feiertage!A:D,3,FALSE),\"\")","v":""},{"$f":"_xlfn.IFNA(VLOOKUP(A6,Feiertage!A:D,4,FALSE),\"\")","v":""}]
[{"$f":"A6+1","v":"2024-08-02"},{"$f":"WEEKNUM(A7,21)","v":31},null,null,{"$f":"IF(AND(WEEKDAY($A7,2)=6,HOUR(C7)>=13),SUM((D7-C7)*1.2),IF(WEEKDAY($A7,2)=7,SUM((D7-C7)*1.25),IF(AND($U7=\"x\",$V7<>\"Gründonnerstag\"),SUM((D7-C7)*1.25),D7-C7)))","v":"00:00:00"},{"$f":"IF(E7<Dropdwon!$A$3,Dropdwon!$B$2,IF(AND(E7<Dropdwon!$A$4,E7>=Dropdwon!$A$3),Dropdwon!$B$3,Dropdwon!$B$4))","v":"00:00:00"},null,null,{"$f":"IF(AND(WEEKDAY($A7,2)=6,HOUR(G7)>=13),SUM((H7-G7)*1.2),IF(WEEKDAY($A7,2)=7,SUM((H7-G7)*1.25),IF(AND($U7=\"x\",$V7<>\"Gründonnerstag\"),SUM((H7-G7)*1.25),H7-G7)))","v":"00:00:00"},{"$f":"IF(I7<Dropdwon!$A$3,Dropdwon!$B$2,IF(AND(I7<Dropdwon!$A$4,I7>=Dropdwon!$A$3),Dropdwon!$B$3,Dropdwon!$B$4))","v":"00:00:00"},null,null,{"$f":"IF(AND(WEEKDAY($A7,2)=6,HOUR(K7)>=13),SUM((L7-K7)*1.2),IF(WEEKDAY($A7,2)=7,SUM((L7-K7)*1.25),IF(AND($U7=\"x\",$V7<>\"Gründonnerstag\"),SUM((L7-K7)*1.25),L7-K7)))","v":"00:00:00"},{"$f":"IF(M7<Dropdwon!$A$3,Dropdwon!$B$2,IF(AND(M7<Dropdwon!$A$4,M7>=Dropdwon!$A$3),Dropdwon!$B$3,Dropdwon!$B$4))","v":"00:00:00"},{"$f":"F7+J7+N7","v":"00:00:00"},{"$f":"IF(AND(T7<>\"\",T7<>\"verpflichtende FoBi\",T7<>\"förderliche FoBi\"),Q7,IF(AND(T7=\"verpflichtende FoBi\",SUM(E7+I7+M7-O7)<=Dropdwon!$A$5),SUM(E7+I7+M7-O7),IF(AND(T7=\"förderliche FoBi\",SUM(E7+I7+M7-O7)<=Dropdwon!$A$5,SUM(E7+I7+M7-O7)<=Q7),SUM(E7+I7+M7-O7),IF(AND(T7=\"förderliche FoBi\",SUM(E7+I7+M7-O7)>Q7),Q7,IF(SUM(E7+I7+M7-O7)>Dropdwon!$A$5,Dropdwon!$C$5,SUM(E7+I7+M7-O7))))))","v":{"$error":"#VALUE!"}},{"$f":"IF(OR(U7=\"x\",A7<STAMMDATENBLATT!$B$32,A7>STAMMDATENBLATT!$D$32),\"0:00\",IF(MOD(B7,2)=0,VLOOKUP(WEEKDAY(A7,2),STAMMDATENBLATT!H$28:J$34,3,FALSE),VLOOKUP(WEEKDAY(A7,2),STAMMDATENBLATT!H$38:J$44,3,FALSE)))","v":{"$error":"#VALUE!"}},{"$error":"#VALUE!"},null,null,{"$f":"_xlfn.IFNA(VLOOKUP(A7,Feiertage!A:D,3,FALSE),\"\")","v":""},{"$f":"_xlfn.IFNA(VLOOKUP(A7,Feiertage!A:D,4,FALSE),\"\")","v":""}]
[{"$f":"A7+1","v":"2024-08-03"},31,null,null,"00:00:00",{"$f":"IF(E8<Dropdwon!$A$3,Dropdwon!$B$2,IF(AND(E8<Dropdwon!$A$4,E8>=Dropdwon!$A$3),Dropdwon!$B$3,Dropdwon!$B$4))","v":"00:00:00"},null,null,"00:00:00",{"$f":"IF(I8<Dropdwon!$A$3,Dropdwon!$B$2,IF(AND(I8<Dropdwon!$A$4,I8>=Dropdwon!$A$3),Dropdwon!$B$3,Dropdwon!$B$4))","v":"00:00:00"},null,null,"00:00:00",{"$f":"IF(M8<Dropdwon!$A$3,Dropdwon!$B$2,IF(AND(M8<Dropdwon!$A$4,M8>=Dropdwon!$A$3),Dropdwon!$B$3,Dropdwon!$B$4))","v":"00:00:00"},{"$f":"F8+J8+N8","v":"00:00:00"},{"$f":"IF(AND(T8<>\"\",T8<>\"verpflichtende FoBi\",T8<>\"förderliche FoBi\"),Q8,IF(AND(T8=\"verpflichtende FoBi\",SUM(E8+I8+M8-O8)<=Dropdwon!$A$5),SUM(E8+I8+M8-O8),IF(AND(T8=\"förderliche FoBi\",SUM(E8+I8+M8-O8)<=Dropdwon!$A$5,SUM(E8+I8+M8-O8)<=Q8),SUM(E8+I8+M8-O8),IF(AND(T8=\"förderliche FoBi\",SUM(E8+I8+M8-O8)>Q8),Q8,IF(SUM(E8+I8+M8-O8)>Dropdwon!$A$5,Dropdwon!$C$5,SUM(E8+I8+M8-O8))))))","v":"00:00:00"},{"$f":"IF(OR(U8=\"x\",A8<STAMMDATENBLATT!$B$32,A8>STAMMDATENBLATT!$D$32),\"0:00\",IF(MOD(B8,2)=0,VLOOKUP(WEEKDAY(A8,2),STAMMDATENBLATT!H$28:J$34,3,FALSE),VLOOKUP(WEEKDAY(A8,2),STAMMDATENBLATT!H$38:J$44,3,FALSE)))","v":"00:00:00"},"00:00:00",null,null,{"$f":"_xlfn.IFNA(VLOOKUP(A8,Feiertage!A:D,3,FALSE),\"\")","v":""},{"$f":"_xlfn.IFNA(VLOOKUP(A8,Feiertage!A:D,4,FALSE),\"\")","v":""}]
[{"$f":"A8+1","v":"2024-08-04"},31,null,null,"00:00:00",{"$f":"IF(E9<Dropdwon!$A$3,Dropdwon!$B$2,IF(AND(E9<Dropdwon!$A$4,E9>=Dropdwon!$A$3),Dropdwon!$B$3,Dropdwon!$B$4))","v":"00:00:00"},null,null,"00:00:00",{"$f":"IF(I9<Dropdwon!$A$3,Dropdwon!$B$2,IF(AND(I9<Dropdwon!$A$4,I9>=Dropdwon!$A$3),Dropdwon!$B$3,Dropdwon!$B$4))","v":"00:00:00"},null,null,"00:00:00",{"$f":"IF(M9<Dropdwon!$A$3,Dropdwon!$B$2,IF(AND(M9<Dropdwon!$A$4,M9>=Dropdwon!$A$3),Dropdwon!$B$3,Dropdwon!$B$4))","v":"00:00:00"},"00:00:00",{"$f":"IF(AND(T9<>\"\",T9<>\"verpflichtende FoBi\",T9<>\"förderliche FoBi\"),Q9,IF(AND(T9=\"verpflichtende FoBi\",SUM(E9+I9+M9-O9)<=Dropdwon!$A$5),SUM(E9+I9+M9-O9),IF(AND(T9=\"förderliche FoBi\",SUM(E9+I9+M9-O9)<=Dropdwon!$A$5,SUM(E9+I9+M9-O9)<=Q9),SUM(E9+I9+M9-O9),IF(AND(T9=\"förderliche FoBi\",SUM(E9+I9+M9-O9)>Q9),Q9,IF(SUM(E9+I9+M9-O9)>Dropdwon!$A$5,Dropdwon!$C$5,SUM(E9+I9+M9-O9))))))","v":"00:00:00"},{"$f":"IF(OR(U9=\"x\",A9<STAMMDATENBLATT!$B$32,A9>STAMMDATENBLATT!$D$32),\"0:00\",IF(MOD(B9,2)=0,VLOOKUP(WEEKDAY(A9,2),STAMMDATENBLATT!H$28:J$34,3,FALSE),VLOOKUP(WEEKDAY(A9,2),STAMMDATENBLATT!H$38:J$44,3,FALSE)))","v":"00:00:00"},"00:00:00",null,null,{"$f":"_xlfn.IFNA(VLOOKUP(A9,Feiertage!A:D,3,FALSE),\"\")","v":""},{"$f":"_xlfn.IFNA(VLOOKUP(A9,Feiertage!A:D,4,FALSE),\"\")","v":""}]
["2024-08-05",32,null,null,"00:00:00",{"$f":"IF(E10<Dropdwon!$A$3,Dropdwon!$B$2,IF(AND(E10<Dropdwon!$A$4,E10>=Dropdwon!$A$3),Dropdwon!$B$3,Dropdwon!$B$4))","v":"00:00:00"},null,null,"00:00:00",{"$f":"IF(I10<Dropdwon!$A$3,Dropdwon!$B$2,IF(AND(I10<Dropdwon!$A$4,I10>=Dropdwon!$A$3),Dropdwon!$B$3,Dropdwon!$B$4))","v":"00:00:00"},null,null,"00:00:00",{"$f":"IF(M10<Dropdwon!$A$3,Dropdwon!$B$2,IF(AND(M10<Dropdwon!$A$4,M10>=Dropdwon!$A$3),Dropdwon!$B$3,Dropdwon!$B$4))","v":"00:00:00"},"00:00:00",{"$f":"IF(AND(T10<>\"\",T10<>\"verpflichtende FoBi\",T10<>\"förderliche FoBi\"),Q10,IF(AND(T10=\"verpflichtende FoBi\",SUM(E10+I10+M10-O10)<=Dropdwon!$A$5),SUM(E10+I10+M10-O10),IF(AND(T10=\"förderliche FoBi\",SUM(E10+I10+M10-O10)<=Dropdwon!$A$5,SUM(E10+I10+M10-O10)<=Q10),SUM(E10+I10+M10-O10),IF(AND(T10=\"förderliche FoBi\",SUM(E10+I10+M10-O10)>Q10),Q10,IF(SUM(E10+I10+M10-O10)>Dropdwon!$A$5,Dropdwon!$C$5,SUM(E10+I10+M10-O10))))))","v":{"$error":"#VALUE!"}},{"$f":"IF(OR(U10=\"x\",A10<STAMMDATENBLATT!$B$32,A10>STAMMDATENBLATT!$D$32),\"0:00\",IF(MOD(B10,2)=0,VLOOKUP(WEEKDAY(A10,2),STAMMDATENBLATT!H$28:J$34,3,FALSE),VLOOKUP(WEEKDAY(A10,2),STAMMDATENBLATT!H$38:J$44,3,FALSE)))","v":{"$error":"#VALUE!"}},{"$error":"#VALUE!"},null,null,{"$f":"_xlfn.IFNA(VLOOKUP(A10,Feiertage!A:D,3,FALSE),\"\")","v":""},{"$f":"_xlfn.IFNA(VLOOKUP(A10,Feiertage!A:D,4,FALSE),\"\")","v":""}]
["2024-08-06",32,null,null,"00:00:00",{"$f":"IF(E11<Dropdwon!$A$3,Dropdwon!$B$2,IF(AND(E11<Dropdwon!$A$4,E11>=Dropdwon!$A$3),Dropdwon!$B$3,Dropdwon!$B$4))","v":"00:00:00"},null,null,"00:00:00",{"$f":"IF(I11<Dropdwon!$A$3,Dropdwon!$B$2,IF(AND(I11<Dropdwon!$A$4,I11>=Dropdwon!$A$3),Dropdwon!$B$3,Dropdwon!$B$4))","v":"00:00:00"},null,null,"00:00:00",{"$f":"IF(M11<Dropdwon!$A$3,Dropdwon!$B$2,IF(AND(M11<Dropdwon!$A$4,M11>=Dropdwon!$A$3),Dropdwon!$B$3,Dropdwon!$B$4))","v":"00:00:00"},"00:00:00",{"$f":"IF(AND(T11<>\"\",T11<>\"verpflichtende FoBi\",T11<>\"förderliche FoBi\"),Q11,IF(AND(T11=\"verpflichtende FoBi\",SUM(E11+I11+M11-O11)<=Dropdwon!$A$5),SUM(E11+I11+M11-O11),IF(AND(T11=\"förderliche FoBi\",SUM(E11+I11+M11-O11)<=Dropdwon!$A$5,SUM(E11+I11+M11-O11)<=Q11),SUM(E11+I11+M11-O11),IF(AND(T11=\"förderliche FoBi\",SUM(E11+I11+M11-O11)>Q11),Q11,IF(SUM(E11+I11+M11-O11)>Dropdwon!$A$5,Dropdwon!$C$5,SUM(E11+I11+M11-O11))))))","v":{"$error":"#VALUE!"}},{"$f":"IF(OR(U11=\"x\",A11<STAMMDATENBLATT!$B$32,A11>STAMMDATENBLATT!$D$32),\"0:00\",IF(MOD(B11,2)=0,VLOOKUP(WEEKDAY(A11,2),STAMMDATENBLATT!H$28:J$34,3,FALSE),VLOOKUP(WEEKDAY(A11,2),STAMMDATENBLATT!H$38:J$44,3,FALSE)))","v":{"$error":"#VALUE!"}},{"$error":"#VALUE!"},null,null,{"$f":"_xlfn.IFNA(VLOOKUP(A11,Feiertage!A:D,3,FALSE),\"\")","v":""},{"$f":"_xlfn.IFNA(VLOOKUP(A11,Feiertage!A:D,4,FALSE),\"\")","v":""}]
["2024-08-07",32,null,null,"00:00:00",{"$f":"IF(E12<Dropdwon!$A$3,Dropdwon!$B$2,IF(AND(E12<Dropdwon!$A$4,E12>=Dropdwon!$A$3),Dropdwon!$B$3,Dropdwon!$B$4))","v":"00:00:00"},null,null,"00:00:00",{"$f":"IF(I12<Dropdwon!$A$3,Dropdwon!$B$2,IF(AND(I12<Dropdwon!$A$4,I12>=Dropdwon!$A$3),Dropdwon!$B$3,Dropdwon!$B$4))","v":"00:00:00"},null,null,"00:00:00",{"$f":"IF(M12<Dropdwon!$A$3,Dropdwon!$B$2,IF(AND(M12<Dropdwon!$A$4,M12>=Dropdwon!$A$3),Dropdwon!$B$3,Dropdwon!$B$4))","v":"00:00:00"},"00:00:00",{"$f":"IF(AND(T12<>\"\",T12<>\"verpflichtende FoBi\",T12<>\"förderliche FoBi\"),Q12,IF(AND(T12=\"verpflichtende FoBi\",SUM(E12+I12+M12-O12)<=Dropdwon!$A$5),SUM(E12+I12+M12-O12),IF(AND(T12=\"förderliche FoBi\",SUM(E12+I12+M12-O12)<=Dropdwon!$A$5,SUM(E12+I12+M12-O12)<=Q12),SUM(E12+I12+M12-O12),IF(AND(T12=\"förderliche FoBi\",SUM(E12+I12+M12-O12)>Q12),Q12,IF(SUM(E12+I12+M12-O12)>Dropdwon!$A$5,Dropdwon!$C$5,SUM(E12+I12+M12-O12))))))","v":{"$error":"#VALUE!"}},{"$f":"IF(OR(U12=\"x\",A12<STAMMDATENBLATT!$B$32,A12>STAMMDATENBLATT!$D$32),\"0:00\",IF(MOD(B12,2)=0,VLOOKUP(WEEKDAY(A12,2),STAMMDATENBLATT!H$28:J$34,3,FALSE),VLOOKUP(WEEKDAY(A12,2),STAMMDATENBLATT!H$38:J$44,3,FALSE)))","v":{"$error":"#VALUE!"}},{"$error":"#VALUE!"},null,null,{"$f":"_xlfn.IFNA(VLOOKUP(A12,Feiertage!A:D,3,FALSE),\"\")","v":""},{"$f":"_xlfn.IFNA(VLOOKUP(A12,Feiertage!A:D,4,FALSE),\"\")","v":""}]
["2024-08-08",32,null,null,"00:00:00",{"$f":"IF(E13<Dropdwon!$A$3,Dropdwon!$B$2,IF(AND(E13<Dropdwon!$A$4,E13>=Dropdwon!$A$3),Dropdwon!$B$3,Dropdwon!$B$4))","v":"00:00:00"},null,null,"00:00:00",{"$f":"IF(I13<Dropdwon!$A$3,Dropdwon!$B$2,IF(AND(I13<Dropdwon!$A$4,I13>=Dropdwon!$A$3),Dropdwon!$B$3,Dropdwon!$B$4))","v":"00:00:00"},null,null,"00:00:00",{"$f":"IF(M13<Dropdwon!$A$3,Dropdwon!$B$2,IF(AND(M13<Dropdwon!$A$4,M13>=Dropdwon!$A$3),Dropdwon!$B$3,Dropdwon!$B$4))","v":"00:00:00"},"00:00:00",{"$f":"IF(AND(T13<>\"\",T13<>\"verpflichtende FoBi\",T13<>\"förderliche FoBi\"),Q13,IF(AND(T13=\"verpflichtende FoBi\",SUM(E13+I13+M13-O13)<=Dropdwon!$A$5),SUM(E13+I13+M13-O13),IF(AND(T13=\"förderliche FoBi\",SUM(E13+I13+M13-O13)<=Dropdwon!$A$5,SUM(E13+I13+M13-O13)<=Q13),SUM(E13+I13+M13-O13),IF(AND(T13=\"förderliche FoBi\",SUM(E13+I13+M13-O13)>Q13),Q13,IF(SUM(E13+I13+M13-O13)>Dropdwon!$A$5,Dropdwon!$C$5,SUM(E13+I13+M13-O13))))))","v":{"$error":"#VALUE!"}},{"$f":"IF(OR(U13=\"x\",A13<STAMMDATENBLATT!$B$32,A13>STAMMDATENBLATT!$D$32),\"0:00\",IF(MOD(B13,2)=0,VLOOKUP(WEEKDAY(A13,2),STAMMDATENBLATT!H$28:J$34,3,FALSE),VLOOKUP(WEEKDAY(A13,2),STAMMDATENBLATT!H$38:J$44,3,FALSE)))","v":{"$error":"#VALUE!"}},{"$error":"#VALUE!"},null,null,{"$f":"_xlfn.IFNA(VLOOKUP(A13,Feiertage!A:D,3,FALSE),\"\")","v":""},{"$f":"_xlfn.IFNA(VLOOKUP(A13,Feiertage!A:D,4,FALSE),\"\")","v":""}]
["2024-08-09",32,null,null,"00:00:00",{"$f":"IF(E14<Dropdwon!$A$3,Dropdwon!$B$2,IF(AND(E14<Dropdwon!$A$4,E14>=Dropdwon!$A$3),Dropdwon!$B$3,Dropdwon!$B$4))","v":"00:00:00"},null,null,"00:00:00",{"$f":"IF(I14<Dropdwon!$A$3,Dropdwon!$B$2,IF(AND(I14<Dropdwon!$A$4,I14>=Dropdwon!$A$3),Dropdwon!$B$3,Dropdwon!$B$4))","v":"00:00:00"},null,null,"00:00:00",{"$f":"IF(M14<Dropdwon!$A$3,Dropdwon!$B$2,IF(AND(M14<Dropdwon!$A$4,M14>=Dropdwon!$A$3),Dropdwon!$B$3,Dropdwon!$B$4))","v":"00:00:00"},"00:00:00",{"$f":"IF(AND(T14<>\"\",T14<>\"verpflichtende FoBi\",T14<>\"förderliche FoBi\"),Q14,IF(AND(T14=\"verpflichtende FoBi\",SUM(E14+I14+M14-O14)<=Dropdwon!$A$5),SUM(E14+I14+M14-O14),IF(AND(T14=\"förderliche FoBi\",SUM(E14+I14+M14-O14)<=Dropdwon!$A$5,SUM(E14+I14+M14-O14)<=Q14),SUM(E14+I14+M14-O14),IF(AND(T14=\"förderliche FoBi\",SUM(E14+I14+M14-O14)>Q14),Q14,IF(SUM(E14+I14+M14-O14)>Dropdwon!$A$5,Dropdwon!$C$5,SUM(E14+I14+M14-O14))))))","v":{"$error":"#VALUE!"}},{"$f":"IF(OR(U14=\"x\",A14<STAMMDATENBLATT!$B$32,A14>STAMMDATENBLATT!$D$32),\"0:00\",IF(MOD(B14,2)=0,VLOOKUP(WEEKDAY(A14,2),STAMMDATENBLATT!H$28:J$34,3,FALSE),VLOOKUP(WEEKDAY(A14,2),STAMMDATENBLATT!H$38:J$44,3,FALSE)))","v":{"$error":"#VALUE!"}},{"$error":"#VALUE!"},null,null,{"$f":"_xlfn.IFNA(VLOOKUP(A14,Feiertage!A:D,3,FALSE),\"\")","v":""},{"$f":"_xlfn.IFNA(VLOOKUP(A14,Feiertage!A:D,4,FALSE),\"\")","v":""}]
["2024-08-10",32,null,null,"00:00:00",{"$f":"IF(E15<Dropdwon!$A$3,Dropdwon!$B$2,IF(AND(E15<Dropdwon!$A$4,E15>=Dropdwon!$A$3),Dropdwon!$B$3,Dropdwon!$B$4))","v":"00:00:00"},null,null,"00:00:00",{"$f":"IF(I15<Dropdwon!$A$3,Dropdwon!$B$2,IF(AND(I15<Dropdwon!$A$4,I15>=Dropdwon!$A$3),Dropdwon!$B$3,Dropdwon!$B$4))","v":"00:00:00"},null,null,"00:00:00",{"$f":"IF(M15<Dropdwon!$A$3,Dropdwon!$B$2,IF(AND(M15<Dropdwon!$A$4,M15>=Dropdwon!$A$3),Dropdwon!$B$3,Dropdwon!$B$4))","v":"00:00:00"},"00:00:00",{"$f":"IF(AND(T15<>\"\",T15<>\"verpflichtende FoBi\",T15<>\"förderliche FoBi\"),Q15,IF(AND(T15=\"verpflichtende FoBi\",SUM(E15+I15+M15-O15)<=Dropdwon!$A$5),SUM(E15+I15+M15-O15),IF(AND(T15=\"förderliche FoBi\",SUM(E15+I15+M15-O15)<=Dropdwon!$A$5,SUM(E15+I15+M15-O15)<=Q15),SUM(E15+I15+M15-O15),IF(AND(T15=\"förderliche FoBi\",SUM(E15+I15+M15-O15)>Q15),Q15,IF(SUM(E15+I15+M15-O15)>Dropdwon!$A$5,Dropdwon!$C$5,SUM(E15+I15+M15-O15))))))","v":"00:00:00"},{"$f":"IF(OR(U15=\"x\",A15<STAMMDATENBLATT!$B$32,A15>STAMMDATENBLATT!$D$32),\"0:00\",IF(MOD(B15,2)=0,VLOOKUP(WEEKDAY(A15,2),STAMMDATENBLATT!H$28:J$34,3,FALSE),VLOOKUP(WEEKDAY(A15,2),STAMMDATENBLATT!H$38:J$44,3,FALSE)))","v":"00:00:00"},"00:00:00",null,null,{"$f":"_xlfn.IFNA(VLOOKUP(A15,Feiertage!A:D,3,FALSE),\"\")","v":""},{"$f":"_xlfn.IFNA(VLOOKUP(A15,Feiertage!A:D,4,FALSE),\"\")","v":""}]
["2024-08-11",32,null,null,"00:00:00",{"$f":"IF(E16<Dropdwon!$A$3,Dropdwon!$B$2,IF(AND(E16<Dropdwon!$A$4,E16>=Dropdwon!$A$3),Dropdwon!$B$3,Dropdwon!$B$4))","v":"00:00:00"},null,null,"00:00:00",{"$f":"IF(I16<Dropdwon!$A$3,Dropdwon!$B$2,IF(AND(I16<Dropdwon!$A$4,I16>=Dropdwon!$A$3),Dropdwon!$B$3,Dropdwon!$B$4))","v":"00:00:00"},null,null,"00:00:00",{"$f":"IF(M16<Dropdwon!$A$3,Dropdwon!$B$2,IF(AND(M16<Dropdwon!$A$4,M16>=Dropdwon!$A$3),Dropdwon!$B$3,Dropdwon!$B$4))","v":"00:00:00"},"00:00:00",{"$f":"IF(AND(T16<>\"\",T16<>\"verpflichtende FoBi\",T16<>\"förderliche FoBi\"),Q16,IF(AND(T16=\"verpflichtende FoBi\",SUM(E16+I16+M16-O16)<=Dropdwon!$A$5),SUM(E16+I16+M16-O16),IF(AND(T16=\"förderliche FoBi\",SUM(E16+I16+M16-O16)<=Dropdwon!$A$5,SUM(E16+I16+M16-O16)<=Q16),SUM(E16+I16+M16-O16),IF(AND(T16=\"förderliche FoBi\",SUM(E16+I16+M16-O16)>Q16),Q16,IF(SUM(E16+I16+M16-O16)>Dropdwon!$A$5,Dropdwon!$C$5,SUM(E16+I16+M16-O16))))))","v":"00:00:00"},{"$f":"IF(OR(U16=\"x\",A16<STAMMDATENBLATT!$B$32,A16>STAMMDATENBLATT!$D$32),\"0:00\",IF(MOD(B16,2)=0,VLOOKUP(WEEKDAY(A16,2),STAMMDATENBLATT!H$28:J$34,3,FALSE),VLOOKUP(WEEKDAY(A16,2),STAMMDATENBLATT!H$38:J$44,3,FALSE)))","v":"00:00:00"},"00:00:00",null,null,{"$f":"_xlfn.IFNA(VLOOKUP(A16,Feiertage!A:D,3,FALSE),\"\")","v":""},{"$f":"_xlfn.IFNA(VLOOKUP(A16,Feiertage!A:D,4,FALSE),\"\")","v":""}]
["2024-08-12",33,null,null,"00:00:00",{"$f":"IF(E17<Dropdwon!$A$3,Dropdwon!$B$2,IF(AND(E17<Dropdwon!$A$4,E17>=Dropdwon!$A$3),Dropdwon!$B$3,Dropdwon!$B$4))","v":"00:00:00"},null,null,"00:00:00",{"$f":"IF(I17<Dropdwon!$A$3,Dropdwon!$B$2,IF(AND(I17<Dropdwon!$A$4,I17>=Dropdwon!$A$3),Dropdwon!$B$3,Dropdwon!$B$4))","v":"00:00:00"},null,null,"00:00:00",{"$f":"IF(M17<Dropdwon!$A$3,Dropdwon!$B$2,IF(AND(M17<Dropdwon!$A$4,M17>=Dropdwon!$A$3),Dropdwon!$B$3,Dropdwon!$B$4))","v":"00:00:00"},"00:00:00",{"$f":"IF(AND(T17<>\"\",T17<>\"verpflichtende FoBi\",T17<>\"förderliche FoBi\"),Q17,IF(AND(T17=\"verpflichtende FoBi\",SUM(E17+I17+M17-O17)<=Dropdwon!$A$5),SUM(E17+I17+M17-O17),IF(AND(T17=\"förderliche FoBi\",SUM(E17+I17+M17-O17)<=Dropdwon!$A$5,SUM(E17+I17+M17-O17)<=Q17),SUM(E17+I17+M17-O17),IF(AND(T17=\"förderliche FoBi\",SUM(E17+I17+M17-O17)>Q17),Q17,IF(SUM(E17+I17+M17-O17)>Dropdwon!$A$5,Dropdwon!$C$5,SUM(E17+I17+M17-O17))))))","v":{"$error":"#VALUE!"}},{"$f":"IF(OR(U17=\"x\",A17<STAMMDATENBLATT!$B$32,A17>STAMMDATENBLATT!$D$32),\"0:00\",IF(MOD(B17,2)=0,VLOOKUP(WEEKDAY(A17,2),STAMMDATENBLATT!H$28:J$34,3,FALSE),VLOOKUP(WEEKDAY(A17,2),STAMMDATENBLATT!H$38:J$44,3,FALSE)))","v":{"$error":"#VALUE!"}},{"$error":"#VALUE!"},null,null,{"$f":"_xlfn.IFNA(VLOOKUP(A17,Feiertage!A:D,3,FALSE),\"\")","v":""},{"$f":"_xlfn.IFNA(VLOOKUP(A17,Feiertage!A:D,4,FALSE),\"\")","v":""}]
["2024-08-13",33,null,null,"00:00:00",{"$f":"IF(E18<Dropdwon!$A$3,Dropdwon!$B$2,IF(AND(E18<Dropdwon!$A$4,E18>=Dropdwon!$A$3),Dropdwon!$B$3,Dropdwon!$B$4))","v":"00:00:00"},null,null,"00:00:00",{"$f":"IF(I18<Dropdwon!$A$3,Dropdwon!$B$2,IF(AND(I18<Dropdwon!$A$4,I18>=Dropdwon!$A$3),Dropdwon!$B$3,Dropdwon!$B$4))","v":"00:00:00"},null,null,"00:00:00",{"$f":"IF(M18<Dropdwon!$A$3,Dropdwon!$B$2,IF(AND(M18<Dropdwon!$A$4,M18>=Dropdwon!$A$3),Dropdwon!$B$3,Dropdwon!$B$4))","v":"00:00:00"},"00:00:00",{"$f":"IF(AND(T18<>\"\",T18<>\"verpflichtende FoBi\",T18<>\"förderliche FoBi\"),Q18,IF(AND(T18=\"verpflichtende FoBi\",SUM(E18+I18+M18-O18)<=Dropdwon!$A$5),SUM(E18+I18+M18-O18),IF(AND(T18=\"förderliche FoBi\",SUM(E18+I18+M18-O18)<=Dropdwon!$A$5,SUM(E18+I18+M18-O18)<=Q18),SUM(E18+I18+M18-O18),IF(AND(T18=\"förderliche FoBi\",SUM(E18+I18+M18-O18)>Q18),Q18,IF(SUM(E18+I18+M18-O18)>Dropdwon!$A$5,Dropdwon!$C$5,SUM(E18+I18+M18-O18))))))","v":{"$error":"#VALUE!"}},{"$f":"IF(OR(U18=\"x\",A18<STAMMDATENBLATT!$B$32,A18>STAMMDATENBLATT!$D$32),\"0:00\",IF(MOD(B18,2)=0,VLOOKUP(WEEKDAY(A18,2),STAMMDATENBLATT!H$28:J$34,3,FALSE),VLOOKUP(WEEKDAY(A18,2),STAMMDATENBLATT!H$38:J$44,3,FALSE)))","v":{"$error":"#VALUE!"}},{"$error":"#VALUE!"},null,null,{"$f":"_xlfn.IFNA(VLOOKUP(A18,Feiertage!A:D,3,FALSE),\"\")","v":""},{"$f":"_xlfn.IFNA(VLOOKUP(A18,Feiertage!A:D,4,FALSE),\"\")","v":""}]
["2024-08-14",33,null,null,"00:00:00",{"$f":"IF(E19<Dropdwon!$A$3,Dropdwon!$B$2,IF(AND(E19<Dropdwon!$A$4,E19>=Dropdwon!$A$3),Dropdwon!$B$3,Dropdwon!$B$4))","v":"00:00:00"},null,null,"00:00:00",{"$f":"IF(I19<Dropdwon!$A$3,Dropdwon!$B$2,IF(AND(I19<Dropdwon!$A$4,I19>=Dropdwon!$A$3),Dropdwon!$B$3,Dropdwon!$B$4))","v":"00:00:00"},null,null,"00:00:00",{"$f":"IF(M19<Dropdwon!$A$3,Dropdwon!$B$2,IF(AND(M19<Dropdwon!$A$4,M19>=Dropdwon!$A$3),Dropdwon!$B$3,Dropdwon!$B$4))","v":"00:00:00"},"00:00:00",{"$f":"IF(AND(T19<>\"\",T19<>\"verpflichtende FoBi\",T19<>\"förderliche FoBi\"),Q19,IF(AND(T19=\"verpflichtende FoBi\",SUM(E19+I19+M19-O19)<=Dropdwon!$A$5),SUM(E19+I19+M19-O19),IF(AND(T19=\"förderliche FoBi\",SUM(E19+I19+M19-O19)<=Dropdwon!$A$5,SUM(E19+I19+M19-O19)<=Q19),SUM(E19+I19+M19-O19),IF(AND(T19=\"förderliche FoBi\",SUM(E19+I19+M19-O19)>Q19),Q19,IF(SUM(E19+I19+M19-O19)>Dropdwon!$A$5,Dropdwon!$C$5,SUM(E19+I19+M19-O19))))))","v":{"$error":"#VALUE!"}},{"$f":"IF(OR(U19=\"x\",A19<STAMMDATENBLATT!$B$32,A19>STAMMDATENBLATT!$D$32),\"0:00\",IF(MOD(B19,2)=0,VLOOKUP(WEEKDAY(A19,2),STAMMDATENBLATT!H$28:J$34,3,FALSE),VLOOKUP(WEEKDAY(A19,2),STAMMDATENBLATT!H$38:J$44,3,FALSE)))","v":{"$error":"#VALUE!"}},{"$error":"#VALUE!"},null,null,{"$f":"_xlfn.IFNA(VLOOKUP(A19,Feiertage!A:D,3,FALSE),\"\")","v":""},{"$f":"_xlfn.IFNA(VLOOKUP(A19,Feiertage!A:D,4,FALSE),\"\")","v":""}]
["2024-08-15",33,null,null,"00:00:00",{"$f":"IF(E20<Dropdwon!$A$3,Dropdwon!$B$2,IF(AND(E20<Dropdwon!$A$4,E20>=Dropdwon!$A$3),Dropdwon!$B$3,Dropdwon!$B$4))","v":"00:00:00"},null,null,"00:00:00",{"$f":"IF(I20<Dropdwon!$A$3,Dropdwon!$B$2,IF(AND(I20<Dropdwon!$A$4,I20>=Dropdwon!$A$3),Dropdwon!$B$3,Dropdwon!$B$4))","v":"00:00:00"},null,null,"00:00:00",{"$f":"IF(M20<Dropdwon!$A$3,Dropdwon!$B$2,IF(AND(M20<Dropdwon!$A$4,M20>=Dropdwon!$A$3),Dropdwon!$B$3,Dropdwon!$B$4))","v":"00:00:00"},"00:00:00",{"$f":"IF(AND(T20<>\"\",T20<>\"verpflichtende FoBi\",T20<>\"förderliche FoBi\"),Q20,IF(AND(T20=\"verpflichtende FoBi\",SUM(E20+I20+M20-O20)<=Dropdwon!$A$5),SUM(E20+I20+M20-O20),IF(AND(T20=\"förderliche FoBi\",SUM(E20+I20+M20-O20)<=Dropdwon!$A$5,SUM(E20+I20+M20-O20)<=Q20),SUM(E20+I20+M20-O20),IF(AND(T20=\"förderliche FoBi\",SUM(E20+I20+M20-O20)>Q20),Q20,IF(SUM(E20+I20+M20-O20)>Dropdwon!$A$5,Dropdwon!$C$5,SUM(E20+I20+M20-O20))))))","v":{"$error":"#VALUE!"}},{"$f":"IF(OR(U20=\"x\",A20<STAMMDATENBLATT!$B$32,A20>STAMMDATENBLATT!$D$32),\"0:00\",IF(MOD(B20,2)=0,VLOOKUP(WEEKDAY(A20,2),STAMMDATENBLATT!H$28:J$34,3,FALSE),VLOOKUP(WEEKDAY(A20,2),STAMMDATENBLATT!H$38:J$44,3,FALSE)))","v":{"$error":"#VALUE!"}},{"$error":"#VALUE!"},null,null,{"$f":"_xlfn.IFNA(VLOOKUP(A20,Feiertage!A:D,3,FALSE),\"\")","v":""},{"$f":"_xlfn.IFNA(VLOOKUP(A20,Feiertage!A:D,4,FALSE),\"\")","v":""}]
["2024-08-16",33,null,null,"00:00:00",{"$f":"IF(E21<Dropdwon!$A$3,Dropdwon!$B$2,IF(AND(E21<Dropdwon!$A$4,E21>=Dropdwon!$A$3),Dropdwon!$B$3,Dropdwon!$B$4))","v":"00:00:00"},null,null,"00:00:00",{"$f":"IF(I21<Dropdwon!$A$3,Dropdwon!$B$2,IF(AND(I21<Dropdwon!$A$4,I21>=Dropdwon!$A$3),Dropdwon!$B$3,Dropdwon!$B$4))","v":"00:00:00"},null,null,"00:00:00",{"$f":"IF(M21<Dropdwon!$A$3,Dropdwon!$B$2,IF(AND(M21<Dropdwon!$A$4,M21>=Dropdwon!$A$3),Dropdwon!$B$3,Dropdwon!$B$4))","v":"00:00:00"},"00:00:00",{"$f":"IF(AND(T21<>\"\",T21<>\"verpflichtende FoBi\",T21<>\"förderliche FoBi\"),Q21,IF(AND(T21=\"verpflichtende FoBi\",SUM(E21+I21+M21-O21)<=Dropdwon!$A$5),SUM(E21+I21+M21-O21),IF(AND(T21=\"förderliche FoBi\",SUM(E21+I21+M21-O21)<=Dropdwon!$A$5,SUM(E21+I21+M21-O21)<=Q21),SUM(E21+I21+M21-O21),IF(AND(T21=\"förderliche FoBi\",SUM(E21+I21+M21-O21)>Q21),Q21,IF(SUM(E21+I21+M21-O21)>Dropdwon!$A$5,Dropdwon!$C$5,SUM(E21+I21+M21-O21))))))","v":{"$error":"#VALUE!"}},{"$f":"IF(OR(U21=\"x\",A21<STAMMDATENBLATT!$B$32,A21>STAMMDATENBLATT!$D$32),\"0:00\",IF(MOD(B21,2)=0,VLOOKUP(WEEKDAY(A21,2),STAMMDATENBLATT!H$28:J$34,3,FALSE),VLOOKUP(WEEKDAY(A21,2),STAMMDATENBLATT!H$38:J$44,3,FALSE)))","v":{"$error":"#VALUE!"}},{"$error":"#VALUE!"},null,null,{"$f":"_xlfn.IFNA(VLOOKUP(A21,Feiertage!A:D,3,FALSE),\"\")","v":""},{"$f":"_xlfn.IFNA(VLOOKUP(A21,Feiertage!A:D,4,FALSE),\"\")","v":""}]
["2024-08-17",33,null,null,"00:00:00",{"$f":"IF(E22<Dropdwon!$A$3,Dropdwon!$B$2,IF(AND(E22<Dropdwon!$A$4,E22>=Dropdwon!$A$3),Dropdwon!$B$3,Dropdwon!$B$4))","v":"00:00:00"},null,null,"00:00:00",{"$f":"IF(I22<Dropdwon!$A$3,Dropdwon!$B$2,IF(AND(I22<Dropdwon!$A$4,I22>=Dropdwon!$A$3),Dropdwon!$B$3,Dropdwon!$B$4))","v":"00:00:00"},null,null,"00:00:00",{"$f":"IF(M22<Dropdwon!$A$3,Dropdwon!$B$2,IF(AND(M22<Dropdwon!$A$4,M22>=Dropdwon!$A$3),Dropdwon!$B$3,Dropdwon!$B$4))","v":"00:00:00"},"00:00:00",{"$f":"IF(AND(T22<>\"\",T22<>\"verpflichtende FoBi\",T22<>\"förderliche FoBi\"),Q22,IF(AND(T22=\"verpflichtende FoBi\",SUM(E22+I22+M22-O22)<=Dropdwon!$A$5),SUM(E22+I22+M22-O22),IF(AND(T22=\"förderliche FoBi\",SUM(E22+I22+M22-O22)<=Dropdwon!$A$5,SUM(E22+I22+M22-O22)<=Q22),SUM(E22+I22+M22-O22),IF(AND(T22=\"förderliche FoBi\",SUM(E22+I22+M22-O22)>Q22),Q22,IF(SUM(E22+I22+M22-O22)>Dropdwon!$A$5,Dropdwon!$C$5,SUM(E22+I22+M22-O22))))))","v":"00:00:00"},{"$f":"IF(OR(U22=\"x\",A22<STAMMDATENBLATT!$B$32,A22>STAMMDATENBLATT!$D$32),\"0:00\",IF(MOD(B22,2)=0,VLOOKUP(WEEKDAY(A22,2),STAMMDATENBLATT!H$28:J$34,3,FALSE),VLOOKUP(WEEKDAY(A22,2),STAMMDATENBLATT!H$38:J$44,3,FALSE)))","v":"00:00:00"},"00:00:00",null,null,{"$f":"_xlfn.IFNA(VLOOKUP(A22,Feiertage!A:D,3,FALSE),\"\")","v":""},{"$f":"_xlfn.IFNA(VLOOKUP(A22,Feiertage!A:D,4,FALSE),\"\")","v":""}]
["2024-08-18",33,null,null,"00:00:00",{"$f":"IF(E23<Dropdwon!$A$3,Dropdwon!$B$2,IF(AND(E23<Dropdwon!$A$4,E23>=Dropdwon!$A$3),Dropdwon!$B$3,Dropdwon!$B$4))","v":"00:00:00"},null,null,"00:00:00",{"$f":"IF(I23<Dropdwon!$A$3,Dropdwon!$B$2,IF(AND(I23<Dropdwon!$A$4,I23>=Dropdwon!$A$3),Dropdwon!$B$3,Dropdwon!$B$4))","v":"00:00:00"},null,null,"00:00:00",{"$f":"IF(M23<Dropdwon!$A$3,Dropdwon!$B$2,IF(AND(M23<Dropdwon!$A$4,M23>=Dropdwon!$A$3),Dropdwon!$B$3,Dropdwon!$B$4))","v":"00:00:00"},"00:00:00",{"$f":"IF(AND(T23<>\"\",T23<>\"verpflichtende FoBi\",T23<>\"förderliche FoBi\"),Q23,IF(AND(T23=\"verpflichtende FoBi\",SUM(E23+I23+M23-O23)<=Dropdwon!$A$5),SUM(E23+I23+M23-O23),IF(AND(T23=\"förderliche FoBi\",SUM(E23+I23+M23-O23)<=Dropdwon!$A$5,SUM(E23+I23+M23-O23)<=Q23),SUM(E23+I23+M23-O23),IF(AND(T23=\"förderliche FoBi\",SUM(E23+I23+M23-O23)>Q23),Q23,IF(SUM(E23+I23+M23-O23)>Dropdwon!$A$5,Dropdwon!$C$5,SUM(E23+I23+M23-O23))))))","v":"00:00:00"},{"$f":"IF(OR(U23=\"x\",A23<STAMMDATENBLATT!$B$32,A23>STAMMDATENBLATT!$D$32),\"0:00\",IF(MOD(B23,2)=0,VLOOKUP(WEEKDAY(A23,2),STAMMDATENBLATT!H$28:J$34,3,FALSE),VLOOKUP(WEEKDAY(A23,2),STAMMDATENBLATT!H$38:J$44,3,FALSE)))","v":"00:00:00"},"00:00:00",null,null,{"$f":"_xlfn.IFNA(VLOOKUP(A23,Feiertage!A:D,3,FALSE),\"\")","v":""},{"$f":"_xlfn.IFNA(VLOOKUP(A23,Feiertage!A:D,4,FALSE),\"\")","v":""}]
["2024-08-19",34,null,null,"00:00:00",{"$f":"IF(E24<Dropdwon!$A$3,Dropdwon!$B$2,IF(AND(E24<Dropdwon!$A$4,E24>=Dropdwon!$A$3),Dropdwon!$B$3,Dropdwon!$B$4))","v":"00:00:00"},null,null,"00:00:00",{"$f":"IF(I24<Dropdwon!$A$3,Dropdwon!$B$2,IF(AND(I24<Dropdwon!$A$4,I24>=Dropdwon!$A$3),Dropdwon!$B$3,Dropdwon!$B$4))","v":"00:00:00"},null,null,"00:00:00",{"$f":"IF(M24<Dropdwon!$A$3,Dropdwon!$B$2,IF(AND(M24<Dropdwon!$A$4,M24>=Dropdwon!$A$3),Dropdwon!$B$3,Dropdwon!$B$4))","v":"00:00:00"},"00:00:00",{"$f":"IF(AND(T24<>\"\",T24<>\"verpflichtende FoBi\",T24<>\"förderliche FoBi\"),Q24,IF(AND(T24=\"verpflichtende FoBi\",SUM(E24+I24+M24-O24)<=Dropdwon!$A$5),SUM(E24+I24+M24-O24),IF(AND(T24=\"förderliche FoBi\",SUM(E24+I24+M24-O24)<=Dropdwon!$A$5,SUM(E24+I24+M24-O24)<=Q24),SUM(E24+I24+M24-O24),IF(AND(T24=\"förderliche FoBi\",SUM(E24+I24+M24-O24)>Q24),Q24,IF(SUM(E24+I24+M24-O24)>Dropdwon!$A$5,Dropdwon!$C$5,SUM(E24+I24+M24-O24))))))","v":{"$error":"#VALUE!"}},{"$f":"IF(OR(U24=\"x\",A24<STAMMDATENBLATT!$B$32,A24>STAMMDATENBLATT!$D$32),\"0:00\",IF(MOD(B24,2)=0,VLOOKUP(WEEKDAY(A24,2),STAMMDATENBLATT!H$28:J$34,3,FALSE),VLOOKUP(WEEKDAY(A24,2),STAMMDATENBLATT!H$38:J$44,3,FALSE)))","v":{"$error":"#VALUE!"}},{"$error":"#VALUE!"},null,null,{"$f":"_xlfn.IFNA(VLOOKUP(A24,Feiertage!A:D,3,FALSE),\"\")","v":""},{"$f":"_xlfn.IFNA(VLOOKUP(A24,Feiertage!A:D,4,FALSE),\"\")","v":""}]
["2024-08-20",34,null,null,"00:00:00",{"$f":"IF(E25<Dropdwon!$A$3,Dropdwon!$B$2,IF(AND(E25<Dropdwon!$A$4,E25>=Dropdwon!$A$3),Dropdwon!$B$3,Dropdwon!$B$4))","v":"00:00:00"},null,null,"00:00:00",{"$f":"IF(I25<Dropdwon!$A$3,Dropdwon!$B$2,IF(AND(I25<Dropdwon!$A$4,I25>=Dropdwon!$A$3),Dropdwon!$B$3,Dropdwon!$B$4))","v":"00:00:00"},null,null,"00:00:00",{"$f":"IF(M25<Dropdwon!$A$3,Dropdwon!$B$2,IF(AND(M25<Dropdwon!$A$4,M25>=Dropdwon!$A$3),Dropdwon!$B$3,Dropdwon!$B$4))","v":"00:00:00"},"00:00:00",{"$f":"IF(AND(T25<>\"\",T25<>\"verpflichtende FoBi\",T25<>\"förderliche FoBi\"),Q25,IF(AND(T25=\"verpflichtende FoBi\",SUM(E25+I25+M25-O25)<=Dropdwon!$A$5),SUM(E25+I25+M25-O25),IF(AND(T25=\"förderliche FoBi\",SUM(E25+I25+M25-O25)<=Dropdwon!$A$5,SUM(E25+I25+M25-O25)<=Q25),SUM(E25+I25+M25-O25),IF(AND(T25=\"förderliche FoBi\",SUM(E25+I25+M25-O25)>Q25),Q25,IF(SUM(E25+I25+M25-O25)>Dropdwon!$A$5,Dropdwon!$C$5,SUM(E25+I25+M25-O25))))))","v":{"$error":"#VALUE!"}},{"$f":"IF(OR(U25=\"x\",A25<STAMMDATENBLATT!$B$32,A25>STAMMDATENBLATT!$D$32),\"0:00\",IF(MOD(B25,2)=0,VLOOKUP(WEEKDAY(A25,2),STAMMDATENBLATT!H$28:J$34,3,FALSE),VLOOKUP(WEEKDAY(A25,2),STAMMDATENBLATT!H$38:J$44,3,FALSE)))","v":{"$error":"#VALUE!"}},{"$error":"#VALUE!"},null,null,{"$f":"_xlfn.IFNA(VLOOKUP(A25,Feiertage!A:D,3,FALSE),\"\")","v":""},{"$f":"_xlfn.IFNA(VLOOKUP(A25,Feiertage!A:D,4,FALSE),\"\")","v":""}]
["2024-08-21",34,null,null,"00:00:00",{"$f":"IF(E26<Dropdwon!$A$3,Dropdwon!$B$2,IF(AND(E26<Dropdwon!$A$4,E26>=Dropdwon!$A$3),Dropdwon!$B$3,Dropdwon!$B$4))","v":"00:00:00"},null,null,"00:00:00",{"$f":"IF(I26<Dropdwon!$A$3,Dropdwon!$B$2,IF(AND(I26<Dropdwon!$A$4,I26>=Dropdwon!$A$3),Dropdwon!$B$3,Dropdwon!$B$4))","v":"00:00:00"},null,null,"00:00:00",{"$f":"IF(M26<Dropdwon!$A$3,Dropdwon!$B$2,IF(AND(M26<Dropdwon!$A$4,M26>=Dropdwon!$A$3),Dropdwon!$B$3,Dropdwon!$B$4))","v":"00:00:00"},"00:00:00",{"$f":"IF(AND(T26<>\"\",T26<>\"verpflichtende FoBi\",T26<>\"förderliche FoBi\"),Q26,IF(AND(T26=\"verpflichtende FoBi\",SUM(E26+I26+M26-O26)<=Dropdwon!$A$5),SUM(E26+I26+M26-O26),IF(AND(T26=\"förderliche FoBi\",SUM(E26+I26+M26-O26)<=Dropdwon!$A$5,SUM(E26+I26+M26-O26)<=Q26),SUM(E26+I26+M26-O26),IF(AND(T26=\"förderliche FoBi\",SUM(E26+I26+M26-O26)>Q26),Q26,IF(SUM(E26+I26+M26-O26)>Dropdwon!$A$5,Dropdwon!$C$5,SUM(E26+I26+M26-O26))))))","v":{"$error":"#VALUE!"}},{"$f":"IF(OR(U26=\"x\",A26<STAMMDATENBLATT!$B$32,A26>STAMMDATENBLATT!$D$32),\"0:00\",IF(MOD(B26,2)=0,VLOOKUP(WEEKDAY(A26,2),STAMMDATENBLATT!H$28:J$34,3,FALSE),VLOOKUP(WEEKDAY(A26,2),STAMMDATENBLATT!H$38:J$44,3,FALSE)))","v":{"$error":"#VALUE!"}},{"$error":"#VALUE!"},null,null,{"$f":"_xlfn.IFNA(VLOOKUP(A26,Feiertage!A:D,3,FALSE),\"\")","v":""},{"$f":"_xlfn.IFNA(VLOOKUP(A26,Feiertage!A:D,4,FALSE),\"\")","v":""}]
["2024-08-22",34,null,null,"00:00:00",{"$f":"IF(E27<Dropdwon!$A$3,Dropdwon!$B$2,IF(AND(E27<Dropdwon!$A$4,E27>=Dropdwon!$A$3),Dropdwon!$B$3,Dropdwon!$B$4))","v":"00:00:00"},null,null,"00:00:00",{"$f":"IF(I27<Dropdwon!$A$3,Dropdwon!$B$2,IF(AND(I27<Dropdwon!$A$4,I27>=Dropdwon!$A$3),Dropdwon!$B$3,Dropdwon!$B$4))","v":"00:00:00"},null,null,"00:00:00",{"$f":"IF(M27<Dropdwon!$A$3,Dropdwon!$B$2,IF(AND(M27<Dropdwon!$A$4,M27>=Dropdwon!$A$3),Dropdwon!$B$3,Dropdwon!$B$4))","v":"00:00:00"},"00:00:00",{"$f":"IF(AND(T27<>\"\",T27<>\"verpflichtende FoBi\",T27<>\"förderliche FoBi\"),Q27,IF(AND(T27=\"verpflichtende FoBi\",SUM(E27+I27+M27-O27)<=Dropdwon!$A$5),SUM(E27+I27+M27-O27),IF(AND(T27=\"förderliche FoBi\",SUM(E27+I27+M27-O27)<=Dropdwon!$A$5,SUM(E27+I27+M27-O27)<=Q27),SUM(E27+I27+M27-O27),IF(AND(T27=\"förderliche FoBi\",SUM(E27+I27+M27-O27)>Q27),Q27,IF(SUM(E27+I27+M27-O27)>Dropdwon!$A$5,Dropdwon!$C$5,SUM(E27+I27+M27-O27))))))","v":{"$error":"#VALUE!"}},{"$f":"IF(OR(U27=\"x\",A27<STAMMDATENBLATT!$B$32,A27>STAMMDATENBLATT!$D$32),\"0:00\",IF(MOD(B27,2)=0,VLOOKUP(WEEKDAY(A27,2),STAMMDATENBLATT!H$28:J$34,3,FALSE),VLOOKUP(WEEKDAY(A27,2),STAMMDATENBLATT!H$38:J$44,3,FALSE)))","v":{"$error":"#VALUE!"}},{"$error":"#VALUE!"},null,null,{"$f":"_xlfn.IFNA(VLOOKUP(A27,Feiertage!A:D,3,FALSE),\"\")","v":""},{"$f":"_xlfn.IFNA(VLOOKUP(A27,Feiertage!A:D,4,FALSE),\"\")","v":""}]
["2024-08-23",34,null,null,"00:00:00",{"$f":"IF(E28<Dropdwon!$A$3,Dropdwon!$B$2,IF(AND(E28<Dropdwon!$A$4,E28>=Dropdwon!$A$3),Dropdwon!$B$3,Dropdwon!$B$4))","v":"00:00:00"},null,null,"00:00:00",{"$f":"IF(I28<Dropdwon!$A$3,Dropdwon!$B$2,IF(AND(I28<Dropdwon!$A$4,I28>=Dropdwon!$A$3),Dropdwon!$B$3,Dropdwon!$B$4))","v":"00:00:00"},null,null,"00:00:00",{"$f":"IF(M28<Dropdwon!$A$3,Dropdwon!$B$2,IF(AND(M28<Dropdwon!$A$4,M28>=Dropdwon!$A$3),Dropdwon!$B$3,Dropdwon!$B$4))","v":"00:00:00"},"00:00:00",{"$f":"IF(AND(T28<>\"\",T28<>\"verpflichtende FoBi\",T28<>\"förderliche FoBi\"),Q28,IF(AND(T28=\"verpflichtende FoBi\",SUM(E28+I28+M28-O28)<=Dropdwon!$A$5),SUM(E28+I28+M28-O28),IF(AND(T28=\"förderliche FoBi\",SUM(E28+I28+M28-O28)<=Dropdwon!$A$5,SUM(E28+I28+M28-O28)<=Q28),SUM(E28+I28+M28-O28),IF(AND(T28=\"förderliche FoBi\",SUM(E28+I28+M28-O28)>Q28),Q28,IF(SUM(E28+I28+M28-O28)>Dropdwon!$A$5,Dropdwon!$C$5,SUM(E28+I28+M28-O28))))))","v":{"$error":"#VALUE!"}},{"$f":"IF(OR(U28=\"x\",A28<STAMMDATENBLATT!$B$32,A28>STAMMDATENBLATT!$D$32),\"0:00\",IF(MOD(B28,2)=0,VLOOKUP(WEEKDAY(A28,2),STAMMDATENBLATT!H$28:J$34,3,FALSE),VLOOKUP(WEEKDAY(A28,2),STAMMDATENBLATT!H$38:J$44,3,FALSE)))","v":{"$error":"#VALUE!"}},{"$error":"#VALUE!"},null,null,{"$f":"_xlfn.IFNA(VLOOKUP(A28,Feiertage!A:D,3,FALSE),\"\")","v":""},{"$f":"_xlfn.IFNA(VLOOKUP(A28,Feiertage!A:D,4,FALSE),\"\")","v":""}]
["2024-08-24",34,null,null,"00:00:00",{"$f":"IF(E29<Dropdwon!$A$3,Dropdwon!$B$2,IF(AND(E29<Dropdwon!$A$4,E29>=Dropdwon!$A$3),Dropdwon!$B$3,Dropdwon!$B$4))","v":"00:00:00"},null,null,"00:00:00",{"$f":"IF(I29<Dropdwon!$A$3,Dropdwon!$B$2,IF(AND(I29<Dropdwon!$A$4,I29>=Dropdwon!$A$3),Dropdwon!$B$3,Dropdwon!$B$4))","v":"00:00:00"},null,null,"00:00:00",{"$f":"IF(M29<Dropdwon!$A$3,Dropdwon!$B$2,IF(AND(M29<Dropdwon!$A$4,M29>=Dropdwon!$A$3),Dropdwon!$B$3,Dropdwon!$B$4))","v":"00:00:00"},"00:00:00",{"$f":"IF(AND(T29<>\"\",T29<>\"verpflichtende FoBi\",T29<>\"förderliche FoBi\"),Q29,IF(AND(T29=\"verpflichtende FoBi\",SUM(E29+I29+M29-O29)<=Dropdwon!$A$5),SUM(E29+I29+M29-O29),IF(AND(T29=\"förderliche FoBi\",SUM(E29+I29+M29-O29)<=Dropdwon!$A$5,SUM(E29+I29+M29-O29)<=Q29),SUM(E29+I29+M29-O29),IF(AND(T29=\"förderliche FoBi\",SUM(E29+I29+M29-O29)>Q29),Q29,IF(SUM(E29+I29+M29-O29)>Dropdwon!$A$5,Dropdwon!$C$5,SUM(E29+I29+M29-O29))))))","v":"00:00:00"},{"$f":"IF(OR(U29=\"x\",A29<STAMMDATENBLATT!$B$32,A29>STAMMDATENBLATT!$D$32),\"0:00\",IF(MOD(B29,2)=0,VLOOKUP(WEEKDAY(A29,2),STAMMDATENBLATT!H$28:J$34,3,FALSE),VLOOKUP(WEEKDAY(A29,2),STAMMDATENBLATT!H$38:J$44,3,FALSE)))","v":"00:00:00"},"00:00:00",null,null,{"$f":"_xlfn.IFNA(VLOOKUP(A29,Feiertage!A:D,3,FALSE),\"\")","v":""},{"$f":"_xlfn.IFNA(VLOOKUP(A29,Feiertage!A:D,4,FALSE),\"\")","v":""}]
["2024-08-25",34,null,null,"00:00:00",{"$f":"IF(E30<Dropdwon!$A$3,Dropdwon!$B$2,IF(AND(E30<Dropdwon!$A$4,E30>=Dropdwon!$A$3),Dropdwon!$B$3,Dropdwon!$B$4))","v":"00:00:00"},null,null,"00:00:00",{"$f":"IF(I30<Dropdwon!$A$3,Dropdwon!$B$2,IF(AND(I30<Dropdwon!$A$4,I30>=Dropdwon!$A$3),Dropdwon!$B$3,Dropdwon!$B$4))","v":"00:00:00"},null,null,"00:00:00",{"$f":"IF(M30<Dropdwon!$A$3,Dropdwon!$B$2,IF(AND(M30<Dropdwon!$A$4,M30>=Dropdwon!$A$3),Dropdwon!$B$3,Dropdwon!$B$4))","v":"00:00:00"},"00:00:00",{"$f":"IF(AND(T30<>\"\",T30<>\"verpflichtende FoBi\",T30<>\"förderliche FoBi\"),Q30,IF(AND(T30=\"verpflichtende FoBi\",SUM(E30+I30+M30-O30)<=Dropdwon!$A$5),SUM(E30+I30+M30-O30),IF(AND(T30=\"förderliche FoBi\",SUM(E30+I30+M30-O30)<=Dropdwon!$A$5,SUM(E30+I30+M30-O30)<=Q30),SUM(E30+I30+M30-O30),IF(AND(T30=\"förderliche FoBi\",SUM(E30+I30+M30-O30)>Q30),Q30,IF(SUM(E30+I30+M30-O30)>Dropdwon!$A$5,Dropdwon!$C$5,SUM(E30+I30+M30-O30))))))","v":"00:00:00"},{"$f":"IF(OR(U30=\"x\",A30<STAMMDATENBLATT!$B$32,A30>STAMMDATENBLATT!$D$32),\"0:00\",IF(MOD(B30,2)=0,VLOOKUP(WEEKDAY(A30,2),STAMMDATENBLATT!H$28:J$34,3,FALSE),VLOOKUP(WEEKDAY(A30,2),STAMMDATENBLATT!H$38:J$44,3,FALSE)))","v":"00:00:00"},"00:00:00",null,null,{"$f":"_xlfn.IFNA(VLOOKUP(A30,Feiertage!A:D,3,FALSE),\"\")","v":""},{"$f":"_xlfn.IFNA(VLOOKUP(A30,Feiertage!A:D,4,FALSE),\"\")","v":""}]
["2024-08-26",35,null,null,"00:00:00",{"$f":"IF(E31<Dropdwon!$A$3,Dropdwon!$B$2,IF(AND(E31<Dropdwon!$A$4,E31>=Dropdwon!$A$3),Dropdwon!$B$3,Dropdwon!$B$4))","v":"00:00:00"},null,null,"00:00:00",{"$f":"IF(I31<Dropdwon!$A$3,Dropdwon!$B$2,IF(AND(I31<Dropdwon!$A$4,I31>=Dropdwon!$A$3),Dropdwon!$B$3,Dropdwon!$B$4))","v":"00:00:00"},null,null,"00:00:00",{"$f":"IF(M31<Dropdwon!$A$3,Dropdwon!$B$2,IF(AND(M31<Dropdwon!$A$4,M31>=Dropdwon!$A$3),Dropdwon!$B$3,Dropdwon!$B$4))","v":"00:00:00"},"00:00:00",{"$f":"IF(AND(T31<>\"\",T31<>\"verpflichtende FoBi\",T31<>\"förderliche FoBi\"),Q31,IF(AND(T31=\"verpflichtende FoBi\",SUM(E31+I31+M31-O31)<=Dropdwon!$A$5),SUM(E31+I31+M31-O31),IF(AND(T31=\"förderliche FoBi\",SUM(E31+I31+M31-O31)<=Dropdwon!$A$5,SUM(E31+I31+M31-O31)<=Q31),SUM(E31+I31+M31-O31),IF(AND(T31=\"förderliche FoBi\",SUM(E31+I31+M31-O31)>Q31),Q31,IF(SUM(E31+I31+M31-O31)>Dropdwon!$A$5,Dropdwon!$C$5,SUM(E31+I31+M31-O31))))))","v":{"$error":"#VALUE!"}},{"$f":"IF(OR(U31=\"x\",A31<STAMMDATENBLATT!$B$32,A31>STAMMDATENBLATT!$D$32),\"0:00\",IF(MOD(B31,2)=0,VLOOKUP(WEEKDAY(A31,2),STAMMDATENBLATT!H$28:J$34,3,FALSE),VLOOKUP(WEEKDAY(A31,2),STAMMDATENBLATT!H$38:J$44,3,FALSE)))","v":{"$error":"#VALUE!"}},{"$error":"#VALUE!"},null,null,{"$f":"_xlfn.IFNA(VLOOKUP(A31,Feiertage!A:D,3,FALSE),\"\")","v":""},{"$f":"_xlfn.IFNA(VLOOKUP(A31,Feiertage!A:D,4,FALSE),\"\")","v":""}]
["2024-08-27",35,null,null,"00:00:00",{"$f":"IF(E32<Dropdwon!$A$3,Dropdwon!$B$2,IF(AND(E32<Dropdwon!$A$4,E32>=Dropdwon!$A$3),Dropdwon!$B$3,Dropdwon!$B$4))","v":"00:00:00"},null,null,"00:00:00",{"$f":"IF(I32<Dropdwon!$A$3,Dropdwon!$B$2,IF(AND(I32<Dropdwon!$A$4,I32>=Dropdwon!$A$3),Dropdwon!$B$3,Dropdwon!$B$4))","v":"00:00:00"},null,null,"00:00:00",{"$f":"IF(M32<Dropdwon!$A$3,Dropdwon!$B$2,IF(AND(M32<Dropdwon!$A$4,M32>=Dropdwon!$A$3),Dropdwon!$B$3,Dropdwon!$B$4))","v":"00:00:00"},"00:00:00",{"$f":"IF(AND(T32<>\"\",T32<>\"verpflichtende FoBi\",T32<>\"förderliche FoBi\"),Q32,IF(AND(T32=\"verpflichtende FoBi\",SUM(E32+I32+M32-O32)<=Dropdwon!$A$5),SUM(E32+I32+M32-O32),IF(AND(T32=\"förderliche FoBi\",SUM(E32+I32+M32-O32)<=Dropdwon!$A$5,SUM(E32+I32+M32-O32)<=Q32),SUM(E32+I32+M32-O32),IF(AND(T32=\"förderliche FoBi\",SUM(E32+I32+M32-O32)>Q32),Q32,IF(SUM(E32+I32+M32-O32)>Dropdwon!$A$5,Dropdwon!$C$5,SUM(E32+I32+M32-O32))))))","v":{"$error":"#VALUE!"}},{"$f":"IF(OR(U32=\"x\",A32<STAMMDATENBLATT!$B$32,A32>STAMMDATENBLATT!$D$32),\"0:00\",IF(MOD(B32,2)=0,VLOOKUP(WEEKDAY(A32,2),STAMMDATENBLATT!H$28:J$34,3,FALSE),VLOOKUP(WEEKDAY(A32,2),STAMMDATENBLATT!H$38:J$44,3,FALSE)))","v":{"$error":"#VALUE!"}},{"$error":"#VALUE!"},null,null,{"$f":"_xlfn.IFNA(VLOOKUP(A32,Feiertage!A:D,3,FALSE),\"\")","v":""},{"$f":"_xlfn.IFNA(VLOOKUP(A32,Feiertage!A:D,4,FALSE),\"\")","v":""}]
["2024-08-28",35,null,null,"00:00:00",{"$f":"IF(E33<Dropdwon!$A$3,Dropdwon!$B$2,IF(AND(E33<Dropdwon!$A$4,E33>=Dropdwon!$A$3),Dropdwon!$B$3,Dropdwon!$B$4))","v":"00:00:00"},null,null,"00:00:00",{"$f":"IF(I33<Dropdwon!$A$3,Dropdwon!$B$2,IF(AND(I33<Dropdwon!$A$4,I33>=Dropdwon!$A$3),Dropdwon!$B$3,Dropdwon!$B$4))","v":"00:00:00"},null,null,"00:00:00",{"$f":"IF(M33<Dropdwon!$A$3,Dropdwon!$B$2,IF(AND(M33<Dropdwon!$A$4,M33>=Dropdwon!$A$3),Dropdwon!$B$3,Dropdwon!$B$4))","v":"00:00:00"},"00:00:00",{"$f":"IF(AND(T33<>\"\",T33<>\"verpflichtende FoBi\",T33<>\"förderliche FoBi\"),Q33,IF(AND(T33=\"verpflichtende FoBi\",SUM(E33+I33+M33-O33)<=Dropdwon!$A$5),SUM(E33+I33+M33-O33),IF(AND(T33=\"förderliche FoBi\",SUM(E33+I33+M33-O33)<=Dropdwon!$A$5,SUM(E33+I33+M33-O33)<=Q33),SUM(E33+I33+M33-O33),IF(AND(T33=\"förderliche FoBi\",SUM(E33+I33+M33-O33)>Q33),Q33,IF(SUM(E33+I33+M33-O33)>Dropdwon!$A$5,Dropdwon!$C$5,SUM(E33+I33+M33-O33))))))","v":{"$error":"#VALUE!"}},{"$f":"IF(OR(U33=\"x\",A33<STAMMDATENBLATT!$B$32,A33>STAMMDATENBLATT!$D$32),\"0:00\",IF(MOD(B33,2)=0,VLOOKUP(WEEKDAY(A33,2),STAMMDATENBLATT!H$28:J$34,3,FALSE),VLOOKUP(WEEKDAY(A33,2),STAMMDATENBLATT!H$38:J$44,3,FALSE)))","v":{"$error":"#VALUE!"}},{"$error":"#VALUE!"},null,null,{"$f":"_xlfn.IFNA(VLOOKUP(A33,Feiertage!A:D,3,FALSE),\"\")","v":""},{"$f":"_xlfn.IFNA(VLOOKUP(A33,Feiertage!A:D,4,FALSE),\"\")","v":""}]
["2024-08-29",35,null,null,"00:00:00",{"$f":"IF(E34<Dropdwon!$A$3,Dropdwon!$B$2,IF(AND(E34<Dropdwon!$A$4,E34>=Dropdwon!$A$3),Dropdwon!$B$3,Dropdwon!$B$4))","v":"00:00:00"},null,null,"00:00:00",{"$f":"IF(I34<Dropdwon!$A$3,Dropdwon!$B$2,IF(AND(I34<Dropdwon!$A$4,I34>=Dropdwon!$A$3),Dropdwon!$B$3,Dropdwon!$B$4))","v":"00:00:00"},null,null,"00:00:00",{"$f":"IF(M34<Dropdwon!$A$3,Dropdwon!$B$2,IF(AND(M34<Dropdwon!$A$4,M34>=Dropdwon!$A$3),Dropdwon!$B$3,Dropdwon!$B$4))","v":"00:00:00"},"00:00:00",{"$f":"IF(AND(T34<>\"\",T34<>\"verpflichtende FoBi\",T34<>\"förderliche FoBi\"),Q34,IF(AND(T34=\"verpflichtende FoBi\",SUM(E34+I34+M34-O34)<=Dropdwon!$A$5),SUM(E34+I34+M34-O34),IF(AND(T34=\"förderliche FoBi\",SUM(E34+I34+M34-O34)<=Dropdwon!$A$5,SUM(E34+I34+M34-O34)<=Q34),SUM(E34+I34+M34-O34),IF(AND(T34=\"förderliche FoBi\",SUM(E34+I34+M34-O34)>Q34),Q34,IF(SUM(E34+I34+M34-O34)>Dropdwon!$A$5,Dropdwon!$C$5,SUM(E34+I34+M34-O34))))))","v":{"$error":"#VALUE!"}},{"$f":"IF(OR(U34=\"x\",A34<STAMMDATENBLATT!$B$32,A34>STAMMDATENBLATT!$D$32),\"0:00\",IF(MOD(B34,2)=0,VLOOKUP(WEEKDAY(A34,2),STAMMDATENBLATT!H$28:J$34,3,FALSE),VLOOKUP(WEEKDAY(A34,2),STAMMDATENBLATT!H$38:J$44,3,FALSE)))","v":{"$error":"#VALUE!"}},{"$error":"#VALUE!"},null,null,{"$f":"_xlfn.IFNA(VLOOKUP(A34,Feiertage!A:D,3,FALSE),\"\")","v":""},{"$f":"_xlfn.IFNA(VLOOKUP(A34,Feiertage!A:D,4,FALSE),\"\")","v":""}]
["2024-08-30",35,null,null,"00:00:00",{"$f":"IF(E35<Dropdwon!$A$3,Dropdwon!$B$2,IF(AND(E35<Dropdwon!$A$4,E35>=Dropdwon!$A$3),Dropdwon!$B$3,Dropdwon!$B$4))","v":"00:00:00"},null,null,"00:00:00",{"$f":"IF(I35<Dropdwon!$A$3,Dropdwon!$B$2,IF(AND(I35<Dropdwon!$A$4,I35>=Dropdwon!$A$3),Dropdwon!$B$3,Dropdwon!$B$4))","v":"00:00:00"},null,null,"00:00:00",{"$f":"IF(M35<Dropdwon!$A$3,Dropdwon!$B$2,IF(AND(M35<Dropdwon!$A$4,M35>=Dropdwon!$A$3),Dropdwon!$B$3,Dropdwon!$B$4))","v":"00:00:00"},"00:00:00",{"$f":"IF(AND(T35<>\"\",T35<>\"verpflichtende FoBi\",T35<>\"förderliche FoBi\"),Q35,IF(AND(T35=\"verpflichtende FoBi\",SUM(E35+I35+M35-O35)<=Dropdwon!$A$5),SUM(E35+I35+M35-O35),IF(AND(T35=\"förderliche FoBi\",SUM(E35+I35+M35-O35)<=Dropdwon!$A$5,SUM(E35+I35+M35-O35)<=Q35),SUM(E35+I35+M35-O35),IF(AND(T35=\"förderliche FoBi\",SUM(E35+I35+M35-O35)>Q35),Q35,IF(SUM(E35+I35+M35-O35)>Dropdwon!$A$5,Dropdwon!$C$5,SUM(E35+I35+M35-O35))))))","v":{"$error":"#VALUE!"}},{"$f":"IF(OR(U35=\"x\",A35<STAMMDATENBLATT!$B$32,A35>STAMMDATENBLATT!$D$32),\"0:00\",IF(MOD(B35,2)=0,VLOOKUP(WEEKDAY(A35,2),STAMMDATENBLATT!H$28:J$34,3,FALSE),VLOOKUP(WEEKDAY(A35,2),STAMMDATENBLATT!H$38:J$44,3,FALSE)))","v":{"$error":"#VALUE!"}},{"$error":"#VALUE!"},null,null,{"$f":"_xlfn.IFNA(VLOOKUP(A35,Feiertage!A:D,3,FALSE),\"\")","v":""},{"$f":"_xlfn.IFNA(VLOOKUP(A35,Feiertage!A:D,4,FALSE),\"\")","v":""}]
["2024-08-31",35,null,null,"00:00:00",{"$f":"IF(E36<Dropdwon!$A$3,Dropdwon!$B$2,IF(AND(E36<Dropdwon!$A$4,E36>=Dropdwon!$A$3),Dropdwon!$B$3,Dropdwon!$B$4))","v":"00:00:00"},null,null,"00:00:00",{"$f":"IF(I36<Dropdwon!$A$3,Dropdwon!$B$2,IF(AND(I36<Dropdwon!$A$4,I36>=Dropdwon!$A$3),Dropdwon!$B$3,Dropdwon!$B$4))","v":"00:00:00"},null,null,"00:00:00",{"$f":"IF(M36<Dropdwon!$A$3,Dropdwon!$B$2,IF(AND(M36<Dropdwon!$A$4,M36>=Dropdwon!$A$3),Dropdwon!$B$3,Dropdwon!$B$4))","v":"00:00:00"},"00:00:00",{"$f":"IF(AND(T36<>\"\",T36<>\"verpflichtende FoBi\",T36<>\"förderliche FoBi\"),Q36,IF(AND(T36=\"verpflichtende FoBi\",SUM(E36+I36+M36-O36)<=Dropdwon!$A$5),SUM(E36+I36+M36-O36),IF(AND(T36=\"förderliche FoBi\",SUM(E36+I36+M36-O36)<=Dropdwon!$A$5,SUM(E36+I36+M36-O36)<=Q36),SUM(E36+I36+M36-O36),IF(AND(T36=\"förderliche FoBi\",SUM(E36+I36+M36-O36)>Q36),Q36,IF(SUM(E36+I36+M36-O36)>Dropdwon!$A$5,Dropdwon!$C$5,SUM(E36+I36+M36-O36))))))","v":"00:00:00"},{"$f":"IF(OR(U36=\"x\",A36<STAMMDATENBLATT!$B$32,A36>STAMMDATENBLATT!$D$32),\"0:00\",IF(MOD(B36,2)=0,VLOOKUP(WEEKDAY(A36,2),STAMMDATENBLATT!H$28:J$34,3,FALSE),VLOOKUP(WEEKDAY(A36,2),STAMMDATENBLATT!H$38:J$44,3,FALSE)))","v":"00:00:00"},"00:00:00",null,null,{"$f":"_xlfn.IFNA(VLOOKUP(A36,Feiertage!A:D,3,FALSE),\"\")","v":""},{"$f":"_xlfn.IFNA(VLOOKUP(A36,Feiertage!A:D,4,FALSE),\"\")","v":""}]
[]
["Abschluss Std.konto:",null,{"$f":"SUM(R$1+SUM(R$6:R$36)-R$38)","v":{"$error":"#VALUE!"}},{"$nulls":3},"Auszahlung Mehrarbeit in Std./Minuten:",{"$nulls":10},{"$f":"SUMIF($S$6:$S$36,\"ja\",$R$6:$R$36)","v":0}]
["Abschluss Std. in Dezimal:",null,{"$f":"C38*24","v":{"$error":"#VALUE!"}},{"$nulls":4},"Auszahlung Mehrarbeit in Dezimal:",{"$nulls":9},{"$f":"R38*24","v":{"v":0,"d":"0.00"}}]
[{"$nulls":17},"zur Auszahlung angewiesen:"]
[]
[]
[]
["Ort, Datum / Unterschrift Mitarbeiter/in",{"$nulls":5},"Ort, Datum / Unterschrift Vorgesetzte/r",{"$nulls":10},"Ort, Datum / Unterschrift KGF",{"$nulls":4},{"$f":"STAMMDATENBLATT!$A$22","v":"Version: 01.2024.5"}]

{"sheet":"September","index":10,"n_rows":44,"n_cols":23,"rows_kept":44,"merged":[[0,2,0,7],[1,0,1,7],[2,0,2,7],[37,0,37,1],[37,6,37,16],[38,0,38,1],[38,7,38,16],[40,0,42,2],[40,6,42,13],[40,17,42,20]]}
[{"$f":"DATEVALUE(\"01.09.\"&STAMMDATENBLATT!$D$27)","v":"2024-09-01"},null,{"$f":"STAMMDATENBLATT!B27","v":"Vorname Nachname"},{"$nulls":7},{"$f":"STAMMDATENBLATT!$B$30","v":{"v":0,"d":"0.00%"}},{"$f":"IF(STAMMDATENBLATT!$B$29=\"\",\"\",STAMMDATENBLATT!$B$29)","v":""},{"$nulls":5},{"$f":"IF(STAMMDATENBLATT!E11<=STAMMDATENBLATT!$D$35,STAMMDATENBLATT!E11,STAMMDATENBLATT!$D$35)","v":{"$error":"#VALUE!"}}]
[{"$f":"STAMMDATENBLATT!B26","v":0}]
[{"$f":"STAMMDATENBLATT!A26","v":{"$error":"#N/A"}}]
[]
[null,"KW","Beginn 1","Ende 1","IST AZ 1","IST MP 1","Beginn 2","Ende 2","IST AZ 2","IST MP 2","Beginn 3","Ende 3","IST AZ 3","IST MP 3","MP gesamt","IST AZ","SOLL AZ","Differenz","Auszahlung","Abwesenheit","Feiertag","Feiertag","Notiz"]
[{"$f":"A1","v":"2024-09-01"},{"$f":"WEEKNUM(A6,21)","v":35},null,null,{"$f":"IF(AND(WEEKDAY($A6,2)=6,HOUR(C6)>=13),SUM((D6-C6)*1.2),IF(WEEKDAY($A6,2)=7,SUM((D6-C6)*1.25),IF(AND($U6=\"x\",$V6<>\"Gründonnerstag\"),SUM((D6-C6)*1.25),D6-C6)))","v":"00:00:00"},{"$f":"IF(E6<Dropdwon!$A$3,Dropdwon!$B$2,IF(AND(E6<Dropdwon!$A$4,E6>=Dropdwon!$A$3),Dropdwon!$B$3,Dropdwon!$B$4))","v":"00:00:00"},null,null,{"$f":"IF(AND(WEEKDAY($A6,2)=6,HOUR(G6)>=13),SUM((H6-G6)*1.2),IF(WEEKDAY($A6,2)=7,SUM((H6-G6)*1.25),IF(AND($U6=\"x\",$V6<>\"Gründonnerstag\"),SUM((H6-G6)*1.25),H6-G6)))","v":"00:00:00"},{"$f":"IF(I6<Dropdwon!$A$3,Dropdwon!$B$2,IF(AND(I6<Dropdwon!$A$4,I6>=Dropdwon!$A$3),Dropdwon!$B$3,Dropdwon!$B$4))","v":"00:00:00"},null,null,{"$f":"IF(AND(WEEKDAY($A6,2)=6,HOUR(K6)>=13),SUM((L6-K6)*1.2),IF(WEEKDAY($A6,2)=7,SUM((L6-K6)*1.25),IF(AND($U6=\"x\",$V6<>\"Gründonnerstag\"),SUM((L6-K6)*1.25),L6-K6)))","v":"00:00:00"},{"$f":"IF(M6<Dropdwon!$A$3,Dropdwon!$B$2,IF(AND(M6<Dropdwon!$A$4,M6>=Dropdwon!$A$3),Dropdwon!$B$3,Dropdwon!$B$4))","v":"00:00:00"},{"$f":"F6+J6+N6","v":"00:00:00"},{"$f":"IF(AND(T6<>\"\",T6<>\"verpflichtende FoBi\",T6<>\"förderliche FoBi\"),Q6,IF(AND(T6=\"verpflichtende FoBi\",SUM(E6+I6+M6-O6)<=Dropdwon!$A$5),SUM(E6+I6+M6-O6),IF(AND(T6=\"förderliche FoBi\",SUM(E6+I6+M6-O6)<=Dropdwon!$A$5,SUM(E6+I6+M6-O6)<=Q6),SUM(E6+I6+M6-O6),IF(AND(T6=\"förderliche FoBi\",SUM(E6+I6+M6-O6)>Q6),Q6,IF(SUM(E6+I6+M6-O6)>Dropdwon!$A$5,Dropdwon!$C$5,SUM(E6+I6+M6-O6))))))","v":"00:00:00"},{"$f":"IF(OR(U6=\"x\",A6<STAMMDATENBLATT!$B$32,A6>STAMMDATENBLATT!$D$32),\"0:00\",IF(MOD(B6,2)=0,VLOOKUP(WEEKDAY(A6,2),STAMMDATENBLATT!H$28:J$34,3,FALSE),VLOOKUP(WEEKDAY(A6,2),STAMMDATENBLATT!H$38:J$44,3,FALSE)))","v":"00:00:00"},{"$f":"SUM(P6-Q6)","v":"00:00:00"},null,null,{"$f":"_xlfn.IFNA(VLOOKUP(A6,Feiertage!A:D,3,FALSE),\"\")","v":""},{"$f":"_xlfn.IFNA(VLOOKUP(A6,Feiertage!A:D,4,FALSE),\"\")","v":""}]
[{"$f":"A6+1","v":"2024-09-02"},{"$f":"WEEKNUM(A7,21)","v":36},null,null,{"$f":"IF(AND(WEEKDAY($A7,2)=6,HOUR(C7)>=13),SUM((D7-C7)*1.2),IF(WEEKDAY($A7,2)=7,SUM((D7-C7)*1.25),IF(AND($U7=\"x\",$V7<>\"Gründonnerstag\"),SUM((D7-C7)*1.25),D7-C7)))","v":"00:00:00"},{"$f":"IF(E7<Dropdwon!$A$3,Dropdwon!$B$2,IF(AND(E7<Dropdwon!$A$4,E7>=Dropdwon!$A$3),Dropdwon!$B$3,Dropdwon!$B$4))","v":"00:00:00"},null,null,{"$f":"IF(AND(WEEKDAY($A7,2)=6,HOUR(G7)>=13),SUM((H7-G7)*1.2),IF(WEEKDAY($A7,2)=7,SUM((H7-G7)*1.25),IF(AND($U7=\"x\",$V7<>\"Gründonnerstag\"),SUM((H7-G7)*1.25),H7-G7)))","v":"00:00:00"},{"$f":"IF(I7<Dropdwon!$A$3,Dropdwon!$B$2,IF(AND(I7<Dropdwon!$A$4,I7>=Dropdwon!$A$3),Dropdwon!$B$3,Dropdwon!$B$4))","v":"00:00:00"},null,null,{"$f":"IF(AND(WEEKDAY($A7,2)=6,HOUR(K7)>=13),SUM((L7-K7)*1.2),IF(WEEKDAY($A7,2)=7,SUM((L7-K7)*1.25),IF(AND($U7=\"x\",$V7<>\"Gründonnerstag\"),SUM((L7-K7)*1.25),L7-K7)))","v":"00:00:00"},{"$f":"IF(M7<Dropdwon!$A$3,Dropdwon!$B$2,IF(AND(M7<Dropdwon!$A$4,M7>=Dropdwon!$A$3),Dropdwon!$B$3,Dropdwon!$B$4))","v":"00:00:00"},{"$f":"F7+J7+N7","v":"00:00:00"},{"$f":"IF(AND(T7<>\"\",T7<>\"verpflichtende FoBi\",T7<>\"förderliche FoBi\"),Q7,IF(AND(T7=\"verpflichtende FoBi\",SUM(E7+I7+M7-O7)<=Dropdwon!$A$5),SUM(E7+I7+M7-O7),IF(AND(T7=\"förderliche FoBi\",SUM(E7+I7+M7-O7)<=Dropdwon!$A$5,SUM(E7+I7+M7-O7)<=Q7),SUM(E7+I7+M7-O7),IF(AND(T7=\"förderliche FoBi\",SUM(E7+I7+M7-O7)>Q7),Q7,IF(SUM(E7+I7+M7-O7)>Dropdwon!$A$5,Dropdwon!$C$5,SUM(E7+I7+M7-O7))))))","v":{"$error":"#VALUE!"}},{"$f":"IF(OR(U7=\"x\",A7<STAMMDATENBLATT!$B$32,A7>STAMMDATENBLATT!$D$32),\"0:00\",IF(MOD(B7,2)=0,VLOOKUP(WEEKDAY(A7,2),STAMMDATENBLATT!H$28:J$34,3,FALSE),VLOOKUP(WEEKDAY(A7,2),STAMMDATENBLATT!H$38:J$44,3,FALSE)))","v":{"$error":"#VALUE!"}},{"$error":"#VALUE!"},null,null,{"$f":"_xlfn.IFNA(VLOOKUP(A7,Feiertage!A:D,3,FALSE),\"\")","v":""},{"$f":"_xlfn.IFNA(VLOOKUP(A7,Feiertage!A:D,4,FALSE),\"\")","v":""}]
[{"$f":"A7+1","v":"2024-09-03"},36,null,null,"00:00:00",{"$f":"IF(E8<Dropdwon!$A$3,Dropdwon!$B$2,IF(AND(E8<Dropdwon!$A$4,E8>=Dropdwon!$A$3),Dropdwon!$B$3,Dropdwon!$B$4))","v":"00:00:00"},null,null,"00:00:00",{"$f":"IF(I8<Dropdwon!$A$3,Dropdwon!$B$2,IF(AND(I8<Dropdwon!$A$4,I8>=Dropdwon!$A$3),Dropdwon!$B$3,Dropdwon!$B$4))","v":"00:00:00"},null,null,"00:00:00",{"$f":"IF(M8<Dropdwon!$A$3,Dropdwon!$B$2,IF(AND(M8<Dropdwon!$A$4,M8>=Dropdwon!$A$3),Dropdwon!$B$3,Dropdwon!$B$4))","v":"00:00:00"},{"$f":"F8+J8+N8","v":"00:00:00"},{"$f":"IF(AND(T8<>\"\",T8<>\"verpflichtende FoBi\",T8<>\"förderliche FoBi\"),Q8,IF(AND(T8=\"verpflichtende FoBi\",SUM(E8+I8+M8-O8)<=Dropdwon!$A$5),SUM(E8+I8+M8-O8),IF(AND(T8=\"förderliche FoBi\",SUM(E8+I8+M8-O8)<=Dropdwon!$A$5,SUM(E8+I8+M8-O8)<=Q8),SUM(E8+I8+M8-O8),IF(AND(T8=\"förderliche FoBi\",SUM(E8+I8+M8-O8)>Q8),Q8,IF(SUM(E8+I8+M8-O8)>Dropdwon!$A$5,Dropdwon!$C$5,SUM(E8+I8+M8-O8))))))","v":{"$error":"#VALUE!"}},{"$f":"IF(OR(U8=\"x\",A8<STAMMDATENBLATT!$B$32,A8>STAMMDATENBLATT!$D$32),\"0:00\",IF(MOD(B8,2)=0,VLOOKUP(WEEKDAY(A8,2),STAMMDATENBLATT!H$28:J$34,3,FALSE),VLOOKUP(WEEKDAY(A8,2),STAMMDATENBLATT!H$38:J$44,3,FALSE)))","v":{"$error":"#VALUE!"}},{"$error":"#VALUE!"},null,null,{"$f":"_xlfn.IFNA(VLOOKUP(A8,Feiertage!A:D,3,FALSE),\"\")","v":""},{"$f":"_xlfn.IFNA(VLOOKUP(A8,Feiertage!A:D,4,FALSE),\"\")","v":""}]
[{"$f":"A8+1","v":"2024-09-04"},36,null,null,"00:00:00",{"$f":"IF(E9<Dropdwon!$A$3,Dropdwon!$B$2,IF(AND(E9<Dropdwon!$A$4,E9>=Dropdwon!$A$3),Dropdwon!$B$3,Dropdwon!$B$4))","v":"00:00:00"},null,null,"00:00:00",{"$f":"IF(I9<Dropdwon!$A$3,Dropdwon!$B$2,IF(AND(I9<Dropdwon!$A$4,I9>=Dropdwon!$A$3),Dropdwon!$B$3,Dropdwon!$B$4))","v":"00:00:00"},null,null,"00:00:00",{"$f":"IF(M9<Dropdwon!$A$3,Dropdwon!$B$2,IF(AND(M9<Dropdwon!$A$4,M9>=Dropdwon!$A$3),Dropdwon!$B$3,Dropdwon!$B$4))","v":"00:00:00"},"00:00:00",{"$f":"IF(AND(T9<>\"\",T9<>\"verpflichtende FoBi\",T9<>\"förderliche FoBi\"),Q9,IF(AND(T9=\"verpflichtende FoBi\",SUM(E9+I9+M9-O9)<=Dropdwon!$A$5),SUM(E9+I9+M9-O9),IF(AND(T9=\"förderliche FoBi\",SUM(E9+I9+M9-O9)<=Dropdwon!$A$5,SUM(E9+I9+M9-O9)<=Q9),SUM(E9+I9+M9-O9),IF(AND(T9=\"förderliche FoBi\",SUM(E9+I9+M9-O9)>Q9),Q9,IF(SUM(E9+I9+M9-O9)>Dropdwon!$A$5,Dropdwon!$C$5,SUM(E9+I9+M9-O9))))))","v":{"$error":"#VALUE!"}},{"$f":"IF(OR(U9=\"x\",A9<STAMMDATENBLATT!$B$32,A9>STAMMDATENBLATT!$D$32),\"0:00\",IF(MOD(B9,2)=0,VLOOKUP(WEEKDAY(A9,2),STAMMDATENBLATT!H$28:J$34,3,FALSE),VLOOKUP(WEEKDAY(A9,2),STAMMDATENBLATT!H$38:J$44,3,FALSE)))","v":{"$error":"#VALUE!"}},{"$error":"#VALUE!"},null,null,{"$f":"_xlfn.IFNA(VLOOKUP(A9,Feiertage!A:D,3,FALSE),\"\")","v":""},{"$f":"_xlfn.IFNA(VLOOKUP(A9,Feiertage!A:D,4,FALSE),\"\")","v":""}]
["2024-09-05",36,null,null,"00:00:00",{"$f":"IF(E10<Dropdwon!$A$3,Dropdwon!$B$2,IF(AND(E10<Dropdwon!$A$4,E10>=Dropdwon!$A$3),Dropdwon!$B$3,Dropdwon!$B$4))","v":"00:00:00"},null,null,"00:00:00",{"$f":"IF(I10<Dropdwon!$A$3,Dropdwon!$B$2,IF(AND(I10<Dropdwon!$A$4,I10>=Dropdwon!$A$3),Dropdwon!$B$3,Dropdwon!$B$4))","v":"00:00:00"},null,null,"00:00:00",{"$f":"IF(M10<Dropdwon!$A$3,Dropdwon!$B$2,IF(AND(M10<Dropdwon!$A$4,M10>=Dropdwon!$A$3),Dropdwon!$B$3,Dropdwon!$B$4))","v":"00:00:00"},"00:00:00",{"$f":"IF(AND(T10<>\"\",T10<>\"verpflichtende FoBi\",T10<>\"förderliche FoBi\"),Q10,IF(AND(T10=\"verpflichtende FoBi\",SUM(E10+I10+M10-O10)<=Dropdwon!$A$5),SUM(E10+I10+M10-O10),IF(AND(T10=\"förderliche FoBi\",SUM(E10+I10+M10-O10)<=Dropdwon!$A$5,SUM(E10+I10+M10-O10)<=Q10),SUM(E10+I10+M10-O10),IF(AND(T10=\"förderliche FoBi\",SUM(E10+I10+M10-O10)>Q10),Q10,IF(SUM(E10+I10+M10-O10)>Dropdwon!$A$5,Dropdwon!$C$5,SUM(E10+I10+M10-O10))))))","v":{"$error":"#VALUE!"}},{"$f":"IF(OR(U10=\"x\",A10<STAMMDATENBLATT!$B$32,A10>STAMMDATENBLATT!$D$32),\"0:00\",IF(MOD(B10,2)=0,VLOOKUP(WEEKDAY(A10,2),STAMMDATENBLATT!H$28:J$34,3,FALSE),VLOOKUP(WEEKDAY(A10,2),STAMMDATENBLATT!H$38:J$44,3,FALSE)))","v":{"$error":"#VALUE!"}},{"$error":"#VALUE!"},null,null,{"$f":"_xlfn.IFNA(VLOOKUP(A10,Feiertage!A:D,3,FALSE),\"\")","v":""},{"$f":"_xlfn.IFNA(VLOOKUP(A10,Feiertage!A:D,4,FALSE),\"\")","v":""}]
["2024-09-06",36,null,null,"00:00:00",{"$f":"IF(E11<Dropdwon!$A$3,Dropdwon!$B$2,IF(AND(E11<Dropdwon!$A$4,E11>=Dropdwon!$A$3),Dropdwon!$B$3,Dropdwon!$B$4))","v":"00:00:00"},null,null,"00:00:00",{"$f":"IF(I11<Dropdwon!$A$3,Dropdwon!$B$2,IF(AND(I11<Dropdwon!$A$4,I11>=Dropdwon!$A$3),Dropdwon!$B$3,Dropdwon!$B$4))","v":"00:00:00"},null,null,"00:00:00",{"$f":"IF(M11<Dropdwon!$A$3,Dropdwon!$B$2,IF(AND(M11<Dropdwon!$A$4,M11>=Dropdwon!$A$3),Dropdwon!$B$3,Dropdwon!$B$4))","v":"00:00:00"},"00:00:00",{"$f":"IF(AND(T11<>\"\",T11<>\"verpflichtende FoBi\",T11<>\"förderliche FoBi\"),Q11,IF(AND(T11=\"verpflichtende FoBi\",SUM(E11+I11+M11-O11)<=Dropdwon!$A$5),SUM(E11+I11+M11-O11),IF(AND(T11=\"förderliche FoBi\",SUM(E11+I11+M11-O11)<=Dropdwon!$A$5,SUM(E11+I11+M11-O11)<=Q11),SUM(E11+I11+M11-O11),IF(AND(T11=\"förderliche FoBi\",SUM(E11+I11+M11-O11)>Q11),Q11,IF(SUM(E11+I11+M11-O11)>Dropdwon!$A$5,Dropdwon!$C$5,SUM(E11+I11+M11-O11))))))","v":{"$error":"#VALUE!"}},{"$f":"IF(OR(U11=\"x\",A11<STAMMDATENBLATT!$B$32,A11>STAMMDATENBLATT!$D$32),\"0:00\",IF(MOD(B11,2)=0,VLOOKUP(WEEKDAY(A11,2),STAMMDATENBLATT!H$28:J$34,3,FALSE),VLOOKUP(WEEKDAY(A11,2),STAMMDATENBLATT!H$38:J$44,3,FALSE)))","v":{"$error":"#VALUE!"}},{"$error":"#VALUE!"},null,null,{"$f":"_xlfn.IFNA(VLOOKUP(A11,Feiertage!A:D,3,FALSE),\"\")","v":""},{"$f":"_xlfn.IFNA(VLOOKUP(A11,Feiertage!A:D,4,FALSE),\"\")","v":""}]
["2024-09-07",36,null,null,"00:00:00",{"$f":"IF(E12<Dropdwon!$A$3,Dropdwon!$B$2,IF(AND(E12<Dropdwon!$A$4,E12>=Dropdwon!$A$3),Dropdwon!$B$3,Dropdwon!$B$4))","v":"00:00:00"},null,null,"00:00:00",{"$f":"IF(I12<Dropdwon!$A$3,Dropdwon!$B$2,IF(AND(I12<Dropdwon!$A$4,I12>=Dropdwon!$A$3),Dropdwon!$B$3,Dropdwon!$B$4))","v":"00:00:00"},null,null,"00:00:00",{"$f":"IF(M12<Dropdwon!$A$3,Dropdwon!$B$2,IF(AND(M12<Dropdwon!$A$4,M12>=Dropdwon!$A$3),Dropdwon!$B$3,Dropdwon!$B$4))","v":"00:00:00"},"00:00:00",{"$f":"IF(AND(T12<>\"\",T12<>\"verpflichtende FoBi\",T12<>\"förderliche FoBi\"),Q12,IF(AND(T12=\"verpflichtende FoBi\",SUM(E12+I12+M12-O12)<=Dropdwon!$A$5),SUM(E12+I12+M12-O12),IF(AND(T12=\"förderliche FoBi\",SUM(E12+I12+M12-O12)<=Dropdwon!$A$5,SUM(E12+I12+M12-O12)<=Q12),SUM(E12+I12+M12-O12),IF(AND(T12=\"förderliche FoBi\",SUM(E12+I12+M12-O12)>Q12),Q12,IF(SUM(E12+I12+M12-O12)>Dropdwon!$A$5,Dropdwon!$C$5,SUM(E12+I12+M12-O12))))))","v":"00:00:00"},{"$f":"IF(OR(U12=\"x\",A12<STAMMDATENBLATT!$B$32,A12>STAMMDATENBLATT!$D$32),\"0:00\",IF(MOD(B12,2)=0,VLOOKUP(WEEKDAY(A12,2),STAMMDATENBLATT!H$28:J$34,3,FALSE),VLOOKUP(WEEKDAY(A12,2),STAMMDATENBLATT!H$38:J$44,3,FALSE)))","v":"00:00:00"},"00:00:00",null,null,{"$f":"_xlfn.IFNA(VLOOKUP(A12,Feiertage!A:D,3,FALSE),\"\")","v":""},{"$f":"_xlfn.IFNA(VLOOKUP(A12,Feiertage!A:D,4,FALSE),\"\")","v":""}]
["2024-09-08",36,null,null,"00:00:00",{"$f":"IF(E13<Dropdwon!$A$3,Dropdwon!$B$2,IF(AND(E13<Dropdwon!$A$4,E13>=Dropdwon!$A$3),Dropdwon!$B$3,Dropdwon!$B$4))","v":"00:00:00"},null,null,"00:00:00",{"$f":"IF(I13<Dropdwon!$A$3,Dropdwon!$B$2,IF(AND(I13<Dropdwon!$A$4,I13>=Dropdwon!$A$3),Dropdwon!$B$3,Dropdwon!$B$4))","v":"00:00:00"},null,null,"00:00:00",{"$f":"IF(M13<Dropdwon!$A$3,Dropdwon!$B$2,IF(AND(M13<Dropdwon!$A$4,M13>=Dropdwon!$A$3),Dropdwon!$B$3,Dropdwon!$B$4))","v":"00:00:00"},"00:00:00",{"$f":"IF(AND(T13<>\"\",T13<>\"verpflichtende FoBi\",T13<>\"förderliche FoBi\"),Q13,IF(AND(T13=\"verpflichtende FoBi\",SUM(E13+I13+M13-O13)<=Dropdwon!$A$5),SUM(E13+I13+M13-O13),IF(AND(T13=\"förderliche FoBi\",SUM(E13+I13+M13-O13)<=Dropdwon!$A$5,SUM(E13+I13+M13-O13)<=Q13),SUM(E13+I13+M13-O13),IF(AND(T13=\"förderliche FoBi\",SUM(E13+I13+M13-O13)>Q13),Q13,IF(SUM(E13+I13+M13-O13)>Dropdwon!$A$5,Dropdwon!$C$5,SUM(E13+I13+M13-O13))))))","v":"00:00:00"},{"$f":"IF(OR(U13=\"x\",A13<STAMMDATENBLATT!$B$32,A13>STAMMDATENBLATT!$D$32),\"0:00\",IF(MOD(B13,2)=0,VLOOKUP(WEEKDAY(A13,2),STAMMDATENBLATT!H$28:J$34,3,FALSE),VLOOKUP(WEEKDAY(A13,2),STAMMDATENBLATT!H$38:J$44,3,FALSE)))","v":"00:00:00"},"00:00:00",null,null,{"$f":"_xlfn.IFNA(VLOOKUP(A13,Feiertage!A:D,3,FALSE),\"\")","v":""},{"$f":"_xlfn.IFNA(VLOOKUP(A13,Feiertage!A:D,4,FALSE),\"\")","v":""}]
["2024-09-09",37,null,null,"00:00:00",{"$f":"IF(E14<Dropdwon!$A$3,Dropdwon!$B$2,IF(AND(E14<Dropdwon!$A$4,E14>=Dropdwon!$A$3),Dropdwon!$B$3,Dropdwon!$B$4))","v":"00:00:00"},null,null,"00:00:00",{"$f":"IF(I14<Dropdwon!$A$3,Dropdwon!$B$2,IF(AND(I14<Dropdwon!$A$4,I14>=Dropdwon!$A$3),Dropdwon!$B$3,Dropdwon!$B$4))","v":"00:00:00"},null,null,"00:00:00",{"$f":"IF(M14<Dropdwon!$A$3,Dropdwon!$B$2,IF(AND(M14<Dropdwon!$A$4,M14>=Dropdwon!$A$3),Dropdwon!$B$3,Dropdwon!$B$4))","v":"00:00:00"},"00:00:00",{"$f":"IF(AND(T14<>\"\",T14<>\"verpflichtende FoBi\",T14<>\"förderliche FoBi\"),Q14,IF(AND(T14=\"verpflichtende FoBi\",SUM(E14+I14+M14-O14)<=Dropdwon!$A$5),SUM(E14+I14+M14-O14),IF(AND(T14=\"förderliche FoBi\",SUM(E14+I14+M14-O14)<=Dropdwon!$A$5,SUM(E14+I14+M14-O14)<=Q14),SUM(E14+I14+M14-O14),IF(AND(T14=\"förderliche FoBi\",SUM(E14+I14+M14-O14)>Q14),Q14,IF(SUM(E14+I14+M14-O14)>Dropdwon!$A$5,Dropdwon!$C$5,SUM(E14+I14+M14-O14))))))","v":{"$error":"#VALUE!"}},{"$f":"IF(OR(U14=\"x\",A14<STAMMDATENBLATT!$B$32,A14>STAMMDATENBLATT!$D$32),\"0:00\",IF(MOD(B14,2)=0,VLOOKUP(WEEKDAY(A14,2),STAMMDATENBLATT!H$28:J$34,3,FALSE),VLOOKUP(WEEKDAY(A14,2),STAMMDATENBLATT!H$38:J$44,3,FALSE)))","v":{"$error":"#VALUE!"}},{"$error":"#VALUE!"},null,null,{"$f":"_xlfn.IFNA(VLOOKUP(A14,Feiertage!A:D,3,FALSE),\"\")","v":""},{"$f":"_xlfn.IFNA(VLOOKUP(A14,Feiertage!A:D,4,FALSE),\"\")","v":""}]
["2024-09-10",37,null,null,"00:00:00",{"$f":"IF(E15<Dropdwon!$A$3,Dropdwon!$B$2,IF(AND(E15<Dropdwon!$A$4,E15>=Dropdwon!$A$3),Dropdwon!$B$3,Dropdwon!$B$4))","v":"00:00:00"},null,null,"00:00:00",{"$f":"IF(I15<Dropdwon!$A$3,Dropdwon!$B$2,IF(AND(I15<Dropdwon!$A$4,I15>=Dropdwon!$A$3),Dropdwon!$B$3,Dropdwon!$B$4))","v":"00:00:00"},null,null,"00:00:00",{"$f":"IF(M15<Dropdwon!$A$3,Dropdwon!$B$2,IF(AND(M15<Dropdwon!$A$4,M15>=Dropdwon!$A$3),Dropdwon!$B$3,Dropdwon!$B$4))","v":"00:00:00"},"00:00:00",{"$f":"IF(AND(T15<>\"\",T15<>\"verpflichtende FoBi\",T15<>\"förderliche FoBi\"),Q15,IF(AND(T15=\"verpflichtende FoBi\",SUM(E15+I15+M15-O15)<=Dropdwon!$A$5),SUM(E15+I15+M15-O15),IF(AND(T15=\"förderliche FoBi\",SUM(E15+I15+M15-O15)<=Dropdwon!$A$5,SUM(E15+I15+M15-O15)<=Q15),SUM(E15+I15+M15-O15),IF(AND(T15=\"förderliche FoBi\",SUM(E15+I15+M15-O15)>Q15),Q15,IF(SUM(E15+I15+M15-O15)>Dropdwon!$A$5,Dropdwon!$C$5,SUM(E15+I15+M15-O15))))))","v":{"$error":"#VALUE!"}},{"$f":"IF(OR(U15=\"x\",A15<STAMMDATENBLATT!$B$32,A15>STAMMDATENBLATT!$D$32),\"0:00\",IF(MOD(B15,2)=0,VLOOKUP(WEEKDAY(A15,2),STAMMDATENBLATT!H$28:J$34,3,FALSE),VLOOKUP(WEEKDAY(A15,2),STAMMDATENBLATT!H$38:J$44,3,FALSE)))","v":{"$error":"#VALUE!"}},{"$error":"#VALUE!"},null,null,{"$f":"_xlfn.IFNA(VLOOKUP(A15,Feiertage!A:D,3,FALSE),\"\")","v":""},{"$f":"_xlfn.IFNA(VLOOKUP(A15,Feiertage!A:D,4,FALSE),\"\")","v":""}]
["2024-09-11",37,null,null,"00:00:00",{"$f":"IF(E16<Dropdwon!$A$3,Dropdwon!$B$2,IF(AND(E16<Dropdwon!$A$4,E16>=Dropdwon!$A$3),Dropdwon!$B$3,Dropdwon!$B$4))","v":"00:00:00"},null,null,"00:00:00",{"$f":"IF(I16<Dropdwon!$A$3,Dropdwon!$B$2,IF(AND(I16<Dropdwon!$A$4,I16>=Dropdwon!$A$3),Dropdwon!$B$3,Dropdwon!$B$4))","v":"00:00:00"},null,null,"00:00:00",{"$f":"IF(M16<Dropdwon!$A$3,Dropdwon!$B$2,IF(AND(M16<Dropdwon!$A$4,M16>=Dropdwon!$A$3),Dropdwon!$B$3,Dropdwon!$B$4))","v":"00:00:00"},"00:00:00",{"$f":"IF(AND(T16<>\"\",T16<>\"verpflichtende FoBi\",T16<>\"förderliche FoBi\"),Q16,IF(AND(T16=\"verpflichtende FoBi\",SUM(E16+I16+M16-O16)<=Dropdwon!$A$5),SUM(E16+I16+M16-O16),IF(AND(T16=\"förderliche FoBi\",SUM(E16+I16+M16-O16)<=Dropdwon!$A$5,SUM(E16+I16+M16-O16)<=Q16),SUM(E16+I16+M16-O16),IF(AND(T16=\"förderliche FoBi\",SUM(E16+I16+M16-O16)>Q16),Q16,IF(SUM(E16+I16+M16-O16)>Dropdwon!$A$5,Dropdwon!$C$5,SUM(E16+I16+M16-O16))))))","v":{"$error":"#VALUE!"}},{"$f":"IF(OR(U16=\"x\",A16<STAMMDATENBLATT!$B$32,A16>STAMMDATENBLATT!$D$32),\"0:00\",IF(MOD(B16,2)=0,VLOOKUP(WEEKDAY(A16,2),STAMMDATENBLATT!H$28:J$34,3,FALSE),VLOOKUP(WEEKDAY(A16,2),STAMMDATENBLATT!H$38:J$44,3,FALSE)))","v":{"$error":"#VALUE!"}},{"$error":"#VALUE!"},null,null,{"$f":"_xlfn.IFNA(VLOOKUP(A16,Feiertage!A:D,3,FALSE),\"\")","v":""},{"$f":"_xlfn.IFNA(VLOOKUP(A16,Feiertage!A:D,4,FALSE),\"\")","v":""}]
["2024-09-12",37,null,null,"00:00:00",{"$f":"IF(E17<Dropdwon!$A$3,Dropdwon!$B$2,IF(AND(E17<Dropdwon!$A$4,E17>=Dropdwon!$A$3),Dropdwon!$B$3,Dropdwon!$B$4))","v":"00:00:00"},null,null,"00:00:00",{"$f":"IF(I17<Dropdwon!$A$3,Dropdwon!$B$2,IF(AND(I17<Dropdwon!$A$4,I17>=Dropdwon!$A$3),Dropdwon!$B$3,Dropdwon!$B$4))","v":"00:00:00"},null,null,"00:00:00",{"$f":"IF(M17<Dropdwon!$A$3,Dropdwon!$B$2,IF(AND(M17<Dropdwon!$A$4,M17>=Dropdwon!$A$3),Dropdwon!$B$3,Dropdwon!$B$4))","v":"00:00:00"},"00:00:00",{"$f":"IF(AND(T17<>\"\",T17<>\"verpflichtende FoBi\",T17<>\"förderliche FoBi\"),Q17,IF(AND(T17=\"verpflichtende FoBi\",SUM(E17+I17+M17-O17)<=Dropdwon!$A$5),SUM(E17+I17+M17-O17),IF(AND(T17=\"förderliche FoBi\",SUM(E17+I17+M17-O17)<=Dropdwon!$A$5,SUM(E17+I17+M17-O17)<=Q17),SUM(E17+I17+M17-O17),IF(AND(T17=\"förderliche FoBi\",SUM(E17+I17+M17-O17)>Q17),Q17,IF(SUM(E17+I17+M17-O17)>Dropdwon!$A$5,Dropdwon!$C$5,SUM(E17+I17+M17-O17))))))","v":{"$error":"#VALUE!"}},{"$f":"IF(OR(U17=\"x\",A17<STAMMDATENBLATT!$B$32,A17>STAMMDATENBLATT!$D$32),\"0:00\",IF(MOD(B17,2)=0,VLOOKUP(WEEKDAY(A17,2),STAMMDATENBLATT!H$28:J$34,3,FALSE),VLOOKUP(WEEKDAY(A17,2),STAMMDATENBLATT!H$38:J$44,3,FALSE)))","v":{"$error":"#VALUE!"}},{"$error":"#VALUE!"},null,null,{"$f":"_xlfn.IFNA(VLOOKUP(A17,Feiertage!A:D,3,FALSE),\"\")","v":""},{"$f":"_xlfn.IFNA(VLOOKUP(A17,Feiertage!A:D,4,FALSE),\"\")","v":""}]
["2024-09-13",37,null,null,"00:00:00",{"$f":"IF(E18<Dropdwon!$A$3,Dropdwon!$B$2,IF(AND(E18<Dropdwon!$A$4,E18>=Dropdwon!$A$3),Dropdwon!$B$3,Dropdwon!$B$4))","v":"00:00:00"},null,null,"00:00:00",{"$f":"IF(I18<Dropdwon!$A$3,Dropdwon!$B$2,IF(AND(I18<Dropdwon!$A$4,I18>=Dropdwon!$A$3),Dropdwon!$B$3,Dropdwon!$B$4))","v":"00:00:00"},null,null,"00:00:00",{"$f":"IF(M18<Dropdwon!$A$3,Dropdwon!$B$2,IF(AND(M18<Dropdwon!$A$4,M18>=Dropdwon!$A$3),Dropdwon!$B$3,Dropdwon!$B$4))","v":"00:00:00"},"00:00:00",{"$f":"IF(AND(T18<>\"\",T18<>\"verpflichtende FoBi\",T18<>\"förderliche FoBi\"),Q18,IF(AND(T18=\"verpflichtende FoBi\",SUM(E18+I18+M18-O18)<=Dropdwon!$A$5),SUM(E18+I18+M18-O18),IF(AND(T18=\"förderliche FoBi\",SUM(E18+I18+M18-O18)<=Dropdwon!$A$5,SUM(E18+I18+M18-O18)<=Q18),SUM(E18+I18+M18-O18),IF(AND(T18=\"förderliche FoBi\",SUM(E18+I18+M18-O18)>Q18),Q18,IF(SUM(E18+I18+M18-O18)>Dropdwon!$A$5,Dropdwon!$C$5,SUM(E18+I18+M18-O18))))))","v":{"$error":"#VALUE!"}},{"$f":"IF(OR(U18=\"x\",A18<STAMMDATENBLATT!$B$32,A18>STAMMDATENBLATT!$D$32),\"0:00\",IF(MOD(B18,2)=0,VLOOKUP(WEEKDAY(A18,2),STAMMDATENBLATT!H$28:J$34,3,FALSE),VLOOKUP(WEEKDAY(A18,2),STAMMDATENBLATT!H$38:J$44,3,FALSE)))","v":{"$error":"#VALUE!"}},{"$error":"#VALUE!"},null,null,{"$f":"_xlfn.IFNA(VLOOKUP(A18,Feiertage!A:D,3,FALSE),\"\")","v":""},{"$f":"_xlfn.IFNA(VLOOKUP(A18,Feiertage!A:D,4,FALSE),\"\")","v":""}]
["2024-09-14",37,null,null,"00:00:00",{"$f":"IF(E19<Dropdwon!$A$3,Dropdwon!$B$2,IF(AND(E19<Dropdwon!$A$4,E19>=Dropdwon!$A$3),Dropdwon!$B$3,Dropdwon!$B$4))","v":"00:00:00"},null,null,"00:00:00",{"$f":"IF(I19<Dropdwon!$A$3,Dropdwon!$B$2,IF(AND(I19<Dropdwon!$A$4,I19>=Dropdwon!$A$3),Dropdwon!$B$3,Dropdwon!$B$4))","v":"00:00:00"},null,null,"00:00:00",{"$f":"IF(M19<Dropdwon!$A$3,Dropdwon!$B$2,IF(AND(M19<Dropdwon!$A$4,M19>=Dropdwon!$A$3),Dropdwon!$B$3,Dropdwon!$B$4))","v":"00:00:00"},"00:00:00",{"$f":"IF(AND(T19<>\"\",T19<>\"verpflichtende FoBi\",T19<>\"förderliche FoBi\"),Q19,IF(AND(T19=\"verpflichtende FoBi\",SUM(E19+I19+M19-O19)<=Dropdwon!$A$5),SUM(E19+I19+M19-O19),IF(AND(T19=\"förderliche FoBi\",SUM(E19+I19+M19-O19)<=Dropdwon!$A$5,SUM(E19+I19+M19-O19)<=Q19),SUM(E19+I19+M19-O19),IF(AND(T19=\"förderliche FoBi\",SUM(E19+I19+M19-O19)>Q19),Q19,IF(SUM(E19+I19+M19-O19)>Dropdwon!$A$5,Dropdwon!$C$5,SUM(E19+I19+M19-O19))))))","v":"00:00:00"},{"$f":"IF(OR(U19=\"x\",A19<STAMMDATENBLATT!$B$32,A19>STAMMDATENBLATT!$D$32),\"0:00\",IF(MOD(B19,2)=0,VLOOKUP(WEEKDAY(A19,2),STAMMDATENBLATT!H$28:J$34,3,FALSE),VLOOKUP(WEEKDAY(A19,2),STAMMDATENBLATT!H$38:J$44,3,FALSE)))","v":"00:00:00"},"00:00:00",null,null,{"$f":"_xlfn.IFNA(VLOOKUP(A19,Feiertage!A:D,3,FALSE),\"\")","v":""},{"$f":"_xlfn.IFNA(VLOOKUP(A19,Feiertage!A:D,4,FALSE),\"\")","v":""}]
["2024-09-15",37,null,null,"00:00:00",{"$f":"IF(E20<Dropdwon!$A$3,Dropdwon!$B$2,IF(AND(E20<Dropdwon!$A$4,E20>=Dropdwon!$A$3),Dropdwon!$B$3,Dropdwon!$B$4))","v":"00:00:00"},null,null,"00:00:00",{"$f":"IF(I20<Dropdwon!$A$3,Dropdwon!$B$2,IF(AND(I20<Dropdwon!$A$4,I20>=Dropdwon!$A$3),Dropdwon!$B$3,Dropdwon!$B$4))","v":"00:00:00"},null,null,"00:00:00",{"$f":"IF(M20<Dropdwon!$A$3,Dropdwon!$B$2,IF(AND(M20<Dropdwon!$A$4,M20>=Dropdwon!$A$3),Dropdwon!$B$3,Dropdwon!$B$4))","v":"00:00:00"},"00:00:00",{"$f":"IF(AND(T20<>\"\",T20<>\"verpflichtende FoBi\",T20<>\"förderliche FoBi\"),Q20,IF(AND(T20=\"verpflichtende FoBi\",SUM(E20+I20+M20-O20)<=Dropdwon!$A$5),SUM(E20+I20+M20-O20),IF(AND(T20=\"förderliche FoBi\",SUM(E20+I20+M20-O20)<=Dropdwon!$A$5,SUM(E20+I20+M20-O20)<=Q20),SUM(E20+I20+M20-O20),IF(AND(T20=\"förderliche FoBi\",SUM(E20+I20+M20-O20)>Q20),Q20,IF(SUM(E20+I20+M20-O20)>Dropdwon!$A$5,Dropdwon!$C$5,SUM(E20+I20+M20-O20))))))","v":"00:00:00"},{"$f":"IF(OR(U20=\"x\",A20<STAMMDATENBLATT!$B$32,A20>STAMMDATENBLATT!$D$32),\"0:00\",IF(MOD(B20,2)=0,VLOOKUP(WEEKDAY(A20,2),STAMMDATENBLATT!H$28:J$34,3,FALSE),VLOOKUP(WEEKDAY(A20,2),STAMMDATENBLATT!H$38:J$44,3,FALSE)))","v":"00:00:00"},"00:00:00",null,null,{"$f":"_xlfn.IFNA(VLOOKUP(A20,Feiertage!A:D,3,FALSE),\"\")","v":""},{"$f":"_xlfn.IFNA(VLOOKUP(A20,Feiertage!A:D,4,FALSE),\"\")","v":""}]
["2024-09-16",38,null,null,"00:00:00",{"$f":"IF(E21<Dropdwon!$A$3,Dropdwon!$B$2,IF(AND(E21<Dropdwon!$A$4,E21>=Dropdwon!$A$3),Dropdwon!$B$3,Dropdwon!$B$4))","v":"00:00:00"},null,null,"00:00:00",{"$f":"IF(I21<Dropdwon!$A$3,Dropdwon!$B$2,IF(AND(I21<Dropdwon!$A$4,I21>=Dropdwon!$A$3),Dropdwon!$B$3,Dropdwon!$B$4))","v":"00:00:00"},null,null,"00:00:00",{"$f":"IF(M21<Dropdwon!$A$3,Dropdwon!$B$2,IF(AND(M21<Dropdwon!$A$4,M21>=Dropdwon!$A$3),Dropdwon!$B$3,Dropdwon!$B$4))","v":"00:00:00"},"00:00:00",{"$f":"IF(AND(T21<>\"\",T21<>\"verpflichtende FoBi\",T21<>\"förderliche FoBi\"),Q21,IF(AND(T21=\"verpflichtende FoBi\",SUM(E21+I21+M21-O21)<=Dropdwon!$A$5),SUM(E21+I21+M21-O21),IF(AND(T21=\"förderliche FoBi\",SUM(E21+I21+M21-O21)<=Dropdwon!$A$5,SUM(E21+I21+M21-O21)<=Q21),SUM(E21+I21+M21-O21),IF(AND(T21=\"förderliche FoBi\",SUM(E21+I21+M21-O21)>Q21),Q21,IF(SUM(E21+I21+M21-O21)>Dropdwon!$A$5,Dropdwon!$C$5,SUM(E21+I21+M21-O21))))))","v":{"$error":"#VALUE!"}},{"$f":"IF(OR(U21=\"x\",A21<STAMMDATENBLATT!$B$32,A21>STAMMDATENBLATT!$D$32),\"0:00\",IF(MOD(B21,2)=0,VLOOKUP(WEEKDAY(A21,2),STAMMDATENBLATT!H$28:J$34,3,FALSE),VLOOKUP(WEEKDAY(A21,2),STAMMDATENBLATT!H$38:J$44,3,FALSE)))","v":{"$error":"#VALUE!"}},{"$error":"#VALUE!"},null,null,{"$f":"_xlfn.IFNA(VLOOKUP(A21,Feiertage!A:D,3,FALSE),\"\")","v":""},{"$f":"_xlfn.IFNA(VLOOKUP(A21,Feiertage!A:D,4,FALSE),\"\")","v":""}]
["2024-09-17",38,null,null,"00:00:00",{"$f":"IF(E22<Dropdwon!$A$3,Dropdwon!$B$2,IF(AND(E22<Dropdwon!$A$4,E22>=Dropdwon!$A$3),Dropdwon!$B$3,Dropdwon!$B$4))","v":"00:00:00"},null,null,"00:00:00",{"$f":"IF(I22<Dropdwon!$A$3,Dropdwon!$B$2,IF(AND(I22<Dropdwon!$A$4,I22>=Dropdwon!$A$3),Dropdwon!$B$3,Dropdwon!$B$4))","v":"00:00:00"},null,null,"00:00:00",{"$f":"IF(M22<Dropdwon!$A$3,Dropdwon!$B$2,IF(AND(M22<Dropdwon!$A$4,M22>=Dropdwon!$A$3),Dropdwon!$B$3,Dropdwon!$B$4))","v":"00:00:00"},"00:00:00",{"$f":"IF(AND(T22<>\"\",T22<>\"verpflichtende FoBi\",T22<>\"förderliche FoBi\"),Q22,IF(AND(T22=\"verpflichtende FoBi\",SUM(E22+I22+M22-O22)<=Dropdwon!$A$5),SUM(E22+I22+M22-O22),IF(AND(T22=\"förderliche FoBi\",SUM(E22+I22+M22-O22)<=Dropdwon!$A$5,SUM(E22+I22+M22-O22)<=Q22),SUM(E22+I22+M22-O22),IF(AND(T22=\"förderliche FoBi\",SUM(E22+I22+M22-O22)>Q22),Q22,IF(SUM(E22+I22+M22-O22)>Dropdwon!$A$5,Dropdwon!$C$5,SUM(E22+I22+M22-O22))))))","v":{"$error":"#VALUE!"}},{"$f":"IF(OR(U22=\"x\",A22<STAMMDATENBLATT!$B$32,A22>STAMMDATENBLATT!$D$32),\"0:00\",IF(MOD(B22,2)=0,VLOOKUP(WEEKDAY(A22,2),STAMMDATENBLATT!H$28:J$34,3,FALSE),VLOOKUP(WEEKDAY(A22,2),STAMMDATENBLATT!H$38:J$44,3,FALSE)))","v":{"$error":"#VALUE!"}},{"$error":"#VALUE!"},null,null,{"$f":"_xlfn.IFNA(VLOOKUP(A22,Feiertage!A:D,3,FALSE),\"\")","v":""},{"$f":"_xlfn.IFNA(VLOOKUP(A22,Feiertage!A:D,4,FALSE),\"\")","v":""}]
["2024-09-18",38,null,null,"00:00:00",{"$f":"IF(E23<Dropdwon!$A$3,Dropdwon!$B$2,IF(AND(E23<Dropdwon!$A$4,E23>=Dropdwon!$A$3),Dropdwon!$B$3,Dropdwon!$B$4))","v":"00:00:00"},null,null,"00:00:00",{"$f":"IF(I23<Dropdwon!$A$3,Dropdwon!$B$2,IF(AND(I23<Dropdwon!$A$4,I23>=Dropdwon!$A$3),Dropdwon!$B$3,Dropdwon!$B$4))","v":"00:00:00"},null,null,"00:00:00",{"$f":"IF(M23<Dropdwon!$A$3,Dropdwon!$B$2,IF(AND(M23<Dropdwon!$A$4,M23>=Dropdwon!$A$3),Dropdwon!$B$3,Dropdwon!$B$4))","v":"00:00:00"},"00:00:00",{"$f":"IF(AND(T23<>\"\",T23<>\"verpflichtende FoBi\",T23<>\"förderliche FoBi\"),Q23,IF(AND(T23=\"verpflichtende FoBi\",SUM(E23+I23+M23-O23)<=Dropdwon!$A$5),SUM(E23+I23+M23-O23),IF(AND(T23=\"förderliche FoBi\",SUM(E23+I23+M23-O23)<=Dropdwon!$A$5,SUM(E23+I23+M23-O23)<=Q23),SUM(E23+I23+M23-O23),IF(AND(T23=\"förderliche FoBi\",SUM(E23+I23+M23-O23)>Q23),Q23,IF(SUM(E23+I23+M23-O23)>Dropdwon!$A$5,Dropdwon!$C$5,SUM(E23+I23+M23-O23))))))","v":{"$error":"#VALUE!"}},{"$f":"IF(OR(U23=\"x\",A23<STAMMDATENBLATT!$B$32,A23>STAMMDATENBLATT!$D$32),\"0:00\",IF(MOD(B23,2)=0,VLOOKUP(WEEKDAY(A23,2),STAMMDATENBLATT!H$28:J$34,3,FALSE),VLOOKUP(WEEKDAY(A23,2),STAMMDATENBLATT!H$38:J$44,3,FALSE)))","v":{"$error":"#VALUE!"}},{"$error":"#VALUE!"},null,null,{"$f":"_xlfn.IFNA(VLOOKUP(A23,Feiertage!A:D,3,FALSE),\"\")","v":""},{"$f":"_xlfn.IFNA(VLOOKUP(A23,Feiertage!A:D,4,FALSE),\"\")","v":""}]
["2024-09-19",38,null,null,"00:00:00",{"$f":"IF(E24<Dropdwon!$A$3,Dropdwon!$B$2,IF(AND(E24<Dropdwon!$A$4,E24>=Dropdwon!$A$3),Dropdwon!$B$3,Dropdwon!$B$4))","v":"00:00:00"},null,null,"00:00:00",{"$f":"IF(I24<Dropdwon!$A$3,Dropdwon!$B$2,IF(AND(I24<Dropdwon!$A$4,I24>=Dropdwon!$A$3),Dropdwon!$B$3,Dropdwon!$B$4))","v":"00:00:00"},null,null,"00:00:00",{"$f":"IF(M24<Dropdwon!$A$3,Dropdwon!$B$2,IF(AND(M24<Dropdwon!$A$4,M24>=Dropdwon!$A$3),Dropdwon!$B$3,Dropdwon!$B$4))","v":"00:00:00"},"00:00:00",{"$f":"IF(AND(T24<>\"\",T24<>\"verpflichtende FoBi\",T24<>\"förderliche FoBi\"),Q24,IF(AND(T24=\"verpflichtende FoBi\",SUM(E24+I24+M24-O24)<=Dropdwon!$A$5),SUM(E24+I24+M24-O24),IF(AND(T24=\"förderliche FoBi\",SUM(E24+I24+M24-O24)<=Dropdwon!$A$5,SUM(E24+I24+M24-O24)<=Q24),SUM(E24+I24+M24-O24),IF(AND(T24=\"förderliche FoBi\",SUM(E24+I24+M24-O24)>Q24),Q24,IF(SUM(E24+I24+M24-O24)>Dropdwon!$A$5,Dropdwon!$C$5,SUM(E24+I24+M24-O24))))))","v":{"$error":"#VALUE!"}},{"$f":"IF(OR(U24=\"x\",A24<STAMMDATENBLATT!$B$32,A24>STAMMDATENBLATT!$D$32),\"0:00\",IF(MOD(B24,2)=0,VLOOKUP(WEEKDAY(A24,2),STAMMDATENBLATT!H$28:J$34,3,FALSE),VLOOKUP(WEEKDAY(A24,2),STAMMDATENBLATT!H$38:J$44,3,FALSE)))","v":{"$error":"#VALUE!"}},{"$error":"#VALUE!"},null,null,{"$f":"_xlfn.IFNA(VLOOKUP(A24,Feiertage!A:D,3,FALSE),\"\")","v":""},{"$f":"_xlfn.IFNA(VLOOKUP(A24,Feiertage!A:D,4,FALSE),\"\")","v":""}]
["2024-09-20",38,null,null,"00:00:00",{"$f":"IF(E25<Dropdwon!$A$3,Dropdwon!$B$2,IF(AND(E25<Dropdwon!$A$4,E25>=Dropdwon!$A$3),Dropdwon!$B$3,Dropdwon!$B$4))","v":"00:00:00"},null,null,"00:00:00",{"$f":"IF(I25<Dropdwon!$A$3,Dropdwon!$B$2,IF(AND(I25<Dropdwon!$A$4,I25>=Dropdwon!$A$3),Dropdwon!$B$3,Dropdwon!$B$4))","v":"00:00:00"},null,null,"00:00:00",{"$f":"IF(M25<Dropdwon!$A$3,Dropdwon!$B$2,IF(AND(M25<Dropdwon!$A$4,M25>=Dropdwon!$A$3),Dropdwon!$B$3,Dropdwon!$B$4))","v":"00:00:00"},"00:00:00",{"$f":"IF(AND(T25<>\"\",T25<>\"verpflichtende FoBi\",T25<>\"förderliche FoBi\"),Q25,IF(AND(T25=\"verpflichtende FoBi\",SUM(E25+I25+M25-O25)<=Dropdwon!$A$5),SUM(E25+I25+M25-O25),IF(AND(T25=\"förderliche FoBi\",SUM(E25+I25+M25-O25)<=Dropdwon!$A$5,SUM(E25+I25+M25-O25)<=Q25),SUM(E25+I25+M25-O25),IF(AND(T25=\"förderliche FoBi\",SUM(E25+I25+M25-O25)>Q25),Q25,IF(SUM(E25+I25+M25-O25)>Dropdwon!$A$5,Dropdwon!$C$5,SUM(E25+I25+M25-O25))))))","v":{"$error":"#VALUE!"}},{"$f":"IF(OR(U25=\"x\",A25<STAMMDATENBLATT!$B$32,A25>STAMMDATENBLATT!$D$32),\"0:00\",IF(MOD(B25,2)=0,VLOOKUP(WEEKDAY(A25,2),STAMMDATENBLATT!H$28:J$34,3,FALSE),VLOOKUP(WEEKDAY(A25,2),STAMMDATENBLATT!H$38:J$44,3,FALSE)))","v":{"$error":"#VALUE!"}},{"$error":"#VALUE!"},null,null,{"$f":"_xlfn.IFNA(VLOOKUP(A25,Feiertage!A:D,3,FALSE),\"\")","v":""},{"$f":"_xlfn.IFNA(VLOOKUP(A25,Feiertage!A:D,4,FALSE),\"\")","v":""}]
["2024-09-21",38,null,null,"00:00:00",{"$f":"IF(E26<Dropdwon!$A$3,Dropdwon!$B$2,IF(AND(E26<Dropdwon!$A$4,E26>=Dropdwon!$A$3),Dropdwon!$B$3,Dropdwon!$B$4))","v":"00:00:00"},null,null,"00:00:00",{"$f":"IF(I26<Dropdwon!$A$3,Dropdwon!$B$2,IF(AND(I26<Dropdwon!$A$4,I26>=Dropdwon!$A$3),Dropdwon!$B$3,Dropdwon!$B$4))","v":"00:00:00"},null,null,"00:00:00",{"$f":"IF(M26<Dropdwon!$A$3,Dropdwon!$B$2,IF(AND(M26<Dropdwon!$A$4,M26>=Dropdwon!$A$3),Dropdwon!$B$3,Dropdwon!$B$4))","v":"00:00:00"},"00:00:00",{"$f":"IF(AND(T26<>\"\",T26<>\"verpflichtende FoBi\",T26<>\"förderliche FoBi\"),Q26,IF(AND(T26=\"verpflichtende FoBi\",SUM(E26+I26+M26-O26)<=Dropdwon!$A$5),SUM(E26+I26+M26-O26),IF(AND(T26=\"förderliche FoBi\",SUM(E26+I26+M26-O26)<=Dropdwon!$A$5,SUM(E26+I26+M26-O26)<=Q26),SUM(E26+I26+M26-O26),IF(AND(T26=\"förderliche FoBi\",SUM(E26+I26+M26-O26)>Q26),Q26,IF(SUM(E26+I26+M26-O26)>Dropdwon!$A$5,Dropdwon!$C$5,SUM(E26+I26+M26-O26))))))","v":"00:00:00"},{"$f":"IF(OR(U26=\"x\",A26<STAMMDATENBLATT!$B$32,A26>STAMMDATENBLATT!$D$32),\"0:00\",IF(MOD(B26,2)=0,VLOOKUP(WEEKDAY(A26,2),STAMMDATENBLATT!H$28:J$34,3,FALSE),VLOOKUP(WEEKDAY(A26,2),STAMMDATENBLATT!H$38:J$44,3,FALSE)))","v":"00:00:00"},"00:00:00",null,null,{"$f":"_xlfn.IFNA(VLOOKUP(A26,Feiertage!A:D,3,FALSE),\"\")","v":""},{"$f":"_xlfn.IFNA(VLOOKUP(A26,Feiertage!A:D,4,FALSE),\"\")","v":""}]
["2024-09-22",38,null,null,"00:00:00",{"$f":"IF(E27<Dropdwon!$A$3,Dropdwon!$B$2,IF(AND(E27<Dropdwon!$A$4,E27>=Dropdwon!$A$3),Dropdwon!$B$3,Dropdwon!$B$4))","v":"00:00:00"},null,null,"00:00:00",{"$f":"IF(I27<Dropdwon!$A$3,Dropdwon!$B$2,IF(AND(I27<Dropdwon!$A$4,I27>=Dropdwon!$A$3),Dropdwon!$B$3,Dropdwon!$B$4))","v":"00:00:00"},null,null,"00:00:00",{"$f":"IF(M27<Dropdwon!$A$3,Dropdwon!$B$2,IF(AND(M27<Dropdwon!$A$4,M27>=Dropdwon!$A$3),Dropdwon!$B$3,Dropdwon!$B$4))","v":"00:00:00"},"00:00:00",{"$f":"IF(AND(T27<>\"\",T27<>\"verpflichtende FoBi\",T27<>\"förderliche FoBi\"),Q27,IF(AND(T27=\"verpflichtende FoBi\",SUM(E27+I27+M27-O27)<=Dropdwon!$A$5),SUM(E27+I27+M27-O27),IF(AND(T27=\"förderliche FoBi\",SUM(E27+I27+M27-O27)<=Dropdwon!$A$5,SUM(E27+I27+M27-O27)<=Q27),SUM(E27+I27+M27-O27),IF(AND(T27=\"förderliche FoBi\",SUM(E27+I27+M27-O27)>Q27),Q27,IF(SUM(E27+I27+M27-O27)>Dropdwon!$A$5,Dropdwon!$C$5,SUM(E27+I27+M27-O27))))))","v":"00:00:00"},{"$f":"IF(OR(U27=\"x\",A27<STAMMDATENBLATT!$B$32,A27>STAMMDATENBLATT!$D$32),\"0:00\",IF(MOD(B27,2)=0,VLOOKUP(WEEKDAY(A27,2),STAMMDATENBLATT!H$28:J$34,3,FALSE),VLOOKUP(WEEKDAY(A27,2),STAMMDATENBLATT!H$38:J$44,3,FALSE)))","v":"00:00:00"},"00:00:00",null,null,{"$f":"_xlfn.IFNA(VLOOKUP(A27,Feiertage!A:D,3,FALSE),\"\")","v":""},{"$f":"_xlfn.IFNA(VLOOKUP(A27,Feiertage!A:D,4,FALSE),\"\")","v":""}]
["2024-09-23",39,null,null,"00:00:00",{"$f":"IF(E28<Dropdwon!$A$3,Dropdwon!$B$2,IF(AND(E28<Dropdwon!$A$4,E28>=Dropdwon!$A$3),Dropdwon!$B$3,Dropdwon!$B$4))","v":"00:00:00"},null,null,"00:00:00",{"$f":"IF(I28<Dropdwon!$A$3,Dropdwon!$B$2,IF(AND(I28<Dropdwon!$A$4,I28>=Dropdwon!$A$3),Dropdwon!$B$3,Dropdwon!$B$4))","v":"00:00:00"},null,null,"00:00:00",{"$f":"IF(M28<Dropdwon!$A$3,Dropdwon!$B$2,IF(AND(M28<Dropdwon!$A$4,M28>=Dropdwon!$A$3),Dropdwon!$B$3,Dropdwon!$B$4))","v":"00:00:00"},"00:00:00",{"$f":"IF(AND(T28<>\"\",T28<>\"verpflichtende FoBi\",T28<>\"förderliche FoBi\"),Q28,IF(AND(T28=\"verpflichtende FoBi\",SUM(E28+I28+M28-O28)<=Dropdwon!$A$5),SUM(E28+I28+M28-O28),IF(AND(T28=\"förderliche FoBi\",SUM(E28+I28+M28-O28)<=Dropdwon!$A$5,SUM(E28+I28+M28-O28)<=Q28),SUM(E28+I28+M28-O28),IF(AND(T28=\"förderliche FoBi\",SUM(E28+I28+M28-O28)>Q28),Q28,IF(SUM(E28+I28+M28-O28)>Dropdwon!$A$5,Dropdwon!$C$5,SUM(E28+I28+M28-O28))))))","v":{"$error":"#VALUE!"}},{"$f":"IF(OR(U28=\"x\",A28<STAMMDATENBLATT!$B$32,A28>STAMMDATENBLATT!$D$32),\"0:00\",IF(MOD(B28,2)=0,VLOOKUP(WEEKDAY(A28,2),STAMMDATENBLATT!H$28:J$34,3,FALSE),VLOOKUP(WEEKDAY(A28,2),STAMMDATENBLATT!H$38:J$44,3,FALSE)))","v":{"$error":"#VALUE!"}},{"$error":"#VALUE!"},null,null,{"$f":"_xlfn.IFNA(VLOOKUP(A28,Feiertage!A:D,3,FALSE),\"\")","v":""},{"$f":"_xlfn.IFNA(VLOOKUP(A28,Feiertage!A:D,4,FALSE),\"\")","v":""}]
["2024-09-24",39,null,null,"00:00:00",{"$f":"IF(E29<Dropdwon!$A$3,Dropdwon!$B$2,IF(AND(E29<Dropdwon!$A$4,E29>=Dropdwon!$A$3),Dropdwon!$B$3,Dropdwon!$B$4))","v":"00:00:00"},null,null,"00:00:00",{"$f":"IF(I29<Dropdwon!$A$3,Dropdwon!$B$2,IF(AND(I29<Dropdwon!$A$4,I29>=Dropdwon!$A$3),Dropdwon!$B$3,Dropdwon!$B$4))","v":"00:00:00"},null,null,"00:00:00",{"$f":"IF(M29<Dropdwon!$A$3,Dropdwon!$B$2,IF(AND(M29<Dropdwon!$A$4,M29>=Dropdwon!$A$3),Dropdwon!$B$3,Dropdwon!$B$4))","v":"00:00:00"},"00:00:00",{"$f":"IF(AND(T29<>\"\",T29<>\"verpflichtende FoBi\",T29<>\"förderliche FoBi\"),Q29,IF(AND(T29=\"verpflichtende FoBi\",SUM(E29+I29+M29-O29)<=Dropdwon!$A$5),SUM(E29+I29+M29-O29),IF(AND(T29=\"förderliche FoBi\",SUM(E29+I29+M29-O29)<=Dropdwon!$A$5,SUM(E29+I29+M29-O29)<=Q29),SUM(E29+I29+M29-O29),IF(AND(T29=\"förderliche FoBi\",SUM(E29+I29+M29-O29)>Q29),Q29,IF(SUM(E29+I29+M29-O29)>Dropdwon!$A$5,Dropdwon!$C$5,SUM(E29+I29+M29-O29))))))","v":{"$error":"#VALUE!"}},{"$f":"IF(OR(U29=\"x\",A29<STAMMDATENBLATT!$B$32,A29>STAMMDATENBLATT!$D$32),\"0:00\",IF(MOD(B29,2)=0,VLOOKUP(WEEKDAY(A29,2),STAMMDATENBLATT!H$28:J$34,3,FALSE),VLOOKUP(WEEKDAY(A29,2),STAMMDATENBLATT!H$38:J$44,3,FALSE)))","v":{"$error":"#VALUE!"}},{"$error":"#VALUE!"},null,null,{"$f":"_xlfn.IFNA(VLOOKUP(A29,Feiertage!A:D,3,FALSE),\"\")","v":""},{"$f":"_xlfn.IFNA(VLOOKUP(A29,Feiertage!A:D,4,FALSE),\"\")","v":""}]
["2024-09-25",39,null,null,"00:00:00",{"$f":"IF(E30<Dropdwon!$A$3,Dropdwon!$B$2,IF(AND(E30<Dropdwon!$A$4,E30>=Dropdwon!$A$3),Dropdwon!$B$3,Dropdwon!$B$4))","v":"00:00:00"},null,null,"00:00:00",{"$f":"IF(I30<Dropdwon!$A$3,Dropdwon!$B$2,IF(AND(I30<Dropdwon!$A$4,I30>=Dropdwon!$A$3),Dropdwon!$B$3,Dropdwon!$B$4))","v":"00:00:00"},null,null,"00:00:00",{"$f":"IF(M30<Dropdwon!$A$3,Dropdwon!$B$2,IF(AND(M30<Dropdwon!$A$4,M30>=Dropdwon!$A$3),Dropdwon!$B$3,Dropdwon!$B$4))","v":"00:00:00"},"00:00:00",{"$f":"IF(AND(T30<>\"\",T30<>\"verpflichtende FoBi\",T30<>\"förderliche FoBi\"),Q30,IF(AND(T30=\"verpflichtende FoBi\",SUM(E30+I30+M30-O30)<=Dropdwon!$A$5),SUM(E30+I30+M30-O30),IF(AND(T30=\"förderliche FoBi\",SUM(E30+I30+M30-O30)<=Dropdwon!$A$5,SUM(E30+I30+M30-O30)<=Q30),SUM(E30+I30+M30-O30),IF(AND(T30=\"förderliche FoBi\",SUM(E30+I30+M30-O30)>Q30),Q30,IF(SUM(E30+I30+M30-O30)>Dropdwon!$A$5,Dropdwon!$C$5,SUM(E30+I30+M30-O30))))))","v":{"$error":"#VALUE!"}},{"$f":"IF(OR(U30=\"x\",A30<STAMMDATENBLATT!$B$32,A30>STAMMDATENBLATT!$D$32),\"0:00\",IF(MOD(B30,2)=0,VLOOKUP(WEEKDAY(A30,2),STAMMDATENBLATT!H$28:J$34,3,FALSE),VLOOKUP(WEEKDAY(A30,2),STAMMDATENBLATT!H$38:J$44,3,FALSE)))","v":{"$error":"#VALUE!"}},{"$error":"#VALUE!"},null,null,{"$f":"_xlfn.IFNA(VLOOKUP(A30,Feiertage!A:D,3,FALSE),\"\")","v":""},{"$f":"_xlfn.IFNA(VLOOKUP(A30,Feiertage!A:D,4,FALSE),\"\")","v":""}]
["2024-09-26",39,null,null,"00:00:00",{"$f":"IF(E31<Dropdwon!$A$3,Dropdwon!$B$2,IF(AND(E31<Dropdwon!$A$4,E31>=Dropdwon!$A$3),Dropdwon!$B$3,Dropdwon!$B$4))","v":"00:00:00"},null,null,"00:00:00",{"$f":"IF(I31<Dropdwon!$A$3,Dropdwon!$B$2,IF(AND(I31<Dropdwon!$A$4,I31>=Dropdwon!$A$3),Dropdwon!$B$3,Dropdwon!$B$4))","v":"00:00:00"},null,null,"00:00:00",{"$f":"IF(M31<Dropdwon!$A$3,Dropdwon!$B$2,IF(AND(M31<Dropdwon!$A$4,M31>=Dropdwon!$A$3),Dropdwon!$B$3,Dropdwon!$B$4))","v":"00:00:00"},"00:00:00",{"$f":"IF(AND(T31<>\"\",T31<>\"verpflichtende FoBi\",T31<>\"förderliche FoBi\"),Q31,IF(AND(T31=\"verpflichtende FoBi\",SUM(E31+I31+M31-O31)<=Dropdwon!$A$5),SUM(E31+I31+M31-O31),IF(AND(T31=\"förderliche FoBi\",SUM(E31+I31+M31-O31)<=Dropdwon!$A$5,SUM(E31+I31+M31-O31)<=Q31),SUM(E31+I31+M31-O31),IF(AND(T31=\"förderliche FoBi\",SUM(E31+I31+M31-O31)>Q31),Q31,IF(SUM(E31+I31+M31-O31)>Dropdwon!$A$5,Dropdwon!$C$5,SUM(E31+I31+M31-O31))))))","v":{"$error":"#VALUE!"}},{"$f":"IF(OR(U31=\"x\",A31<STAMMDATENBLATT!$B$32,A31>STAMMDATENBLATT!$D$32),\"0:00\",IF(MOD(B31,2)=0,VLOOKUP(WEEKDAY(A31,2),STAMMDATENBLATT!H$28:J$34,3,FALSE),VLOOKUP(WEEKDAY(A31,2),STAMMDATENBLATT!H$38:J$44,3,FALSE)))","v":{"$error":"#VALUE!"}},{"$error":"#VALUE!"},null,null,{"$f":"_xlfn.IFNA(VLOOKUP(A31,Feiertage!A:D,3,FALSE),\"\")","v":""},{"$f":"_xlfn.IFNA(VLOOKUP(A31,Feiertage!A:D,4,FALSE),\"\")","v":""}]
["2024-09-27",39,null,null,"00:00:00",{"$f":"IF(E32<Dropdwon!$A$3,Dropdwon!$B$2,IF(AND(E32<Dropdwon!$A$4,E32>=Dropdwon!$A$3),Dropdwon!$B$3,Dropdwon!$B$4))","v":"00:00:00"},null,null,"00:00:00",{"$f":"IF(I32<Dropdwon!$A$3,Dropdwon!$B$2,IF(AND(I32<Dropdwon!$A$4,I32>=Dropdwon!$A$3),Dropdwon!$B$3,Dropdwon!$B$4))","v":"00:00:00"},null,null,"00:00:00",{"$f":"IF(M32<Dropdwon!$A$3,Dropdwon!$B$2,IF(AND(M32<Dropdwon!$A$4,M32>=Dropdwon!$A$3),Dropdwon!$B$3,Dropdwon!$B$4))","v":"00:00:00"},"00:00:00",{"$f":"IF(AND(T32<>\"\",T32<>\"verpflichtende FoBi\",T32<>\"förderliche FoBi\"),Q32,IF(AND(T32=\"verpflichtende FoBi\",SUM(E32+I32+M32-O32)<=Dropdwon!$A$5),SUM(E32+I32+M32-O32),IF(AND(T32=\"förderliche FoBi\",SUM(E32+I32+M32-O32)<=Dropdwon!$A$5,SUM(E32+I32+M32-O32)<=Q32),SUM(E32+I32+M32-O32),IF(AND(T32=\"förderliche FoBi\",SUM(E32+I32+M32-O32)>Q32),Q32,IF(SUM(E32+I32+M32-O32)>Dropdwon!$A$5,Dropdwon!$C$5,SUM(E32+I32+M32-O32))))))","v":{"$error":"#VALUE!"}},{"$f":"IF(OR(U32=\"x\",A32<STAMMDATENBLATT!$B$32,A32>STAMMDATENBLATT!$D$32),\"0:00\",IF(MOD(B32,2)=0,VLOOKUP(WEEKDAY(A32,2),STAMMDATENBLATT!H$28:J$34,3,FALSE),VLOOKUP(WEEKDAY(A32,2),STAMMDATENBLATT!H$38:J$44,3,FALSE)))","v":{"$error":"#VALUE!"}},{"$error":"#VALUE!"},null,null,{"$f":"_xlfn.IFNA(VLOOKUP(A32,Feiertage!A:D,3,FALSE),\"\")","v":""},{"$f":"_xlfn.IFNA(VLOOKUP(A32,Feiertage!A:D,4,FALSE),\"\")","v":""}]
["2024-09-28",39,null,null,"00:00:00",{"$f":"IF(E33<Dropdwon!$A$3,Dropdwon!$B$2,IF(AND(E33<Dropdwon!$A$4,E33>=Dropdwon!$A$3),Dropdwon!$B$3,Dropdwon!$B$4))","v":"00:00:00"},null,null,"00:00:00",{"$f":"IF(I33<Dropdwon!$A$3,Dropdwon!$B$2,IF(AND(I33<Dropdwon!$A$4,I33>=Dropdwon!$A$3),Dropdwon!$B$3,Dropdwon!$B$4))","v":"00:00:00"},null,null,"00:00:00",{"$f":"IF(M33<Dropdwon!$A$3,Dropdwon!$B$2,IF(AND(M33<Dropdwon!$A$4,M33>=Dropdwon!$A$3),Dropdwon!$B$3,Dropdwon!$B$4))","v":"00:00:00"},"00:00:00",{"$f":"IF(AND(T33<>\"\",T33<>\"verpflichtende FoBi\",T33<>\"förderliche FoBi\"),Q33,IF(AND(T33=\"verpflichtende FoBi\",SUM(E33+I33+M33-O33)<=Dropdwon!$A$5),SUM(E33+I33+M33-O33),IF(AND(T33=\"förderliche FoBi\",SUM(E33+I33+M33-O33)<=Dropdwon!$A$5,SUM(E33+I33+M33-O33)<=Q33),SUM(E33+I33+M33-O33),IF(AND(T33=\"förderliche FoBi\",SUM(E33+I33+M33-O33)>Q33),Q33,IF(SUM(E33+I33+M33-O33)>Dropdwon!$A$5,Dropdwon!$C$5,SUM(E33+I33+M33-O33))))))","v":"00:00:00"},{"$f":"IF(OR(U33=\"x\",A33<STAMMDATENBLATT!$B$32,A33>STAMMDATENBLATT!$D$32),\"0:00\",IF(MOD(B33,2)=0,VLOOKUP(WEEKDAY(A33,2),STAMMDATENBLATT!H$28:J$34,3,FALSE),VLOOKUP(WEEKDAY(A33,2),STAMMDATENBLATT!H$38:J$44,3,FALSE)))","v":"00:00:00"},"00:00:00",null,null,{"$f":"_xlfn.IFNA(VLOOKUP(A33,Feiertage!A:D,3,FALSE),\"\")","v":""},{"$f":"_xlfn.IFNA(VLOOKUP(A33,Feiertage!A:D,4,FALSE),\"\")","v":""}]
["2024-09-29",39,null,null,"00:00:00",{"$f":"IF(E34<Dropdwon!$A$3,Dropdwon!$B$2,IF(AND(E34<Dropdwon!$A$4,E34>=Dropdwon!$A$3),Dropdwon!$B$3,Dropdwon!$B$4))","v":"00:00:00"},null,null,"00:00:00",{"$f":"IF(I34<Dropdwon!$A$3,Dropdwon!$B$2,IF(AND(I34<Dropdwon!$A$4,I34>=Dropdwon!$A$3),Dropdwon!$B$3,Dropdwon!$B$4))","v":"00:00:00"},null,null,"00:00:00",{"$f":"IF(M34<Dropdwon!$A$3,Dropdwon!$B$2,IF(AND(M34<Dropdwon!$A$4,M34>=Dropdwon!$A$3),Dropdwon!$B$3,Dropdwon!$B$4))","v":"00:00:00"},"00:00:00",{"$f":"IF(AND(T34<>\"\",T34<>\"verpflichtende FoBi\",T34<>\"förderliche FoBi\"),Q34,IF(AND(T34=\"verpflichtende FoBi\",SUM(E34+I34+M34-O34)<=Dropdwon!$A$5),SUM(E34+I34+M34-O34),IF(AND(T34=\"förderliche FoBi\",SUM(E34+I34+M34-O34)<=Dropdwon!$A$5,SUM(E34+I34+M34-O34)<=Q34),SUM(E34+I34+M34-O34),IF(AND(T34=\"förderliche FoBi\",SUM(E34+I34+M34-O34)>Q34),Q34,IF(SUM(E34+I34+M34-O34)>Dropdwon!$A$5,Dropdwon!$C$5,SUM(E34+I34+M34-O34))))))","v":"00:00:00"},{"$f":"IF(OR(U34=\"x\",A34<STAMMDATENBLATT!$B$32,A34>STAMMDATENBLATT!$D$32),\"0:00\",IF(MOD(B34,2)=0,VLOOKUP(WEEKDAY(A34,2),STAMMDATENBLATT!H$28:J$34,3,FALSE),VLOOKUP(WEEKDAY(A34,2),STAMMDATENBLATT!H$38:J$44,3,FALSE)))","v":"00:00:00"},"00:00:00",null,null,{"$f":"_xlfn.IFNA(VLOOKUP(A34,Feiertage!A:D,3,FALSE),\"\")","v":""},{"$f":"_xlfn.IFNA(VLOOKUP(A34,Feiertage!A:D,4,FALSE),\"\")","v":""}]
["2024-09-30",40,null,null,"00:00:00",{"$f":"IF(E35<Dropdwon!$A$3,Dropdwon!$B$2,IF(AND(E35<Dropdwon!$A$4,E35>=Dropdwon!$A$3),Dropdwon!$B$3,Dropdwon!$B$4))","v":"00:00:00"},null,null,"00:00:00",{"$f":"IF(I35<Dropdwon!$A$3,Dropdwon!$B$2,IF(AND(I35<Dropdwon!$A$4,I35>=Dropdwon!$A$3),Dropdwon!$B$3,Dropdwon!$B$4))","v":"00:00:00"},null,null,{"$f":"IF(AND(WEEKDAY($A35,2)=6,HOUR(K35)>=13),SUM((L35-K35)*1.2),IF(WEEKDAY($A35,2)=7,SUM((L35-K35)*1.25),IF(AND($U35=\"x\",$V35<>\"Gründonnerstag\"),SUM((L35-K35)*1.25),L35-K35)))","v":"00:00:00"},{"$f":"IF(M35<Dropdwon!$A$3,Dropdwon!$B$2,IF(AND(M35<Dropdwon!$A$4,M35>=Dropdwon!$A$3),Dropdwon!$B$3,Dropdwon!$B$4))","v":"00:00:00"},"00:00:00",{"$f":"IF(AND(T35<>\"\",T35<>\"verpflichtende FoBi\",T35<>\"förderliche FoBi\"),Q35,IF(AND(T35=\"verpflichtende FoBi\",SUM(E35+I35+M35-O35)<=Dropdwon!$A$5),SUM(E35+I35+M35-O35),IF(AND(T35=\"förderliche FoBi\",SUM(E35+I35+M35-O35)<=Dropdwon!$A$5,SUM(E35+I35+M35-O35)<=Q35),SUM(E35+I35+M35-O35),IF(AND(T35=\"förderliche FoBi\",SUM(E35+I35+M35-O35)>Q35),Q35,IF(SUM(E35+I35+M35-O35)>Dropdwon!$A$5,Dropdwon!$C$5,SUM(E35+I35+M35-O35))))))","v":{"$error":"#VALUE!"}},{"$f":"IF(OR(U35=\"x\",A35<STAMMDATENBLATT!$B$32,A35>STAMMDATENBLATT!$D$32),\"0:00\",IF(MOD(B35,2)=0,VLOOKUP(WEEKDAY(A35,2),STAMMDATENBLATT!H$28:J$34,3,FALSE),VLOOKUP(WEEKDAY(A35,2),STAMMDATENBLATT!H$38:J$44,3,FALSE)))","v":{"$error":"#VALUE!"}},{"$error":"#VALUE!"},null,null,{"$f":"_xlfn.IFNA(VLOOKUP(A35,Feiertage!A:D,3,FALSE),\"\")","v":""},{"$f":"_xlfn.IFNA(VLOOKUP(A35,Feiertage!A:D,4,FALSE),\"\")","v":""}]
[]
[]
["Abschluss Std.konto:",null,{"$f":"SUM(R$1+SUM(R$6:R$36)-R$38)","v":{"$error":"#VALUE!"}},{"$nulls":3},"Auszahlung Mehrarbeit in Std./Minuten:",{"$nulls":10},{"$f":"SUMIF($S$6:$S$36,\"ja\",$R$6:$R$36)","v":0}]
["Abschluss Std. in Dezimal:",null,{"$f":"C38*24","v":{"$error":"#VALUE!"}},{"$nulls":4},"Auszahlung Mehrarbeit in Dezimal:",{"$nulls":9},{"$f":"R38*24","v":{"v":0,"d":"0.00"}}]
[{"$nulls":17},"zur Auszahlung angewiesen:"]
[]
[]
[]
["Ort, Datum / Unterschrift Mitarbeiter/in",{"$nulls":5},"Ort, Datum / Unterschrift Vorgesetzte/r",{"$nulls":10},"Ort, Datum / Unterschrift KGF",{"$nulls":4},{"$f":"STAMMDATENBLATT!$A$22","v":"Version: 01.2024.5"}]

{"sheet":"Oktober","index":11,"n_rows":44,"n_cols":23,"rows_kept":44,"merged":[[0,2,0,7],[1,0,1,7],[2,0,2,7],[37,0,37,1],[37,6,37,16],[38,0,38,1],[38,7,38,16],[40,0,42,2],[40,6,42,13],[40,17,42,20]]}
[{"$f":"DATEVALUE(\"01.10.\"&STAMMDATENBLATT!$D$27)","v":"2024-10-01"},null,{"$f":"STAMMDATENBLATT!B27","v":"Vorname Nachname"},{"$nulls":7},{"$f":"STAMMDATENBLATT!$B$30","v":{"v":0,"d":"0.00%"}},{"$f":"IF(STAMMDATENBLATT!$B$29=\"\",\"\",STAMMDATENBLATT!$B$29)","v":""},{"$nulls":5},{"$f":"IF(STAMMDATENBLATT!E12<=STAMMDATENBLATT!$D$35,STAMMDATENBLATT!E12,STAMMDATENBLATT!$D$35)","v":{"$error":"#VALUE!"}}]
[{"$f":"STAMMDATENBLATT!B26","v":0}]
[{"$f":"STAMMDATENBLATT!A26","v":{"$error":"#N/A"}}]
[]
[null,"KW","Beginn 1","Ende 1","IST AZ 1","IST MP 1","Beginn 2","Ende 2","IST AZ 2","IST MP 2","Beginn 3","Ende 3","IST AZ 3","IST MP 3","MP gesamt","IST AZ","SOLL AZ","Differenz","Auszahlung","Abwesenheit","Feiertag","Feiertag","Notiz"]
[{"$f":"A1","v":"2024-10-01"},{"$f":"WEEKNUM(A6,21)","v":40},null,null,{"$f":"IF(AND(WEEKDAY($A6,2)=6,HOUR(C6)>=13),SUM((D6-C6)*1.2),IF(WEEKDAY($A6,2)=7,SUM((D6-C6)*1.25),IF(AND($U6=\"x\",$V6<>\"Gründonnerstag\"),SUM((D6-C6)*1.25),D6-C6)))","v":"00:00:00"},{"$f":"IF(E6<Dropdwon!$A$3,Dropdwon!$B$2,IF(AND(E6<Dropdwon!$A$4,E6>=Dropdwon!$A$3),Dropdwon!$B$3,Dropdwon!$B$4))","v":"00:00:00"},null,null,{"$f":"IF(AND(WEEKDAY($A6,2)=6,HOUR(G6)>=13),SUM((H6-G6)*1.2),IF(WEEKDAY($A6,2)=7,SUM((H6-G6)*1.25),IF(AND($U6=\"x\",$V6<>\"Gründonnerstag\"),SUM((H6-G6)*1.25),H6-G6)))","v":"00:00:00"},{"$f":"IF(I6<Dropdwon!$A$3,Dropdwon!$B$2,IF(AND(I6<Dropdwon!$A$4,I6>=Dropdwon!$A$3),Dropdwon!$B$3,Dropdwon!$B$4))","v":"00:00:00"},null,null,{"$f":"IF(AND(WEEKDAY($A6,2)=6,HOUR(K6)>=13),SUM((L6-K6)*1.2),IF(WEEKDAY($A6,2)=7,SUM((L6-K6)*1.25),IF(AND($U6=\"x\",$V6<>\"Gründonnerstag\"),SUM((L6-K6)*1.25),L6-K6)))","v":"00:00:00"},{"$f":"IF(M6<Dropdwon!$A$3,Dropdwon!$B$2,IF(AND(M6<Dropdwon!$A$4,M6>=Dropdwon!$A$3),Dropdwon!$B$3,Dropdwon!$B$4))","v":"00:00:00"},{"$f":"F6+J6+N6","v":"00:00:00"},{"$f":"IF(AND(T6<>\"\",T6<>\"verpflichtende FoBi\",T6<>\"förderliche FoBi\"),Q6,IF(AND(T6=\"verpflichtende FoBi\",SUM(E6+I6+M6-O6)<=Dropdwon!$A$5),SUM(E6+I6+M6-O6),IF(AND(T6=\"förderliche FoBi\",SUM(E6+I6+M6-O6)<=Dropdwon!$A$5,SUM(E6+I6+M6-O6)<=Q6),SUM(E6+I6+M6-O6),IF(AND(T6=\"förderliche FoBi\",SUM(E6+I6+M6-O6)>Q6),Q6,IF(SUM(E6+I6+M6-O6)>Dropdwon!$A$5,Dropdwon!$C$5,SUM(E6+I6+M6-O6))))))","v":{"$error":"#VALUE!"}},{"$f":"IF(OR(U6=\"x\",A6<STAMMDATENBLATT!$B$32,A6>STAMMDATENBLATT!$D$32),\"0:00\",IF(MOD(B6,2)=0,VLOOKUP(WEEKDAY(A6,2),STAMMDATENBLATT!H$28:J$34,3,FALSE),VLOOKUP(WEEKDAY(A6,2),STAMMDATENBLATT!H$38:J$44,3,FALSE)))","v":{"$error":"#VALUE!"}},{"$f":"SUM(P6-Q6)","v":{"$error":"#VALUE!"}},null,null,{"$f":"_xlfn.IFNA(VLOOKUP(A6,Feiertage!A:D,3,FALSE),\"\")","v":""},{"$f":"_xlfn.IFNA(VLOOKUP(A6,Feiertage!A:D,4,FALSE),\"\")","v":""}]
[{"$f":"A6+1","v":"2024-10-02"},{"$f":"WEEKNUM(A7,21)","v":40},null,null,{"$f":"IF(AND(WEEKDAY($A7,2)=6,HOUR(C7)>=13),SUM((D7-C7)*1.2),IF(WEEKDAY($A7,2)=7,SUM((D7-C7)*1.25),IF(AND($U7=\"x\",$V7<>\"Gründonnerstag\"),SUM((D7-C7)*1.25),D7-C7)))","v":"00:00:00"},{"$f":"IF(E7<Dropdwon!$A$3,Dropdwon!$B$2,IF(AND(E7<Dropdwon!$A$4,E7>=Dropdwon!$A$3),Dropdwon!$B$3,Dropdwon!$B$4))","v":"00:00:00"},null,null,{"$f":"IF(AND(WEEKDAY($A7,2)=6,HOUR(G7)>=13),SUM((H7-G7)*1.2),IF(WEEKDAY($A7,2)=7,SUM((H7-G7)*1.25),IF(AND($U7=\"x\",$V7<>\"Gründonnerstag\"),SUM((H7-G7)*1.25),H7-G7)))","v":"00:00:00"},{"$f":"IF(I7<Dropdwon!$A$3,Dropdwon!$B$2,IF(AND(I7<Dropdwon!$A$4,I7>=Dropdwon!$A$3),Dropdwon!$B$3,Dropdwon!$B$4))","v":"00:00:00"},null,null,{"$f":"IF(AND(WEEKDAY($A7,2)=6,HOUR(K7)>=13),SUM((L7-K7)*1.2),IF(WEEKDAY($A7,2)=7,SUM((L7-K7)*1.25),IF(AND($U7=\"x\",$V7<>\"Gründonnerstag\"),SUM((L7-K7)*1.25),L7-K7)))","v":"00:00:00"},{"$f":"IF(M7<Dropdwon!$A$3,Dropdwon!$B$2,IF(AND(M7<Dropdwon!$A$4,M7>=Dropdwon!$A$3),Dropdwon!$B$3,Dropdwon!$B$4))","v":"00:00:00"},{"$f":"F7+J7+N7","v":"00:00:00"},{"$f":"IF(AND(T7<>\"\",T7<>\"verpflichtende FoBi\",T7<>\"förderliche FoBi\"),Q7,IF(AND(T7=\"verpflichtende FoBi\",SUM(E7+I7+M7-O7)<=Dropdwon!$A$5),SUM(E7+I7+M7-O7),IF(AND(T7=\"förderliche FoBi\",SUM(E7+I7+M7-O7)<=Dropdwon!$A$5,SUM(E7+I7+M7-O7)<=Q7),SUM(E7+I7+M7-O7),IF(AND(T7=\"förderliche FoBi\",SUM(E7+I7+M7-O7)>Q7),Q7,IF(SUM(E7+I7+M7-O7)>Dropdwon!$A$5,Dropdwon!$C$5,SUM(E7+I7+M7-O7))))))","v":{"$error":"#VALUE!"}},{"$f":"IF(OR(U7=\"x\",A7<STAMMDATENBLATT!$B$32,A7>STAMMDATENBLATT!$D$32),\"0:00\",IF(MOD(B7,2)=0,VLOOKUP(WEEKDAY(A7,2),STAMMDATENBLATT!H$28:J$34,3,FALSE),VLOOKUP(WEEKDAY(A7,2),STAMMDATENBLATT!H$38:J$44,3,FALSE)))","v":{"$error":"#VALUE!"}},{"$error":"#VALUE!"},null,null,{"$f":"_xlfn.IFNA(VLOOKUP(A7,Feiertage!A:D,3,FALSE),\"\")","v":""},{"$f":"_xlfn.IFNA(VLOOKUP(A7,Feiertage!A:D,4,FALSE),\"\")","v":""}]
[{"$f":"A7+1","v":"2024-10-03"},40,null,null,"00:00:00",{"$f":"IF(E8<Dropdwon!$A$3,Dropdwon!$B$2,IF(AND(E8<Dropdwon!$A$4,E8>=Dropdwon!$A$3),Dropdwon!$B$3,Dropdwon!$B$4))","v":"00:00:00"},null,null,"00:00:00",{"$f":"IF(I8<Dropdwon!$A$3,Dropdwon!$B$2,IF(AND(I8<Dropdwon!$A$4,I8>=Dropdwon!$A$3),Dropdwon!$B$3,Dropdwon!$B$4))","v":"00:00:00"},null,null,"00:00:00",{"$f":"IF(M8<Dropdwon!$A$3,Dropdwon!$B$2,IF(AND(M8<Dropdwon!$A$4,M8>=Dropdwon!$A$3),Dropdwon!$B$3,Dropdwon!$B$4))","v":"00:00:00"},{"$f":"F8+J8+N8","v":"00:00:00"},{"$f":"IF(AND(T8<>\"\",T8<>\"verpflichtende FoBi\",T8<>\"förderliche FoBi\"),Q8,IF(AND(T8=\"verpflichtende FoBi\",SUM(E8+I8+M8-O8)<=Dropdwon!$A$5),SUM(E8+I8+M8-O8),IF(AND(T8=\"förderliche FoBi\",SUM(E8+I8+M8-O8)<=Dropdwon!$A$5,SUM(E8+I8+M8-O8)<=Q8),SUM(E8+I8+M8-O8),IF(AND(T8=\"förderliche FoBi\",SUM(E8+I8+M8-O8)>Q8),Q8,IF(SUM(E8+I8+M8-O8)>Dropdwon!$A$5,Dropdwon!$C$5,SUM(E8+I8+M8-O8))))))","v":"00:00:00"},{"$f":"IF(OR(U8=\"x\",A8<STAMMDATENBLATT!$B$32,A8>STAMMDATENBLATT!$D$32),\"0:00\",IF(MOD(B8,2)=0,VLOOKUP(WEEKDAY(A8,2),STAMMDATENBLATT!H$28:J$34,3,FALSE),VLOOKUP(WEEKDAY(A8,2),STAMMDATENBLATT!H$38:J$44,3,FALSE)))","v":"0:00"},"00:00:00",null,null,{"$f":"_xlfn.IFNA(VLOOKUP(A8,Feiertage!A:D,3,FALSE),\"\")","v":"x"},{"$f":"_xlfn.IFNA(VLOOKUP(A8,Feiertage!A:D,4,FALSE),\"\")","v":"Tag der Deutschen Einheit"}]
[{"$f":"A8+1","v":"2024-10-04"},40,null,null,"00:00:00",{"$f":"IF(E9<Dropdwon!$A$3,Dropdwon!$B$2,IF(AND(E9<Dropdwon!$A$4,E9>=Dropdwon!$A$3),Dropdwon!$B$3,Dropdwon!$B$4))","v":"00:00:00"},null,null,"00:00:00",{"$f":"IF(I9<Dropdwon!$A$3,Dropdwon!$B$2,IF(AND(I9<Dropdwon!$A$4,I9>=Dropdwon!$A$3),Dropdwon!$B$3,Dropdwon!$B$4))","v":"00:00:00"},null,null,"00:00:00",{"$f":"IF(M9<Dropdwon!$A$3,Dropdwon!$B$2,IF(AND(M9<Dropdwon!$A$4,M9>=Dropdwon!$A$3),Dropdwon!$B$3,Dropdwon!$B$4))","v":"00:00:00"},"00:00:00",{"$f":"IF(AND(T9<>\"\",T9<>\"verpflichtende FoBi\",T9<>\"förderliche FoBi\"),Q9,IF(AND(T9=\"verpflichtende FoBi\",SUM(E9+I9+M9-O9)<=Dropdwon!$A$5),SUM(E9+I9+M9-O9),IF(AND(T9=\"förderliche FoBi\",SUM(E9+I9+M9-O9)<=Dropdwon!$A$5,SUM(E9+I9+M9-O9)<=Q9),SUM(E9+I9+M9-O9),IF(AND(T9=\"förderliche FoBi\",SUM(E9+I9+M9-O9)>Q9),Q9,IF(SUM(E9+I9+M9-O9)>Dropdwon!$A$5,Dropdwon!$C$5,SUM(E9+I9+M9-O9))))))","v":{"$error":"#VALUE!"}},{"$f":"IF(OR(U9=\"x\",A9<STAMMDATENBLATT!$B$32,A9>STAMMDATENBLATT!$D$32),\"0:00\",IF(MOD(B9,2)=0,VLOOKUP(WEEKDAY(A9,2),STAMMDATENBLATT!H$28:J$34,3,FALSE),VLOOKUP(WEEKDAY(A9,2),STAMMDATENBLATT!H$38:J$44,3,FALSE)))","v":{"$error":"#VALUE!"}},{"$error":"#VALUE!"},null,null,{"$f":"_xlfn.IFNA(VLOOKUP(A9,Feiertage!A:D,3,FALSE),\"\")","v":""},{"$f":"_xlfn.IFNA(VLOOKUP(A9,Feiertage!A:D,4,FALSE),\"\")","v":""}]
["2024-10-05",40,null,null,"00:00:00",{"$f":"IF(E10<Dropdwon!$A$3,Dropdwon!$B$2,IF(AND(E10<Dropdwon!$A$4,E10>=Dropdwon!$A$3),Dropdwon!$B$3,Dropdwon!$B$4))","v":"00:00:00"},null,null,"00:00:00",{"$f":"IF(I10<Dropdwon!$A$3,Dropdwon!$B$2,IF(AND(I10<Dropdwon!$A$4,I10>=Dropdwon!$A$3),Dropdwon!$B$3,Dropdwon!$B$4))","v":"00:00:00"},null,null,"00:00:00",{"$f":"IF(M10<Dropdwon!$A$3,Dropdwon!$B$2,IF(AND(M10<Dropdwon!$A$4,M10>=Dropdwon!$A$3),Dropdwon!$B$3,Dropdwon!$B$4))","v":"00:00:00"},"00:00:00",{"$f":"IF(AND(T10<>\"\",T10<>\"verpflichtende FoBi\",T10<>\"förderliche FoBi\"),Q10,IF(AND(T10=\"verpflichtende FoBi\",SUM(E10+I10+M10-O10)<=Dropdwon!$A$5),SUM(E10+I10+M10-O10),IF(AND(T10=\"förderliche FoBi\",SUM(E10+I10+M10-O10)<=Dropdwon!$A$5,SUM(E10+I10+M10-O10)<=Q10),SUM(E10+I10+M10-O10),IF(AND(T10=\"förderliche FoBi\",SUM(E10+I10+M10-O10)>Q10),Q10,IF(SUM(E10+I10+M10-O10)>Dropdwon!$A$5,Dropdwon!$C$5,SUM(E10+I10+M10-O10))))))","v":"00:00:00"},{"$f":"IF(OR(U10=\"x\",A10<STAMMDATENBLATT!$B$32,A10>STAMMDATENBLATT!$D$32),\"0:00\",IF(MOD(B10,2)=0,VLOOKUP(WEEKDAY(A10,2),STAMMDATENBLATT!H$28:J$34,3,FALSE),VLOOKUP(WEEKDAY(A10,2),STAMMDATENBLATT!H$38:J$44,3,FALSE)))","v":"00:00:00"},"00:00:00",null,null,{"$f":"_xlfn.IFNA(VLOOKUP(A10,Feiertage!A:D,3,FALSE),\"\")","v":""},{"$f":"_xlfn.IFNA(VLOOKUP(A10,Feiertage!A:D,4,FALSE),\"\")","v":""}]
["2024-10-06",40,null,null,"00:00:00",{"$f":"IF(E11<Dropdwon!$A$3,Dropdwon!$B$2,IF(AND(E11<Dropdwon!$A$4,E11>=Dropdwon!$A$3),Dropdwon!$B$3,Dropdwon!$B$4))","v":"00:00:00"},null,null,"00:00:00",{"$f":"IF(I11<Dropdwon!$A$3,Dropdwon!$B$2,IF(AND(I11<Dropdwon!$A$4,I11>=Dropdwon!$A$3),Dropdwon!$B$3,Dropdwon!$B$4))","v":"00:00:00"},null,null,"00:00:00",{"$f":"IF(M11<Dropdwon!$A$3,Dropdwon!$B$2,IF(AND(M11<Dropdwon!$A$4,M11>=Dropdwon!$A$3),Dropdwon!$B$3,Dropdwon!$B$4))","v":"00:00:00"},"00:00:00",{"$f":"IF(AND(T11<>\"\",T11<>\"verpflichtende FoBi\",T11<>\"förderliche FoBi\"),Q11,IF(AND(T11=\"verpflichtende FoBi\",SUM(E11+I11+M11-O11)<=Dropdwon!$A$5),SUM(E11+I11+M11-O11),IF(AND(T11=\"förderliche FoBi\",SUM(E11+I11+M11-O11)<=Dropdwon!$A$5,SUM(E11+I11+M11-O11)<=Q11),SUM(E11+I11+M11-O11),IF(AND(T11=\"förderliche FoBi\",SUM(E11+I11+M11-O11)>Q11),Q11,IF(SUM(E11+I11+M11-O11)>Dropdwon!$A$5,Dropdwon!$C$5,SUM(E11+I11+M11-O11))))))","v":"00:00:00"},{"$f":"IF(OR(U11=\"x\",A11<STAMMDATENBLATT!$B$32,A11>STAMMDATENBLATT!$D$32),\"0:00\",IF(MOD(B11,2)=0,VLOOKUP(WEEKDAY(A11,2),STAMMDATENBLATT!H$28:J$34,3,FALSE),VLOOKUP(WEEKDAY(A11,2),STAMMDATENBLATT!H$38:J$44,3,FALSE)))","v":"00:00:00"},"00:00:00",null,null,{"$f":"_xlfn.IFNA(VLOOKUP(A11,Feiertage!A:D,3,FALSE),\"\")","v":""},{"$f":"_xlfn.IFNA(VLOOKUP(A11,Feiertage!A:D,4,FALSE),\"\")","v":""}]
["2024-10-07",41,null,null,"00:00:00",{"$f":"IF(E12<Dropdwon!$A$3,Dropdwon!$B$2,IF(AND(E12<Dropdwon!$A$4,E12>=Dropdwon!$A$3),Dropdwon!$B$3,Dropdwon!$B$4))","v":"00:00:00"},null,null,"00:00:00",{"$f":"IF(I12<Dropdwon!$A$3,Dropdwon!$B$2,IF(AND(I12<Dropdwon!$A$4,I12>=Dropdwon!$A$3),Dropdwon!$B$3,Dropdwon!$B$4))","v":"00:00:00"},null,null,"00:00:00",{"$f":"IF(M12<Dropdwon!$A$3,Dropdwon!$B$2,IF(AND(M12<Dropdwon!$A$4,M12>=Dropdwon!$A$3),Dropdwon!$B$3,Dropdwon!$B$4))","v":"00:00:00"},"00:00:00",{"$f":"IF(AND(T12<>\"\",T12<>\"verpflichtende FoBi\",T12<>\"förderliche FoBi\"),Q12,IF(AND(T12=\"verpflichtende FoBi\",SUM(E12+I12+M12-O12)<=Dropdwon!$A$5),SUM(E12+I12+M12-O12),IF(AND(T12=\"förderliche FoBi\",SUM(E12+I12+M12-O12)<=Dropdwon!$A$5,SUM(E12+I12+M12-O12)<=Q12),SUM(E12+I12+M12-O12),IF(AND(T12=\"förderliche FoBi\",SUM(E12+I12+M12-O12)>Q12),Q12,IF(SUM(E12+I12+M12-O12)>Dropdwon!$A$5,Dropdwon!$C$5,SUM(E12+I12+M12-O12))))))","v":{"$error":"#VALUE!"}},{"$f":"IF(OR(U12=\"x\",A12<STAMMDATENBLATT!$B$32,A12>STAMMDATENBLATT!$D$32),\"0:00\",IF(MOD(B12,2)=0,VLOOKUP(WEEKDAY(A12,2),STAMMDATENBLATT!H$28:J$34,3,FALSE),VLOOKUP(WEEKDAY(A12,2),STAMMDATENBLATT!H$38:J$44,3,FALSE)))","v":{"$error":"#VALUE!"}},{"$error":"#VALUE!"},null,null,{"$f":"_xlfn.IFNA(VLOOKUP(A12,Feiertage!A:D,3,FALSE),\"\")","v":""},{"$f":"_xlfn.IFNA(VLOOKUP(A12,Feiertage!A:D,4,FALSE),\"\")","v":""}]
["2024-10-08",41,null,null,"00:00:00",{"$f":"IF(E13<Dropdwon!$A$3,Dropdwon!$B$2,IF(AND(E13<Dropdwon!$A$4,E13>=Dropdwon!$A$3),Dropdwon!$B$3,Dropdwon!$B$4))","v":"00:00:00"},null,null,"00:00:00",{"$f":"IF(I13<Dropdwon!$A$3,Dropdwon!$B$2,IF(AND(I13<Dropdwon!$A$4,I13>=Dropdwon!$A$3),Dropdwon!$B$3,Dropdwon!$B$4))","v":"00:00:00"},null,null,"00:00:00",{"$f":"IF(M13<Dropdwon!$A$3,Dropdwon!$B$2,IF(AND(M13<Dropdwon!$A$4,M13>=Dropdwon!$A$3),Dropdwon!$B$3,Dropdwon!$B$4))","v":"00:00:00"},"00:00:00",{"$f":"IF(AND(T13<>\"\",T13<>\"verpflichtende FoBi\",T13<>\"förderliche FoBi\"),Q13,IF(AND(T13=\"verpflichtende FoBi\",SUM(E13+I13+M13-O13)<=Dropdwon!$A$5),SUM(E13+I13+M13-O13),IF(AND(T13=\"förderliche FoBi\",SUM(E13+I13+M13-O13)<=Dropdwon!$A$5,SUM(E13+I13+M13-O13)<=Q13),SUM(E13+I13+M13-O13),IF(AND(T13=\"förderliche FoBi\",SUM(E13+I13+M13-O13)>Q13),Q13,IF(SUM(E13+I13+M13-O13)>Dropdwon!$A$5,Dropdwon!$C$5,SUM(E13+I13+M13-O13))))))","v":{"$error":"#VALUE!"}},{"$f":"IF(OR(U13=\"x\",A13<STAMMDATENBLATT!$B$32,A13>STAMMDATENBLATT!$D$32),\"0:00\",IF(MOD(B13,2)=0,VLOOKUP(WEEKDAY(A13,2),STAMMDATENBLATT!H$28:J$34,3,FALSE),VLOOKUP(WEEKDAY(A13,2),STAMMDATENBLATT!H$38:J$44,3,FALSE)))","v":{"$error":"#VALUE!"}},{"$error":"#VALUE!"},null,null,{"$f":"_xlfn.IFNA(VLOOKUP(A13,Feiertage!A:D,3,FALSE),\"\")","v":""},{"$f":"_xlfn.IFNA(VLOOKUP(A13,Feiertage!A:D,4,FALSE),\"\")","v":""}]
["2024-10-09",41,null,null,"00:00:00",{"$f":"IF(E14<Dropdwon!$A$3,Dropdwon!$B$2,IF(AND(E14<Dropdwon!$A$4,E14>=Dropdwon!$A$3),Dropdwon!$B$3,Dropdwon!$B$4))","v":"00:00:00"},null,null,"00:00:00",{"$f":"IF(I14<Dropdwon!$A$3,Dropdwon!$B$2,IF(AND(I14<Dropdwon!$A$4,I14>=Dropdwon!$A$3),Dropdwon!$B$3,Dropdwon!$B$4))","v":"00:00:00"},null,null,"00:00:00",{"$f":"IF(M14<Dropdwon!$A$3,Dropdwon!$B$2,IF(AND(M14<Dropdwon!$A$4,M14>=Dropdwon!$A$3),Dropdwon!$B$3,Dropdwon!$B$4))","v":"00:00:00"},"00:00:00",{"$f":"IF(AND(T14<>\"\",T14<>\"verpflichtende FoBi\",T14<>\"förderliche FoBi\"),Q14,IF(AND(T14=\"verpflichtende FoBi\",SUM(E14+I14+M14-O14)<=Dropdwon!$A$5),SUM(E14+I14+M14-O14),IF(AND(T14=\"förderliche FoBi\",SUM(E14+I14+M14-O14)<=Dropdwon!$A$5,SUM(E14+I14+M14-O14)<=Q14),SUM(E14+I14+M14-O14),IF(AND(T14=\"förderliche FoBi\",SUM(E14+I14+M14-O14)>Q14),Q14,IF(SUM(E14+I14+M14-O14)>Dropdwon!$A$5,Dropdwon!$C$5,SUM(E14+I14+M14-O14))))))","v":{"$error":"#VALUE!"}},{"$f":"IF(OR(U14=\"x\",A14<STAMMDATENBLATT!$B$32,A14>STAMMDATENBLATT!$D$32),\"0:00\",IF(MOD(B14,2)=0,VLOOKUP(WEEKDAY(A14,2),STAMMDATENBLATT!H$28:J$34,3,FALSE),VLOOKUP(WEEKDAY(A14,2),STAMMDATENBLATT!H$38:J$44,3,FALSE)))","v":{"$error":"#VALUE!"}},{"$error":"#VALUE!"},null,null,{"$f":"_xlfn.IFNA(VLOOKUP(A14,Feiertage!A:D,3,FALSE),\"\")","v":""},{"$f":"_xlfn.IFNA(VLOOKUP(A14,Feiertage!A:D,4,FALSE),\"\")","v":""}]
["2024-10-10",41,null,null,"00:00:00",{"$f":"IF(E15<Dropdwon!$A$3,Dropdwon!$B$2,IF(AND(E15<Dropdwon!$A$4,E15>=Dropdwon!$A$3),Dropdwon!$B$3,Dropdwon!$B$4))","v":"00:00:00"},null,null,"00:00:00",{"$f":"IF(I15<Dropdwon!$A$3,Dropdwon!$B$2,IF(AND(I15<Dropdwon!$A$4,I15>=Dropdwon!$A$3),Dropdwon!$B$3,Dropdwon!$B$4))","v":"00:00:00"},null,null,"00:00:00",{"$f":"IF(M15<Dropdwon!$A$3,Dropdwon!$B$2,IF(AND(M15<Dropdwon!$A$4,M15>=Dropdwon!$A$3),Dropdwon!$B$3,Dropdwon!$B$4))","v":"00:00:00"},"00:00:00",{"$f":"IF(AND(T15<>\"\",T15<>\"verpflichtende FoBi\",T15<>\"förderliche FoBi\"),Q15,IF(AND(T15=\"verpflichtende FoBi\",SUM(E15+I15+M15-O15)<=Dropdwon!$A$5),SUM(E15+I15+M15-O15),IF(AND(T15=\"förderliche FoBi\",SUM(E15+I15+M15-O15)<=Dropdwon!$A$5,SUM(E15+I15+M15-O15)<=Q15),SUM(E15+I15+M15-O15),IF(AND(T15=\"förderliche FoBi\",SUM(E15+I15+M15-O15)>Q15),Q15,IF(SUM(E15+I15+M15-O15)>Dropdwon!$A$5,Dropdwon!$C$5,SUM(E15+I15+M15-O15))))))","v":{"$error":"#VALUE!"}},{"$f":"IF(OR(U15=\"x\",A15<STAMMDATENBLATT!$B$32,A15>STAMMDATENBLATT!$D$32),\"0:00\",IF(MOD(B15,2)=0,VLOOKUP(WEEKDAY(A15,2),STAMMDATENBLATT!H$28:J$34,3,FALSE),VLOOKUP(WEEKDAY(A15,2),STAMMDATENBLATT!H$38:J$44,3,FALSE)))","v":{"$error":"#VALUE!"}},{"$error":"#VALUE!"},null,null,{"$f":"_xlfn.IFNA(VLOOKUP(A15,Feiertage!A:D,3,FALSE),\"\")","v":""},{"$f":"_xlfn.IFNA(VLOOKUP(A15,Feiertage!A:D,4,FALSE),\"\")","v":""}]
["2024-10-11",41,null,null,"00:00:00",{"$f":"IF(E16<Dropdwon!$A$3,Dropdwon!$B$2,IF(AND(E16<Dropdwon!$A$4,E16>=Dropdwon!$A$3),Dropdwon!$B$3,Dropdwon!$B$4))","v":"00:00:00"},null,null,"00:00:00",{"$f":"IF(I16<Dropdwon!$A$3,Dropdwon!$B$2,IF(AND(I16<Dropdwon!$A$4,I16>=Dropdwon!$A$3),Dropdwon!$B$3,Dropdwon!$B$4))","v":"00:00:00"},null,null,"00:00:00",{"$f":"IF(M16<Dropdwon!$A$3,Dropdwon!$B$2,IF(AND(M16<Dropdwon!$A$4,M16>=Dropdwon!$A$3),Dropdwon!$B$3,Dropdwon!$B$4))","v":"00:00:00"},"00:00:00",{"$f":"IF(AND(T16<>\"\",T16<>\"verpflichtende FoBi\",T16<>\"förderliche FoBi\"),Q16,IF(AND(T16=\"verpflichtende FoBi\",SUM(E16+I16+M16-O16)<=Dropdwon!$A$5),SUM(E16+I16+M16-O16),IF(AND(T16=\"förderliche FoBi\",SUM(E16+I16+M16-O16)<=Dropdwon!$A$5,SUM(E16+I16+M16-O16)<=Q16),SUM(E16+I16+M16-O16),IF(AND(T16=\"förderliche FoBi\",SUM(E16+I16+M16-O16)>Q16),Q16,IF(SUM(E16+I16+M16-O16)>Dropdwon!$A$5,Dropdwon!$C$5,SUM(E16+I16+M16-O16))))))","v":{"$error":"#VALUE!"}},{"$f":"IF(OR(U16=\"x\",A16<STAMMDATENBLATT!$B$32,A16>STAMMDATENBLATT!$D$32),\"0:00\",IF(MOD(B16,2)=0,VLOOKUP(WEEKDAY(A16,2),STAMMDATENBLATT!H$28:J$34,3,FALSE),VLOOKUP(WEEKDAY(A16,2),STAMMDATENBLATT!H$38:J$44,3,FALSE)))","v":{"$error":"#VALUE!"}},{"$error":"#VALUE!"},null,null,{"$f":"_xlfn.IFNA(VLOOKUP(A16,Feiertage!A:D,3,FALSE),\"\")","v":""},{"$f":"_xlfn.IFNA(VLOOKUP(A16,Feiertage!A:D,4,FALSE),\"\")","v":""}]
["2024-10-12",41,null,null,"00:00:00",{"$f":"IF(E17<Dropdwon!$A$3,Dropdwon!$B$2,IF(AND(E17<Dropdwon!$A$4,E17>=Dropdwon!$A$3),Dropdwon!$B$3,Dropdwon!$B$4))","v":"00:00:00"},null,null,"00:00:00",{"$f":"IF(I17<Dropdwon!$A$3,Dropdwon!$B$2,IF(AND(I17<Dropdwon!$A$4,I17>=Dropdwon!$A$3),Dropdwon!$B$3,Dropdwon!$B$4))","v":"00:00:00"},null,null,"00:00:00",{"$f":"IF(M17<Dropdwon!$A$3,Dropdwon!$B$2,IF(AND(M17<Dropdwon!$A$4,M17>=Dropdwon!$A$3),Dropdwon!$B$3,Dropdwon!$B$4))","v":"00:00:00"},"00:00:00",{"$f":"IF(AND(T17<>\"\",T17<>\"verpflichtende FoBi\",T17<>\"förderliche FoBi\"),Q17,IF(AND(T17=\"verpflichtende FoBi\",SUM(E17+I17+M17-O17)<=Dropdwon!$A$5),SUM(E17+I17+M17-O17),IF(AND(T17=\"förderliche FoBi\",SUM(E17+I17+M17-O17)<=Dropdwon!$A$5,SUM(E17+I17+M17-O17)<=Q17),SUM(E17+I17+M17-O17),IF(AND(T17=\"förderliche FoBi\",SUM(E17+I17+M17-O17)>Q17),Q17,IF(SUM(E17+I17+M17-O17)>Dropdwon!$A$5,Dropdwon!$C$5,SUM(E17+I17+M17-O17))))))","v":"00:00:00"},{"$f":"IF(OR(U17=\"x\",A17<STAMMDATENBLATT!$B$32,A17>STAMMDATENBLATT!$D$32),\"0:00\",IF(MOD(B17,2)=0,VLOOKUP(WEEKDAY(A17,2),STAMMDATENBLATT!H$28:J$34,3,FALSE),VLOOKUP(WEEKDAY(A17,2),STAMMDATENBLATT!H$38:J$44,3,FALSE)))","v":"00:00:00"},"00:00:00",null,null,{"$f":"_xlfn.IFNA(VLOOKUP(A17,Feiertage!A:D,3,FALSE),\"\")","v":""},{"$f":"_xlfn.IFNA(VLOOKUP(A17,Feiertage!A:D,4,FALSE),\"\")","v":""}]
["2024-10-13",41,null,null,"00:00:00",{"$f":"IF(E18<Dropdwon!$A$3,Dropdwon!$B$2,IF(AND(E18<Dropdwon!$A$4,E18>=Dropdwon!$A$3),Dropdwon!$B$3,Dropdwon!$B$4))","v":"00:00:00"},null,null,"00:00:00",{"$f":"IF(I18<Dropdwon!$A$3,Dropdwon!$B$2,IF(AND(I18<Dropdwon!$A$4,I18>=Dropdwon!$A$3),Dropdwon!$B$3,Dropdwon!$B$4))","v":"00:00:00"},null,null,"00:00:00",{"$f":"IF(M18<Dropdwon!$A$3,Dropdwon!$B$2,IF(AND(M18<Dropdwon!$A$4,M18>=Dropdwon!$A$3),Dropdwon!$B$3,Dropdwon!$B$4))","v":"00:00:00"},"00:00:00",{"$f":"IF(AND(T18<>\"\",T18<>\"verpflichtende FoBi\",T18<>\"förderliche FoBi\"),Q18,IF(AND(T18=\"verpflichtende FoBi\",SUM(E18+I18+M18-O18)<=Dropdwon!$A$5),SUM(E18+I18+M18-O18),IF(AND(T18=\"förderliche FoBi\",SUM(E18+I18+M18-O18)<=Dropdwon!$A$5,SUM(E18+I18+M18-O18)<=Q18),SUM(E18+I18+M18-O18),IF(AND(T18=\"förderliche FoBi\",SUM(E18+I18+M18-O18)>Q18),Q18,IF(SUM(E18+I18+M18-O18)>Dropdwon!$A$5,Dropdwon!$C$5,SUM(E18+I18+M18-O18))))))","v":"00:00:00"},{"$f":"IF(OR(U18=\"x\",A18<STAMMDATENBLATT!$B$32,A18>STAMMDATENBLATT!$D$32),\"0:00\",IF(MOD(B18,2)=0,VLOOKUP(WEEKDAY(A18,2),STAMMDATENBLATT!H$28:J$34,3,FALSE),VLOOKUP(WEEKDAY(A18,2),STAMMDATENBLATT!H$38:J$44,3,FALSE)))","v":"00:00:00"},"00:00:00",null,null,{"$f":"_xlfn.IFNA(VLOOKUP(A18,Feiertage!A:D,3,FALSE),\"\")","v":""},{"$f":"_xlfn.IFNA(VLOOKUP(A18,Feiertage!A:D,4,FALSE),\"\")","v":""}]
["2024-10-14",42,null,null,"00:00:00",{"$f":"IF(E19<Dropdwon!$A$3,Dropdwon!$B$2,IF(AND(E19<Dropdwon!$A$4,E19>=Dropdwon!$A$3),Dropdwon!$B$3,Dropdwon!$B$4))","v":"00:00:00"},null,null,"00:00:00",{"$f":"IF(I19<Dropdwon!$A$3,Dropdwon!$B$2,IF(AND(I19<Dropdwon!$A$4,I19>=Dropdwon!$A$3),Dropdwon!$B$3,Dropdwon!$B$4))","v":"00:00:00"},null,null,"00:00:00",{"$f":"IF(M19<Dropdwon!$A$3,Dropdwon!$B$2,IF(AND(M19<Dropdwon!$A$4,M19>=Dropdwon!$A$3),Dropdwon!$B$3,Dropdwon!$B$4))","v":"00:00:00"},"00:00:00",{"$f":"IF(AND(T19<>\"\",T19<>\"verpflichtende FoBi\",T19<>\"förderliche FoBi\"),Q19,IF(AND(T19=\"verpflichtende FoBi\",SUM(E19+I19+M19-O19)<=Dropdwon!$A$5),SUM(E19+I19+M19-O19),IF(AND(T19=\"förderliche FoBi\",SUM(E19+I19+M19-O19)<=Dropdwon!$A$5,SUM(E19+I19+M19-O19)<=Q19),SUM(E19+I19+M19-O19),IF(AND(T19=\"förderliche FoBi\",SUM(E19+I19+M19-O19)>Q19),Q19,IF(SUM(E19+I19+M19-O19)>Dropdwon!$A$5,Dropdwon!$C$5,SUM(E19+I19+M19-O19))))))","v":{"$error":"#VALUE!"}},{"$f":"IF(OR(U19=\"x\",A19<STAMMDATENBLATT!$B$32,A19>STAMMDATENBLATT!$D$32),\"0:00\",IF(MOD(B19,2)=0,VLOOKUP(WEEKDAY(A19,2),STAMMDATENBLATT!H$28:J$34,3,FALSE),VLOOKUP(WEEKDAY(A19,2),STAMMDATENBLATT!H$38:J$44,3,FALSE)))","v":{"$error":"#VALUE!"}},{"$error":"#VALUE!"},null,null,{"$f":"_xlfn.IFNA(VLOOKUP(A19,Feiertage!A:D,3,FALSE),\"\")","v":""},{"$f":"_xlfn.IFNA(VLOOKUP(A19,Feiertage!A:D,4,FALSE),\"\")","v":""}]
["2024-10-15",42,null,null,"00:00:00",{"$f":"IF(E20<Dropdwon!$A$3,Dropdwon!$B$2,IF(AND(E20<Dropdwon!$A$4,E20>=Dropdwon!$A$3),Dropdwon!$B$3,Dropdwon!$B$4))","v":"00:00:00"},null,null,"00:00:00",{"$f":"IF(I20<Dropdwon!$A$3,Dropdwon!$B$2,IF(AND(I20<Dropdwon!$A$4,I20>=Dropdwon!$A$3),Dropdwon!$B$3,Dropdwon!$B$4))","v":"00:00:00"},null,null,"00:00:00",{"$f":"IF(M20<Dropdwon!$A$3,Dropdwon!$B$2,IF(AND(M20<Dropdwon!$A$4,M20>=Dropdwon!$A$3),Dropdwon!$B$3,Dropdwon!$B$4))","v":"00:00:00"},"00:00:00",{"$f":"IF(AND(T20<>\"\",T20<>\"verpflichtende FoBi\",T20<>\"förderliche FoBi\"),Q20,IF(AND(T20=\"verpflichtende FoBi\",SUM(E20+I20+M20-O20)<=Dropdwon!$A$5),SUM(E20+I20+M20-O20),IF(AND(T20=\"förderliche FoBi\",SUM(E20+I20+M20-O20)<=Dropdwon!$A$5,SUM(E20+I20+M20-O20)<=Q20),SUM(E20+I20+M20-O20),IF(AND(T20=\"förderliche FoBi\",SUM(E20+I20+M20-O20)>Q20),Q20,IF(SUM(E20+I20+M20-O20)>Dropdwon!$A$5,Dropdwon!$C$5,SUM(E20+I20+M20-O20))))))","v":{"$error":"#VALUE!"}},{"$f":"IF(OR(U20=\"x\",A20<STAMMDATENBLATT!$B$32,A20>STAMMDATENBLATT!$D$32),\"0:00\",IF(MOD(B20,2)=0,VLOOKUP(WEEKDAY(A20,2),STAMMDATENBLATT!H$28:J$34,3,FALSE),VLOOKUP(WEEKDAY(A20,2),STAMMDATENBLATT!H$38:J$44,3,FALSE)))","v":{"$error":"#VALUE!"}},{"$error":"#VALUE!"},null,null,{"$f":"_xlfn.IFNA(VLOOKUP(A20,Feiertage!A:D,3,FALSE),\"\")","v":""},{"$f":"_xlfn.IFNA(VLOOKUP(A20,Feiertage!A:D,4,FALSE),\"\")","v":""}]
["2024-10-16",42,null,null,"00:00:00",{"$f":"IF(E21<Dropdwon!$A$3,Dropdwon!$B$2,IF(AND(E21<Dropdwon!$A$4,E21>=Dropdwon!$A$3),Dropdwon!$B$3,Dropdwon!$B$4))","v":"00:00:00"},null,null,"00:00:00",{"$f":"IF(I21<Dropdwon!$A$3,Dropdwon!$B$2,IF(AND(I21<Dropdwon!$A$4,I21>=Dropdwon!$A$3),Dropdwon!$B$3,Dropdwon!$B$4))","v":"00:00:00"},null,null,"00:00:00",{"$f":"IF(M21<Dropdwon!$A$3,Dropdwon!$B$2,IF(AND(M21<Dropdwon!$A$4,M21>=Dropdwon!$A$3),Dropdwon!$B$3,Dropdwon!$B$4))","v":"00:00:00"},"00:00:00",{"$f":"IF(AND(T21<>\"\",T21<>\"verpflichtende FoBi\",T21<>\"förderliche FoBi\"),Q21,IF(AND(T21=\"verpflichtende FoBi\",SUM(E21+I21+M21-O21)<=Dropdwon!$A$5),SUM(E21+I21+M21-O21),IF(AND(T21=\"förderliche FoBi\",SUM(E21+I21+M21-O21)<=Dropdwon!$A$5,SUM(E21+I21+M21-O21)<=Q21),SUM(E21+I21+M21-O21),IF(AND(T21=\"förderliche FoBi\",SUM(E21+I21+M21-O21)>Q21),Q21,IF(SUM(E21+I21+M21-O21)>Dropdwon!$A$5,Dropdwon!$C$5,SUM(E21+I21+M21-O21))))))","v":{"$error":"#VALUE!"}},{"$f":"IF(OR(U21=\"x\",A21<STAMMDATENBLATT!$B$32,A21>STAMMDATENBLATT!$D$32),\"0:00\",IF(MOD(B21,2)=0,VLOOKUP(WEEKDAY(A21,2),STAMMDATENBLATT!H$28:J$34,3,FALSE),VLOOKUP(WEEKDAY(A21,2),STAMMDATENBLATT!H$38:J$44,3,FALSE)))","v":{"$error":"#VALUE!"}},{"$error":"#VALUE!"},null,null,{"$f":"_xlfn.IFNA(VLOOKUP(A21,Feiertage!A:D,3,FALSE),\"\")","v":""},{"$f":"_xlfn.IFNA(VLOOKUP(A21,Feiertage!A:D,4,FALSE),\"\")","v":""}]
["2024-10-17",42,null,null,"00:00:00",{"$f":"IF(E22<Dropdwon!$A$3,Dropdwon!$B$2,IF(AND(E22<Dropdwon!$A$4,E22>=Dropdwon!$A$3),Dropdwon!$B$3,Dropdwon!$B$4))","v":"00:00:00"},null,null,"00:00:00",{"$f":"IF(I22<Dropdwon!$A$3,Dropdwon!$B$2,IF(AND(I22<Dropdwon!$A$4,I22>=Dropdwon!$A$3),Dropdwon!$B$3,Dropdwon!$B$4))","v":"00:00:00"},null,null,"00:00:00",{"$f":"IF(M22<Dropdwon!$A$3,Dropdwon!$B$2,IF(AND(M22<Dropdwon!$A$4,M22>=Dropdwon!$A$3),Dropdwon!$B$3,Dropdwon!$B$4))","v":"00:00:00"},"00:00:00",{"$f":"IF(AND(T22<>\"\",T22<>\"verpflichtende FoBi\",T22<>\"förderliche FoBi\"),Q22,IF(AND(T22=\"verpflichtende FoBi\",SUM(E22+I22+M22-O22)<=Dropdwon!$A$5),SUM(E22+I22+M22-O22),IF(AND(T22=\"förderliche FoBi\",SUM(E22+I22+M22-O22)<=Dropdwon!$A$5,SUM(E22+I22+M22-O22)<=Q22),SUM(E22+I22+M22-O22),IF(AND(T22=\"förderliche FoBi\",SUM(E22+I22+M22-O22)>Q22),Q22,IF(SUM(E22+I22+M22-O22)>Dropdwon!$A$5,Dropdwon!$C$5,SUM(E22+I22+M22-O22))))))","v":{"$error":"#VALUE!"}},{"$f":"IF(OR(U22=\"x\",A22<STAMMDATENBLATT!$B$32,A22>STAMMDATENBLATT!$D$32),\"0:00\",IF(MOD(B22,2)=0,VLOOKUP(WEEKDAY(A22,2),STAMMDATENBLATT!H$28:J$34,3,FALSE),VLOOKUP(WEEKDAY(A22,2),STAMMDATENBLATT!H$38:J$44,3,FALSE)))","v":{"$error":"#VALUE!"}},{"$error":"#VALUE!"},null,null,{"$f":"_xlfn.IFNA(VLOOKUP(A22,Feiertage!A:D,3,FALSE),\"\")","v":""},{"$f":"_xlfn.IFNA(VLOOKUP(A22,Feiertage!A:D,4,FALSE),\"\")","v":""}]
["2024-10-18",42,null,null,"00:00:00",{"$f":"IF(E23<Dropdwon!$A$3,Dropdwon!$B$2,IF(AND(E23<Dropdwon!$A$4,E23>=Dropdwon!$A$3),Dropdwon!$B$3,Dropdwon!$B$4))","v":"00:00:00"},null,null,"00:00:00",{"$f":"IF(I23<Dropdwon!$A$3,Dropdwon!$B$2,IF(AND(I23<Dropdwon!$A$4,I23>=Dropdwon!$A$3),Dropdwon!$B$3,Dropdwon!$B$4))","v":"00:00:00"},null,null,"00:00:00",{"$f":"IF(M23<Dropdwon!$A$3,Dropdwon!$B$2,IF(AND(M23<Dropdwon!$A$4,M23>=Dropdwon!$A$3),Dropdwon!$B$3,Dropdwon!$B$4))","v":"00:00:00"},"00:00:00",{"$f":"IF(AND(T23<>\"\",T23<>\"verpflichtende FoBi\",T23<>\"förderliche FoBi\"),Q23,IF(AND(T23=\"verpflichtende FoBi\",SUM(E23+I23+M23-O23)<=Dropdwon!$A$5),SUM(E23+I23+M23-O23),IF(AND(T23=\"förderliche FoBi\",SUM(E23+I23+M23-O23)<=Dropdwon!$A$5,SUM(E23+I23+M23-O23)<=Q23),SUM(E23+I23+M23-O23),IF(AND(T23=\"förderliche FoBi\",SUM(E23+I23+M23-O23)>Q23),Q23,IF(SUM(E23+I23+M23-O23)>Dropdwon!$A$5,Dropdwon!$C$5,SUM(E23+I23+M23-O23))))))","v":{"$error":"#VALUE!"}},{"$f":"IF(OR(U23=\"x\",A23<STAMMDATENBLATT!$B$32,A23>STAMMDATENBLATT!$D$32),\"0:00\",IF(MOD(B23,2)=0,VLOOKUP(WEEKDAY(A23,2),STAMMDATENBLATT!H$28:J$34,3,FALSE),VLOOKUP(WEEKDAY(A23,2),STAMMDATENBLATT!H$38:J$44,3,FALSE)))","v":{"$error":"#VALUE!"}},{"$error":"#VALUE!"},null,null,{"$f":"_xlfn.IFNA(VLOOKUP(A23,Feiertage!A:D,3,FALSE),\"\")","v":""},{"$f":"_xlfn.IFNA(VLOOKUP(A23,Feiertage!A:D,4,FALSE),\"\")","v":""}]
["2024-10-19",42,null,null,"00:00:00",{"$f":"IF(E24<Dropdwon!$A$3,Dropdwon!$B$2,IF(AND(E24<Dropdwon!$A$4,E24>=Dropdwon!$A$3),Dropdwon!$B$3,Dropdwon!$B$4))","v":"00:00:00"},null,null,"00:00:00",{"$f":"IF(I24<Dropdwon!$A$3,Dropdwon!$B$2,IF(AND(I24<Dropdwon!$A$4,I24>=Dropdwon!$A$3),Dropdwon!$B$3,Dropdwon!$B$4))","v":"00:00:00"},null,null,"00:00:00",{"$f":"IF(M24<Dropdwon!$A$3,Dropdwon!$B$2,IF(AND(M24<Dropdwon!$A$4,M24>=Dropdwon!$A$3),Dropdwon!$B$3,Dropdwon!$B$4))","v":"00:00:00"},"00:00:00",{"$f":"IF(AND(T24<>\"\",T24<>\"verpflichtende FoBi\",T24<>\"förderliche FoBi\"),Q24,IF(AND(T24=\"verpflichtende FoBi\",SUM(E24+I24+M24-O24)<=Dropdwon!$A$5),SUM(E24+I24+M24-O24),IF(AND(T24=\"förderliche FoBi\",SUM(E24+I24+M24-O24)<=Dropdwon!$A$5,SUM(E24+I24+M24-O24)<=Q24),SUM(E24+I24+M24-O24),IF(AND(T24=\"förderliche FoBi\",SUM(E24+I24+M24-O24)>Q24),Q24,IF(SUM(E24+I24+M24-O24)>Dropdwon!$A$5,Dropdwon!$C$5,SUM(E24+I24+M24-O24))))))","v":"00:00:00"},{"$f":"IF(OR(U24=\"x\",A24<STAMMDATENBLATT!$B$32,A24>STAMMDATENBLATT!$D$32),\"0:00\",IF(MOD(B24,2)=0,VLOOKUP(WEEKDAY(A24,2),STAMMDATENBLATT!H$28:J$34,3,FALSE),VLOOKUP(WEEKDAY(A24,2),STAMMDATENBLATT!H$38:J$44,3,FALSE)))","v":"00:00:00"},"00:00:00",null,null,{"$f":"_xlfn.IFNA(VLOOKUP(A24,Feiertage!A:D,3,FALSE),\"\")","v":""},{"$f":"_xlfn.IFNA(VLOOKUP(A24,Feiertage!A:D,4,FALSE),\"\")","v":""}]
["2024-10-20",42,null,null,"00:00:00",{"$f":"IF(E25<Dropdwon!$A$3,Dropdwon!$B$2,IF(AND(E25<Dropdwon!$A$4,E25>=Dropdwon!$A$3),Dropdwon!$B$3,Dropdwon!$B$4))","v":"00:00:00"},null,null,"00:00:00",{"$f":"IF(I25<Dropdwon!$A$3,Dropdwon!$B$2,IF(AND(I25<Dropdwon!$A$4,I25>=Dropdwon!$A$3),Dropdwon!$B$3,Dropdwon!$B$4))","v":"00:00:00"},null,null,"00:00:00",{"$f":"IF(M25<Dropdwon!$A$3,Dropdwon!$B$2,IF(AND(M25<Dropdwon!$A$4,M25>=Dropdwon!$A$3),Dropdwon!$B$3,Dropdwon!$B$4))","v":"00:00:00"},"00:00:00",{"$f":"IF(AND(T25<>\"\",T25<>\"verpflichtende FoBi\",T25<>\"förderliche FoBi\"),Q25,IF(AND(T25=\"verpflichtende FoBi\",SUM(E25+I25+M25-O25)<=Dropdwon!$A$5),SUM(E25+I25+M25-O25),IF(AND(T25=\"förderliche FoBi\",SUM(E25+I25+M25-O25)<=Dropdwon!$A$5,SUM(E25+I25+M25-O25)<=Q25),SUM(E25+I25+M25-O25),IF(AND(T25=\"förderliche FoBi\",SUM(E25+I25+M25-O25)>Q25),Q25,IF(SUM(E25+I25+M25-O25)>Dropdwon!$A$5,Dropdwon!$C$5,SUM(E25+I25+M25-O25))))))","v":"00:00:00"},{"$f":"IF(OR(U25=\"x\",A25<STAMMDATENBLATT!$B$32,A25>STAMMDATENBLATT!$D$32),\"0:00\",IF(MOD(B25,2)=0,VLOOKUP(WEEKDAY(A25,2),STAMMDATENBLATT!H$28:J$34,3,FALSE),VLOOKUP(WEEKDAY(A25,2),STAMMDATENBLATT!H$38:J$44,3,FALSE)))","v":"00:00:00"},"00:00:00",null,null,{"$f":"_xlfn.IFNA(VLOOKUP(A25,Feiertage!A:D,3,FALSE),\"\")","v":""},{"$f":"_xlfn.IFNA(VLOOKUP(A25,Feiertage!A:D,4,FALSE),\"\")","v":""}]
["2024-10-21",43,null,null,"00:00:00",{"$f":"IF(E26<Dropdwon!$A$3,Dropdwon!$B$2,IF(AND(E26<Dropdwon!$A$4,E26>=Dropdwon!$A$3),Dropdwon!$B$3,Dropdwon!$B$4))","v":"00:00:00"},null,null,"00:00:00",{"$f":"IF(I26<Dropdwon!$A$3,Dropdwon!$B$2,IF(AND(I26<Dropdwon!$A$4,I26>=Dropdwon!$A$3),Dropdwon!$B$3,Dropdwon!$B$4))","v":"00:00:00"},null,null,"00:00:00",{"$f":"IF(M26<Dropdwon!$A$3,Dropdwon!$B$2,IF(AND(M26<Dropdwon!$A$4,M26>=Dropdwon!$A$3),Dropdwon!$B$3,Dropdwon!$B$4))","v":"00:00:00"},"00:00:00",{"$f":"IF(AND(T26<>\"\",T26<>\"verpflichtende FoBi\",T26<>\"förderliche FoBi\"),Q26,IF(AND(T26=\"verpflichtende FoBi\",SUM(E26+I26+M26-O26)<=Dropdwon!$A$5),SUM(E26+I26+M26-O26),IF(AND(T26=\"förderliche FoBi\",SUM(E26+I26+M26-O26)<=Dropdwon!$A$5,SUM(E26+I26+M26-O26)<=Q26),SUM(E26+I26+M26-O26),IF(AND(T26=\"förderliche FoBi\",SUM(E26+I26+M26-O26)>Q26),Q26,IF(SUM(E26+I26+M26-O26)>Dropdwon!$A$5,Dropdwon!$C$5,SUM(E26+I26+M26-O26))))))","v":{"$error":"#VALUE!"}},{"$f":"IF(OR(U26=\"x\",A26<STAMMDATENBLATT!$B$32,A26>STAMMDATENBLATT!$D$32),\"0:00\",IF(MOD(B26,2)=0,VLOOKUP(WEEKDAY(A26,2),STAMMDATENBLATT!H$28:J$34,3,FALSE),VLOOKUP(WEEKDAY(A26,2),STAMMDATENBLATT!H$38:J$44,3,FALSE)))","v":{"$error":"#VALUE!"}},{"$error":"#VALUE!"},null,null,{"$f":"_xlfn.IFNA(VLOOKUP(A26,Feiertage!A:D,3,FALSE),\"\")","v":""},{"$f":"_xlfn.IFNA(VLOOKUP(A26,Feiertage!A:D,4,FALSE),\"\")","v":""}]
["2024-10-22",43,null,null,"00:00:00",{"$f":"IF(E27<Dropdwon!$A$3,Dropdwon!$B$2,IF(AND(E27<Dropdwon!$A$4,E27>=Dropdwon!$A$3),Dropdwon!$B$3,Dropdwon!$B$4))","v":"00:00:00"},null,null,"00:00:00",{"$f":"IF(I27<Dropdwon!$A$3,Dropdwon!$B$2,IF(AND(I27<Dropdwon!$A$4,I27>=Dropdwon!$A$3),Dropdwon!$B$3,Dropdwon!$B$4))","v":"00:00:00"},null,null,"00:00:00",{"$f":"IF(M27<Dropdwon!$A$3,Dropdwon!$B$2,IF(AND(M27<Dropdwon!$A$4,M27>=Dropdwon!$A$3),Dropdwon!$B$3,Dropdwon!$B$4))","v":"00:00:00"},"00:00:00",{"$f":"IF(AND(T27<>\"\",T27<>\"verpflichtende FoBi\",T27<>\"förderliche FoBi\"),Q27,IF(AND(T27=\"verpflichtende FoBi\",SUM(E27+I27+M27-O27)<=Dropdwon!$A$5),SUM(E27+I27+M27-O27),IF(AND(T27=\"förderliche FoBi\",SUM(E27+I27+M27-O27)<=Dropdwon!$A$5,SUM(E27+I27+M27-O27)<=Q27),SUM(E27+I27+M27-O27),IF(AND(T27=\"förderliche FoBi\",SUM(E27+I27+M27-O27)>Q27),Q27,IF(SUM(E27+I27+M27-O27)>Dropdwon!$A$5,Dropdwon!$C$5,SUM(E27+I27+M27-O27))))))","v":{"$error":"#VALUE!"}},{"$f":"IF(OR(U27=\"x\",A27<STAMMDATENBLATT!$B$32,A27>STAMMDATENBLATT!$D$32),\"0:00\",IF(MOD(B27,2)=0,VLOOKUP(WEEKDAY(A27,2),STAMMDATENBLATT!H$28:J$34,3,FALSE),VLOOKUP(WEEKDAY(A27,2),STAMMDATENBLATT!H$38:J$44,3,FALSE)))","v":{"$error":"#VALUE!"}},{"$error":"#VALUE!"},null,null,{"$f":"_xlfn.IFNA(VLOOKUP(A27,Feiertage!A:D,3,FALSE),\"\")","v":""},{"$f":"_xlfn.IFNA(VLOOKUP(A27,Feiertage!A:D,4,FALSE),\"\")","v":""}]
["2024-10-23",43,null,null,"00:00:00",{"$f":"IF(E28<Dropdwon!$A$3,Dropdwon!$B$2,IF(AND(E28<Dropdwon!$A$4,E28>=Dropdwon!$A$3),Dropdwon!$B$3,Dropdwon!$B$4))","v":"00:00:00"},null,null,"00:00:00",{"$f":"IF(I28<Dropdwon!$A$3,Dropdwon!$B$2,IF(AND(I28<Dropdwon!$A$4,I28>=Dropdwon!$A$3),Dropdwon!$B$3,Dropdwon!$B$4))","v":"00:00:00"},null,null,"00:00:00",{"$f":"IF(M28<Dropdwon!$A$3,Dropdwon!$B$2,IF(AND(M28<Dropdwon!$A$4,M28>=Dropdwon!$A$3),Dropdwon!$B$3,Dropdwon!$B$4))","v":"00:00:00"},"00:00:00",{"$f":"IF(AND(T28<>\"\",T28<>\"verpflichtende FoBi\",T28<>\"förderliche FoBi\"),Q28,IF(AND(T28=\"verpflichtende FoBi\",SUM(E28+I28+M28-O28)<=Dropdwon!$A$5),SUM(E28+I28+M28-O28),IF(AND(T28=\"förderliche FoBi\",SUM(E28+I28+M28-O28)<=Dropdwon!$A$5,SUM(E28+I28+M28-O28)<=Q28),SUM(E28+I28+M28-O28),IF(AND(T28=\"förderliche FoBi\",SUM(E28+I28+M28-O28)>Q28),Q28,IF(SUM(E28+I28+M28-O28)>Dropdwon!$A$5,Dropdwon!$C$5,SUM(E28+I28+M28-O28))))))","v":{"$error":"#VALUE!"}},{"$f":"IF(OR(U28=\"x\",A28<STAMMDATENBLATT!$B$32,A28>STAMMDATENBLATT!$D$32),\"0:00\",IF(MOD(B28,2)=0,VLOOKUP(WEEKDAY(A28,2),STAMMDATENBLATT!H$28:J$34,3,FALSE),VLOOKUP(WEEKDAY(A28,2),STAMMDATENBLATT!H$38:J$44,3,FALSE)))","v":{"$error":"#VALUE!"}},{"$error":"#VALUE!"},null,null,{"$f":"_xlfn.IFNA(VLOOKUP(A28,Feiertage!A:D,3,FALSE),\"\")","v":""},{"$f":"_xlfn.IFNA(VLOOKUP(A28,Feiertage!A:D,4,FALSE),\"\")","v":""}]
["2024-10-24",43,null,null,"00:00:00",{"$f":"IF(E29<Dropdwon!$A$3,Dropdwon!$B$2,IF(AND(E29<Dropdwon!$A$4,E29>=Dropdwon!$A$3),Dropdwon!$B$3,Dropdwon!$B$4))","v":"00:00:00"},null,null,"00:00:00",{"$f":"IF(I29<Dropdwon!$A$3,Dropdwon!$B$2,IF(AND(I29<Dropdwon!$A$4,I29>=Dropdwon!$A$3),Dropdwon!$B$3,Dropdwon!$B$4))","v":"00:00:00"},null,null,"00:00:00",{"$f":"IF(M29<Dropdwon!$A$3,Dropdwon!$B$2,IF(AND(M29<Dropdwon!$A$4,M29>=Dropdwon!$A$3),Dropdwon!$B$3,Dropdwon!$B$4))","v":"00:00:00"},"00:00:00",{"$f":"IF(AND(T29<>\"\",T29<>\"verpflichtende FoBi\",T29<>\"förderliche FoBi\"),Q29,IF(AND(T29=\"verpflichtende FoBi\",SUM(E29+I29+M29-O29)<=Dropdwon!$A$5),SUM(E29+I29+M29-O29),IF(AND(T29=\"förderliche FoBi\",SUM(E29+I29+M29-O29)<=Dropdwon!$A$5,SUM(E29+I29+M29-O29)<=Q29),SUM(E29+I29+M29-O29),IF(AND(T29=\"förderliche FoBi\",SUM(E29+I29+M29-O29)>Q29),Q29,IF(SUM(E29+I29+M29-O29)>Dropdwon!$A$5,Dropdwon!$C$5,SUM(E29+I29+M29-O29))))))","v":{"$error":"#VALUE!"}},{"$f":"IF(OR(U29=\"x\",A29<STAMMDATENBLATT!$B$32,A29>STAMMDATENBLATT!$D$32),\"0:00\",IF(MOD(B29,2)=0,VLOOKUP(WEEKDAY(A29,2),STAMMDATENBLATT!H$28:J$34,3,FALSE),VLOOKUP(WEEKDAY(A29,2),STAMMDATENBLATT!H$38:J$44,3,FALSE)))","v":{"$error":"#VALUE!"}},{"$error":"#VALUE!"},null,null,{"$f":"_xlfn.IFNA(VLOOKUP(A29,Feiertage!A:D,3,FALSE),\"\")","v":""},{"$f":"_xlfn.IFNA(VLOOKUP(A29,Feiertage!A:D,4,FALSE),\"\")","v":""}]
["2024-10-25",43,null,null,"00:00:00",{"$f":"IF(E30<Dropdwon!$A$3,Dropdwon!$B$2,IF(AND(E30<Dropdwon!$A$4,E30>=Dropdwon!$A$3),Dropdwon!$B$3,Dropdwon!$B$4))","v":"00:00:00"},null,null,"00:00:00",{"$f":"IF(I30<Dropdwon!$A$3,Dropdwon!$B$2,IF(AND(I30<Dropdwon!$A$4,I30>=Dropdwon!$A$3),Dropdwon!$B$3,Dropdwon!$B$4))","v":"00:00:00"},null,null,"00:00:00",{"$f":"IF(M30<Dropdwon!$A$3,Dropdwon!$B$2,IF(AND(M30<Dropdwon!$A$4,M30>=Dropdwon!$A$3),Dropdwon!$B$3,Dropdwon!$B$4))","v":"00:00:00"},"00:00:00",{"$f":"IF(AND(T30<>\"\",T30<>\"verpflichtende FoBi\",T30<>\"förderliche FoBi\"),Q30,IF(AND(T30=\"verpflichtende FoBi\",SUM(E30+I30+M30-O30)<=Dropdwon!$A$5),SUM(E30+I30+M30-O30),IF(AND(T30=\"förderliche FoBi\",SUM(E30+I30+M30-O30)<=Dropdwon!$A$5,SUM(E30+I30+M30-O30)<=Q30),SUM(E30+I30+M30-O30),IF(AND(T30=\"förderliche FoBi\",SUM(E30+I30+M30-O30)>Q30),Q30,IF(SUM(E30+I30+M30-O30)>Dropdwon!$A$5,Dropdwon!$C$5,SUM(E30+I30+M30-O30))))))","v":{"$error":"#VALUE!"}},{"$f":"IF(OR(U30=\"x\",A30<STAMMDATENBLATT!$B$32,A30>STAMMDATENBLATT!$D$32),\"0:00\",IF(MOD(B30,2)=0,VLOOKUP(WEEKDAY(A30,2),STAMMDATENBLATT!H$28:J$34,3,FALSE),VLOOKUP(WEEKDAY(A30,2),STAMMDATENBLATT!H$38:J$44,3,FALSE)))","v":{"$error":"#VALUE!"}},{"$error":"#VALUE!"},null,null,{"$f":"_xlfn.IFNA(VLOOKUP(A30,Feiertage!A:D,3,FALSE),\"\")","v":""},{"$f":"_xlfn.IFNA(VLOOKUP(A30,Feiertage!A:D,4,FALSE),\"\")","v":""}]
["2024-10-26",43,null,null,"00:00:00",{"$f":"IF(E31<Dropdwon!$A$3,Dropdwon!$B$2,IF(AND(E31<Dropdwon!$A$4,E31>=Dropdwon!$A$3),Dropdwon!$B$3,Dropdwon!$B$4))","v":"00:00:00"},null,null,"00:00:00",{"$f":"IF(I31<Dropdwon!$A$3,Dropdwon!$B$2,IF(AND(I31<Dropdwon!$A$4,I31>=Dropdwon!$A$3),Dropdwon!$B$3,Dropdwon!$B$4))","v":"00:00:00"},null,null,"00:00:00",{"$f":"IF(M31<Dropdwon!$A$3,Dropdwon!$B$2,IF(AND(M31<Dropdwon!$A$4,M31>=Dropdwon!$A$3),Dropdwon!$B$3,Dropdwon!$B$4))","v":"00:00:00"},"00:00:00",{"$f":"IF(AND(T31<>\"\",T31<>\"verpflichtende FoBi\",T31<>\"förderliche FoBi\"),Q31,IF(AND(T31=\"verpflichtende FoBi\",SUM(E31+I31+M31-O31)<=Dropdwon!$A$5),SUM(E31+I31+M31-O31),IF(AND(T31=\"förderliche FoBi\",SUM(E31+I31+M31-O31)<=Dropdwon!$A$5,SUM(E31+I31+M31-O31)<=Q31),SUM(E31+I31+M31-O31),IF(AND(T31=\"förderliche FoBi\",SUM(E31+I31+M31-O31)>Q31),Q31,IF(SUM(E31+I31+M31-O31)>Dropdwon!$A$5,Dropdwon!$C$5,SUM(E31+I31+M31-O31))))))","v":"00:00:00"},{"$f":"IF(OR(U31=\"x\",A31<STAMMDATENBLATT!$B$32,A31>STAMMDATENBLATT!$D$32),\"0:00\",IF(MOD(B31,2)=0,VLOOKUP(WEEKDAY(A31,2),STAMMDATENBLATT!H$28:J$34,3,FALSE),VLOOKUP(WEEKDAY(A31,2),STAMMDATENBLATT!H$38:J$44,3,FALSE)))","v":"00:00:00"},"00:00:00",null,null,{"$f":"_xlfn.IFNA(VLOOKUP(A31,Feiertage!A:D,3,FALSE),\"\")","v":""},{"$f":"_xlfn.IFNA(VLOOKUP(A31,Feiertage!A:D,4,FALSE),\"\")","v":""}]
["2024-10-27",43,null,null,"00:00:00",{"$f":"IF(E32<Dropdwon!$A$3,Dropdwon!$B$2,IF(AND(E32<Dropdwon!$A$4,E32>=Dropdwon!$A$3),Dropdwon!$B$3,Dropdwon!$B$4))","v":"00:00:00"},null,null,"00:00:00",{"$f":"IF(I32<Dropdwon!$A$3,Dropdwon!$B$2,IF(AND(I32<Dropdwon!$A$4,I32>=Dropdwon!$A$3),Dropdwon!$B$3,Dropdwon!$B$4))","v":"00:00:00"},null,null,"00:00:00",{"$f":"IF(M32<Dropdwon!$A$3,Dropdwon!$B$2,IF(AND(M32<Dropdwon!$A$4,M32>=Dropdwon!$A$3),Dropdwon!$B$3,Dropdwon!$B$4))","v":"00:00:00"},"00:00:00",{"$f":"IF(AND(T32<>\"\",T32<>\"verpflichtende FoBi\",T32<>\"förderliche FoBi\"),Q32,IF(AND(T32=\"verpflichtende FoBi\",SUM(E32+I32+M32-O32)<=Dropdwon!$A$5),SUM(E32+I32+M32-O32),IF(AND(T32=\"förderliche FoBi\",SUM(E32+I32+M32-O32)<=Dropdwon!$A$5,SUM(E32+I32+M32-O32)<=Q32),SUM(E32+I32+M32-O32),IF(AND(T32=\"förderliche FoBi\",SUM(E32+I32+M32-O32)>Q32),Q32,IF(SUM(E32+I32+M32-O32)>Dropdwon!$A$5,Dropdwon!$C$5,SUM(E32+I32+M32-O32))))))","v":"00:00:00"},{"$f":"IF(OR(U32=\"x\",A32<STAMMDATENBLATT!$B$32,A32>STAMMDATENBLATT!$D$32),\"0:00\",IF(MOD(B32,2)=0,VLOOKUP(WEEKDAY(A32,2),STAMMDATENBLATT!H$28:J$34,3,FALSE),VLOOKUP(WEEKDAY(A32,2),STAMMDATENBLATT!H$38:J$44,3,FALSE)))","v":"00:00:00"},"00:00:00",null,null,{"$f":"_xlfn.IFNA(VLOOKUP(A32,Feiertage!A:D,3,FALSE),\"\")","v":""},{"$f":"_xlfn.IFNA(VLOOKUP(A32,Feiertage!A:D,4,FALSE),\"\")","v":""}]
["2024-10-28",44,null,null,"00:00:00",{"$f":"IF(E33<Dropdwon!$A$3,Dropdwon!$B$2,IF(AND(E33<Dropdwon!$A$4,E33>=Dropdwon!$A$3),Dropdwon!$B$3,Dropdwon!$B$4))","v":"00:00:00"},null,null,"00:00:00",{"$f":"IF(I33<Dropdwon!$A$3,Dropdwon!$B$2,IF(AND(I33<Dropdwon!$A$4,I33>=Dropdwon!$A$3),Dropdwon!$B$3,Dropdwon!$B$4))","v":"00:00:00"},null,null,"00:00:00",{"$f":"IF(M33<Dropdwon!$A$3,Dropdwon!$B$2,IF(AND(M33<Dropdwon!$A$4,M33>=Dropdwon!$A$3),Dropdwon!$B$3,Dropdwon!$B$4))","v":"00:00:00"},"00:00:00",{"$f":"IF(AND(T33<>\"\",T33<>\"verpflichtende FoBi\",T33<>\"förderliche FoBi\"),Q33,IF(AND(T33=\"verpflichtende FoBi\",SUM(E33+I33+M33-O33)<=Dropdwon!$A$5),SUM(E33+I33+M33-O33),IF(AND(T33=\"förderliche FoBi\",SUM(E33+I33+M33-O33)<=Dropdwon!$A$5,SUM(E33+I33+M33-O33)<=Q33),SUM(E33+I33+M33-O33),IF(AND(T33=\"förderliche FoBi\",SUM(E33+I33+M33-O33)>Q33),Q33,IF(SUM(E33+I33+M33-O33)>Dropdwon!$A$5,Dropdwon!$C$5,SUM(E33+I33+M33-O33))))))","v":{"$error":"#VALUE!"}},{"$f":"IF(OR(U33=\"x\",A33<STAMMDATENBLATT!$B$32,A33>STAMMDATENBLATT!$D$32),\"0:00\",IF(MOD(B33,2)=0,VLOOKUP(WEEKDAY(A33,2),STAMMDATENBLATT!H$28:J$34,3,FALSE),VLOOKUP(WEEKDAY(A33,2),STAMMDATENBLATT!H$38:J$44,3,FALSE)))","v":{"$error":"#VALUE!"}},{"$error":"#VALUE!"},null,null,{"$f":"_xlfn.IFNA(VLOOKUP(A33,Feiertage!A:D,3,FALSE),\"\")","v":""},{"$f":"_xlfn.IFNA(VLOOKUP(A33,Feiertage!A:D,4,FALSE),\"\")","v":""}]
["2024-10-29",44,null,null,"00:00:00",{"$f":"IF(E34<Dropdwon!$A$3,Dropdwon!$B$2,IF(AND(E34<Dropdwon!$A$4,E34>=Dropdwon!$A$3),Dropdwon!$B$3,Dropdwon!$B$4))","v":"00:00:00"},null,null,"00:00:00",{"$f":"IF(I34<Dropdwon!$A$3,Dropdwon!$B$2,IF(AND(I34<Dropdwon!$A$4,I34>=Dropdwon!$A$3),Dropdwon!$B$3,Dropdwon!$B$4))","v":"00:00:00"},null,null,"00:00:00",{"$f":"IF(M34<Dropdwon!$A$3,Dropdwon!$B$2,IF(AND(M34<Dropdwon!$A$4,M34>=Dropdwon!$A$3),Dropdwon!$B$3,Dropdwon!$B$4))","v":"00:00:00"},"00:00:00",{"$f":"IF(AND(T34<>\"\",T34<>\"verpflichtende FoBi\",T34<>\"förderliche FoBi\"),Q34,IF(AND(T34=\"verpflichtende FoBi\",SUM(E34+I34+M34-O34)<=Dropdwon!$A$5),SUM(E34+I34+M34-O34),IF(AND(T34=\"förderliche FoBi\",SUM(E34+I34+M34-O34)<=Dropdwon!$A$5,SUM(E34+I34+M34-O34)<=Q34),SUM(E34+I34+M34-O34),IF(AND(T34=\"förderliche FoBi\",SUM(E34+I34+M34-O34)>Q34),Q34,IF(SUM(E34+I34+M34-O34)>Dropdwon!$A$5,Dropdwon!$C$5,SUM(E34+I34+M34-O34))))))","v":{"$error":"#VALUE!"}},{"$f":"IF(OR(U34=\"x\",A34<STAMMDATENBLATT!$B$32,A34>STAMMDATENBLATT!$D$32),\"0:00\",IF(MOD(B34,2)=0,VLOOKUP(WEEKDAY(A34,2),STAMMDATENBLATT!H$28:J$34,3,FALSE),VLOOKUP(WEEKDAY(A34,2),STAMMDATENBLATT!H$38:J$44,3,FALSE)))","v":{"$error":"#VALUE!"}},{"$error":"#VALUE!"},null,null,{"$f":"_xlfn.IFNA(VLOOKUP(A34,Feiertage!A:D,3,FALSE),\"\")","v":""},{"$f":"_xlfn.IFNA(VLOOKUP(A34,Feiertage!A:D,4,FALSE),\"\")","v":""}]
["2024-10-30",44,null,null,"00:00:00",{"$f":"IF(E35<Dropdwon!$A$3,Dropdwon!$B$2,IF(AND(E35<Dropdwon!$A$4,E35>=Dropdwon!$A$3),Dropdwon!$B$3,Dropdwon!$B$4))","v":"00:00:00"},null,null,"00:00:00",{"$f":"IF(I35<Dropdwon!$A$3,Dropdwon!$B$2,IF(AND(I35<Dropdwon!$A$4,I35>=Dropdwon!$A$3),Dropdwon!$B$3,Dropdwon!$B$4))","v":"00:00:00"},null,null,"00:00:00",{"$f":"IF(M35<Dropdwon!$A$3,Dropdwon!$B$2,IF(AND(M35<Dropdwon!$A$4,M35>=Dropdwon!$A$3),Dropdwon!$B$3,Dropdwon!$B$4))","v":"00:00:00"},"00:00:00",{"$f":"IF(AND(T35<>\"\",T35<>\"verpflichtende FoBi\",T35<>\"förderliche FoBi\"),Q35,IF(AND(T35=\"verpflichtende FoBi\",SUM(E35+I35+M35-O35)<=Dropdwon!$A$5),SUM(E35+I35+M35-O35),IF(AND(T35=\"förderliche FoBi\",SUM(E35+I35+M35-O35)<=Dropdwon!$A$5,SUM(E35+I35+M35-O35)<=Q35),SUM(E35+I35+M35-O35),IF(AND(T35=\"förderliche FoBi\",SUM(E35+I35+M35-O35)>Q35),Q35,IF(SUM(E35+I35+M35-O35)>Dropdwon!$A$5,Dropdwon!$C$5,SUM(E35+I35+M35-O35))))))","v":{"$error":"#VALUE!"}},{"$f":"IF(OR(U35=\"x\",A35<STAMMDATENBLATT!$B$32,A35>STAMMDATENBLATT!$D$32),\"0:00\",IF(MOD(B35,2)=0,VLOOKUP(WEEKDAY(A35,2),STAMMDATENBLATT!H$28:J$34,3,FALSE),VLOOKUP(WEEKDAY(A35,2),STAMMDATENBLATT!H$38:J$44,3,FALSE)))","v":{"$error":"#VALUE!"}},{"$error":"#VALUE!"},null,null,{"$f":"_xlfn.IFNA(VLOOKUP(A35,Feiertage!A:D,3,FALSE),\"\")","v":""},{"$f":"_xlfn.IFNA(VLOOKUP(A35,Feiertage!A:D,4,FALSE),\"\")","v":""}]
["2024-10-31",44,null,null,"00:00:00",{"$f":"IF(E36<Dropdwon!$A$3,Dropdwon!$B$2,IF(AND(E36<Dropdwon!$A$4,E36>=Dropdwon!$A$3),Dropdwon!$B$3,Dropdwon!$B$4))","v":"00:00:00"},null,null,"00:00:00",{"$f":"IF(I36<Dropdwon!$A$3,Dropdwon!$B$2,IF(AND(I36<Dropdwon!$A$4,I36>=Dropdwon!$A$3),Dropdwon!$B$3,Dropdwon!$B$4))","v":"00:00:00"},null,null,"00:00:00",{"$f":"IF(M36<Dropdwon!$A$3,Dropdwon!$B$2,IF(AND(M36<Dropdwon!$A$4,M36>=Dropdwon!$A$3),Dropdwon!$B$3,Dropdwon!$B$4))","v":"00:00:00"},"00:00:00",{"$f":"IF(AND(T36<>\"\",T36<>\"verpflichtende FoBi\",T36<>\"förderliche FoBi\"),Q36,IF(AND(T36=\"verpflichtende FoBi\",SUM(E36+I36+M36-O36)<=Dropdwon!$A$5),SUM(E36+I36+M36-O36),IF(AND(T36=\"förderliche FoBi\",SUM(E36+I36+M36-O36)<=Dropdwon!$A$5,SUM(E36+I36+M36-O36)<=Q36),SUM(E36+I36+M36-O36),IF(AND(T36=\"förderliche FoBi\",SUM(E36+I36+M36-O36)>Q36),Q36,IF(SUM(E36+I36+M36-O36)>Dropdwon!$A$5,Dropdwon!$C$5,SUM(E36+I36+M36-O36))))))","v":{"$error":"#VALUE!"}},{"$f":"IF(OR(U36=\"x\",A36<STAMMDATENBLATT!$B$32,A36>STAMMDATENBLATT!$D$32),\"0:00\",IF(MOD(B36,2)=0,VLOOKUP(WEEKDAY(A36,2),STAMMDATENBLATT!H$28:J$34,3,FALSE),VLOOKUP(WEEKDAY(A36,2),STAMMDATENBLATT!H$38:J$44,3,FALSE)))","v":{"$error":"#VALUE!"}},{"$error":"#VALUE!"},null,null,{"$f":"_xlfn.IFNA(VLOOKUP(A36,Feiertage!A:D,3,FALSE),\"\")","v":""},{"$f":"_xlfn.IFNA(VLOOKUP(A36,Feiertage!A:D,4,FALSE),\"\")","v":""}]
[]
["Abschluss Std.konto:",null,{"$f":"SUM(R$1+SUM(R$6:R$36)-R$38)","v":{"$error":"#VALUE!"}},{"$nulls":3},"Auszahlung Mehrarbeit in Std./Minuten:",{"$nulls":10},{"$f":"SUMIF($S$6:$S$36,\"ja\",$R$6:$R$36)","v":0}]
["Abschluss Std. in Dezimal:",null,{"$f":"C38*24","v":{"$error":"#VALUE!"}},{"$nulls":4},"Auszahlung Mehrarbeit in Dezimal:",{"$nulls":9},{"$f":"R38*24","v":{"v":0,"d":"0.00"}}]
[{"$nulls":17},"zur Auszahlung angewiesen:"]
[]
[]
[]
["Ort, Datum / Unterschrift Mitarbeiter/in",{"$nulls":5},"Ort, Datum / Unterschrift Vorgesetzte/r",{"$nulls":10},"Ort, Datum / Unterschrift KGF",{"$nulls":4},{"$f":"STAMMDATENBLATT!$A$22","v":"Version: 01.2024.5"}]

{"sheet":"November","index":12,"n_rows":44,"n_cols":23,"rows_kept":44,"merged":[[0,2,0,7],[1,0,1,7],[2,0,2,7],[37,0,37,1],[37,6,37,16],[38,0,38,1],[38,7,38,16],[40,0,42,2],[40,6,42,13],[40,17,42,20]]}
[{"$f":"DATEVALUE(\"01.11.\"&STAMMDATENBLATT!$D$27)","v":"2024-11-01"},null,{"$f":"STAMMDATENBLATT!B27","v":"Vorname Nachname"},{"$nulls":7},{"$f":"STAMMDATENBLATT!$B$30","v":{"v":0,"d":"0.00%"}},{"$f":"IF(STAMMDATENBLATT!$B$29=\"\",\"\",STAMMDATENBLATT!$B$29)","v":""},{"$nulls":5},{"$f":"IF(STAMMDATENBLATT!E13<=STAMMDATENBLATT!$D$35,STAMMDATENBLATT!E13,STAMMDATENBLATT!$D$35)","v":{"$error":"#VALUE!"}}]
[{"$f":"STAMMDATENBLATT!B26","v":0}]
[{"$f":"STAMMDATENBLATT!A26","v":{"$error":"#N/A"}}]
[]
[null,"KW","Beginn 1","Ende 1","IST AZ 1","IST MP 1","Beginn 2","Ende 2","IST AZ 2","IST MP 2","Beginn 3","Ende 3","IST AZ 3","IST MP 3","MP gesamt","IST AZ","SOLL AZ","Differenz","Auszahlung","Abwesenheit","Feiertag","Feiertag","Notiz"]
[{"$f":"A1","v":"2024-11-01"},{"$f":"WEEKNUM(A6,21)","v":44},null,null,{"$f":"IF(AND(WEEKDAY($A6,2)=6,HOUR(C6)>=13),SUM((D6-C6)*1.2),IF(WEEKDAY($A6,2)=7,SUM((D6-C6)*1.25),IF(AND($U6=\"x\",$V6<>\"Gründonnerstag\"),SUM((D6-C6)*1.25),D6-C6)))","v":"00:00:00"},{"$f":"IF(E6<Dropdwon!$A$3,Dropdwon!$B$2,IF(AND(E6<Dropdwon!$A$4,E6>=Dropdwon!$A$3),Dropdwon!$B$3,Dropdwon!$B$4))","v":"00:00:00"},null,null,{"$f":"IF(AND(WEEKDAY($A6,2)=6,HOUR(G6)>=13),SUM((H6-G6)*1.2),IF(WEEKDAY($A6,2)=7,SUM((H6-G6)*1.25),IF(AND($U6=\"x\",$V6<>\"Gründonnerstag\"),SUM((H6-G6)*1.25),H6-G6)))","v":"00:00:00"},{"$f":"IF(I6<Dropdwon!$A$3,Dropdwon!$B$2,IF(AND(I6<Dropdwon!$A$4,I6>=Dropdwon!$A$3),Dropdwon!$B$3,Dropdwon!$B$4))","v":"00:00:00"},null,null,{"$f":"IF(AND(WEEKDAY($A6,2)=6,HOUR(K6)>=13),SUM((L6-K6)*1.2),IF(WEEKDAY($A6,2)=7,SUM((L6-K6)*1.25),IF(AND($U6=\"x\",$V6<>\"Gründonnerstag\"),SUM((L6-K6)*1.25),L6-K6)))","v":"00:00:00"},{"$f":"IF(M6<Dropdwon!$A$3,Dropdwon!$B$2,IF(AND(M6<Dropdwon!$A$4,M6>=Dropdwon!$A$3),Dropdwon!$B$3,Dropdwon!$B$4))","v":"00:00:00"},{"$f":"F6+J6+N6","v":"00:00:00"},{"$f":"IF(AND(T6<>\"\",T6<>\"verpflichtende FoBi\",T6<>\"förderliche FoBi\"),Q6,IF(AND(T6=\"verpflichtende FoBi\",SUM(E6+I6+M6-O6)<=Dropdwon!$A$5),SUM(E6+I6+M6-O6),IF(AND(T6=\"förderliche FoBi\",SUM(E6+I6+M6-O6)<=Dropdwon!$A$5,SUM(E6+I6+M6-O6)<=Q6),SUM(E6+I6+M6-O6),IF(AND(T6=\"förderliche FoBi\",SUM(E6+I6+M6-O6)>Q6),Q6,IF(SUM(E6+I6+M6-O6)>Dropdwon!$A$5,Dropdwon!$C$5,SUM(E6+I6+M6-O6))))))","v":"00:00:00"},{"$f":"IF(OR(U6=\"x\",A6<STAMMDATENBLATT!$B$32,A6>STAMMDATENBLATT!$D$32),\"0:00\",IF(MOD(B6,2)=0,VLOOKUP(WEEKDAY(A6,2),STAMMDATENBLATT!H$28:J$34,3,FALSE),VLOOKUP(WEEKDAY(A6,2),STAMMDATENBLATT!H$38:J$44,3,FALSE)))","v":"0:00"},{"$f":"SUM(P6-Q6)","v":"00:00:00"},null,null,{"$f":"_xlfn.IFNA(VLOOKUP(A6,Feiertage!A:D,3,FALSE),\"\")","v":"x"},{"$f":"_xlfn.IFNA(VLOOKUP(A6,Feiertage!A:D,4,FALSE),\"\")","v":"Allerheiligen"}]
[{"$f":"A6+1","v":"2024-11-02"},{"$f":"WEEKNUM(A7,21)","v":44},null,null,{"$f":"IF(AND(WEEKDAY($A7,2)=6,HOUR(C7)>=13),SUM((D7-C7)*1.2),IF(WEEKDAY($A7,2)=7,SUM((D7-C7)*1.25),IF(AND($U7=\"x\",$V7<>\"Gründonnerstag\"),SUM((D7-C7)*1.25),D7-C7)))","v":"00:00:00"},{"$f":"IF(E7<Dropdwon!$A$3,Dropdwon!$B$2,IF(AND(E7<Dropdwon!$A$4,E7>=Dropdwon!$A$3),Dropdwon!$B$3,Dropdwon!$B$4))","v":"00:00:00"},null,null,{"$f":"IF(AND(WEEKDAY($A7,2)=6,HOUR(G7)>=13),SUM((H7-G7)*1.2),IF(WEEKDAY($A7,2)=7,SUM((H7-G7)*1.25),IF(AND($U7=\"x\",$V7<>\"Gründonnerstag\"),SUM((H7-G7)*1.25),H7-G7)))","v":"00:00:00"},{"$f":"IF(I7<Dropdwon!$A$3,Dropdwon!$B$2,IF(AND(I7<Dropdwon!$A$4,I7>=Dropdwon!$A$3),Dropdwon!$B$3,Dropdwon!$B$4))","v":"00:00:00"},null,null,{"$f":"IF(AND(WEEKDAY($A7,2)=6,HOUR(K7)>=13),SUM((L7-K7)*1.2),IF(WEEKDAY($A7,2)=7,SUM((L7-K7)*1.25),IF(AND($U7=\"x\",$V7<>\"Gründonnerstag\"),SUM((L7-K7)*1.25),L7-K7)))","v":"00:00:00"},{"$f":"IF(M7<Dropdwon!$A$3,Dropdwon!$B$2,IF(AND(M7<Dropdwon!$A$4,M7>=Dropdwon!$A$3),Dropdwon!$B$3,Dropdwon!$B$4))","v":"00:00:00"},{"$f":"F7+J7+N7","v":"00:00:00"},{"$f":"IF(AND(T7<>\"\",T7<>\"verpflichtende FoBi\",T7<>\"förderliche FoBi\"),Q7,IF(AND(T7=\"verpflichtende FoBi\",SUM(E7+I7+M7-O7)<=Dropdwon!$A$5),SUM(E7+I7+M7-O7),IF(AND(T7=\"förderliche FoBi\",SUM(E7+I7+M7-O7)<=Dropdwon!$A$5,SUM(E7+I7+M7-O7)<=Q7),SUM(E7+I7+M7-O7),IF(AND(T7=\"förderliche FoBi\",SUM(E7+I7+M7-O7)>Q7),Q7,IF(SUM(E7+I7+M7-O7)>Dropdwon!$A$5,Dropdwon!$C$5,SUM(E7+I7+M7-O7))))))","v":"00:00:00"},{"$f":"IF(OR(U7=\"x\",A7<STAMMDATENBLATT!$B$32,A7>STAMMDATENBLATT!$D$32),\"0:00\",IF(MOD(B7,2)=0,VLOOKUP(WEEKDAY(A7,2),STAMMDATENBLATT!H$28:J$34,3,FALSE),VLOOKUP(WEEKDAY(A7,2),STAMMDATENBLATT!H$38:J$44,3,FALSE)))","v":"00:00:00"},"00:00:00",null,null,{"$f":"_xlfn.IFNA(VLOOKUP(A7,Feiertage!A:D,3,FALSE),\"\")","v":""},{"$f":"_xlfn.IFNA(VLOOKUP(A7,Feiertage!A:D,4,FALSE),\"\")","v":""}]
[{"$f":"A7+1","v":"2024-11-03"},44,null,null,"00:00:00",{"$f":"IF(E8<Dropdwon!$A$3,Dropdwon!$B$2,IF(AND(E8<Dropdwon!$A$4,E8>=Dropdwon!$A$3),Dropdwon!$B$3,Dropdwon!$B$4))","v":"00:00:00"},null,null,"00:00:00",{"$f":"IF(I8<Dropdwon!$A$3,Dropdwon!$B$2,IF(AND(I8<Dropdwon!$A$4,I8>=Dropdwon!$A$3),Dropdwon!$B$3,Dropdwon!$B$4))","v":"00:00:00"},null,null,"00:00:00",{"$f":"IF(M8<Dropdwon!$A$3,Dropdwon!$B$2,IF(AND(M8<Dropdwon!$A$4,M8>=Dropdwon!$A$3),Dropdwon!$B$3,Dropdwon!$B$4))","v":"00:00:00"},{"$f":"F8+J8+N8","v":"00:00:00"},{"$f":"IF(AND(T8<>\"\",T8<>\"verpflichtende FoBi\",T8<>\"förderliche FoBi\"),Q8,IF(AND(T8=\"verpflichtende FoBi\",SUM(E8+I8+M8-O8)<=Dropdwon!$A$5),SUM(E8+I8+M8-O8),IF(AND(T8=\"förderliche FoBi\",SUM(E8+I8+M8-O8)<=Dropdwon!$A$5,SUM(E8+I8+M8-O8)<=Q8),SUM(E8+I8+M8-O8),IF(AND(T8=\"förderliche FoBi\",SUM(E8+I8+M8-O8)>Q8),Q8,IF(SUM(E8+I8+M8-O8)>Dropdwon!$A$5,Dropdwon!$C$5,SUM(E8+I8+M8-O8))))))","v":"00:00:00"},{"$f":"IF(OR(U8=\"x\",A8<STAMMDATENBLATT!$B$32,A8>STAMMDATENBLATT!$D$32),\"0:00\",IF(MOD(B8,2)=0,VLOOKUP(WEEKDAY(A8,2),STAMMDATENBLATT!H$28:J$34,3,FALSE),VLOOKUP(WEEKDAY(A8,2),STAMMDATENBLATT!H$38:J$44,3,FALSE)))","v":"00:00:00"},"00:00:00",null,null,{"$f":"_xlfn.IFNA(VLOOKUP(A8,Feiertage!A:D,3,FALSE),\"\")","v":""},{"$f":"_xlfn.IFNA(VLOOKUP(A8,Feiertage!A:D,4,FALSE),\"\")","v":""}]
[{"$f":"A8+1","v":"2024-11-04"},45,null,null,"00:00:00",{"$f":"IF(E9<Dropdwon!$A$3,Dropdwon!$B$2,IF(AND(E9<Dropdwon!$A$4,E9>=Dropdwon!$A$3),Dropdwon!$B$3,Dropdwon!$B$4))","v":"00:00:00"},null,null,"00:00:00",{"$f":"IF(I9<Dropdwon!$A$3,Dropdwon!$B$2,IF(AND(I9<Dropdwon!$A$4,I9>=Dropdwon!$A$3),Dropdwon!$B$3,Dropdwon!$B$4))","v":"00:00:00"},null,null,"00:00:00",{"$f":"IF(M9<Dropdwon!$A$3,Dropdwon!$B$2,IF(AND(M9<Dropdwon!$A$4,M9>=Dropdwon!$A$3),Dropdwon!$B$3,Dropdwon!$B$4))","v":"00:00:00"},"00:00:00",{"$f":"IF(AND(T9<>\"\",T9<>\"verpflichtende FoBi\",T9<>\"förderliche FoBi\"),Q9,IF(AND(T9=\"verpflichtende FoBi\",SUM(E9+I9+M9-O9)<=Dropdwon!$A$5),SUM(E9+I9+M9-O9),IF(AND(T9=\"förderliche FoBi\",SUM(E9+I9+M9-O9)<=Dropdwon!$A$5,SUM(E9+I9+M9-O9)<=Q9),SUM(E9+I9+M9-O9),IF(AND(T9=\"förderliche FoBi\",SUM(E9+I9+M9-O9)>Q9),Q9,IF(SUM(E9+I9+M9-O9)>Dropdwon!$A$5,Dropdwon!$C$5,SUM(E9+I9+M9-O9))))))","v":{"$error":"#VALUE!"}},{"$f":"IF(OR(U9=\"x\",A9<STAMMDATENBLATT!$B$32,A9>STAMMDATENBLATT!$D$32),\"0:00\",IF(MOD(B9,2)=0,VLOOKUP(WEEKDAY(A9,2),STAMMDATENBLATT!H$28:J$34,3,FALSE),VLOOKUP(WEEKDAY(A9,2),STAMMDATENBLATT!H$38:J$44,3,FALSE)))","v":{"$error":"#VALUE!"}},{"$error":"#VALUE!"},null,null,{"$f":"_xlfn.IFNA(VLOOKUP(A9,Feiertage!A:D,3,FALSE),\"\")","v":""},{"$f":"_xlfn.IFNA(VLOOKUP(A9,Feiertage!A:D,4,FALSE),\"\")","v":""}]
["2024-11-05",45,null,null,"00:00:00",{"$f":"IF(E10<Dropdwon!$A$3,Dropdwon!$B$2,IF(AND(E10<Dropdwon!$A$4,E10>=Dropdwon!$A$3),Dropdwon!$B$3,Dropdwon!$B$4))","v":"00:00:00"},null,null,"00:00:00",{"$f":"IF(I10<Dropdwon!$A$3,Dropdwon!$B$2,IF(AND(I10<Dropdwon!$A$4,I10>=Dropdwon!$A$3),Dropdwon!$B$3,Dropdwon!$B$4))","v":"00:00:00"},null,null,"00:00:00",{"$f":"IF(M10<Dropdwon!$A$3,Dropdwon!$B$2,IF(AND(M10<Dropdwon!$A$4,M10>=Dropdwon!$A$3),Dropdwon!$B$3,Dropdwon!$B$4))","v":"00:00:00"},"00:00:00",{"$f":"IF(AND(T10<>\"\",T10<>\"verpflichtende FoBi\",T10<>\"förderliche FoBi\"),Q10,IF(AND(T10=\"verpflichtende FoBi\",SUM(E10+I10+M10-O10)<=Dropdwon!$A$5),SUM(E10+I10+M10-O10),IF(AND(T10=\"förderliche FoBi\",SUM(E10+I10+M10-O10)<=Dropdwon!$A$5,SUM(E10+I10+M10-O10)<=Q10),SUM(E10+I10+M10-O10),IF(AND(T10=\"förderliche FoBi\",SUM(E10+I10+M10-O10)>Q10),Q10,IF(SUM(E10+I10+M10-O10)>Dropdwon!$A$5,Dropdwon!$C$5,SUM(E10+I10+M10-O10))))))","v":{"$error":"#VALUE!"}},{"$f":"IF(OR(U10=\"x\",A10<STAMMDATENBLATT!$B$32,A10>STAMMDATENBLATT!$D$32),\"0:00\",IF(MOD(B10,2)=0,VLOOKUP(WEEKDAY(A10,2),STAMMDATENBLATT!H$28:J$34,3,FALSE),VLOOKUP(WEEKDAY(A10,2),STAMMDATENBLATT!H$38:J$44,3,FALSE)))","v":{"$error":"#VALUE!"}},{"$error":"#VALUE!"},null,null,{"$f":"_xlfn.IFNA(VLOOKUP(A10,Feiertage!A:D,3,FALSE),\"\")","v":""},{"$f":"_xlfn.IFNA(VLOOKUP(A10,Feiertage!A:D,4,FALSE),\"\")","v":""}]
["2024-11-06",45,null,null,"00:00:00",{"$f":"IF(E11<Dropdwon!$A$3,Dropdwon!$B$2,IF(AND(E11<Dropdwon!$A$4,E11>=Dropdwon!$A$3),Dropdwon!$B$3,Dropdwon!$B$4))","v":"00:00:00"},null,null,"00:00:00",{"$f":"IF(I11<Dropdwon!$A$3,Dropdwon!$B$2,IF(AND(I11<Dropdwon!$A$4,I11>=Dropdwon!$A$3),Dropdwon!$B$3,Dropdwon!$B$4))","v":"00:00:00"},null,null,"00:00:00",{"$f":"IF(M11<Dropdwon!$A$3,Dropdwon!$B$2,IF(AND(M11<Dropdwon!$A$4,M11>=Dropdwon!$A$3),Dropdwon!$B$3,Dropdwon!$B$4))","v":"00:00:00"},"00:00:00",{"$f":"IF(AND(T11<>\"\",T11<>\"verpflichtende FoBi\",T11<>\"förderliche FoBi\"),Q11,IF(AND(T11=\"verpflichtende FoBi\",SUM(E11+I11+M11-O11)<=Dropdwon!$A$5),SUM(E11+I11+M11-O11),IF(AND(T11=\"förderliche FoBi\",SUM(E11+I11+M11-O11)<=Dropdwon!$A$5,SUM(E11+I11+M11-O11)<=Q11),SUM(E11+I11+M11-O11),IF(AND(T11=\"förderliche FoBi\",SUM(E11+I11+M11-O11)>Q11),Q11,IF(SUM(E11+I11+M11-O11)>Dropdwon!$A$5,Dropdwon!$C$5,SUM(E11+I11+M11-O11))))))","v":{"$error":"#VALUE!"}},{"$f":"IF(OR(U11=\"x\",A11<STAMMDATENBLATT!$B$32,A11>STAMMDATENBLATT!$D$32),\"0:00\",IF(MOD(B11,2)=0,VLOOKUP(WEEKDAY(A11,2),STAMMDATENBLATT!H$28:J$34,3,FALSE),VLOOKUP(WEEKDAY(A11,2),STAMMDATENBLATT!H$38:J$44,3,FALSE)))","v":{"$error":"#VALUE!"}},{"$error":"#VALUE!"},null,null,{"$f":"_xlfn.IFNA(VLOOKUP(A11,Feiertage!A:D,3,FALSE),\"\")","v":""},{"$f":"_xlfn.IFNA(VLOOKUP(A11,Feiertage!A:D,4,FALSE),\"\")","v":""}]
["2024-11-07",45,null,null,"00:00:00",{"$f":"IF(E12<Dropdwon!$A$3,Dropdwon!$B$2,IF(AND(E12<Dropdwon!$A$4,E12>=Dropdwon!$A$3),Dropdwon!$B$3,Dropdwon!$B$4))","v":"00:00:00"},null,null,"00:00:00",{"$f":"IF(I12<Dropdwon!$A$3,Dropdwon!$B$2,IF(AND(I12<Dropdwon!$A$4,I12>=Dropdwon!$A$3),Dropdwon!$B$3,Dropdwon!$B$4))","v":"00:00:00"},null,null,"00:00:00",{"$f":"IF(M12<Dropdwon!$A$3,Dropdwon!$B$2,IF(AND(M12<Dropdwon!$A$4,M12>=Dropdwon!$A$3),Dropdwon!$B$3,Dropdwon!$B$4))","v":"00:00:00"},"00:00:00",{"$f":"IF(AND(T12<>\"\",T12<>\"verpflichtende FoBi\",T12<>\"förderliche FoBi\"),Q12,IF(AND(T12=\"verpflichtende FoBi\",SUM(E12+I12+M12-O12)<=Dropdwon!$A$5),SUM(E12+I12+M12-O12),IF(AND(T12=\"förderliche FoBi\",SUM(E12+I12+M12-O12)<=Dropdwon!$A$5,SUM(E12+I12+M12-O12)<=Q12),SUM(E12+I12+M12-O12),IF(AND(T12=\"förderliche FoBi\",SUM(E12+I12+M12-O12)>Q12),Q12,IF(SUM(E12+I12+M12-O12)>Dropdwon!$A$5,Dropdwon!$C$5,SUM(E12+I12+M12-O12))))))","v":{"$error":"#VALUE!"}},{"$f":"IF(OR(U12=\"x\",A12<STAMMDATENBLATT!$B$32,A12>STAMMDATENBLATT!$D$32),\"0:00\",IF(MOD(B12,2)=0,VLOOKUP(WEEKDAY(A12,2),STAMMDATENBLATT!H$28:J$34,3,FALSE),VLOOKUP(WEEKDAY(A12,2),STAMMDATENBLATT!H$38:J$44,3,FALSE)))","v":{"$error":"#VALUE!"}},{"$error":"#VALUE!"},null,null,{"$f":"_xlfn.IFNA(VLOOKUP(A12,Feiertage!A:D,3,FALSE),\"\")","v":""},{"$f":"_xlfn.IFNA(VLOOKUP(A12,Feiertage!A:D,4,FALSE),\"\")","v":""}]
["2024-11-08",45,null,null,"00:00:00",{"$f":"IF(E13<Dropdwon!$A$3,Dropdwon!$B$2,IF(AND(E13<Dropdwon!$A$4,E13>=Dropdwon!$A$3),Dropdwon!$B$3,Dropdwon!$B$4))","v":"00:00:00"},null,null,"00:00:00",{"$f":"IF(I13<Dropdwon!$A$3,Dropdwon!$B$2,IF(AND(I13<Dropdwon!$A$4,I13>=Dropdwon!$A$3),Dropdwon!$B$3,Dropdwon!$B$4))","v":"00:00:00"},null,null,"00:00:00",{"$f":"IF(M13<Dropdwon!$A$3,Dropdwon!$B$2,IF(AND(M13<Dropdwon!$A$4,M13>=Dropdwon!$A$3),Dropdwon!$B$3,Dropdwon!$B$4))","v":"00:00:00"},"00:00:00",{"$f":"IF(AND(T13<>\"\",T13<>\"verpflichtende FoBi\",T13<>\"förderliche FoBi\"),Q13,IF(AND(T13=\"verpflichtende FoBi\",SUM(E13+I13+M13-O13)<=Dropdwon!$A$5),SUM(E13+I13+M13-O13),IF(AND(T13=\"förderliche FoBi\",SUM(E13+I13+M13-O13)<=Dropdwon!$A$5,SUM(E13+I13+M13-O13)<=Q13),SUM(E13+I13+M13-O13),IF(AND(T13=\"förderliche FoBi\",SUM(E13+I13+M13-O13)>Q13),Q13,IF(SUM(E13+I13+M13-O13)>Dropdwon!$A$5,Dropdwon!$C$5,SUM(E13+I13+M13-O13))))))","v":{"$error":"#VALUE!"}},{"$f":"IF(OR(U13=\"x\",A13<STAMMDATENBLATT!$B$32,A13>STAMMDATENBLATT!$D$32),\"0:00\",IF(MOD(B13,2)=0,VLOOKUP(WEEKDAY(A13,2),STAMMDATENBLATT!H$28:J$34,3,FALSE),VLOOKUP(WEEKDAY(A13,2),STAMMDATENBLATT!H$38:J$44,3,FALSE)))","v":{"$error":"#VALUE!"}},{"$error":"#VALUE!"},null,null,{"$f":"_xlfn.IFNA(VLOOKUP(A13,Feiertage!A:D,3,FALSE),\"\")","v":""},{"$f":"_xlfn.IFNA(VLOOKUP(A13,Feiertage!A:D,4,FALSE),\"\")","v":""}]
["2024-11-09",45,null,null,"00:00:00",{"$f":"IF(E14<Dropdwon!$A$3,Dropdwon!$B$2,IF(AND(E14<Dropdwon!$A$4,E14>=Dropdwon!$A$3),Dropdwon!$B$3,Dropdwon!$B$4))","v":"00:00:00"},null,null,"00:00:00",{"$f":"IF(I14<Dropdwon!$A$3,Dropdwon!$B$2,IF(AND(I14<Dropdwon!$A$4,I14>=Dropdwon!$A$3),Dropdwon!$B$3,Dropdwon!$B$4))","v":"00:00:00"},null,null,"00:00:00",{"$f":"IF(M14<Dropdwon!$A$3,Dropdwon!$B$2,IF(AND(M14<Dropdwon!$A$4,M14>=Dropdwon!$A$3),Dropdwon!$B$3,Dropdwon!$B$4))","v":"00:00:00"},"00:00:00",{"$f":"IF(AND(T14<>\"\",T14<>\"verpflichtende FoBi\",T14<>\"förderliche FoBi\"),Q14,IF(AND(T14=\"verpflichtende FoBi\",SUM(E14+I14+M14-O14)<=Dropdwon!$A$5),SUM(E14+I14+M14-O14),IF(AND(T14=\"förderliche FoBi\",SUM(E14+I14+M14-O14)<=Dropdwon!$A$5,SUM(E14+I14+M14-O14)<=Q14),SUM(E14+I14+M14-O14),IF(AND(T14=\"förderliche FoBi\",SUM(E14+I14+M14-O14)>Q14),Q14,IF(SUM(E14+I14+M14-O14)>Dropdwon!$A$5,Dropdwon!$C$5,SUM(E14+I14+M14-O14))))))","v":"00:00:00"},{"$f":"IF(OR(U14=\"x\",A14<STAMMDATENBLATT!$B$32,A14>STAMMDATENBLATT!$D$32),\"0:00\",IF(MOD(B14,2)=0,VLOOKUP(WEEKDAY(A14,2),STAMMDATENBLATT!H$28:J$34,3,FALSE),VLOOKUP(WEEKDAY(A14,2),STAMMDATENBLATT!H$38:J$44,3,FALSE)))","v":"00:00:00"},"00:00:00",null,null,{"$f":"_xlfn.IFNA(VLOOKUP(A14,Feiertage!A:D,3,FALSE),\"\")","v":""},{"$f":"_xlfn.IFNA(VLOOKUP(A14,Feiertage!A:D,4,FALSE),\"\")","v":""}]
["2024-11-10",45,null,null,"00:00:00",{"$f":"IF(E15<Dropdwon!$A$3,Dropdwon!$B$2,IF(AND(E15<Dropdwon!$A$4,E15>=Dropdwon!$A$3),Dropdwon!$B$3,Dropdwon!$B$4))","v":"00:00:00"},null,null,"00:00:00",{"$f":"IF(I15<Dropdwon!$A$3,Dropdwon!$B$2,IF(AND(I15<Dropdwon!$A$4,I15>=Dropdwon!$A$3),Dropdwon!$B$3,Dropdwon!$B$4))","v":"00:00:00"},null,null,"00:00:00",{"$f":"IF(M15<Dropdwon!$A$3,Dropdwon!$B$2,IF(AND(M15<Dropdwon!$A$4,M15>=Dropdwon!$A$3),Dropdwon!$B$3,Dropdwon!$B$4))","v":"00:00:00"},"00:00:00",{"$f":"IF(AND(T15<>\"\",T15<>\"verpflichtende FoBi\",T15<>\"förderliche FoBi\"),Q15,IF(AND(T15=\"verpflichtende FoBi\",SUM(E15+I15+M15-O15)<=Dropdwon!$A$5),SUM(E15+I15+M15-O15),IF(AND(T15=\"förderliche FoBi\",SUM(E15+I15+M15-O15)<=Dropdwon!$A$5,SUM(E15+I15+M15-O15)<=Q15),SUM(E15+I15+M15-O15),IF(AND(T15=\"förderliche FoBi\",SUM(E15+I15+M15-O15)>Q15),Q15,IF(SUM(E15+I15+M15-O15)>Dropdwon!$A$5,Dropdwon!$C$5,SUM(E15+I15+M15-O15))))))","v":"00:00:00"},{"$f":"IF(OR(U15=\"x\",A15<STAMMDATENBLATT!$B$32,A15>STAMMDATENBLATT!$D$32),\"0:00\",IF(MOD(B15,2)=0,VLOOKUP(WEEKDAY(A15,2),STAMMDATENBLATT!H$28:J$34,3,FALSE),VLOOKUP(WEEKDAY(A15,2),STAMMDATENBLATT!H$38:J$44,3,FALSE)))","v":"00:00:00"},"00:00:00",null,null,{"$f":"_xlfn.IFNA(VLOOKUP(A15,Feiertage!A:D,3,FALSE),\"\")","v":""},{"$f":"_xlfn.IFNA(VLOOKUP(A15,Feiertage!A:D,4,FALSE),\"\")","v":""}]
["2024-11-11",46,null,null,"00:00:00",{"$f":"IF(E16<Dropdwon!$A$3,Dropdwon!$B$2,IF(AND(E16<Dropdwon!$A$4,E16>=Dropdwon!$A$3),Dropdwon!$B$3,Dropdwon!$B$4))","v":"00:00:00"},null,null,"00:00:00",{"$f":"IF(I16<Dropdwon!$A$3,Dropdwon!$B$2,IF(AND(I16<Dropdwon!$A$4,I16>=Dropdwon!$A$3),Dropdwon!$B$3,Dropdwon!$B$4))","v":"00:00:00"},null,null,"00:00:00",{"$f":"IF(M16<Dropdwon!$A$3,Dropdwon!$B$2,IF(AND(M16<Dropdwon!$A$4,M16>=Dropdwon!$A$3),Dropdwon!$B$3,Dropdwon!$B$4))","v":"00:00:00"},"00:00:00",{"$f":"IF(AND(T16<>\"\",T16<>\"verpflichtende FoBi\",T16<>\"förderliche FoBi\"),Q16,IF(AND(T16=\"verpflichtende FoBi\",SUM(E16+I16+M16-O16)<=Dropdwon!$A$5),SUM(E16+I16+M16-O16),IF(AND(T16=\"förderliche FoBi\",SUM(E16+I16+M16-O16)<=Dropdwon!$A$5,SUM(E16+I16+M16-O16)<=Q16),SUM(E16+I16+M16-O16),IF(AND(T16=\"förderliche FoBi\",SUM(E16+I16+M16-O16)>Q16),Q16,IF(SUM(E16+I16+M16-O16)>Dropdwon!$A$5,Dropdwon!$C$5,SUM(E16+I16+M16-O16))))))","v":{"$error":"#VALUE!"}},{"$f":"IF(OR(U16=\"x\",A16<STAMMDATENBLATT!$B$32,A16>STAMMDATENBLATT!$D$32),\"0:00\",IF(MOD(B16,2)=0,VLOOKUP(WEEKDAY(A16,2),STAMMDATENBLATT!H$28:J$34,3,FALSE),VLOOKUP(WEEKDAY(A16,2),STAMMDATENBLATT!H$38:J$44,3,FALSE)))","v":{"$error":"#VALUE!"}},{"$error":"#VALUE!"},null,null,{"$f":"_xlfn.IFNA(VLOOKUP(A16,Feiertage!A:D,3,FALSE),\"\")","v":""},{"$f":"_xlfn.IFNA(VLOOKUP(A16,Feiertage!A:D,4,FALSE),\"\")","v":""}]
["2024-11-12",46,null,null,"00:00:00",{"$f":"IF(E17<Dropdwon!$A$3,Dropdwon!$B$2,IF(AND(E17<Dropdwon!$A$4,E17>=Dropdwon!$A$3),Dropdwon!$B$3,Dropdwon!$B$4))","v":"00:00:00"},null,null,"00:00:00",{"$f":"IF(I17<Dropdwon!$A$3,Dropdwon!$B$2,IF(AND(I17<Dropdwon!$A$4,I17>=Dropdwon!$A$3),Dropdwon!$B$3,Dropdwon!$B$4))","v":"00:00:00"},null,null,"00:00:00",{"$f":"IF(M17<Dropdwon!$A$3,Dropdwon!$B$2,IF(AND(M17<Dropdwon!$A$4,M17>=Dropdwon!$A$3),Dropdwon!$B$3,Dropdwon!$B$4))","v":"00:00:00"},"00:00:00",{"$f":"IF(AND(T17<>\"\",T17<>\"verpflichtende FoBi\",T17<>\"förderliche FoBi\"),Q17,IF(AND(T17=\"verpflichtende FoBi\",SUM(E17+I17+M17-O17)<=Dropdwon!$A$5),SUM(E17+I17+M17-O17),IF(AND(T17=\"förderliche FoBi\",SUM(E17+I17+M17-O17)<=Dropdwon!$A$5,SUM(E17+I17+M17-O17)<=Q17),SUM(E17+I17+M17-O17),IF(AND(T17=\"förderliche FoBi\",SUM(E17+I17+M17-O17)>Q17),Q17,IF(SUM(E17+I17+M17-O17)>Dropdwon!$A$5,Dropdwon!$C$5,SUM(E17+I17+M17-O17))))))","v":{"$error":"#VALUE!"}},{"$f":"IF(OR(U17=\"x\",A17<STAMMDATENBLATT!$B$32,A17>STAMMDATENBLATT!$D$32),\"0:00\",IF(MOD(B17,2)=0,VLOOKUP(WEEKDAY(A17,2),STAMMDATENBLATT!H$28:J$34,3,FALSE),VLOOKUP(WEEKDAY(A17,2),STAMMDATENBLATT!H$38:J$44,3,FALSE)))","v":{"$error":"#VALUE!"}},{"$error":"#VALUE!"},null,null,{"$f":"_xlfn.IFNA(VLOOKUP(A17,Feiertage!A:D,3,FALSE),\"\")","v":""},{"$f":"_xlfn.IFNA(VLOOKUP(A17,Feiertage!A:D,4,FALSE),\"\")","v":""}]
["2024-11-13",46,null,null,"00:00:00",{"$f":"IF(E18<Dropdwon!$A$3,Dropdwon!$B$2,IF(AND(E18<Dropdwon!$A$4,E18>=Dropdwon!$A$3),Dropdwon!$B$3,Dropdwon!$B$4))","v":"00:00:00"},null,null,"00:00:00",{"$f":"IF(I18<Dropdwon!$A$3,Dropdwon!$B$2,IF(AND(I18<Dropdwon!$A$4,I18>=Dropdwon!$A$3),Dropdwon!$B$3,Dropdwon!$B$4))","v":"00:00:00"},null,null,"00:00:00",{"$f":"IF(M18<Dropdwon!$A$3,Dropdwon!$B$2,IF(AND(M18<Dropdwon!$A$4,M18>=Dropdwon!$A$3),Dropdwon!$B$3,Dropdwon!$B$4))","v":"00:00:00"},"00:00:00",{"$f":"IF(AND(T18<>\"\",T18<>\"verpflichtende FoBi\",T18<>\"förderliche FoBi\"),Q18,IF(AND(T18=\"verpflichtende FoBi\",SUM(E18+I18+M18-O18)<=Dropdwon!$A$5),SUM(E18+I18+M18-O18),IF(AND(T18=\"förderliche FoBi\",SUM(E18+I18+M18-O18)<=Dropdwon!$A$5,SUM(E18+I18+M18-O18)<=Q18),SUM(E18+I18+M18-O18),IF(AND(T18=\"förderliche FoBi\",SUM(E18+I18+M18-O18)>Q18),Q18,IF(SUM(E18+I18+M18-O18)>Dropdwon!$A$5,Dropdwon!$C$5,SUM(E18+I18+M18-O18))))))","v":{"$error":"#VALUE!"}},{"$f":"IF(OR(U18=\"x\",A18<STAMMDATENBLATT!$B$32,A18>STAMMDATENBLATT!$D$32),\"0:00\",IF(MOD(B18,2)=0,VLOOKUP(WEEKDAY(A18,2),STAMMDATENBLATT!H$28:J$34,3,FALSE),VLOOKUP(WEEKDAY(A18,2),STAMMDATENBLATT!H$38:J$44,3,FALSE)))","v":{"$error":"#VALUE!"}},{"$error":"#VALUE!"},null,null,{"$f":"_xlfn.IFNA(VLOOKUP(A18,Feiertage!A:D,3,FALSE),\"\")","v":""},{"$f":"_xlfn.IFNA(VLOOKUP(A18,Feiertage!A:D,4,FALSE),\"\")","v":""}]
["2024-11-14",46,null,null,"00:00:00",{"$f":"IF(E19<Dropdwon!$A$3,Dropdwon!$B$2,IF(AND(E19<Dropdwon!$A$4,E19>=Dropdwon!$A$3),Dropdwon!$B$3,Dropdwon!$B$4))","v":"00:00:00"},null,null,"00:00:00",{"$f":"IF(I19<Dropdwon!$A$3,Dropdwon!$B$2,IF(AND(I19<Dropdwon!$A$4,I19>=Dropdwon!$A$3),Dropdwon!$B$3,Dropdwon!$B$4))","v":"00:00:00"},null,null,"00:00:00",{"$f":"IF(M19<Dropdwon!$A$3,Dropdwon!$B$2,IF(AND(M19<Dropdwon!$A$4,M19>=Dropdwon!$A$3),Dropdwon!$B$3,Dropdwon!$B$4))","v":"00:00:00"},"00:00:00",{"$f":"IF(AND(T19<>\"\",T19<>\"verpflichtende FoBi\",T19<>\"förderliche FoBi\"),Q19,IF(AND(T19=\"verpflichtende FoBi\",SUM(E19+I19+M19-O19)<=Dropdwon!$A$5),SUM(E19+I19+M19-O19),IF(AND(T19=\"förderliche FoBi\",SUM(E19+I19+M19-O19)<=Dropdwon!$A$5,SUM(E19+I19+M19-O19)<=Q19),SUM(E19+I19+M19-O19),IF(AND(T19=\"förderliche FoBi\",SUM(E19+I19+M19-O19)>Q19),Q19,IF(SUM(E19+I19+M19-O19)>Dropdwon!$A$5,Dropdwon!$C$5,SUM(E19+I19+M19-O19))))))","v":{"$error":"#VALUE!"}},{"$f":"IF(OR(U19=\"x\",A19<STAMMDATENBLATT!$B$32,A19>STAMMDATENBLATT!$D$32),\"0:00\",IF(MOD(B19,2)=0,VLOOKUP(WEEKDAY(A19,2),STAMMDATENBLATT!H$28:J$34,3,FALSE),VLOOKUP(WEEKDAY(A19,2),STAMMDATENBLATT!H$38:J$44,3,FALSE)))","v":{"$error":"#VALUE!"}},{"$error":"#VALUE!"},null,null,{"$f":"_xlfn.IFNA(VLOOKUP(A19,Feiertage!A:D,3,FALSE),\"\")","v":""},{"$f":"_xlfn.IFNA(VLOOKUP(A19,Feiertage!A:D,4,FALSE),\"\")","v":""}]
["2024-11-15",46,null,null,"00:00:00",{"$f":"IF(E20<Dropdwon!$A$3,Dropdwon!$B$2,IF(AND(E20<Dropdwon!$A$4,E20>=Dropdwon!$A$3),Dropdwon!$B$3,Dropdwon!$B$4))","v":"00:00:00"},null,null,"00:00:00",{"$f":"IF(I20<Dropdwon!$A$3,Dropdwon!$B$2,IF(AND(I20<Dropdwon!$A$4,I20>=Dropdwon!$A$3),Dropdwon!$B$3,Dropdwon!$B$4))","v":"00:00:00"},null,null,"00:00:00",{"$f":"IF(M20<Dropdwon!$A$3,Dropdwon!$B$2,IF(AND(M20<Dropdwon!$A$4,M20>=Dropdwon!$A$3),Dropdwon!$B$3,Dropdwon!$B$4))","v":"00:00:00"},"00:00:00",{"$f":"IF(AND(T20<>\"\",T20<>\"verpflichtende FoBi\",T20<>\"förderliche FoBi\"),Q20,IF(AND(T20=\"verpflichtende FoBi\",SUM(E20+I20+M20-O20)<=Dropdwon!$A$5),SUM(E20+I20+M20-O20),IF(AND(T20=\"förderliche FoBi\",SUM(E20+I20+M20-O20)<=Dropdwon!$A$5,SUM(E20+I20+M20-O20)<=Q20),SUM(E20+I20+M20-O20),IF(AND(T20=\"förderliche FoBi\",SUM(E20+I20+M20-O20)>Q20),Q20,IF(SUM(E20+I20+M20-O20)>Dropdwon!$A$5,Dropdwon!$C$5,SUM(E20+I20+M20-O20))))))","v":{"$error":"#VALUE!"}},{"$f":"IF(OR(U20=\"x\",A20<STAMMDATENBLATT!$B$32,A20>STAMMDATENBLATT!$D$32),\"0:00\",IF(MOD(B20,2)=0,VLOOKUP(WEEKDAY(A20,2),STAMMDATENBLATT!H$28:J$34,3,FALSE),VLOOKUP(WEEKDAY(A20,2),STAMMDATENBLATT!H$38:J$44,3,FALSE)))","v":{"$error":"#VALUE!"}},{"$error":"#VALUE!"},null,null,{"$f":"_xlfn.IFNA(VLOOKUP(A20,Feiertage!A:D,3,FALSE),\"\")","v":""},{"$f":"_xlfn.IFNA(VLOOKUP(A20,Feiertage!A:D,4,FALSE),\"\")","v":""}]
["2024-11-16",46,null,null,"00:00:00",{"$f":"IF(E21<Dropdwon!$A$3,Dropdwon!$B$2,IF(AND(E21<Dropdwon!$A$4,E21>=Dropdwon!$A$3),Dropdwon!$B$3,Dropdwon!$B$4))","v":"00:00:00"},null,null,"00:00:00",{"$f":"IF(I21<Dropdwon!$A$3,Dropdwon!$B$2,IF(AND(I21<Dropdwon!$A$4,I21>=Dropdwon!$A$3),Dropdwon!$B$3,Dropdwon!$B$4))","v":"00:00:00"},null,null,"00:00:00",{"$f":"IF(M21<Dropdwon!$A$3,Dropdwon!$B$2,IF(AND(M21<Dropdwon!$A$4,M21>=Dropdwon!$A$3),Dropdwon!$B$3,Dropdwon!$B$4))","v":"00:00:00"},"00:00:00",{"$f":"IF(AND(T21<>\"\",T21<>\"verpflichtende FoBi\",T21<>\"förderliche FoBi\"),Q21,IF(AND(T21=\"verpflichtende FoBi\",SUM(E21+I21+M21-O21)<=Dropdwon!$A$5),SUM(E21+I21+M21-O21),IF(AND(T21=\"förderliche FoBi\",SUM(E21+I21+M21-O21)<=Dropdwon!$A$5,SUM(E21+I21+M21-O21)<=Q21),SUM(E21+I21+M21-O21),IF(AND(T21=\"förderliche FoBi\",SUM(E21+I21+M21-O21)>Q21),Q21,IF(SUM(E21+I21+M21-O21)>Dropdwon!$A$5,Dropdwon!$C$5,SUM(E21+I21+M21-O21))))))","v":"00:00:00"},{"$f":"IF(OR(U21=\"x\",A21<STAMMDATENBLATT!$B$32,A21>STAMMDATENBLATT!$D$32),\"0:00\",IF(MOD(B21,2)=0,VLOOKUP(WEEKDAY(A21,2),STAMMDATENBLATT!H$28:J$34,3,FALSE),VLOOKUP(WEEKDAY(A21,2),STAMMDATENBLATT!H$38:J$44,3,FALSE)))","v":"00:00:00"},"00:00:00",null,null,{"$f":"_xlfn.IFNA(VLOOKUP(A21,Feiertage!A:D,3,FALSE),\"\")","v":""},{"$f":"_xlfn.IFNA(VLOOKUP(A21,Feiertage!A:D,4,FALSE),\"\")","v":""}]
["2024-11-17",46,null,null,"00:00:00",{"$f":"IF(E22<Dropdwon!$A$3,Dropdwon!$B$2,IF(AND(E22<Dropdwon!$A$4,E22>=Dropdwon!$A$3),Dropdwon!$B$3,Dropdwon!$B$4))","v":"00:00:00"},null,null,"00:00:00",{"$f":"IF(I22<Dropdwon!$A$3,Dropdwon!$B$2,IF(AND(I22<Dropdwon!$A$4,I22>=Dropdwon!$A$3),Dropdwon!$B$3,Dropdwon!$B$4))","v":"00:00:00"},null,null,"00:00:00",{"$f":"IF(M22<Dropdwon!$A$3,Dropdwon!$B$2,IF(AND(M22<Dropdwon!$A$4,M22>=Dropdwon!$A$3),Dropdwon!$B$3,Dropdwon!$B$4))","v":"00:00:00"},"00:00:00",{"$f":"IF(AND(T22<>\"\",T22<>\"verpflichtende FoBi\",T22<>\"förderliche FoBi\"),Q22,IF(AND(T22=\"verpflichtende FoBi\",SUM(E22+I22+M22-O22)<=Dropdwon!$A$5),SUM(E22+I22+M22-O22),IF(AND(T22=\"förderliche FoBi\",SUM(E22+I22+M22-O22)<=Dropdwon!$A$5,SUM(E22+I22+M22-O22)<=Q22),SUM(E22+I22+M22-O22),IF(AND(T22=\"förderliche FoBi\",SUM(E22+I22+M22-O22)>Q22),Q22,IF(SUM(E22+I22+M22-O22)>Dropdwon!$A$5,Dropdwon!$C$5,SUM(E22+I22+M22-O22))))))","v":"00:00:00"},{"$f":"IF(OR(U22=\"x\",A22<STAMMDATENBLATT!$B$32,A22>STAMMDATENBLATT!$D$32),\"0:00\",IF(MOD(B22,2)=0,VLOOKUP(WEEKDAY(A22,2),STAMMDATENBLATT!H$28:J$34,3,FALSE),VLOOKUP(WEEKDAY(A22,2),STAMMDATENBLATT!H$38:J$44,3,FALSE)))","v":"00:00:00"},"00:00:00",null,null,{"$f":"_xlfn.IFNA(VLOOKUP(A22,Feiertage!A:D,3,FALSE),\"\")","v":""},{"$f":"_xlfn.IFNA(VLOOKUP(A22,Feiertage!A:D,4,FALSE),\"\")","v":""}]
["2024-11-18",47,null,null,"00:00:00",{"$f":"IF(E23<Dropdwon!$A$3,Dropdwon!$B$2,IF(AND(E23<Dropdwon!$A$4,E23>=Dropdwon!$A$3),Dropdwon!$B$3,Dropdwon!$B$4))","v":"00:00:00"},null,null,"00:00:00",{"$f":"IF(I23<Dropdwon!$A$3,Dropdwon!$B$2,IF(AND(I23<Dropdwon!$A$4,I23>=Dropdwon!$A$3),Dropdwon!$B$3,Dropdwon!$B$4))","v":"00:00:00"},null,null,"00:00:00",{"$f":"IF(M23<Dropdwon!$A$3,Dropdwon!$B$2,IF(AND(M23<Dropdwon!$A$4,M23>=Dropdwon!$A$3),Dropdwon!$B$3,Dropdwon!$B$4))","v":"00:00:00"},"00:00:00",{"$f":"IF(AND(T23<>\"\",T23<>\"verpflichtende FoBi\",T23<>\"förderliche FoBi\"),Q23,IF(AND(T23=\"verpflichtende FoBi\",SUM(E23+I23+M23-O23)<=Dropdwon!$A$5),SUM(E23+I23+M23-O23),IF(AND(T23=\"förderliche FoBi\",SUM(E23+I23+M23-O23)<=Dropdwon!$A$5,SUM(E23+I23+M23-O23)<=Q23),SUM(E23+I23+M23-O23),IF(AND(T23=\"förderliche FoBi\",SUM(E23+I23+M23-O23)>Q23),Q23,IF(SUM(E23+I23+M23-O23)>Dropdwon!$A$5,Dropdwon!$C$5,SUM(E23+I23+M23-O23))))))","v":{"$error":"#VALUE!"}},{"$f":"IF(OR(U23=\"x\",A23<STAMMDATENBLATT!$B$32,A23>STAMMDATENBLATT!$D$32),\"0:00\",IF(MOD(B23,2)=0,VLOOKUP(WEEKDAY(A23,2),STAMMDATENBLATT!H$28:J$34,3,FALSE),VLOOKUP(WEEKDAY(A23,2),STAMMDATENBLATT!H$38:J$44,3,FALSE)))","v":{"$error":"#VALUE!"}},{"$error":"#VALUE!"},null,null,{"$f":"_xlfn.IFNA(VLOOKUP(A23,Feiertage!A:D,3,FALSE),\"\")","v":""},{"$f":"_xlfn.IFNA(VLOOKUP(A23,Feiertage!A:D,4,FALSE),\"\")","v":""}]
["2024-11-19",47,null,null,"00:00:00",{"$f":"IF(E24<Dropdwon!$A$3,Dropdwon!$B$2,IF(AND(E24<Dropdwon!$A$4,E24>=Dropdwon!$A$3),Dropdwon!$B$3,Dropdwon!$B$4))","v":"00:00:00"},null,null,"00:00:00",{"$f":"IF(I24<Dropdwon!$A$3,Dropdwon!$B$2,IF(AND(I24<Dropdwon!$A$4,I24>=Dropdwon!$A$3),Dropdwon!$B$3,Dropdwon!$B$4))","v":"00:00:00"},null,null,"00:00:00",{"$f":"IF(M24<Dropdwon!$A$3,Dropdwon!$B$2,IF(AND(M24<Dropdwon!$A$4,M24>=Dropdwon!$A$3),Dropdwon!$B$3,Dropdwon!$B$4))","v":"00:00:00"},"00:00:00",{"$f":"IF(AND(T24<>\"\",T24<>\"verpflichtende FoBi\",T24<>\"förderliche FoBi\"),Q24,IF(AND(T24=\"verpflichtende FoBi\",SUM(E24+I24+M24-O24)<=Dropdwon!$A$5),SUM(E24+I24+M24-O24),IF(AND(T24=\"förderliche FoBi\",SUM(E24+I24+M24-O24)<=Dropdwon!$A$5,SUM(E24+I24+M24-O24)<=Q24),SUM(E24+I24+M24-O24),IF(AND(T24=\"förderliche FoBi\",SUM(E24+I24+M24-O24)>Q24),Q24,IF(SUM(E24+I24+M24-O24)>Dropdwon!$A$5,Dropdwon!$C$5,SUM(E24+I24+M24-O24))))))","v":{"$error":"#VALUE!"}},{"$f":"IF(OR(U24=\"x\",A24<STAMMDATENBLATT!$B$32,A24>STAMMDATENBLATT!$D$32),\"0:00\",IF(MOD(B24,2)=0,VLOOKUP(WEEKDAY(A24,2),STAMMDATENBLATT!H$28:J$34,3,FALSE),VLOOKUP(WEEKDAY(A24,2),STAMMDATENBLATT!H$38:J$44,3,FALSE)))","v":{"$error":"#VALUE!"}},{"$error":"#VALUE!"},null,null,{"$f":"_xlfn.IFNA(VLOOKUP(A24,Feiertage!A:D,3,FALSE),\"\")","v":""},{"$f":"_xlfn.IFNA(VLOOKUP(A24,Feiertage!A:D,4,FALSE),\"\")","v":""}]
["2024-11-20",47,null,null,"00:00:00",{"$f":"IF(E25<Dropdwon!$A$3,Dropdwon!$B$2,IF(AND(E25<Dropdwon!$A$4,E25>=Dropdwon!$A$3),Dropdwon!$B$3,Dropdwon!$B$4))","v":"00:00:00"},null,null,"00:00:00",{"$f":"IF(I25<Dropdwon!$A$3,Dropdwon!$B$2,IF(AND(I25<Dropdwon!$A$4,I25>=Dropdwon!$A$3),Dropdwon!$B$3,Dropdwon!$B$4))","v":"00:00:00"},null,null,"00:00:00",{"$f":"IF(M25<Dropdwon!$A$3,Dropdwon!$B$2,IF(AND(M25<Dropdwon!$A$4,M25>=Dropdwon!$A$3),Dropdwon!$B$3,Dropdwon!$B$4))","v":"00:00:00"},"00:00:00",{"$f":"IF(AND(T25<>\"\",T25<>\"verpflichtende FoBi\",T25<>\"förderliche FoBi\"),Q25,IF(AND(T25=\"verpflichtende FoBi\",SUM(E25+I25+M25-O25)<=Dropdwon!$A$5),SUM(E25+I25+M25-O25),IF(AND(T25=\"förderliche FoBi\",SUM(E25+I25+M25-O25)<=Dropdwon!$A$5,SUM(E25+I25+M25-O25)<=Q25),SUM(E25+I25+M25-O25),IF(AND(T25=\"förderliche FoBi\",SUM(E25+I25+M25-O25)>Q25),Q25,IF(SUM(E25+I25+M25-O25)>Dropdwon!$A$5,Dropdwon!$C$5,SUM(E25+I25+M25-O25))))))","v":{"$error":"#VALUE!"}},{"$f":"IF(OR(U25=\"x\",A25<STAMMDATENBLATT!$B$32,A25>STAMMDATENBLATT!$D$32),\"0:00\",IF(MOD(B25,2)=0,VLOOKUP(WEEKDAY(A25,2),STAMMDATENBLATT!H$28:J$34,3,FALSE),VLOOKUP(WEEKDAY(A25,2),STAMMDATENBLATT!H$38:J$44,3,FALSE)))","v":{"$error":"#VALUE!"}},{"$error":"#VALUE!"},null,null,{"$f":"_xlfn.IFNA(VLOOKUP(A25,Feiertage!A:D,3,FALSE),\"\")","v":""},{"$f":"_xlfn.IFNA(VLOOKUP(A25,Feiertage!A:D,4,FALSE),\"\")","v":""}]
["2024-11-21",47,null,null,"00:00:00",{"$f":"IF(E26<Dropdwon!$A$3,Dropdwon!$B$2,IF(AND(E26<Dropdwon!$A$4,E26>=Dropdwon!$A$3),Dropdwon!$B$3,Dropdwon!$B$4))","v":"00:00:00"},null,null,"00:00:00",{"$f":"IF(I26<Dropdwon!$A$3,Dropdwon!$B$2,IF(AND(I26<Dropdwon!$A$4,I26>=Dropdwon!$A$3),Dropdwon!$B$3,Dropdwon!$B$4))","v":"00:00:00"},null,null,"00:00:00",{"$f":"IF(M26<Dropdwon!$A$3,Dropdwon!$B$2,IF(AND(M26<Dropdwon!$A$4,M26>=Dropdwon!$A$3),Dropdwon!$B$3,Dropdwon!$B$4))","v":"00:00:00"},"00:00:00",{"$f":"IF(AND(T26<>\"\",T26<>\"verpflichtende FoBi\",T26<>\"förderliche FoBi\"),Q26,IF(AND(T26=\"verpflichtende FoBi\",SUM(E26+I26+M26-O26)<=Dropdwon!$A$5),SUM(E26+I26+M26-O26),IF(AND(T26=\"förderliche FoBi\",SUM(E26+I26+M26-O26)<=Dropdwon!$A$5,SUM(E26+I26+M26-O26)<=Q26),SUM(E26+I26+M26-O26),IF(AND(T26=\"förderliche FoBi\",SUM(E26+I26+M26-O26)>Q26),Q26,IF(SUM(E26+I26+M26-O26)>Dropdwon!$A$5,Dropdwon!$C$5,SUM(E26+I26+M26-O26))))))","v":{"$error":"#VALUE!"}},{"$f":"IF(OR(U26=\"x\",A26<STAMMDATENBLATT!$B$32,A26>STAMMDATENBLATT!$D$32),\"0:00\",IF(MOD(B26,2)=0,VLOOKUP(WEEKDAY(A26,2),STAMMDATENBLATT!H$28:J$34,3,FALSE),VLOOKUP(WEEKDAY(A26,2),STAMMDATENBLATT!H$38:J$44,3,FALSE)))","v":{"$error":"#VALUE!"}},{"$error":"#VALUE!"},null,null,{"$f":"_xlfn.IFNA(VLOOKUP(A26,Feiertage!A:D,3,FALSE),\"\")","v":""},{"$f":"_xlfn.IFNA(VLOOKUP(A26,Feiertage!A:D,4,FALSE),\"\")","v":""}]
["2024-11-22",47,null,null,"00:00:00",{"$f":"IF(E27<Dropdwon!$A$3,Dropdwon!$B$2,IF(AND(E27<Dropdwon!$A$4,E27>=Dropdwon!$A$3),Dropdwon!$B$3,Dropdwon!$B$4))","v":"00:00:00"},null,null,"00:00:00",{"$f":"IF(I27<Dropdwon!$A$3,Dropdwon!$B$2,IF(AND(I27<Dropdwon!$A$4,I27>=Dropdwon!$A$3),Dropdwon!$B$3,Dropdwon!$B$4))","v":"00:00:00"},null,null,"00:00:00",{"$f":"IF(M27<Dropdwon!$A$3,Dropdwon!$B$2,IF(AND(M27<Dropdwon!$A$4,M27>=Dropdwon!$A$3),Dropdwon!$B$3,Dropdwon!$B$4))","v":"00:00:00"},"00:00:00",{"$f":"IF(AND(T27<>\"\",T27<>\"verpflichtende FoBi\",T27<>\"förderliche FoBi\"),Q27,IF(AND(T27=\"verpflichtende FoBi\",SUM(E27+I27+M27-O27)<=Dropdwon!$A$5),SUM(E27+I27+M27-O27),IF(AND(T27=\"förderliche FoBi\",SUM(E27+I27+M27-O27)<=Dropdwon!$A$5,SUM(E27+I27+M27-O27)<=Q27),SUM(E27+I27+M27-O27),IF(AND(T27=\"förderliche FoBi\",SUM(E27+I27+M27-O27)>Q27),Q27,IF(SUM(E27+I27+M27-O27)>Dropdwon!$A$5,Dropdwon!$C$5,SUM(E27+I27+M27-O27))))))","v":{"$error":"#VALUE!"}},{"$f":"IF(OR(U27=\"x\",A27<STAMMDATENBLATT!$B$32,A27>STAMMDATENBLATT!$D$32),\"0:00\",IF(MOD(B27,2)=0,VLOOKUP(WEEKDAY(A27,2),STAMMDATENBLATT!H$28:J$34,3,FALSE),VLOOKUP(WEEKDAY(A27,2),STAMMDATENBLATT!H$38:J$44,3,FALSE)))","v":{"$error":"#VALUE!"}},{"$error":"#VALUE!"},null,null,{"$f":"_xlfn.IFNA(VLOOKUP(A27,Feiertage!A:D,3,FALSE),\"\")","v":""},{"$f":"_xlfn.IFNA(VLOOKUP(A27,Feiertage!A:D,4,FALSE),\"\")","v":""}]
["2024-11-23",47,null,null,"00:00:00",{"$f":"IF(E28<Dropdwon!$A$3,Dropdwon!$B$2,IF(AND(E28<Dropdwon!$A$4,E28>=Dropdwon!$A$3),Dropdwon!$B$3,Dropdwon!$B$4))","v":"00:00:00"},null,null,"00:00:00",{"$f":"IF(I28<Dropdwon!$A$3,Dropdwon!$B$2,IF(AND(I28<Dropdwon!$A$4,I28>=Dropdwon!$A$3),Dropdwon!$B$3,Dropdwon!$B$4))","v":"00:00:00"},null,null,"00:00:00",{"$f":"IF(M28<Dropdwon!$A$3,Dropdwon!$B$2,IF(AND(M28<Dropdwon!$A$4,M28>=Dropdwon!$A$3),Dropdwon!$B$3,Dropdwon!$B$4))","v":"00:00:00"},"00:00:00",{"$f":"IF(AND(T28<>\"\",T28<>\"verpflichtende FoBi\",T28<>\"förderliche FoBi\"),Q28,IF(AND(T28=\"verpflichtende FoBi\",SUM(E28+I28+M28-O28)<=Dropdwon!$A$5),SUM(E28+I28+M28-O28),IF(AND(T28=\"förderliche FoBi\",SUM(E28+I28+M28-O28)<=Dropdwon!$A$5,SUM(E28+I28+M28-O28)<=Q28),SUM(E28+I28+M28-O28),IF(AND(T28=\"förderliche FoBi\",SUM(E28+I28+M28-O28)>Q28),Q28,IF(SUM(E28+I28+M28-O28)>Dropdwon!$A$5,Dropdwon!$C$5,SUM(E28+I28+M28-O28))))))","v":"00:00:00"},{"$f":"IF(OR(U28=\"x\",A28<STAMMDATENBLATT!$B$32,A28>STAMMDATENBLATT!$D$32),\"0:00\",IF(MOD(B28,2)=0,VLOOKUP(WEEKDAY(A28,2),STAMMDATENBLATT!H$28:J$34,3,FALSE),VLOOKUP(WEEKDAY(A28,2),STAMMDATENBLATT!H$38:J$44,3,FALSE)))","v":"00:00:00"},"00:00:00",null,null,{"$f":"_xlfn.IFNA(VLOOKUP(A28,Feiertage!A:D,3,FALSE),\"\")","v":""},{"$f":"_xlfn.IFNA(VLOOKUP(A28,Feiertage!A:D,4,FALSE),\"\")","v":""}]
["2024-11-24",47,null,null,"00:00:00",{"$f":"IF(E29<Dropdwon!$A$3,Dropdwon!$B$2,IF(AND(E29<Dropdwon!$A$4,E29>=Dropdwon!$A$3),Dropdwon!$B$3,Dropdwon!$B$4))","v":"00:00:00"},null,null,"00:00:00",{"$f":"IF(I29<Dropdwon!$A$3,Dropdwon!$B$2,IF(AND(I29<Dropdwon!$A$4,I29>=Dropdwon!$A$3),Dropdwon!$B$3,Dropdwon!$B$4))","v":"00:00:00"},null,null,"00:00:00",{"$f":"IF(M29<Dropdwon!$A$3,Dropdwon!$B$2,IF(AND(M29<Dropdwon!$A$4,M29>=Dropdwon!$A$3),Dropdwon!$B$3,Dropdwon!$B$4))","v":"00:00:00"},"00:00:00",{"$f":"IF(AND(T29<>\"\",T29<>\"verpflichtende FoBi\",T29<>\"förderliche FoBi\"),Q29,IF(AND(T29=\"verpflichtende FoBi\",SUM(E29+I29+M29-O29)<=Dropdwon!$A$5),SUM(E29+I29+M29-O29),IF(AND(T29=\"förderliche FoBi\",SUM(E29+I29+M29-O29)<=Dropdwon!$A$5,SUM(E29+I29+M29-O29)<=Q29),SUM(E29+I29+M29-O29),IF(AND(T29=\"förderliche FoBi\",SUM(E29+I29+M29-O29)>Q29),Q29,IF(SUM(E29+I29+M29-O29)>Dropdwon!$A$5,Dropdwon!$C$5,SUM(E29+I29+M29-O29))))))","v":"00:00:00"},{"$f":"IF(OR(U29=\"x\",A29<STAMMDATENBLATT!$B$32,A29>STAMMDATENBLATT!$D$32),\"0:00\",IF(MOD(B29,2)=0,VLOOKUP(WEEKDAY(A29,2),STAMMDATENBLATT!H$28:J$34,3,FALSE),VLOOKUP(WEEKDAY(A29,2),STAMMDATENBLATT!H$38:J$44,3,FALSE)))","v":"00:00:00"},"00:00:00",null,null,{"$f":"_xlfn.IFNA(VLOOKUP(A29,Feiertage!A:D,3,FALSE),\"\")","v":""},{"$f":"_xlfn.IFNA(VLOOKUP(A29,Feiertage!A:D,4,FALSE),\"\")","v":""}]
["2024-11-25",48,null,null,"00:00:00",{"$f":"IF(E30<Dropdwon!$A$3,Dropdwon!$B$2,IF(AND(E30<Dropdwon!$A$4,E30>=Dropdwon!$A$3),Dropdwon!$B$3,Dropdwon!$B$4))","v":"00:00:00"},null,null,"00:00:00",{"$f":"IF(I30<Dropdwon!$A$3,Dropdwon!$B$2,IF(AND(I30<Dropdwon!$A$4,I30>=Dropdwon!$A$3),Dropdwon!$B$3,Dropdwon!$B$4))","v":"00:00:00"},null,null,"00:00:00",{"$f":"IF(M30<Dropdwon!$A$3,Dropdwon!$B$2,IF(AND(M30<Dropdwon!$A$4,M30>=Dropdwon!$A$3),Dropdwon!$B$3,Dropdwon!$B$4))","v":"00:00:00"},"00:00:00",{"$f":"IF(AND(T30<>\"\",T30<>\"verpflichtende FoBi\",T30<>\"förderliche FoBi\"),Q30,IF(AND(T30=\"verpflichtende FoBi\",SUM(E30+I30+M30-O30)<=Dropdwon!$A$5),SUM(E30+I30+M30-O30),IF(AND(T30=\"förderliche FoBi\",SUM(E30+I30+M30-O30)<=Dropdwon!$A$5,SUM(E30+I30+M30-O30)<=Q30),SUM(E30+I30+M30-O30),IF(AND(T30=\"förderliche FoBi\",SUM(E30+I30+M30-O30)>Q30),Q30,IF(SUM(E30+I30+M30-O30)>Dropdwon!$A$5,Dropdwon!$C$5,SUM(E30+I30+M30-O30))))))","v":{"$error":"#VALUE!"}},{"$f":"IF(OR(U30=\"x\",A30<STAMMDATENBLATT!$B$32,A30>STAMMDATENBLATT!$D$32),\"0:00\",IF(MOD(B30,2)=0,VLOOKUP(WEEKDAY(A30,2),STAMMDATENBLATT!H$28:J$34,3,FALSE),VLOOKUP(WEEKDAY(A30,2),STAMMDATENBLATT!H$38:J$44,3,FALSE)))","v":{"$error":"#VALUE!"}},{"$error":"#VALUE!"},null,null,{"$f":"_xlfn.IFNA(VLOOKUP(A30,Feiertage!A:D,3,FALSE),\"\")","v":""},{"$f":"_xlfn.IFNA(VLOOKUP(A30,Feiertage!A:D,4,FALSE),\"\")","v":""}]
["2024-11-26",48,null,null,"00:00:00",{"$f":"IF(E31<Dropdwon!$A$3,Dropdwon!$B$2,IF(AND(E31<Dropdwon!$A$4,E31>=Dropdwon!$A$3),Dropdwon!$B$3,Dropdwon!$B$4))","v":"00:00:00"},null,null,"00:00:00",{"$f":"IF(I31<Dropdwon!$A$3,Dropdwon!$B$2,IF(AND(I31<Dropdwon!$A$4,I31>=Dropdwon!$A$3),Dropdwon!$B$3,Dropdwon!$B$4))","v":"00:00:00"},null,null,"00:00:00",{"$f":"IF(M31<Dropdwon!$A$3,Dropdwon!$B$2,IF(AND(M31<Dropdwon!$A$4,M31>=Dropdwon!$A$3),Dropdwon!$B$3,Dropdwon!$B$4))","v":"00:00:00"},"00:00:00",{"$f":"IF(AND(T31<>\"\",T31<>\"verpflichtende FoBi\",T31<>\"förderliche FoBi\"),Q31,IF(AND(T31=\"verpflichtende FoBi\",SUM(E31+I31+M31-O31)<=Dropdwon!$A$5),SUM(E31+I31+M31-O31),IF(AND(T31=\"förderliche FoBi\",SUM(E31+I31+M31-O31)<=Dropdwon!$A$5,SUM(E31+I31+M31-O31)<=Q31),SUM(E31+I31+M31-O31),IF(AND(T31=\"förderliche FoBi\",SUM(E31+I31+M31-O31)>Q31),Q31,IF(SUM(E31+I31+M31-O31)>Dropdwon!$A$5,Dropdwon!$C$5,SUM(E31+I31+M31-O31))))))","v":{"$error":"#VALUE!"}},{"$f":"IF(OR(U31=\"x\",A31<STAMMDATENBLATT!$B$32,A31>STAMMDATENBLATT!$D$32),\"0:00\",IF(MOD(B31,2)=0,VLOOKUP(WEEKDAY(A31,2),STAMMDATENBLATT!H$28:J$34,3,FALSE),VLOOKUP(WEEKDAY(A31,2),STAMMDATENBLATT!H$38:J$44,3,FALSE)))","v":{"$error":"#VALUE!"}},{"$error":"#VALUE!"},null,null,{"$f":"_xlfn.IFNA(VLOOKUP(A31,Feiertage!A:D,3,FALSE),\"\")","v":""},{"$f":"_xlfn.IFNA(VLOOKUP(A31,Feiertage!A:D,4,FALSE),\"\")","v":""}]
["2024-11-27",48,null,null,"00:00:00",{"$f":"IF(E32<Dropdwon!$A$3,Dropdwon!$B$2,IF(AND(E32<Dropdwon!$A$4,E32>=Dropdwon!$A$3),Dropdwon!$B$3,Dropdwon!$B$4))","v":"00:00:00"},null,null,"00:00:00",{"$f":"IF(I32<Dropdwon!$A$3,Dropdwon!$B$2,IF(AND(I32<Dropdwon!$A$4,I32>=Dropdwon!$A$3),Dropdwon!$B$3,Dropdwon!$B$4))","v":"00:00:00"},null,null,"00:00:00",{"$f":"IF(M32<Dropdwon!$A$3,Dropdwon!$B$2,IF(AND(M32<Dropdwon!$A$4,M32>=Dropdwon!$A$3),Dropdwon!$B$3,Dropdwon!$B$4))","v":"00:00:00"},"00:00:00",{"$f":"IF(AND(T32<>\"\",T32<>\"verpflichtende FoBi\",T32<>\"förderliche FoBi\"),Q32,IF(AND(T32=\"verpflichtende FoBi\",SUM(E32+I32+M32-O32)<=Dropdwon!$A$5),SUM(E32+I32+M32-O32),IF(AND(T32=\"förderliche FoBi\",SUM(E32+I32+M32-O32)<=Dropdwon!$A$5,SUM(E32+I32+M32-O32)<=Q32),SUM(E32+I32+M32-O32),IF(AND(T32=\"förderliche FoBi\",SUM(E32+I32+M32-O32)>Q32),Q32,IF(SUM(E32+I32+M32-O32)>Dropdwon!$A$5,Dropdwon!$C$5,SUM(E32+I32+M32-O32))))))","v":{"$error":"#VALUE!"}},{"$f":"IF(OR(U32=\"x\",A32<STAMMDATENBLATT!$B$32,A32>STAMMDATENBLATT!$D$32),\"0:00\",IF(MOD(B32,2)=0,VLOOKUP(WEEKDAY(A32,2),STAMMDATENBLATT!H$28:J$34,3,FALSE),VLOOKUP(WEEKDAY(A32,2),STAMMDATENBLATT!H$38:J$44,3,FALSE)))","v":{"$error":"#VALUE!"}},{"$error":"#VALUE!"},null,null,{"$f":"_xlfn.IFNA(VLOOKUP(A32,Feiertage!A:D,3,FALSE),\"\")","v":""},{"$f":"_xlfn.IFNA(VLOOKUP(A32,Feiertage!A:D,4,FALSE),\"\")","v":""}]
["2024-11-28",48,null,null,"00:00:00",{"$f":"IF(E33<Dropdwon!$A$3,Dropdwon!$B$2,IF(AND(E33<Dropdwon!$A$4,E33>=Dropdwon!$A$3),Dropdwon!$B$3,Dropdwon!$B$4))","v":"00:00:00"},null,null,"00:00:00",{"$f":"IF(I33<Dropdwon!$A$3,Dropdwon!$B$2,IF(AND(I33<Dropdwon!$A$4,I33>=Dropdwon!$A$3),Dropdwon!$B$3,Dropdwon!$B$4))","v":"00:00:00"},null,null,"00:00:00",{"$f":"IF(M33<Dropdwon!$A$3,Dropdwon!$B$2,IF(AND(M33<Dropdwon!$A$4,M33>=Dropdwon!$A$3),Dropdwon!$B$3,Dropdwon!$B$4))","v":"00:00:00"},"00:00:00",{"$f":"IF(AND(T33<>\"\",T33<>\"verpflichtende FoBi\",T33<>\"förderliche FoBi\"),Q33,IF(AND(T33=\"verpflichtende FoBi\",SUM(E33+I33+M33-O33)<=Dropdwon!$A$5),SUM(E33+I33+M33-O33),IF(AND(T33=\"förderliche FoBi\",SUM(E33+I33+M33-O33)<=Dropdwon!$A$5,SUM(E33+I33+M33-O33)<=Q33),SUM(E33+I33+M33-O33),IF(AND(T33=\"förderliche FoBi\",SUM(E33+I33+M33-O33)>Q33),Q33,IF(SUM(E33+I33+M33-O33)>Dropdwon!$A$5,Dropdwon!$C$5,SUM(E33+I33+M33-O33))))))","v":{"$error":"#VALUE!"}},{"$f":"IF(OR(U33=\"x\",A33<STAMMDATENBLATT!$B$32,A33>STAMMDATENBLATT!$D$32),\"0:00\",IF(MOD(B33,2)=0,VLOOKUP(WEEKDAY(A33,2),STAMMDATENBLATT!H$28:J$34,3,FALSE),VLOOKUP(WEEKDAY(A33,2),STAMMDATENBLATT!H$38:J$44,3,FALSE)))","v":{"$error":"#VALUE!"}},{"$error":"#VALUE!"},null,null,{"$f":"_xlfn.IFNA(VLOOKUP(A33,Feiertage!A:D,3,FALSE),\"\")","v":""},{"$f":"_xlfn.IFNA(VLOOKUP(A33,Feiertage!A:D,4,FALSE),\"\")","v":""}]
["2024-11-29",48,null,null,"00:00:00",{"$f":"IF(E34<Dropdwon!$A$3,Dropdwon!$B$2,IF(AND(E34<Dropdwon!$A$4,E34>=Dropdwon!$A$3),Dropdwon!$B$3,Dropdwon!$B$4))","v":"00:00:00"},null,null,"00:00:00",{"$f":"IF(I34<Dropdwon!$A$3,Dropdwon!$B$2,IF(AND(I34<Dropdwon!$A$4,I34>=Dropdwon!$A$3),Dropdwon!$B$3,Dropdwon!$B$4))","v":"00:00:00"},null,null,"00:00:00",{"$f":"IF(M34<Dropdwon!$A$3,Dropdwon!$B$2,IF(AND(M34<Dropdwon!$A$4,M34>=Dropdwon!$A$3),Dropdwon!$B$3,Dropdwon!$B$4))","v":"00:00:00"},"00:00:00",{"$f":"IF(AND(T34<>\"\",T34<>\"verpflichtende FoBi\",T34<>\"förderliche FoBi\"),Q34,IF(AND(T34=\"verpflichtende FoBi\",SUM(E34+I34+M34-O34)<=Dropdwon!$A$5),SUM(E34+I34+M34-O34),IF(AND(T34=\"förderliche FoBi\",SUM(E34+I34+M34-O34)<=Dropdwon!$A$5,SUM(E34+I34+M34-O34)<=Q34),SUM(E34+I34+M34-O34),IF(AND(T34=\"förderliche FoBi\",SUM(E34+I34+M34-O34)>Q34),Q34,IF(SUM(E34+I34+M34-O34)>Dropdwon!$A$5,Dropdwon!$C$5,SUM(E34+I34+M34-O34))))))","v":{"$error":"#VALUE!"}},{"$f":"IF(OR(U34=\"x\",A34<STAMMDATENBLATT!$B$32,A34>STAMMDATENBLATT!$D$32),\"0:00\",IF(MOD(B34,2)=0,VLOOKUP(WEEKDAY(A34,2),STAMMDATENBLATT!H$28:J$34,3,FALSE),VLOOKUP(WEEKDAY(A34,2),STAMMDATENBLATT!H$38:J$44,3,FALSE)))","v":{"$error":"#VALUE!"}},{"$error":"#VALUE!"},null,null,{"$f":"_xlfn.IFNA(VLOOKUP(A34,Feiertage!A:D,3,FALSE),\"\")","v":""},{"$f":"_xlfn.IFNA(VLOOKUP(A34,Feiertage!A:D,4,FALSE),\"\")","v":""}]
["2024-11-30",48,null,null,{"$f":"IF(AND(WEEKDAY($A35,2)=6,HOUR(C35)>=13),SUM((D35-C35)*1.2),IF(WEEKDAY($A35,2)=7,SUM((D35-C35)*1.25),IF(AND($U35=\"x\",$V35<>\"Gründonnerstag\"),SUM((D35-C35)*1.25),D35-C35)))","v":"00:00:00"},{"$f":"IF(E35<Dropdwon!$A$3,Dropdwon!$B$2,IF(AND(E35<Dropdwon!$A$4,E35>=Dropdwon!$A$3),Dropdwon!$B$3,Dropdwon!$B$4))","v":"00:00:00"},null,null,{"$f":"IF(AND(WEEKDAY($A35,2)=6,HOUR(G35)>=13),SUM((H35-G35)*1.2),IF(WEEKDAY($A35,2)=7,SUM((H35-G35)*1.25),IF(AND($U35=\"x\",$V35<>\"Gründonnerstag\"),SUM((H35-G35)*1.25),H35-G35)))","v":"00:00:00"},{"$f":"IF(I35<Dropdwon!$A$3,Dropdwon!$B$2,IF(AND(I35<Dropdwon!$A$4,I35>=Dropdwon!$A$3),Dropdwon!$B$3,Dropdwon!$B$4))","v":"00:00:00"},null,null,{"$f":"IF(AND(WEEKDAY($A35,2)=6,HOUR(K35)>=13),SUM((L35-K35)*1.2),IF(WEEKDAY($A35,2)=7,SUM((L35-K35)*1.25),IF(AND($U35=\"x\",$V35<>\"Gründonnerstag\"),SUM((L35-K35)*1.25),L35-K35)))","v":"00:00:00"},{"$f":"IF(M35<Dropdwon!$A$3,Dropdwon!$B$2,IF(AND(M35<Dropdwon!$A$4,M35>=Dropdwon!$A$3),Dropdwon!$B$3,Dropdwon!$B$4))","v":"00:00:00"},"00:00:00",{"$f":"IF(AND(T35<>\"\",T35<>\"verpflichtende FoBi\",T35<>\"förderliche FoBi\"),Q35,IF(AND(T35=\"verpflichtende FoBi\",SUM(E35+I35+M35-O35)<=Dropdwon!$A$5),SUM(E35+I35+M35-O35),IF(AND(T35=\"förderliche FoBi\",SUM(E35+I35+M35-O35)<=Dropdwon!$A$5,SUM(E35+I35+M35-O35)<=Q35),SUM(E35+I35+M35-O35),IF(AND(T35=\"förderliche FoBi\",SUM(E35+I35+M35-O35)>Q35),Q35,IF(SUM(E35+I35+M35-O35)>Dropdwon!$A$5,Dropdwon!$C$5,SUM(E35+I35+M35-O35))))))","v":"00:00:00"},{"$f":"IF(OR(U35=\"x\",A35<STAMMDATENBLATT!$B$32,A35>STAMMDATENBLATT!$D$32),\"0:00\",IF(MOD(B35,2)=0,VLOOKUP(WEEKDAY(A35,2),STAMMDATENBLATT!H$28:J$34,3,FALSE),VLOOKUP(WEEKDAY(A35,2),STAMMDATENBLATT!H$38:J$44,3,FALSE)))","v":"00:00:00"},"00:00:00",null,null,{"$f":"_xlfn.IFNA(VLOOKUP(A35,Feiertage!A:D,3,FALSE),\"\")","v":""},{"$f":"_xlfn.IFNA(VLOOKUP(A35,Feiertage!A:D,4,FALSE),\"\")","v":""}]
[]
[]
["Abschluss Std.konto:",null,{"$f":"SUM(R$1+SUM(R$6:R$36)-R$38)","v":{"$error":"#VALUE!"}},{"$nulls":3},"Auszahlung Mehrarbeit in Std./Minuten:",{"$nulls":10},{"$f":"SUMIF($S$6:$S$36,\"ja\",$R$6:$R$36)","v":0}]
["Abschluss Std. in Dezimal:",null,{"$f":"C38*24","v":{"$error":"#VALUE!"}},{"$nulls":4},"Auszahlung Mehrarbeit in Dezimal:",{"$nulls":9},{"$f":"R38*24","v":{"v":0,"d":"0.00"}}]
[{"$nulls":17},"zur Auszahlung angewiesen:"]
[]
[]
[]
["Ort, Datum / Unterschrift Mitarbeiter/in",{"$nulls":5},"Ort, Datum / Unterschrift Vorgesetzte/r",{"$nulls":10},"Ort, Datum / Unterschrift KGF",{"$nulls":4},{"$f":"STAMMDATENBLATT!$A$22","v":"Version: 01.2024.5"}]

{"sheet":"Dezember","index":13,"n_rows":44,"n_cols":23,"rows_kept":44,"merged":[[0,2,0,7],[1,0,1,7],[2,0,2,7],[37,0,37,1],[37,6,37,16],[38,0,38,1],[38,7,38,16],[40,0,42,2],[40,6,42,13],[40,17,42,20]]}
[{"$f":"DATEVALUE(\"01.12.\"&STAMMDATENBLATT!$D$27)","v":"2024-12-01"},null,{"$f":"STAMMDATENBLATT!B27","v":"Vorname Nachname"},{"$nulls":7},{"$f":"STAMMDATENBLATT!$B$30","v":{"v":0,"d":"0.00%"}},{"$f":"IF(STAMMDATENBLATT!$B$29=\"\",\"\",STAMMDATENBLATT!$B$29)","v":""},{"$nulls":5},{"$f":"IF(STAMMDATENBLATT!E14<=STAMMDATENBLATT!$D$35,STAMMDATENBLATT!E14,STAMMDATENBLATT!$D$35)","v":{"$error":"#VALUE!"}}]
[{"$f":"STAMMDATENBLATT!B26","v":0}]
[{"$f":"STAMMDATENBLATT!A26","v":{"$error":"#N/A"}}]
[]
[null,"KW","Beginn 1","Ende 1","IST AZ 1","IST MP 1","Beginn 2","Ende 2","IST AZ 2","IST MP 2","Beginn 3","Ende 3","IST AZ 3","IST MP 3","MP gesamt","IST AZ","SOLL AZ","Differenz","Auszahlung","Abwesenheit","Feiertag","Feiertag","Notiz"]
[{"$f":"A1","v":"2024-12-01"},{"$f":"WEEKNUM(A6,21)","v":48},null,null,{"$f":"IF(AND(WEEKDAY($A6,2)=6,HOUR(C6)>=13),SUM((D6-C6)*1.2),IF(WEEKDAY($A6,2)=7,SUM((D6-C6)*1.25),IF(AND($U6=\"x\",$V6<>\"Gründonnerstag\"),SUM((D6-C6)*1.25),D6-C6)))","v":"00:00:00"},{"$f":"IF(E6<Dropdwon!$A$3,Dropdwon!$B$2,IF(AND(E6<Dropdwon!$A$4,E6>=Dropdwon!$A$3),Dropdwon!$B$3,Dropdwon!$B$4))","v":"00:00:00"},null,null,{"$f":"IF(AND(WEEKDAY($A6,2)=6,HOUR(G6)>=13),SUM((H6-G6)*1.2),IF(WEEKDAY($A6,2)=7,SUM((H6-G6)*1.25),IF(AND($U6=\"x\",$V6<>\"Gründonnerstag\"),SUM((H6-G6)*1.25),H6-G6)))","v":"00:00:00"},{"$f":"IF(I6<Dropdwon!$A$3,Dropdwon!$B$2,IF(AND(I6<Dropdwon!$A$4,I6>=Dropdwon!$A$3),Dropdwon!$B$3,Dropdwon!$B$4))","v":"00:00:00"},null,null,{"$f":"IF(AND(WEEKDAY($A6,2)=6,HOUR(K6)>=13),SUM((L6-K6)*1.2),IF(WEEKDAY($A6,2)=7,SUM((L6-K6)*1.25),IF(AND($U6=\"x\",$V6<>\"Gründonnerstag\"),SUM((L6-K6)*1.25),L6-K6)))","v":"00:00:00"},{"$f":"IF(M6<Dropdwon!$A$3,Dropdwon!$B$2,IF(AND(M6<Dropdwon!$A$4,M6>=Dropdwon!$A$3),Dropdwon!$B$3,Dropdwon!$B$4))","v":"00:00:00"},{"$f":"F6+J6+N6","v":"00:00:00"},{"$f":"IF(AND(T6<>\"\",T6<>\"verpflichtende FoBi\",T6<>\"förderliche FoBi\"),Q6,IF(AND(T6=\"verpflichtende FoBi\",SUM(E6+I6+M6-O6)<=Dropdwon!$A$5),SUM(E6+I6+M6-O6),IF(AND(T6=\"förderliche FoBi\",SUM(E6+I6+M6-O6)<=Dropdwon!$A$5,SUM(E6+I6+M6-O6)<=Q6),SUM(E6+I6+M6-O6),IF(AND(T6=\"förderliche FoBi\",SUM(E6+I6+M6-O6)>Q6),Q6,IF(SUM(E6+I6+M6-O6)>Dropdwon!$A$5,Dropdwon!$C$5,SUM(E6+I6+M6-O6))))))","v":"00:00:00"},{"$f":"IF(OR(U6=\"x\",A6<STAMMDATENBLATT!$B$32,A6>STAMMDATENBLATT!$D$32),\"0:00\",IF(MOD(B6,2)=0,VLOOKUP(WEEKDAY(A6,2),STAMMDATENBLATT!H$28:J$34,3,FALSE),VLOOKUP(WEEKDAY(A6,2),STAMMDATENBLATT!H$38:J$44,3,FALSE)))","v":"00:00:00"},{"$f":"SUM(P6-Q6)","v":"00:00:00"},null,null,{"$f":"_xlfn.IFNA(VLOOKUP(A6,Feiertage!A:D,3,FALSE),\"\")","v":""},{"$f":"_xlfn.IFNA(VLOOKUP(A6,Feiertage!A:D,4,FALSE),\"\")","v":""}]
[{"$f":"A6+1","v":"2024-12-02"},{"$f":"WEEKNUM(A7,21)","v":49},null,null,{"$f":"IF(AND(WEEKDAY($A7,2)=6,HOUR(C7)>=13),SUM((D7-C7)*1.2),IF(WEEKDAY($A7,2)=7,SUM((D7-C7)*1.25),IF(AND($U7=\"x\",$V7<>\"Gründonnerstag\"),SUM((D7-C7)*1.25),D7-C7)))","v":"00:00:00"},{"$f":"IF(E7<Dropdwon!$A$3,Dropdwon!$B$2,IF(AND(E7<Dropdwon!$A$4,E7>=Dropdwon!$A$3),Dropdwon!$B$3,Dropdwon!$B$4))","v":"00:00:00"},null,null,{"$f":"IF(AND(WEEKDAY($A7,2)=6,HOUR(G7)>=13),SUM((H7-G7)*1.2),IF(WEEKDAY($A7,2)=7,SUM((H7-G7)*1.25),IF(AND($U7=\"x\",$V7<>\"Gründonnerstag\"),SUM((H7-G7)*1.25),H7-G7)))","v":"00:00:00"},{"$f":"IF(I7<Dropdwon!$A$3,Dropdwon!$B$2,IF(AND(I7<Dropdwon!$A$4,I7>=Dropdwon!$A$3),Dropdwon!$B$3,Dropdwon!$B$4))","v":"00:00:00"},null,null,{"$f":"IF(AND(WEEKDAY($A7,2)=6,HOUR(K7)>=13),SUM((L7-K7)*1.2),IF(WEEKDAY($A7,2)=7,SUM((L7-K7)*1.25),IF(AND($U7=\"x\",$V7<>\"Gründonnerstag\"),SUM((L7-K7)*1.25),L7-K7)))","v":"00:00:00"},{"$f":"IF(M7<Dropdwon!$A$3,Dropdwon!$B$2,IF(AND(M7<Dropdwon!$A$4,M7>=Dropdwon!$A$3),Dropdwon!$B$3,Dropdwon!$B$4))","v":"00:00:00"},{"$f":"F7+J7+N7","v":"00:00:00"},{"$f":"IF(AND(T7<>\"\",T7<>\"verpflichtende FoBi\",T7<>\"förderliche FoBi\"),Q7,IF(AND(T7=\"verpflichtende FoBi\",SUM(E7+I7+M7-O7)<=Dropdwon!$A$5),SUM(E7+I7+M7-O7),IF(AND(T7=\"förderliche FoBi\",SUM(E7+I7+M7-O7)<=Dropdwon!$A$5,SUM(E7+I7+M7-O7)<=Q7),SUM(E7+I7+M7-O7),IF(AND(T7=\"förderliche FoBi\",SUM(E7+I7+M7-O7)>Q7),Q7,IF(SUM(E7+I7+M7-O7)>Dropdwon!$A$5,Dropdwon!$C$5,SUM(E7+I7+M7-O7))))))","v":{"$error":"#VALUE!"}},{"$f":"IF(OR(U7=\"x\",A7<STAMMDATENBLATT!$B$32,A7>STAMMDATENBLATT!$D$32),\"0:00\",IF(MOD(B7,2)=0,VLOOKUP(WEEKDAY(A7,2),STAMMDATENBLATT!H$28:J$34,3,FALSE),VLOOKUP(WEEKDAY(A7,2),STAMMDATENBLATT!H$38:J$44,3,FALSE)))","v":{"$error":"#VALUE!"}},{"$error":"#VALUE!"},null,null,{"$f":"_xlfn.IFNA(VLOOKUP(A7,Feiertage!A:D,3,FALSE),\"\")","v":""},{"$f":"_xlfn.IFNA(VLOOKUP(A7,Feiertage!A:D,4,FALSE),\"\")","v":""}]
[{"$f":"A7+1","v":"2024-12-03"},49,null,null,"00:00:00",{"$f":"IF(E8<Dropdwon!$A$3,Dropdwon!$B$2,IF(AND(E8<Dropdwon!$A$4,E8>=Dropdwon!$A$3),Dropdwon!$B$3,Dropdwon!$B$4))","v":"00:00:00"},null,null,"00:00:00",{"$f":"IF(I8<Dropdwon!$A$3,Dropdwon!$B$2,IF(AND(I8<Dropdwon!$A$4,I8>=Dropdwon!$A$3),Dropdwon!$B$3,Dropdwon!$B$4))","v":"00:00:00"},null,null,"00:00:00",{"$f":"IF(M8<Dropdwon!$A$3,Dropdwon!$B$2,IF(AND(M8<Dropdwon!$A$4,M8>=Dropdwon!$A$3),Dropdwon!$B$3,Dropdwon!$B$4))","v":"00:00:00"},{"$f":"F8+J8+N8","v":"00:00:00"},{"$f":"IF(AND(T8<>\"\",T8<>\"verpflichtende FoBi\",T8<>\"förderliche FoBi\"),Q8,IF(AND(T8=\"verpflichtende FoBi\",SUM(E8+I8+M8-O8)<=Dropdwon!$A$5),SUM(E8+I8+M8-O8),IF(AND(T8=\"förderliche FoBi\",SUM(E8+I8+M8-O8)<=Dropdwon!$A$5,SUM(E8+I8+M8-O8)<=Q8),SUM(E8+I8+M8-O8),IF(AND(T8=\"förderliche FoBi\",SUM(E8+I8+M8-O8)>Q8),Q8,IF(SUM(E8+I8+M8-O8)>Dropdwon!$A$5,Dropdwon!$C$5,SUM(E8+I8+M8-O8))))))","v":{"$error":"#VALUE!"}},{"$f":"IF(OR(U8=\"x\",A8<STAMMDATENBLATT!$B$32,A8>STAMMDATENBLATT!$D$32),\"0:00\",IF(MOD(B8,2)=0,VLOOKUP(WEEKDAY(A8,2),STAMMDATENBLATT!H$28:J$34,3,FALSE),VLOOKUP(WEEKDAY(A8,2),STAMMDATENBLATT!H$38:J$44,3,FALSE)))","v":{"$error":"#VALUE!"}},{"$error":"#VALUE!"},null,null,{"$f":"_xlfn.IFNA(VLOOKUP(A8,Feiertage!A:D,3,FALSE),\"\")","v":""},{"$f":"_xlfn.IFNA(VLOOKUP(A8,Feiertage!A:D,4,FALSE),\"\")","v":""}]
[{"$f":"A8+1","v":"2024-12-04"},49,null,null,"00:00:00",{"$f":"IF(E9<Dropdwon!$A$3,Dropdwon!$B$2,IF(AND(E9<Dropdwon!$A$4,E9>=Dropdwon!$A$3),Dropdwon!$B$3,Dropdwon!$B$4))","v":"00:00:00"},null,null,"00:00:00",{"$f":"IF(I9<Dropdwon!$A$3,Dropdwon!$B$2,IF(AND(I9<Dropdwon!$A$4,I9>=Dropdwon!$A$3),Dropdwon!$B$3,Dropdwon!$B$4))","v":"00:00:00"},null,null,"00:00:00",{"$f":"IF(M9<Dropdwon!$A$3,Dropdwon!$B$2,IF(AND(M9<Dropdwon!$A$4,M9>=Dropdwon!$A$3),Dropdwon!$B$3,Dropdwon!$B$4))","v":"00:00:00"},"00:00:00",{"$f":"IF(AND(T9<>\"\",T9<>\"verpflichtende FoBi\",T9<>\"förderliche FoBi\"),Q9,IF(AND(T9=\"verpflichtende FoBi\",SUM(E9+I9+M9-O9)<=Dropdwon!$A$5),SUM(E9+I9+M9-O9),IF(AND(T9=\"förderliche FoBi\",SUM(E9+I9+M9-O9)<=Dropdwon!$A$5,SUM(E9+I9+M9-O9)<=Q9),SUM(E9+I9+M9-O9),IF(AND(T9=\"förderliche FoBi\",SUM(E9+I9+M9-O9)>Q9),Q9,IF(SUM(E9+I9+M9-O9)>Dropdwon!$A$5,Dropdwon!$C$5,SUM(E9+I9+M9-O9))))))","v":{"$error":"#VALUE!"}},{"$f":"IF(OR(U9=\"x\",A9<STAMMDATENBLATT!$B$32,A9>STAMMDATENBLATT!$D$32),\"0:00\",IF(MOD(B9,2)=0,VLOOKUP(WEEKDAY(A9,2),STAMMDATENBLATT!H$28:J$34,3,FALSE),VLOOKUP(WEEKDAY(A9,2),STAMMDATENBLATT!H$38:J$44,3,FALSE)))","v":{"$error":"#VALUE!"}},{"$error":"#VALUE!"},null,null,{"$f":"_xlfn.IFNA(VLOOKUP(A9,Feiertage!A:D,3,FALSE),\"\")","v":""},{"$f":"_xlfn.IFNA(VLOOKUP(A9,Feiertage!A:D,4,FALSE),\"\")","v":""}]
["2024-12-05",49,null,null,"00:00:00",{"$f":"IF(E10<Dropdwon!$A$3,Dropdwon!$B$2,IF(AND(E10<Dropdwon!$A$4,E10>=Dropdwon!$A$3),Dropdwon!$B$3,Dropdwon!$B$4))","v":"00:00:00"},null,null,"00:00:00",{"$f":"IF(I10<Dropdwon!$A$3,Dropdwon!$B$2,IF(AND(I10<Dropdwon!$A$4,I10>=Dropdwon!$A$3),Dropdwon!$B$3,Dropdwon!$B$4))","v":"00:00:00"},null,null,"00:00:00",{"$f":"IF(M10<Dropdwon!$A$3,Dropdwon!$B$2,IF(AND(M10<Dropdwon!$A$4,M10>=Dropdwon!$A$3),Dropdwon!$B$3,Dropdwon!$B$4))","v":"00:00:00"},"00:00:00",{"$f":"IF(AND(T10<>\"\",T10<>\"verpflichtende FoBi\",T10<>\"förderliche FoBi\"),Q10,IF(AND(T10=\"verpflichtende FoBi\",SUM(E10+I10+M10-O10)<=Dropdwon!$A$5),SUM(E10+I10+M10-O10),IF(AND(T10=\"förderliche FoBi\",SUM(E10+I10+M10-O10)<=Dropdwon!$A$5,SUM(E10+I10+M10-O10)<=Q10),SUM(E10+I10+M10-O10),IF(AND(T10=\"förderliche FoBi\",SUM(E10+I10+M10-O10)>Q10),Q10,IF(SUM(E10+I10+M10-O10)>Dropdwon!$A$5,Dropdwon!$C$5,SUM(E10+I10+M10-O10))))))","v":{"$error":"#VALUE!"}},{"$f":"IF(OR(U10=\"x\",A10<STAMMDATENBLATT!$B$32,A10>STAMMDATENBLATT!$D$32),\"0:00\",IF(MOD(B10,2)=0,VLOOKUP(WEEKDAY(A10,2),STAMMDATENBLATT!H$28:J$34,3,FALSE),VLOOKUP(WEEKDAY(A10,2),STAMMDATENBLATT!H$38:J$44,3,FALSE)))","v":{"$error":"#VALUE!"}},{"$error":"#VALUE!"},null,null,{"$f":"_xlfn.IFNA(VLOOKUP(A10,Feiertage!A:D,3,FALSE),\"\")","v":""},{"$f":"_xlfn.IFNA(VLOOKUP(A10,Feiertage!A:D,4,FALSE),\"\")","v":""}]
["2024-12-06",49,null,null,"00:00:00",{"$f":"IF(E11<Dropdwon!$A$3,Dropdwon!$B$2,IF(AND(E11<Dropdwon!$A$4,E11>=Dropdwon!$A$3),Dropdwon!$B$3,Dropdwon!$B$4))","v":"00:00:00"},null,null,"00:00:00",{"$f":"IF(I11<Dropdwon!$A$3,Dropdwon!$B$2,IF(AND(I11<Dropdwon!$A$4,I11>=Dropdwon!$A$3),Dropdwon!$B$3,Dropdwon!$B$4))","v":"00:00:00"},null,null,"00:00:00",{"$f":"IF(M11<Dropdwon!$A$3,Dropdwon!$B$2,IF(AND(M11<Dropdwon!$A$4,M11>=Dropdwon!$A$3),Dropdwon!$B$3,Dropdwon!$B$4))","v":"00:00:00"},"00:00:00",{"$f":"IF(AND(T11<>\"\",T11<>\"verpflichtende FoBi\",T11<>\"förderliche FoBi\"),Q11,IF(AND(T11=\"verpflichtende FoBi\",SUM(E11+I11+M11-O11)<=Dropdwon!$A$5),SUM(E11+I11+M11-O11),IF(AND(T11=\"förderliche FoBi\",SUM(E11+I11+M11-O11)<=Dropdwon!$A$5,SUM(E11+I11+M11-O11)<=Q11),SUM(E11+I11+M11-O11),IF(AND(T11=\"förderliche FoBi\",SUM(E11+I11+M11-O11)>Q11),Q11,IF(SUM(E11+I11+M11-O11)>Dropdwon!$A$5,Dropdwon!$C$5,SUM(E11+I11+M11-O11))))))","v":{"$error":"#VALUE!"}},{"$f":"IF(OR(U11=\"x\",A11<STAMMDATENBLATT!$B$32,A11>STAMMDATENBLATT!$D$32),\"0:00\",IF(MOD(B11,2)=0,VLOOKUP(WEEKDAY(A11,2),STAMMDATENBLATT!H$28:J$34,3,FALSE),VLOOKUP(WEEKDAY(A11,2),STAMMDATENBLATT!H$38:J$44,3,FALSE)))","v":{"$error":"#VALUE!"}},{"$error":"#VALUE!"},null,null,{"$f":"_xlfn.IFNA(VLOOKUP(A11,Feiertage!A:D,3,FALSE),\"\")","v":""},{"$f":"_xlfn.IFNA(VLOOKUP(A11,Feiertage!A:D,4,FALSE),\"\")","v":""}]
["2024-12-07",49,null,null,"00:00:00",{"$f":"IF(E12<Dropdwon!$A$3,Dropdwon!$B$2,IF(AND(E12<Dropdwon!$A$4,E12>=Dropdwon!$A$3),Dropdwon!$B$3,Dropdwon!$B$4))","v":"00:00:00"},null,null,"00:00:00",{"$f":"IF(I12<Dropdwon!$A$3,Dropdwon!$B$2,IF(AND(I12<Dropdwon!$A$4,I12>=Dropdwon!$A$3),Dropdwon!$B$3,Dropdwon!$B$4))","v":"00:00:00"},null,null,"00:00:00",{"$f":"IF(M12<Dropdwon!$A$3,Dropdwon!$B$2,IF(AND(M12<Dropdwon!$A$4,M12>=Dropdwon!$A$3),Dropdwon!$B$3,Dropdwon!$B$4))","v":"00:00:00"},"00:00:00",{"$f":"IF(AND(T12<>\"\",T12<>\"verpflichtende FoBi\",T12<>\"förderliche FoBi\"),Q12,IF(AND(T12=\"verpflichtende FoBi\",SUM(E12+I12+M12-O12)<=Dropdwon!$A$5),SUM(E12+I12+M12-O12),IF(AND(T12=\"förderliche FoBi\",SUM(E12+I12+M12-O12)<=Dropdwon!$A$5,SUM(E12+I12+M12-O12)<=Q12),SUM(E12+I12+M12-O12),IF(AND(T12=\"förderliche FoBi\",SUM(E12+I12+M12-O12)>Q12),Q12,IF(SUM(E12+I12+M12-O12)>Dropdwon!$A$5,Dropdwon!$C$5,SUM(E12+I12+M12-O12))))))","v":"00:00:00"},{"$f":"IF(OR(U12=\"x\",A12<STAMMDATENBLATT!$B$32,A12>STAMMDATENBLATT!$D$32),\"0:00\",IF(MOD(B12,2)=0,VLOOKUP(WEEKDAY(A12,2),STAMMDATENBLATT!H$28:J$34,3,FALSE),VLOOKUP(WEEKDAY(A12,2),STAMMDATENBLATT!H$38:J$44,3,FALSE)))","v":"00:00:00"},"00:00:00",null,null,{"$f":"_xlfn.IFNA(VLOOKUP(A12,Feiertage!A:D,3,FALSE),\"\")","v":""},{"$f":"_xlfn.IFNA(VLOOKUP(A12,Feiertage!A:D,4,FALSE),\"\")","v":""}]
["2024-12-08",49,null,null,"00:00:00",{"$f":"IF(E13<Dropdwon!$A$3,Dropdwon!$B$2,IF(AND(E13<Dropdwon!$A$4,E13>=Dropdwon!$A$3),Dropdwon!$B$3,Dropdwon!$B$4))","v":"00:00:00"},null,null,"00:00:00",{"$f":"IF(I13<Dropdwon!$A$3,Dropdwon!$B$2,IF(AND(I13<Dropdwon!$A$4,I13>=Dropdwon!$A$3),Dropdwon!$B$3,Dropdwon!$B$4))","v":"00:00:00"},null,null,"00:00:00",{"$f":"IF(M13<Dropdwon!$A$3,Dropdwon!$B$2,IF(AND(M13<Dropdwon!$A$4,M13>=Dropdwon!$A$3),Dropdwon!$B$3,Dropdwon!$B$4))","v":"00:00:00"},"00:00:00",{"$f":"IF(AND(T13<>\"\",T13<>\"verpflichtende FoBi\",T13<>\"förderliche FoBi\"),Q13,IF(AND(T13=\"verpflichtende FoBi\",SUM(E13+I13+M13-O13)<=Dropdwon!$A$5),SUM(E13+I13+M13-O13),IF(AND(T13=\"förderliche FoBi\",SUM(E13+I13+M13-O13)<=Dropdwon!$A$5,SUM(E13+I13+M13-O13)<=Q13),SUM(E13+I13+M13-O13),IF(AND(T13=\"förderliche FoBi\",SUM(E13+I13+M13-O13)>Q13),Q13,IF(SUM(E13+I13+M13-O13)>Dropdwon!$A$5,Dropdwon!$C$5,SUM(E13+I13+M13-O13))))))","v":"00:00:00"},{"$f":"IF(OR(U13=\"x\",A13<STAMMDATENBLATT!$B$32,A13>STAMMDATENBLATT!$D$32),\"0:00\",IF(MOD(B13,2)=0,VLOOKUP(WEEKDAY(A13,2),STAMMDATENBLATT!H$28:J$34,3,FALSE),VLOOKUP(WEEKDAY(A13,2),STAMMDATENBLATT!H$38:J$44,3,FALSE)))","v":"00:00:00"},"00:00:00",null,null,{"$f":"_xlfn.IFNA(VLOOKUP(A13,Feiertage!A:D,3,FALSE),\"\")","v":""},{"$f":"_xlfn.IFNA(VLOOKUP(A13,Feiertage!A:D,4,FALSE),\"\")","v":""}]
["2024-12-09",50,null,null,"00:00:00",{"$f":"IF(E14<Dropdwon!$A$3,Dropdwon!$B$2,IF(AND(E14<Dropdwon!$A$4,E14>=Dropdwon!$A$3),Dropdwon!$B$3,Dropdwon!$B$4))","v":"00:00:00"},null,null,"00:00:00",{"$f":"IF(I14<Dropdwon!$A$3,Dropdwon!$B$2,IF(AND(I14<Dropdwon!$A$4,I14>=Dropdwon!$A$3),Dropdwon!$B$3,Dropdwon!$B$4))","v":"00:00:00"},null,null,"00:00:00",{"$f":"IF(M14<Dropdwon!$A$3,Dropdwon!$B$2,IF(AND(M14<Dropdwon!$A$4,M14>=Dropdwon!$A$3),Dropdwon!$B$3,Dropdwon!$B$4))","v":"00:00:00"},"00:00:00",{"$f":"IF(AND(T14<>\"\",T14<>\"verpflichtende FoBi\",T14<>\"förderliche FoBi\"),Q14,IF(AND(T14=\"verpflichtende FoBi\",SUM(E14+I14+M14-O14)<=Dropdwon!$A$5),SUM(E14+I14+M14-O14),IF(AND(T14=\"förderliche FoBi\",SUM(E14+I14+M14-O14)<=Dropdwon!$A$5,SUM(E14+I14+M14-O14)<=Q14),SUM(E14+I14+M14-O14),IF(AND(T14=\"förderliche FoBi\",SUM(E14+I14+M14-O14)>Q14),Q14,IF(SUM(E14+I14+M14-O14)>Dropdwon!$A$5,Dropdwon!$C$5,SUM(E14+I14+M14-O14))))))","v":{"$error":"#VALUE!"}},{"$f":"IF(OR(U14=\"x\",A14<STAMMDATENBLATT!$B$32,A14>STAMMDATENBLATT!$D$32),\"0:00\",IF(MOD(B14,2)=0,VLOOKUP(WEEKDAY(A14,2),STAMMDATENBLATT!H$28:J$34,3,FALSE),VLOOKUP(WEEKDAY(A14,2),STAMMDATENBLATT!H$38:J$44,3,FALSE)))","v":{"$error":"#VALUE!"}},{"$error":"#VALUE!"},null,null,{"$f":"_xlfn.IFNA(VLOOKUP(A14,Feiertage!A:D,3,FALSE),\"\")","v":""},{"$f":"_xlfn.IFNA(VLOOKUP(A14,Feiertage!A:D,4,FALSE),\"\")","v":""}]
["2024-12-10",50,null,null,"00:00:00",{"$f":"IF(E15<Dropdwon!$A$3,Dropdwon!$B$2,IF(AND(E15<Dropdwon!$A$4,E15>=Dropdwon!$A$3),Dropdwon!$B$3,Dropdwon!$B$4))","v":"00:00:00"},null,null,"00:00:00",{"$f":"IF(I15<Dropdwon!$A$3,Dropdwon!$B$2,IF(AND(I15<Dropdwon!$A$4,I15>=Dropdwon!$A$3),Dropdwon!$B$3,Dropdwon!$B$4))","v":"00:00:00"},null,null,"00:00:00",{"$f":"IF(M15<Dropdwon!$A$3,Dropdwon!$B$2,IF(AND(M15<Dropdwon!$A$4,M15>=Dropdwon!$A$3),Dropdwon!$B$3,Dropdwon!$B$4))","v":"00:00:00"},"00:00:00",{"$f":"IF(AND(T15<>\"\",T15<>\"verpflichtende FoBi\",T15<>\"förderliche FoBi\"),Q15,IF(AND(T15=\"verpflichtende FoBi\",SUM(E15+I15+M15-O15)<=Dropdwon!$A$5),SUM(E15+I15+M15-O15),IF(AND(T15=\"förderliche FoBi\",SUM(E15+I15+M15-O15)<=Dropdwon!$A$5,SUM(E15+I15+M15-O15)<=Q15),SUM(E15+I15+M15-O15),IF(AND(T15=\"förderliche FoBi\",SUM(E15+I15+M15-O15)>Q15),Q15,IF(SUM(E15+I15+M15-O15)>Dropdwon!$A$5,Dropdwon!$C$5,SUM(E15+I15+M15-O15))))))","v":{"$error":"#VALUE!"}},{"$f":"IF(OR(U15=\"x\",A15<STAMMDATENBLATT!$B$32,A15>STAMMDATENBLATT!$D$32),\"0:00\",IF(MOD(B15,2)=0,VLOOKUP(WEEKDAY(A15,2),STAMMDATENBLATT!H$28:J$34,3,FALSE),VLOOKUP(WEEKDAY(A15,2),STAMMDATENBLATT!H$38:J$44,3,FALSE)))","v":{"$error":"#VALUE!"}},{"$error":"#VALUE!"},null,null,{"$f":"_xlfn.IFNA(VLOOKUP(A15,Feiertage!A:D,3,FALSE),\"\")","v":""},{"$f":"_xlfn.IFNA(VLOOKUP(A15,Feiertage!A:D,4,FALSE),\"\")","v":""}]
["2024-12-11",50,null,null,"00:00:00",{"$f":"IF(E16<Dropdwon!$A$3,Dropdwon!$B$2,IF(AND(E16<Dropdwon!$A$4,E16>=Dropdwon!$A$3),Dropdwon!$B$3,Dropdwon!$B$4))","v":"00:00:00"},null,null,"00:00:00",{"$f":"IF(I16<Dropdwon!$A$3,Dropdwon!$B$2,IF(AND(I16<Dropdwon!$A$4,I16>=Dropdwon!$A$3),Dropdwon!$B$3,Dropdwon!$B$4))","v":"00:00:00"},null,null,"00:00:00",{"$f":"IF(M16<Dropdwon!$A$3,Dropdwon!$B$2,IF(AND(M16<Dropdwon!$A$4,M16>=Dropdwon!$A$3),Dropdwon!$B$3,Dropdwon!$B$4))","v":"00:00:00"},"00:00:00",{"$f":"IF(AND(T16<>\"\",T16<>\"verpflichtende FoBi\",T16<>\"förderliche FoBi\"),Q16,IF(AND(T16=\"verpflichtende FoBi\",SUM(E16+I16+M16-O16)<=Dropdwon!$A$5),SUM(E16+I16+M16-O16),IF(AND(T16=\"förderliche FoBi\",SUM(E16+I16+M16-O16)<=Dropdwon!$A$5,SUM(E16+I16+M16-O16)<=Q16),SUM(E16+I16+M16-O16),IF(AND(T16=\"förderliche FoBi\",SUM(E16+I16+M16-O16)>Q16),Q16,IF(SUM(E16+I16+M16-O16)>Dropdwon!$A$5,Dropdwon!$C$5,SUM(E16+I16+M16-O16))))))","v":{"$error":"#VALUE!"}},{"$f":"IF(OR(U16=\"x\",A16<STAMMDATENBLATT!$B$32,A16>STAMMDATENBLATT!$D$32),\"0:00\",IF(MOD(B16,2)=0,VLOOKUP(WEEKDAY(A16,2),STAMMDATENBLATT!H$28:J$34,3,FALSE),VLOOKUP(WEEKDAY(A16,2),STAMMDATENBLATT!H$38:J$44,3,FALSE)))","v":{"$error":"#VALUE!"}},{"$error":"#VALUE!"},null,null,{"$f":"_xlfn.IFNA(VLOOKUP(A16,Feiertage!A:D,3,FALSE),\"\")","v":""},{"$f":"_xlfn.IFNA(VLOOKUP(A16,Feiertage!A:D,4,FALSE),\"\")","v":""}]
["2024-12-12",50,null,null,"00:00:00",{"$f":"IF(E17<Dropdwon!$A$3,Dropdwon!$B$2,IF(AND(E17<Dropdwon!$A$4,E17>=Dropdwon!$A$3),Dropdwon!$B$3,Dropdwon!$B$4))","v":"00:00:00"},null,null,"00:00:00",{"$f":"IF(I17<Dropdwon!$A$3,Dropdwon!$B$2,IF(AND(I17<Dropdwon!$A$4,I17>=Dropdwon!$A$3),Dropdwon!$B$3,Dropdwon!$B$4))","v":"00:00:00"},null,null,"00:00:00",{"$f":"IF(M17<Dropdwon!$A$3,Dropdwon!$B$2,IF(AND(M17<Dropdwon!$A$4,M17>=Dropdwon!$A$3),Dropdwon!$B$3,Dropdwon!$B$4))","v":"00:00:00"},"00:00:00",{"$f":"IF(AND(T17<>\"\",T17<>\"verpflichtende FoBi\",T17<>\"förderliche FoBi\"),Q17,IF(AND(T17=\"verpflichtende FoBi\",SUM(E17+I17+M17-O17)<=Dropdwon!$A$5),SUM(E17+I17+M17-O17),IF(AND(T17=\"förderliche FoBi\",SUM(E17+I17+M17-O17)<=Dropdwon!$A$5,SUM(E17+I17+M17-O17)<=Q17),SUM(E17+I17+M17-O17),IF(AND(T17=\"förderliche FoBi\",SUM(E17+I17+M17-O17)>Q17),Q17,IF(SUM(E17+I17+M17-O17)>Dropdwon!$A$5,Dropdwon!$C$5,SUM(E17+I17+M17-O17))))))","v":{"$error":"#VALUE!"}},{"$f":"IF(OR(U17=\"x\",A17<STAMMDATENBLATT!$B$32,A17>STAMMDATENBLATT!$D$32),\"0:00\",IF(MOD(B17,2)=0,VLOOKUP(WEEKDAY(A17,2),STAMMDATENBLATT!H$28:J$34,3,FALSE),VLOOKUP(WEEKDAY(A17,2),STAMMDATENBLATT!H$38:J$44,3,FALSE)))","v":{"$error":"#VALUE!"}},{"$error":"#VALUE!"},null,null,{"$f":"_xlfn.IFNA(VLOOKUP(A17,Feiertage!A:D,3,FALSE),\"\")","v":""},{"$f":"_xlfn.IFNA(VLOOKUP(A17,Feiertage!A:D,4,FALSE),\"\")","v":""}]
["2024-12-13",50,null,null,"00:00:00",{"$f":"IF(E18<Dropdwon!$A$3,Dropdwon!$B$2,IF(AND(E18<Dropdwon!$A$4,E18>=Dropdwon!$A$3),Dropdwon!$B$3,Dropdwon!$B$4))","v":"00:00:00"},null,null,"00:00:00",{"$f":"IF(I18<Dropdwon!$A$3,Dropdwon!$B$2,IF(AND(I18<Dropdwon!$A$4,I18>=Dropdwon!$A$3),Dropdwon!$B$3,Dropdwon!$B$4))","v":"00:00:00"},null,null,"00:00:00",{"$f":"IF(M18<Dropdwon!$A$3,Dropdwon!$B$2,IF(AND(M18<Dropdwon!$A$4,M18>=Dropdwon!$A$3),Dropdwon!$B$3,Dropdwon!$B$4))","v":"00:00:00"},"00:00:00",{"$f":"IF(AND(T18<>\"\",T18<>\"verpflichtende FoBi\",T18<>\"förderliche FoBi\"),Q18,IF(AND(T18=\"verpflichtende FoBi\",SUM(E18+I18+M18-O18)<=Dropdwon!$A$5),SUM(E18+I18+M18-O18),IF(AND(T18=\"förderliche FoBi\",SUM(E18+I18+M18-O18)<=Dropdwon!$A$5,SUM(E18+I18+M18-O18)<=Q18),SUM(E18+I18+M18-O18),IF(AND(T18=\"förderliche FoBi\",SUM(E18+I18+M18-O18)>Q18),Q18,IF(SUM(E18+I18+M18-O18)>Dropdwon!$A$5,Dropdwon!$C$5,SUM(E18+I18+M18-O18))))))","v":{"$error":"#VALUE!"}},{"$f":"IF(OR(U18=\"x\",A18<STAMMDATENBLATT!$B$32,A18>STAMMDATENBLATT!$D$32),\"0:00\",IF(MOD(B18,2)=0,VLOOKUP(WEEKDAY(A18,2),STAMMDATENBLATT!H$28:J$34,3,FALSE),VLOOKUP(WEEKDAY(A18,2),STAMMDATENBLATT!H$38:J$44,3,FALSE)))","v":{"$error":"#VALUE!"}},{"$error":"#VALUE!"},null,null,{"$f":"_xlfn.IFNA(VLOOKUP(A18,Feiertage!A:D,3,FALSE),\"\")","v":""},{"$f":"_xlfn.IFNA(VLOOKUP(A18,Feiertage!A:D,4,FALSE),\"\")","v":""}]
["2024-12-14",50,null,null,"00:00:00",{"$f":"IF(E19<Dropdwon!$A$3,Dropdwon!$B$2,IF(AND(E19<Dropdwon!$A$4,E19>=Dropdwon!$A$3),Dropdwon!$B$3,Dropdwon!$B$4))","v":"00:00:00"},null,null,"00:00:00",{"$f":"IF(I19<Dropdwon!$A$3,Dropdwon!$B$2,IF(AND(I19<Dropdwon!$A$4,I19>=Dropdwon!$A$3),Dropdwon!$B$3,Dropdwon!$B$4))","v":"00:00:00"},null,null,"00:00:00",{"$f":"IF(M19<Dropdwon!$A$3,Dropdwon!$B$2,IF(AND(M19<Dropdwon!$A$4,M19>=Dropdwon!$A$3),Dropdwon!$B$3,Dropdwon!$B$4))","v":"00:00:00"},"00:00:00",{"$f":"IF(AND(T19<>\"\",T19<>\"verpflichtende FoBi\",T19<>\"förderliche FoBi\"),Q19,IF(AND(T19=\"verpflichtende FoBi\",SUM(E19+I19+M19-O19)<=Dropdwon!$A$5),SUM(E19+I19+M19-O19),IF(AND(T19=\"förderliche FoBi\",SUM(E19+I19+M19-O19)<=Dropdwon!$A$5,SUM(E19+I19+M19-O19)<=Q19),SUM(E19+I19+M19-O19),IF(AND(T19=\"förderliche FoBi\",SUM(E19+I19+M19-O19)>Q19),Q19,IF(SUM(E19+I19+M19-O19)>Dropdwon!$A$5,Dropdwon!$C$5,SUM(E19+I19+M19-O19))))))","v":"00:00:00"},{"$f":"IF(OR(U19=\"x\",A19<STAMMDATENBLATT!$B$32,A19>STAMMDATENBLATT!$D$32),\"0:00\",IF(MOD(B19,2)=0,VLOOKUP(WEEKDAY(A19,2),STAMMDATENBLATT!H$28:J$34,3,FALSE),VLOOKUP(WEEKDAY(A19,2),STAMMDATENBLATT!H$38:J$44,3,FALSE)))","v":"00:00:00"},"00:00:00",null,null,{"$f":"_xlfn.IFNA(VLOOKUP(A19,Feiertage!A:D,3,FALSE),\"\")","v":""},{"$f":"_xlfn.IFNA(VLOOKUP(A19,Feiertage!A:D,4,FALSE),\"\")","v":""}]
["2024-12-15",50,null,null,"00:00:00",{"$f":"IF(E20<Dropdwon!$A$3,Dropdwon!$B$2,IF(AND(E20<Dropdwon!$A$4,E20>=Dropdwon!$A$3),Dropdwon!$B$3,Dropdwon!$B$4))","v":"00:00:00"},null,null,"00:00:00",{"$f":"IF(I20<Dropdwon!$A$3,Dropdwon!$B$2,IF(AND(I20<Dropdwon!$A$4,I20>=Dropdwon!$A$3),Dropdwon!$B$3,Dropdwon!$B$4))","v":"00:00:00"},null,null,"00:00:00",{"$f":"IF(M20<Dropdwon!$A$3,Dropdwon!$B$2,IF(AND(M20<Dropdwon!$A$4,M20>=Dropdwon!$A$3),Dropdwon!$B$3,Dropdwon!$B$4))","v":"00:00:00"},"00:00:00",{"$f":"IF(AND(T20<>\"\",T20<>\"verpflichtende FoBi\",T20<>\"förderliche FoBi\"),Q20,IF(AND(T20=\"verpflichtende FoBi\",SUM(E20+I20+M20-O20)<=Dropdwon!$A$5),SUM(E20+I20+M20-O20),IF(AND(T20=\"förderliche FoBi\",SUM(E20+I20+M20-O20)<=Dropdwon!$A$5,SUM(E20+I20+M20-O20)<=Q20),SUM(E20+I20+M20-O20),IF(AND(T20=\"förderliche FoBi\",SUM(E20+I20+M20-O20)>Q20),Q20,IF(SUM(E20+I20+M20-O20)>Dropdwon!$A$5,Dropdwon!$C$5,SUM(E20+I20+M20-O20))))))","v":"00:00:00"},{"$f":"IF(OR(U20=\"x\",A20<STAMMDATENBLATT!$B$32,A20>STAMMDATENBLATT!$D$32),\"0:00\",IF(MOD(B20,2)=0,VLOOKUP(WEEKDAY(A20,2),STAMMDATENBLATT!H$28:J$34,3,FALSE),VLOOKUP(WEEKDAY(A20,2),STAMMDATENBLATT!H$38:J$44,3,FALSE)))","v":"00:00:00"},"00:00:00",null,null,{"$f":"_xlfn.IFNA(VLOOKUP(A20,Feiertage!A:D,3,FALSE),\"\")","v":""},{"$f":"_xlfn.IFNA(VLOOKUP(A20,Feiertage!A:D,4,FALSE),\"\")","v":""}]
["2024-12-16",51,null,null,"00:00:00",{"$f":"IF(E21<Dropdwon!$A$3,Dropdwon!$B$2,IF(AND(E21<Dropdwon!$A$4,E21>=Dropdwon!$A$3),Dropdwon!$B$3,Dropdwon!$B$4))","v":"00:00:00"},null,null,"00:00:00",{"$f":"IF(I21<Dropdwon!$A$3,Dropdwon!$B$2,IF(AND(I21<Dropdwon!$A$4,I21>=Dropdwon!$A$3),Dropdwon!$B$3,Dropdwon!$B$4))","v":"00:00:00"},null,null,"00:00:00",{"$f":"IF(M21<Dropdwon!$A$3,Dropdwon!$B$2,IF(AND(M21<Dropdwon!$A$4,M21>=Dropdwon!$A$3),Dropdwon!$B$3,Dropdwon!$B$4))","v":"00:00:00"},"00:00:00",{"$f":"IF(AND(T21<>\"\",T21<>\"verpflichtende FoBi\",T21<>\"förderliche FoBi\"),Q21,IF(AND(T21=\"verpflichtende FoBi\",SUM(E21+I21+M21-O21)<=Dropdwon!$A$5),SUM(E21+I21+M21-O21),IF(AND(T21=\"förderliche FoBi\",SUM(E21+I21+M21-O21)<=Dropdwon!$A$5,SUM(E21+I21+M21-O21)<=Q21),SUM(E21+I21+M21-O21),IF(AND(T21=\"förderliche FoBi\",SUM(E21+I21+M21-O21)>Q21),Q21,IF(SUM(E21+I21+M21-O21)>Dropdwon!$A$5,Dropdwon!$C$5,SUM(E21+I21+M21-O21))))))","v":{"$error":"#VALUE!"}},{"$f":"IF(OR(U21=\"x\",A21<STAMMDATENBLATT!$B$32,A21>STAMMDATENBLATT!$D$32),\"0:00\",IF(MOD(B21,2)=0,VLOOKUP(WEEKDAY(A21,2),STAMMDATENBLATT!H$28:J$34,3,FALSE),VLOOKUP(WEEKDAY(A21,2),STAMMDATENBLATT!H$38:J$44,3,FALSE)))","v":{"$error":"#VALUE!"}},{"$error":"#VALUE!"},null,null,{"$f":"_xlfn.IFNA(VLOOKUP(A21,Feiertage!A:D,3,FALSE),\"\")","v":""},{"$f":"_xlfn.IFNA(VLOOKUP(A21,Feiertage!A:D,4,FALSE),\"\")","v":""}]
["2024-12-17",51,null,null,"00:00:00",{"$f":"IF(E22<Dropdwon!$A$3,Dropdwon!$B$2,IF(AND(E22<Dropdwon!$A$4,E22>=Dropdwon!$A$3),Dropdwon!$B$3,Dropdwon!$B$4))","v":"00:00:00"},null,null,"00:00:00",{"$f":"IF(I22<Dropdwon!$A$3,Dropdwon!$B$2,IF(AND(I22<Dropdwon!$A$4,I22>=Dropdwon!$A$3),Dropdwon!$B$3,Dropdwon!$B$4))","v":"00:00:00"},null,null,"00:00:00",{"$f":"IF(M22<Dropdwon!$A$3,Dropdwon!$B$2,IF(AND(M22<Dropdwon!$A$4,M22>=Dropdwon!$A$3),Dropdwon!$B$3,Dropdwon!$B$4))","v":"00:00:00"},"00:00:00",{"$f":"IF(AND(T22<>\"\",T22<>\"verpflichtende FoBi\",T22<>\"förderliche FoBi\"),Q22,IF(AND(T22=\"verpflichtende FoBi\",SUM(E22+I22+M22-O22)<=Dropdwon!$A$5),SUM(E22+I22+M22-O22),IF(AND(T22=\"förderliche FoBi\",SUM(E22+I22+M22-O22)<=Dropdwon!$A$5,SUM(E22+I22+M22-O22)<=Q22),SUM(E22+I22+M22-O22),IF(AND(T22=\"förderliche FoBi\",SUM(E22+I22+M22-O22)>Q22),Q22,IF(SUM(E22+I22+M22-O22)>Dropdwon!$A$5,Dropdwon!$C$5,SUM(E22+I22+M22-O22))))))","v":{"$error":"#VALUE!"}},{"$f":"IF(OR(U22=\"x\",A22<STAMMDATENBLATT!$B$32,A22>STAMMDATENBLATT!$D$32),\"0:00\",IF(MOD(B22,2)=0,VLOOKUP(WEEKDAY(A22,2),STAMMDATENBLATT!H$28:J$34,3,FALSE),VLOOKUP(WEEKDAY(A22,2),STAMMDATENBLATT!H$38:J$44,3,FALSE)))","v":{"$error":"#VALUE!"}},{"$error":"#VALUE!"},null,null,{"$f":"_xlfn.IFNA(VLOOKUP(A22,Feiertage!A:D,3,FALSE),\"\")","v":""},{"$f":"_xlfn.IFNA(VLOOKUP(A22,Feiertage!A:D,4,FALSE),\"\")","v":""}]
["2024-12-18",51,null,null,"00:00:00",{"$f":"IF(E23<Dropdwon!$A$3,Dropdwon!$B$2,IF(AND(E23<Dropdwon!$A$4,E23>=Dropdwon!$A$3),Dropdwon!$B$3,Dropdwon!$B$4))","v":"00:00:00"},null,null,"00:00:00",{"$f":"IF(I23<Dropdwon!$A$3,Dropdwon!$B$2,IF(AND(I23<Dropdwon!$A$4,I23>=Dropdwon!$A$3),Dropdwon!$B$3,Dropdwon!$B$4))","v":"00:00:00"},null,null,"00:00:00",{"$f":"IF(M23<Dropdwon!$A$3,Dropdwon!$B$2,IF(AND(M23<Dropdwon!$A$4,M23>=Dropdwon!$A$3),Dropdwon!$B$3,Dropdwon!$B$4))","v":"00:00:00"},"00:00:00",{"$f":"IF(AND(T23<>\"\",T23<>\"verpflichtende FoBi\",T23<>\"förderliche FoBi\"),Q23,IF(AND(T23=\"verpflichtende FoBi\",SUM(E23+I23+M23-O23)<=Dropdwon!$A$5),SUM(E23+I23+M23-O23),IF(AND(T23=\"förderliche FoBi\",SUM(E23+I23+M23-O23)<=Dropdwon!$A$5,SUM(E23+I23+M23-O23)<=Q23),SUM(E23+I23+M23-O23),IF(AND(T23=\"förderliche FoBi\",SUM(E23+I23+M23-O23)>Q23),Q23,IF(SUM(E23+I23+M23-O23)>Dropdwon!$A$5,Dropdwon!$C$5,SUM(E23+I23+M23-O23))))))","v":{"$error":"#VALUE!"}},{"$f":"IF(OR(U23=\"x\",A23<STAMMDATENBLATT!$B$32,A23>STAMMDATENBLATT!$D$32),\"0:00\",IF(MOD(B23,2)=0,VLOOKUP(WEEKDAY(A23,2),STAMMDATENBLATT!H$28:J$34,3,FALSE),VLOOKUP(WEEKDAY(A23,2),STAMMDATENBLATT!H$38:J$44,3,FALSE)))","v":{"$error":"#VALUE!"}},{"$error":"#VALUE!"},null,null,{"$f":"_xlfn.IFNA(VLOOKUP(A23,Feiertage!A:D,3,FALSE),\"\")","v":""},{"$f":"_xlfn.IFNA(VLOOKUP(A23,Feiertage!A:D,4,FALSE),\"\")","v":""}]
["2024-12-19",51,null,null,"00:00:00",{"$f":"IF(E24<Dropdwon!$A$3,Dropdwon!$B$2,IF(AND(E24<Dropdwon!$A$4,E24>=Dropdwon!$A$3),Dropdwon!$B$3,Dropdwon!$B$4))","v":"00:00:00"},null,null,"00:00:00",{"$f":"IF(I24<Dropdwon!$A$3,Dropdwon!$B$2,IF(AND(I24<Dropdwon!$A$4,I24>=Dropdwon!$A$3),Dropdwon!$B$3,Dropdwon!$B$4))","v":"00:00:00"},null,null,"00:00:00",{"$f":"IF(M24<Dropdwon!$A$3,Dropdwon!$B$2,IF(AND(M24<Dropdwon!$A$4,M24>=Dropdwon!$A$3),Dropdwon!$B$3,Dropdwon!$B$4))","v":"00:00:00"},"00:00:00",{"$f":"IF(AND(T24<>\"\",T24<>\"verpflichtende FoBi\",T24<>\"förderliche FoBi\"),Q24,IF(AND(T24=\"verpflichtende FoBi\",SUM(E24+I24+M24-O24)<=Dropdwon!$A$5),SUM(E24+I24+M24-O24),IF(AND(T24=\"förderliche FoBi\",SUM(E24+I24+M24-O24)<=Dropdwon!$A$5,SUM(E24+I24+M24-O24)<=Q24),SUM(E24+I24+M24-O24),IF(AND(T24=\"förderliche FoBi\",SUM(E24+I24+M24-O24)>Q24),Q24,IF(SUM(E24+I24+M24-O24)>Dropdwon!$A$5,Dropdwon!$C$5,SUM(E24+I24+M24-O24))))))","v":{"$error":"#VALUE!"}},{"$f":"IF(OR(U24=\"x\",A24<STAMMDATENBLATT!$B$32,A24>STAMMDATENBLATT!$D$32),\"0:00\",IF(MOD(B24,2)=0,VLOOKUP(WEEKDAY(A24,2),STAMMDATENBLATT!H$28:J$34,3,FALSE),VLOOKUP(WEEKDAY(A24,2),STAMMDATENBLATT!H$38:J$44,3,FALSE)))","v":{"$error":"#VALUE!"}},{"$error":"#VALUE!"},null,null,{"$f":"_xlfn.IFNA(VLOOKUP(A24,Feiertage!A:D,3,FALSE),\"\")","v":""},{"$f":"_xlfn.IFNA(VLOOKUP(A24,Feiertage!A:D,4,FALSE),\"\")","v":""}]
["2024-12-20",51,null,null,"00:00:00",{"$f":"IF(E25<Dropdwon!$A$3,Dropdwon!$B$2,IF(AND(E25<Dropdwon!$A$4,E25>=Dropdwon!$A$3),Dropdwon!$B$3,Dropdwon!$B$4))","v":"00:00:00"},null,null,"00:00:00",{"$f":"IF(I25<Dropdwon!$A$3,Dropdwon!$B$2,IF(AND(I25<Dropdwon!$A$4,I25>=Dropdwon!$A$3),Dropdwon!$B$3,Dropdwon!$B$4))","v":"00:00:00"},null,null,"00:00:00",{"$f":"IF(M25<Dropdwon!$A$3,Dropdwon!$B$2,IF(AND(M25<Dropdwon!$A$4,M25>=Dropdwon!$A$3),Dropdwon!$B$3,Dropdwon!$B$4))","v":"00:00:00"},"00:00:00",{"$f":"IF(AND(T25<>\"\",T25<>\"verpflichtende FoBi\",T25<>\"förderliche FoBi\"),Q25,IF(AND(T25=\"verpflichtende FoBi\",SUM(E25+I25+M25-O25)<=Dropdwon!$A$5),SUM(E25+I25+M25-O25),IF(AND(T25=\"förderliche FoBi\",SUM(E25+I25+M25-O25)<=Dropdwon!$A$5,SUM(E25+I25+M25-O25)<=Q25),SUM(E25+I25+M25-O25),IF(AND(T25=\"förderliche FoBi\",SUM(E25+I25+M25-O25)>Q25),Q25,IF(SUM(E25+I25+M25-O25)>Dropdwon!$A$5,Dropdwon!$C$5,SUM(E25+I25+M25-O25))))))","v":{"$error":"#VALUE!"}},{"$f":"IF(OR(U25=\"x\",A25<STAMMDATENBLATT!$B$32,A25>STAMMDATENBLATT!$D$32),\"0:00\",IF(MOD(B25,2)=0,VLOOKUP(WEEKDAY(A25,2),STAMMDATENBLATT!H$28:J$34,3,FALSE),VLOOKUP(WEEKDAY(A25,2),STAMMDATENBLATT!H$38:J$44,3,FALSE)))","v":{"$error":"#VALUE!"}},{"$error":"#VALUE!"},null,null,{"$f":"_xlfn.IFNA(VLOOKUP(A25,Feiertage!A:D,3,FALSE),\"\")","v":""},{"$f":"_xlfn.IFNA(VLOOKUP(A25,Feiertage!A:D,4,FALSE),\"\")","v":""}]
["2024-12-21",51,null,null,"00:00:00",{"$f":"IF(E26<Dropdwon!$A$3,Dropdwon!$B$2,IF(AND(E26<Dropdwon!$A$4,E26>=Dropdwon!$A$3),Dropdwon!$B$3,Dropdwon!$B$4))","v":"00:00:00"},null,null,"00:00:00",{"$f":"IF(I26<Dropdwon!$A$3,Dropdwon!$B$2,IF(AND(I26<Dropdwon!$A$4,I26>=Dropdwon!$A$3),Dropdwon!$B$3,Dropdwon!$B$4))","v":"00:00:00"},null,null,"00:00:00",{"$f":"IF(M26<Dropdwon!$A$3,Dropdwon!$B$2,IF(AND(M26<Dropdwon!$A$4,M26>=Dropdwon!$A$3),Dropdwon!$B$3,Dropdwon!$B$4))","v":"00:00:00"},"00:00:00",{"$f":"IF(AND(T26<>\"\",T26<>\"verpflichtende FoBi\",T26<>\"förderliche FoBi\"),Q26,IF(AND(T26=\"verpflichtende FoBi\",SUM(E26+I26+M26-O26)<=Dropdwon!$A$5),SUM(E26+I26+M26-O26),IF(AND(T26=\"förderliche FoBi\",SUM(E26+I26+M26-O26)<=Dropdwon!$A$5,SUM(E26+I26+M26-O26)<=Q26),SUM(E26+I26+M26-O26),IF(AND(T26=\"förderliche FoBi\",SUM(E26+I26+M26-O26)>Q26),Q26,IF(SUM(E26+I26+M26-O26)>Dropdwon!$A$5,Dropdwon!$C$5,SUM(E26+I26+M26-O26))))))","v":"00:00:00"},{"$f":"IF(OR(U26=\"x\",A26<STAMMDATENBLATT!$B$32,A26>STAMMDATENBLATT!$D$32),\"0:00\",IF(MOD(B26,2)=0,VLOOKUP(WEEKDAY(A26,2),STAMMDATENBLATT!H$28:J$34,3,FALSE),VLOOKUP(WEEKDAY(A26,2),STAMMDATENBLATT!H$38:J$44,3,FALSE)))","v":"00:00:00"},"00:00:00",null,null,{"$f":"_xlfn.IFNA(VLOOKUP(A26,Feiertage!A:D,3,FALSE),\"\")","v":""},{"$f":"_xlfn.IFNA(VLOOKUP(A26,Feiertage!A:D,4,FALSE),\"\")","v":""}]
["2024-12-22",51,null,null,"00:00:00",{"$f":"IF(E27<Dropdwon!$A$3,Dropdwon!$B$2,IF(AND(E27<Dropdwon!$A$4,E27>=Dropdwon!$A$3),Dropdwon!$B$3,Dropdwon!$B$4))","v":"00:00:00"},null,null,"00:00:00",{"$f":"IF(I27<Dropdwon!$A$3,Dropdwon!$B$2,IF(AND(I27<Dropdwon!$A$4,I27>=Dropdwon!$A$3),Dropdwon!$B$3,Dropdwon!$B$4))","v":"00:00:00"},null,null,"00:00:00",{"$f":"IF(M27<Dropdwon!$A$3,Dropdwon!$B$2,IF(AND(M27<Dropdwon!$A$4,M27>=Dropdwon!$A$3),Dropdwon!$B$3,Dropdwon!$B$4))","v":"00:00:00"},"00:00:00",{"$f":"IF(AND(T27<>\"\",T27<>\"verpflichtende FoBi\",T27<>\"förderliche FoBi\"),Q27,IF(AND(T27=\"verpflichtende FoBi\",SUM(E27+I27+M27-O27)<=Dropdwon!$A$5),SUM(E27+I27+M27-O27),IF(AND(T27=\"förderliche FoBi\",SUM(E27+I27+M27-O27)<=Dropdwon!$A$5,SUM(E27+I27+M27-O27)<=Q27),SUM(E27+I27+M27-O27),IF(AND(T27=\"förderliche FoBi\",SUM(E27+I27+M27-O27)>Q27),Q27,IF(SUM(E27+I27+M27-O27)>Dropdwon!$A$5,Dropdwon!$C$5,SUM(E27+I27+M27-O27))))))","v":"00:00:00"},{"$f":"IF(OR(U27=\"x\",A27<STAMMDATENBLATT!$B$32,A27>STAMMDATENBLATT!$D$32),\"0:00\",IF(MOD(B27,2)=0,VLOOKUP(WEEKDAY(A27,2),STAMMDATENBLATT!H$28:J$34,3,FALSE),VLOOKUP(WEEKDAY(A27,2),STAMMDATENBLATT!H$38:J$44,3,FALSE)))","v":"00:00:00"},"00:00:00",null,null,{"$f":"_xlfn.IFNA(VLOOKUP(A27,Feiertage!A:D,3,FALSE),\"\")","v":""},{"$f":"_xlfn.IFNA(VLOOKUP(A27,Feiertage!A:D,4,FALSE),\"\")","v":""}]
["2024-12-23",52,null,null,"00:00:00",{"$f":"IF(E28<Dropdwon!$A$3,Dropdwon!$B$2,IF(AND(E28<Dropdwon!$A$4,E28>=Dropdwon!$A$3),Dropdwon!$B$3,Dropdwon!$B$4))","v":"00:00:00"},null,null,"00:00:00",{"$f":"IF(I28<Dropdwon!$A$3,Dropdwon!$B$2,IF(AND(I28<Dropdwon!$A$4,I28>=Dropdwon!$A$3),Dropdwon!$B$3,Dropdwon!$B$4))","v":"00:00:00"},null,null,"00:00:00",{"$f":"IF(M28<Dropdwon!$A$3,Dropdwon!$B$2,IF(AND(M28<Dropdwon!$A$4,M28>=Dropdwon!$A$3),Dropdwon!$B$3,Dropdwon!$B$4))","v":"00:00:00"},"00:00:00",{"$f":"IF(AND(T28<>\"\",T28<>\"verpflichtende FoBi\",T28<>\"förderliche FoBi\"),Q28,IF(AND(T28=\"verpflichtende FoBi\",SUM(E28+I28+M28-O28)<=Dropdwon!$A$5),SUM(E28+I28+M28-O28),IF(AND(T28=\"förderliche FoBi\",SUM(E28+I28+M28-O28)<=Dropdwon!$A$5,SUM(E28+I28+M28-O28)<=Q28),SUM(E28+I28+M28-O28),IF(AND(T28=\"förderliche FoBi\",SUM(E28+I28+M28-O28)>Q28),Q28,IF(SUM(E28+I28+M28-O28)>Dropdwon!$A$5,Dropdwon!$C$5,SUM(E28+I28+M28-O28))))))","v":{"$error":"#VALUE!"}},{"$f":"IF(OR(U28=\"x\",A28<STAMMDATENBLATT!$B$32,A28>STAMMDATENBLATT!$D$32),\"0:00\",IF(MOD(B28,2)=0,VLOOKUP(WEEKDAY(A28,2),STAMMDATENBLATT!H$28:J$34,3,FALSE),VLOOKUP(WEEKDAY(A28,2),STAMMDATENBLATT!H$38:J$44,3,FALSE)))","v":{"$error":"#VALUE!"}},{"$error":"#VALUE!"},null,null,{"$f":"_xlfn.IFNA(VLOOKUP(A28,Feiertage!A:D,3,FALSE),\"\")","v":""},{"$f":"_xlfn.IFNA(VLOOKUP(A28,Feiertage!A:D,4,FALSE),\"\")","v":""}]
["2024-12-24",52,null,null,"00:00:00",{"$f":"IF(E29<Dropdwon!$A$3,Dropdwon!$B$2,IF(AND(E29<Dropdwon!$A$4,E29>=Dropdwon!$A$3),Dropdwon!$B$3,Dropdwon!$B$4))","v":"00:00:00"},null,null,"00:00:00",{"$f":"IF(I29<Dropdwon!$A$3,Dropdwon!$B$2,IF(AND(I29<Dropdwon!$A$4,I29>=Dropdwon!$A$3),Dropdwon!$B$3,Dropdwon!$B$4))","v":"00:00:00"},null,null,"00:00:00",{"$f":"IF(M29<Dropdwon!$A$3,Dropdwon!$B$2,IF(AND(M29<Dropdwon!$A$4,M29>=Dropdwon!$A$3),Dropdwon!$B$3,Dropdwon!$B$4))","v":"00:00:00"},"00:00:00",{"$f":"IF(AND(T29<>\"\",T29<>\"verpflichtende FoBi\",T29<>\"förderliche FoBi\"),Q29,IF(AND(T29=\"verpflichtende FoBi\",SUM(E29+I29+M29-O29)<=Dropdwon!$A$5),SUM(E29+I29+M29-O29),IF(AND(T29=\"förderliche FoBi\",SUM(E29+I29+M29-O29)<=Dropdwon!$A$5,SUM(E29+I29+M29-O29)<=Q29),SUM(E29+I29+M29-O29),IF(AND(T29=\"förderliche FoBi\",SUM(E29+I29+M29-O29)>Q29),Q29,IF(SUM(E29+I29+M29-O29)>Dropdwon!$A$5,Dropdwon!$C$5,SUM(E29+I29+M29-O29))))))","v":"00:00:00"},{"$f":"IF(OR(U29=\"x\",A29<STAMMDATENBLATT!$B$32,A29>STAMMDATENBLATT!$D$32),\"0:00\",IF(MOD(B29,2)=0,VLOOKUP(WEEKDAY(A29,2),STAMMDATENBLATT!H$28:J$34,3,FALSE),VLOOKUP(WEEKDAY(A29,2),STAMMDATENBLATT!H$38:J$44,3,FALSE)))","v":"0:00"},"00:00:00",null,null,{"$f":"_xlfn.IFNA(VLOOKUP(A29,Feiertage!A:D,3,FALSE),\"\")","v":"x"},{"$f":"_xlfn.IFNA(VLOOKUP(A29,Feiertage!A:D,4,FALSE),\"\")","v":"Heilig Abend"}]
["2024-12-25",52,null,null,"00:00:00",{"$f":"IF(E30<Dropdwon!$A$3,Dropdwon!$B$2,IF(AND(E30<Dropdwon!$A$4,E30>=Dropdwon!$A$3),Dropdwon!$B$3,Dropdwon!$B$4))","v":"00:00:00"},null,null,"00:00:00",{"$f":"IF(I30<Dropdwon!$A$3,Dropdwon!$B$2,IF(AND(I30<Dropdwon!$A$4,I30>=Dropdwon!$A$3),Dropdwon!$B$3,Dropdwon!$B$4))","v":"00:00:00"},null,null,"00:00:00",{"$f":"IF(M30<Dropdwon!$A$3,Dropdwon!$B$2,IF(AND(M30<Dropdwon!$A$4,M30>=Dropdwon!$A$3),Dropdwon!$B$3,Dropdwon!$B$4))","v":"00:00:00"},"00:00:00",{"$f":"IF(AND(T30<>\"\",T30<>\"verpflichtende FoBi\",T30<>\"förderliche FoBi\"),Q30,IF(AND(T30=\"verpflichtende FoBi\",SUM(E30+I30+M30-O30)<=Dropdwon!$A$5),SUM(E30+I30+M30-O30),IF(AND(T30=\"förderliche FoBi\",SUM(E30+I30+M30-O30)<=Dropdwon!$A$5,SUM(E30+I30+M30-O30)<=Q30),SUM(E30+I30+M30-O30),IF(AND(T30=\"förderliche FoBi\",SUM(E30+I30+M30-O30)>Q30),Q30,IF(SUM(E30+I30+M30-O30)>Dropdwon!$A$5,Dropdwon!$C$5,SUM(E30+I30+M30-O30))))))","v":"00:00:00"},{"$f":"IF(OR(U30=\"x\",A30<STAMMDATENBLATT!$B$32,A30>STAMMDATENBLATT!$D$32),\"0:00\",IF(MOD(B30,2)=0,VLOOKUP(WEEKDAY(A30,2),STAMMDATENBLATT!H$28:J$34,3,FALSE),VLOOKUP(WEEKDAY(A30,2),STAMMDATENBLATT!H$38:J$44,3,FALSE)))","v":"0:00"},"00:00:00",null,null,{"$f":"_xlfn.IFNA(VLOOKUP(A30,Feiertage!A:D,3,FALSE),\"\")","v":"x"},{"$f":"_xlfn.IFNA(VLOOKUP(A30,Feiertage!A:D,4,FALSE),\"\")","v":"Erster Weihnachtsfeiertag"}]
["2024-12-26",52,null,null,"00:00:00",{"$f":"IF(E31<Dropdwon!$A$3,Dropdwon!$B$2,IF(AND(E31<Dropdwon!$A$4,E31>=Dropdwon!$A$3),Dropdwon!$B$3,Dropdwon!$B$4))","v":"00:00:00"},null,null,"00:00:00",{"$f":"IF(I31<Dropdwon!$A$3,Dropdwon!$B$2,IF(AND(I31<Dropdwon!$A$4,I31>=Dropdwon!$A$3),Dropdwon!$B$3,Dropdwon!$B$4))","v":"00:00:00"},null,null,"00:00:00",{"$f":"IF(M31<Dropdwon!$A$3,Dropdwon!$B$2,IF(AND(M31<Dropdwon!$A$4,M31>=Dropdwon!$A$3),Dropdwon!$B$3,Dropdwon!$B$4))","v":"00:00:00"},"00:00:00",{"$f":"IF(AND(T31<>\"\",T31<>\"verpflichtende FoBi\",T31<>\"förderliche FoBi\"),Q31,IF(AND(T31=\"verpflichtende FoBi\",SUM(E31+I31+M31-O31)<=Dropdwon!$A$5),SUM(E31+I31+M31-O31),IF(AND(T31=\"förderliche FoBi\",SUM(E31+I31+M31-O31)<=Dropdwon!$A$5,SUM(E31+I31+M31-O31)<=Q31),SUM(E31+I31+M31-O31),IF(AND(T31=\"förderliche FoBi\",SUM(E31+I31+M31-O31)>Q31),Q31,IF(SUM(E31+I31+M31-O31)>Dropdwon!$A$5,Dropdwon!$C$5,SUM(E31+I31+M31-O31))))))","v":"00:00:00"},{"$f":"IF(OR(U31=\"x\",A31<STAMMDATENBLATT!$B$32,A31>STAMMDATENBLATT!$D$32),\"0:00\",IF(MOD(B31,2)=0,VLOOKUP(WEEKDAY(A31,2),STAMMDATENBLATT!H$28:J$34,3,FALSE),VLOOKUP(WEEKDAY(A31,2),STAMMDATENBLATT!H$38:J$44,3,FALSE)))","v":"0:00"},"00:00:00",null,null,{"$f":"_xlfn.IFNA(VLOOKUP(A31,Feiertage!A:D,3,FALSE),\"\")","v":"x"},{"$f":"_xlfn.IFNA(VLOOKUP(A31,Feiertage!A:D,4,FALSE),\"\")","v":"Zweiter Weihnachtsfeiertag"}]
["2024-12-27",52,null,null,"00:00:00",{"$f":"IF(E32<Dropdwon!$A$3,Dropdwon!$B$2,IF(AND(E32<Dropdwon!$A$4,E32>=Dropdwon!$A$3),Dropdwon!$B$3,Dropdwon!$B$4))","v":"00:00:00"},null,null,"00:00:00",{"$f":"IF(I32<Dropdwon!$A$3,Dropdwon!$B$2,IF(AND(I32<Dropdwon!$A$4,I32>=Dropdwon!$A$3),Dropdwon!$B$3,Dropdwon!$B$4))","v":"00:00:00"},null,null,"00:00:00",{"$f":"IF(M32<Dropdwon!$A$3,Dropdwon!$B$2,IF(AND(M32<Dropdwon!$A$4,M32>=Dropdwon!$A$3),Dropdwon!$B$3,Dropdwon!$B$4))","v":"00:00:00"},"00:00:00",{"$f":"IF(AND(T32<>\"\",T32<>\"verpflichtende FoBi\",T32<>\"förderliche FoBi\"),Q32,IF(AND(T32=\"verpflichtende FoBi\",SUM(E32+I32+M32-O32)<=Dropdwon!$A$5),SUM(E32+I32+M32-O32),IF(AND(T32=\"förderliche FoBi\",SUM(E32+I32+M32-O32)<=Dropdwon!$A$5,SUM(E32+I32+M32-O32)<=Q32),SUM(E32+I32+M32-O32),IF(AND(T32=\"förderliche FoBi\",SUM(E32+I32+M32-O32)>Q32),Q32,IF(SUM(E32+I32+M32-O32)>Dropdwon!$A$5,Dropdwon!$C$5,SUM(E32+I32+M32-O32))))))","v":{"$error":"#VALUE!"}},{"$f":"IF(OR(U32=\"x\",A32<STAMMDATENBLATT!$B$32,A32>STAMMDATENBLATT!$D$32),\"0:00\",IF(MOD(B32,2)=0,VLOOKUP(WEEKDAY(A32,2),STAMMDATENBLATT!H$28:J$34,3,FALSE),VLOOKUP(WEEKDAY(A32,2),STAMMDATENBLATT!H$38:J$44,3,FALSE)))","v":{"$error":"#VALUE!"}},{"$error":"#VALUE!"},null,null,{"$f":"_xlfn.IFNA(VLOOKUP(A32,Feiertage!A:D,3,FALSE),\"\")","v":""},{"$f":"_xlfn.IFNA(VLOOKUP(A32,Feiertage!A:D,4,FALSE),\"\")","v":""}]
["2024-12-28",52,null,null,"00:00:00",{"$f":"IF(E33<Dropdwon!$A$3,Dropdwon!$B$2,IF(AND(E33<Dropdwon!$A$4,E33>=Dropdwon!$A$3),Dropdwon!$B$3,Dropdwon!$B$4))","v":"00:00:00"},null,null,"00:00:00",{"$f":"IF(I33<Dropdwon!$A$3,Dropdwon!$B$2,IF(AND(I33<Dropdwon!$A$4,I33>=Dropdwon!$A$3),Dropdwon!$B$3,Dropdwon!$B$4))","v":"00:00:00"},null,null,"00:00:00",{"$f":"IF(M33<Dropdwon!$A$3,Dropdwon!$B$2,IF(AND(M33<Dropdwon!$A$4,M33>=Dropdwon!$A$3),Dropdwon!$B$3,Dropdwon!$B$4))","v":"00:00:00"},"00:00:00",{"$f":"IF(AND(T33<>\"\",T33<>\"verpflichtende FoBi\",T33<>\"förderliche FoBi\"),Q33,IF(AND(T33=\"verpflichtende FoBi\",SUM(E33+I33+M33-O33)<=Dropdwon!$A$5),SUM(E33+I33+M33-O33),IF(AND(T33=\"förderliche FoBi\",SUM(E33+I33+M33-O33)<=Dropdwon!$A$5,SUM(E33+I33+M33-O33)<=Q33),SUM(E33+I33+M33-O33),IF(AND(T33=\"förderliche FoBi\",SUM(E33+I33+M33-O33)>Q33),Q33,IF(SUM(E33+I33+M33-O33)>Dropdwon!$A$5,Dropdwon!$C$5,SUM(E33+I33+M33-O33))))))","v":"00:00:00"},{"$f":"IF(OR(U33=\"x\",A33<STAMMDATENBLATT!$B$32,A33>STAMMDATENBLATT!$D$32),\"0:00\",IF(MOD(B33,2)=0,VLOOKUP(WEEKDAY(A33,2),STAMMDATENBLATT!H$28:J$34,3,FALSE),VLOOKUP(WEEKDAY(A33,2),STAMMDATENBLATT!H$38:J$44,3,FALSE)))","v":"00:00:00"},"00:00:00",null,null,{"$f":"_xlfn.IFNA(VLOOKUP(A33,Feiertage!A:D,3,FALSE),\"\")","v":""},{"$f":"_xlfn.IFNA(VLOOKUP(A33,Feiertage!A:D,4,FALSE),\"\")","v":""}]
["2024-12-29",52,null,null,"00:00:00",{"$f":"IF(E34<Dropdwon!$A$3,Dropdwon!$B$2,IF(AND(E34<Dropdwon!$A$4,E34>=Dropdwon!$A$3),Dropdwon!$B$3,Dropdwon!$B$4))","v":"00:00:00"},null,null,"00:00:00",{"$f":"IF(I34<Dropdwon!$A$3,Dropdwon!$B$2,IF(AND(I34<Dropdwon!$A$4,I34>=Dropdwon!$A$3),Dropdwon!$B$3,Dropdwon!$B$4))","v":"00:00:00"},null,null,"00:00:00",{"$f":"IF(M34<Dropdwon!$A$3,Dropdwon!$B$2,IF(AND(M34<Dropdwon!$A$4,M34>=Dropdwon!$A$3),Dropdwon!$B$3,Dropdwon!$B$4))","v":"00:00:00"},"00:00:00",{"$f":"IF(AND(T34<>\"\",T34<>\"verpflichtende FoBi\",T34<>\"förderliche FoBi\"),Q34,IF(AND(T34=\"verpflichtende FoBi\",SUM(E34+I34+M34-O34)<=Dropdwon!$A$5),SUM(E34+I34+M34-O34),IF(AND(T34=\"förderliche FoBi\",SUM(E34+I34+M34-O34)<=Dropdwon!$A$5,SUM(E34+I34+M34-O34)<=Q34),SUM(E34+I34+M34-O34),IF(AND(T34=\"förderliche FoBi\",SUM(E34+I34+M34-O34)>Q34),Q34,IF(SUM(E34+I34+M34-O34)>Dropdwon!$A$5,Dropdwon!$C$5,SUM(E34+I34+M34-O34))))))","v":"00:00:00"},{"$f":"IF(OR(U34=\"x\",A34<STAMMDATENBLATT!$B$32,A34>STAMMDATENBLATT!$D$32),\"0:00\",IF(MOD(B34,2)=0,VLOOKUP(WEEKDAY(A34,2),STAMMDATENBLATT!H$28:J$34,3,FALSE),VLOOKUP(WEEKDAY(A34,2),STAMMDATENBLATT!H$38:J$44,3,FALSE)))","v":"00:00:00"},"00:00:00",null,null,{"$f":"_xlfn.IFNA(VLOOKUP(A34,Feiertage!A:D,3,FALSE),\"\")","v":""},{"$f":"_xlfn.IFNA(VLOOKUP(A34,Feiertage!A:D,4,FALSE),\"\")","v":""}]
["2024-12-30",1,null,null,"00:00:00",{"$f":"IF(E35<Dropdwon!$A$3,Dropdwon!$B$2,IF(AND(E35<Dropdwon!$A$4,E35>=Dropdwon!$A$3),Dropdwon!$B$3,Dropdwon!$B$4))","v":"00:00:00"},null,null,"00:00:00",{"$f":"IF(I35<Dropdwon!$A$3,Dropdwon!$B$2,IF(AND(I35<Dropdwon!$A$4,I35>=Dropdwon!$A$3),Dropdwon!$B$3,Dropdwon!$B$4))","v":"00:00:00"},null,null,"00:00:00",{"$f":"IF(M35<Dropdwon!$A$3,Dropdwon!$B$2,IF(AND(M35<Dropdwon!$A$4,M35>=Dropdwon!$A$3),Dropdwon!$B$3,Dropdwon!$B$4))","v":"00:00:00"},"00:00:00",{"$f":"IF(AND(T35<>\"\",T35<>\"verpflichtende FoBi\",T35<>\"förderliche FoBi\"),Q35,IF(AND(T35=\"verpflichtende FoBi\",SUM(E35+I35+M35-O35)<=Dropdwon!$A$5),SUM(E35+I35+M35-O35),IF(AND(T35=\"förderliche FoBi\",SUM(E35+I35+M35-O35)<=Dropdwon!$A$5,SUM(E35+I35+M35-O35)<=Q35),SUM(E35+I35+M35-O35),IF(AND(T35=\"förderliche FoBi\",SUM(E35+I35+M35-O35)>Q35),Q35,IF(SUM(E35+I35+M35-O35)>Dropdwon!$A$5,Dropdwon!$C$5,SUM(E35+I35+M35-O35))))))","v":{"$error":"#VALUE!"}},{"$f":"IF(OR(U35=\"x\",A35<STAMMDATENBLATT!$B$32,A35>STAMMDATENBLATT!$D$32),\"0:00\",IF(MOD(B35,2)=0,VLOOKUP(WEEKDAY(A35,2),STAMMDATENBLATT!H$28:J$34,3,FALSE),VLOOKUP(WEEKDAY(A35,2),STAMMDATENBLATT!H$38:J$44,3,FALSE)))","v":{"$error":"#VALUE!"}},{"$error":"#VALUE!"},null,null,{"$f":"_xlfn.IFNA(VLOOKUP(A35,Feiertage!A:D,3,FALSE),\"\")","v":""},{"$f":"_xlfn.IFNA(VLOOKUP(A35,Feiertage!A:D,4,FALSE),\"\")","v":""}]
["2024-12-31",1,null,null,"00:00:00",{"$f":"IF(E36<Dropdwon!$A$3,Dropdwon!$B$2,IF(AND(E36<Dropdwon!$A$4,E36>=Dropdwon!$A$3),Dropdwon!$B$3,Dropdwon!$B$4))","v":"00:00:00"},null,null,"00:00:00",{"$f":"IF(I36<Dropdwon!$A$3,Dropdwon!$B$2,IF(AND(I36<Dropdwon!$A$4,I36>=Dropdwon!$A$3),Dropdwon!$B$3,Dropdwon!$B$4))","v":"00:00:00"},null,null,"00:00:00",{"$f":"IF(M36<Dropdwon!$A$3,Dropdwon!$B$2,IF(AND(M36<Dropdwon!$A$4,M36>=Dropdwon!$A$3),Dropdwon!$B$3,Dropdwon!$B$4))","v":"00:00:00"},"00:00:00",{"$f":"IF(AND(T36<>\"\",T36<>\"verpflichtende FoBi\",T36<>\"förderliche FoBi\"),Q36,IF(AND(T36=\"verpflichtende FoBi\",SUM(E36+I36+M36-O36)<=Dropdwon!$A$5),SUM(E36+I36+M36-O36),IF(AND(T36=\"förderliche FoBi\",SUM(E36+I36+M36-O36)<=Dropdwon!$A$5,SUM(E36+I36+M36-O36)<=Q36),SUM(E36+I36+M36-O36),IF(AND(T36=\"förderliche FoBi\",SUM(E36+I36+M36-O36)>Q36),Q36,IF(SUM(E36+I36+M36-O36)>Dropdwon!$A$5,Dropdwon!$C$5,SUM(E36+I36+M36-O36))))))","v":"00:00:00"},{"$f":"IF(OR(U36=\"x\",A36<STAMMDATENBLATT!$B$32,A36>STAMMDATENBLATT!$D$32),\"0:00\",IF(MOD(B36,2)=0,VLOOKUP(WEEKDAY(A36,2),STAMMDATENBLATT!H$28:J$34,3,FALSE),VLOOKUP(WEEKDAY(A36,2),STAMMDATENBLATT!H$38:J$44,3,FALSE)))","v":"0:00"},"00:00:00",null,null,{"$f":"_xlfn.IFNA(VLOOKUP(A36,Feiertage!A:D,3,FALSE),\"\")","v":"x"},{"$f":"_xlfn.IFNA(VLOOKUP(A36,Feiertage!A:D,4,FALSE),\"\")","v":"Silvester"}]
[]
["Abschluss Std.konto:",null,{"$f":"SUM(R$1+SUM(R$6:R$36)-R$38)","v":{"$error":"#VALUE!"}},{"$nulls":3},"Auszahlung Mehrarbeit in Std./Minuten:",{"$nulls":10},{"$f":"SUMIF($S$6:$S$36,\"ja\",$R$6:$R$36)","v":0}]
["Abschluss Std. in Dezimal:",null,{"$f":"C38*24","v":{"$error":"#VALUE!"}},{"$nulls":4},"Auszahlung Mehrarbeit in Dezimal:",{"$nulls":9},{"$f":"R38*24","v":{"v":0,"d":"0.00"}}]
[{"$nulls":17},"zur Auszahlung angewiesen:"]
[]
[]
[]
["Ort, Datum / Unterschrift Mitarbeiter/in",{"$nulls":5},"Ort, Datum / Unterschrift Vorgesetzte/r",{"$nulls":10},"Ort, Datum / Unterschrift KGF",{"$nulls":4},{"$f":"STAMMDATENBLATT!$A$22","v":"Version: 01.2024.5"}]

{"sheet":"Urlaubsantrag","index":14,"n_rows":53,"n_cols":8,"rows_kept":53,"merged":[[1,1,1,6],[2,1,2,6],[3,1,3,6],[4,4,4,6],[10,0,10,2],[11,0,11,2],[12,0,12,2],[13,0,13,2],[14,0,14,2],[17,0,17,2],[43,4,43,6],[44,4,44,6],[47,0,47,2],[52,1,52,2],[52,6,52,7]]}
["Urlaubsantrag",null,"für das Jahr: ",null,{"$f":"STAMMDATENBLATT!D27","v":2024}]
["KITA",{"$f":"STAMMDATENBLATT!B26","v":0}]
["Mitarbeiter/in: ",{"$f":"STAMMDATENBLATT!B27","v":"Vorname Nachname"}]
[null,{"$f":"VLOOKUP(STAMMDATENBLATT!B28,Dropdwon!E2:F6,2,FALSE)","v":{"$error":"#N/A"}}]
["Zeitraum","vom",{"$f":"STAMMDATENBLATT!B32","v":"2024-01-01"},"bis",{"$f":"STAMMDATENBLATT!D32","v":"2024-12-31"},null,null,{"$f":"(E5-C5+1)/IF(DATE(E1,2,29)=EOMONTH(DATE(E1,2,1),0),30.5,30.41666667)","v":{"v":12,"d":"12.0 Monate"}}]
["Arbeitstage pro Woche: ",null,{"$f":"SUM(STAMMDATENBLATT!I35+STAMMDATENBLATT!I46)/2","v":5},{"$nulls":4},{"$f":"STAMMDATENBLATT!A22","v":"Version: 01.2024.5"}]
[]
["Urlaubsanspruch:",{"$nulls":4},"Hilfsspalte"]
[{"$f":"\"Resturlaub aus \"& IF(AND(MONTH(C5)=1,DAY(C5)=1),\"Jahr \"&E1-1,\"Vorperiode\")","v":"Resturlaub aus Jahr 2023"},{"$nulls":3},{"$f":"STAMMDATENBLATT!B41","v":{"v":0,"d":"0.00"}},null,{"$f":"IF(E9=1,\"Urlaubstag\",\"Urlaubstage\")","v":"Urlaubstage"}]
[{"$f":"\"Jahr \"&E1&\":\"","v":"Jahr 2024:"},{"$nulls":3},{"$f":"ROUND(SUM(AVERAGE(STAMMDATENBLATT!I35,STAMMDATENBLATT!I46)*STAMMDATENBLATT!A36/12*H5+0.15),0)","v":{"$error":"#N/A"}},null,{"$f":"IF(E10=1,\"Urlaubstag\",\"Urlaubstage\")","v":{"$error":"#N/A"}}]
["Arbeitsbefreiung §34 AVO (mit Nachweis):",{"$nulls":3},{"$f":"IF(H11=\"\",\"0,00\",VLOOKUP(H11,Dropdwon!A$25:B$41,2,FALSE))","v":"0,00"},null,{"$f":"IF(E11<1,\"\",IF(E11=1,\"Urlaubstag\",\"Urlaubstage\"))","v":"Urlaubstage"}]
["Arbeitsbefreiung §34 AVO (mit Nachweis):",{"$nulls":3},{"$f":"IF(H12=\"\",\"0,00\",VLOOKUP(H12,Dropdwon!A$25:B$41,2,FALSE))","v":"0,00"},null,{"$f":"IF(E12<1,\"\",IF(E12=1,\"Urlaubstag\",\"Urlaubstage\"))","v":"Urlaubstage"}]
["Arbeitsbefreiung §34 AVO (mit Nachweis):",{"$nulls":3},{"$f":"IF(H13=\"\",\"0,00\",VLOOKUP(H13,Dropdwon!A$25:B$41,2,FALSE))","v":"0,00"},null,"Urlaubstage"]
["Arbeitsbefreiung §34 AVO (mit Nachweis):",{"$nulls":3},{"$f":"IF(H14=\"\",\"0,00\",VLOOKUP(H14,Dropdwon!A$25:B$41,2,FALSE))","v":"0,00"},null,"Urlaubstage"]
["Zusatzurlaub §125 SGB IX (mit Nachweis): ",{"$nulls":3},{"$f":"ROUND(F15/12*H5+0.15,0)","v":{"v":0,"d":"0.00"}},{"$f":"ROUND(IF(Urlaubsantrag!$H$15<>\"\",SUMIFS(Dropdwon!$E$26:$E$35,Dropdwon!$C$26:$C$35,Urlaubsantrag!$H$15,Dropdwon!$D$26:$D$35,Urlaubsantrag!$C$6),\"0,00\"),0)","v":{"v":0,"d":"0.00"}},{"$f":"IF(E15=1,\"Urlaubstag\",\"Urlaubstage\")","v":"Urlaubstage"}]
["Gesamter Anspruch (gerundet):",{"$nulls":3},{"$f":"ROUND(SUM(E9:E15),0)","v":{"$error":"#N/A"}},null,{"$f":"IF(E16=1,\"Urlaubstag\",\"Urlaubstage\")","v":{"$error":"#N/A"}}]
[]
["Fixe Urlaubstage der KITA:"]
[null,{"$f":"WEEKNUM(A19,21)","v":53},null,{"$f":"WEEKNUM(C19,21)","v":53},{"$f":"IF(ISEVEN(Urlaubsantrag!D19),NETWORKDAYS.INTL(Urlaubsantrag!A19,Urlaubsantrag!C19,STAMMDATENBLATT!$K$35,Feiertage),NETWORKDAYS.INTL(Urlaubsantrag!A19,Urlaubsantrag!C19,STAMMDATENBLATT!$K$45,Feiertage))","v":0},null,{"$f":"IF(E19=1,\"Urlaubstag\",\"Urlaubstage\")","v":"Urlaubstage"},{"$f":"IF(B19=D19,\" \",IF(STAMMDATENBLATT!$K$35=STAMMDATENBLATT!$K$45,\" \",\"Daten innerbalb einer KW angeben!\"))","v":" "}]
[null,{"$f":"WEEKNUM(A20,21)","v":53},null,53,{"$f":"IF(ISEVEN(Urlaubsantrag!D20),NETWORKDAYS.INTL(Urlaubsantrag!A20,Urlaubsantrag!C20,STAMMDATENBLATT!$K$35,Feiertage),NETWORKDAYS.INTL(Urlaubsantrag!A20,Urlaubsantrag!C20,STAMMDATENBLATT!$K$45,Feiertage))","v":0},null,"Urlaubstage",{"$f":"IF(B20=D20,\" \",IF(STAMMDATENBLATT!$K$35=STAMMDATENBLATT!$K$45,\" \",\"Daten innerbalb einer KW angeben!\"))","v":" "}]
[null,53,null,53,{"$f":"IF(ISEVEN(Urlaubsantrag!D21),NETWORKDAYS.INTL(Urlaubsantrag!A21,Urlaubsantrag!C21,STAMMDATENBLATT!$K$35,Feiertage),NETWORKDAYS.INTL(Urlaubsantrag!A21,Urlaubsantrag!C21,STAMMDATENBLATT!$K$45,Feiertage))","v":0},null,"Urlaubstage",{"$f":"IF(B21=D21,\" \",IF(STAMMDATENBLATT!$K$35=STAMMDATENBLATT!$K$45,\" \",\"Daten innerbalb einer KW angeben!\"))","v":" "}]
[null,53,null,53,{"$f":"IF(ISEVEN(Urlaubsantrag!D22),NETWORKDAYS.INTL(Urlaubsantrag!A22,Urlaubsantrag!C22,STAMMDATENBLATT!$K$35,Feiertage),NETWORKDAYS.INTL(Urlaubsantrag!A22,Urlaubsantrag!C22,STAMMDATENBLATT!$K$45,Feiertage))","v":0},null,"Urlaubstage",{"$f":"IF(B22=D22,\" \",IF(STAMMDATENBLATT!$K$35=STAMMDATENBLATT!$K$45,\" \",\"Daten innerbalb einer KW angeben!\"))","v":" "}]
[null,53,null,53,{"$f":"IF(ISEVEN(Urlaubsantrag!D23),NETWORKDAYS.INTL(Urlaubsantrag!A23,Urlaubsantrag!C23,STAMMDATENBLATT!$K$35,Feiertage),NETWORKDAYS.INTL(Urlaubsantrag!A23,Urlaubsantrag!C23,STAMMDATENBLATT!$K$45,Feiertage))","v":0},null,"Urlaubstage",{"$f":"IF(B23=D23,\" \",IF(STAMMDATENBLATT!$K$35=STAMMDATENBLATT!$K$45,\" \",\"Daten innerbalb einer KW angeben!\"))","v":" "}]
[null,53,null,53,{"$f":"IF(ISEVEN(Urlaubsantrag!D24),NETWORKDAYS.INTL(Urlaubsantrag!A24,Urlaubsantrag!C24,STAMMDATENBLATT!$K$35,Feiertage),NETWORKDAYS.INTL(Urlaubsantrag!A24,Urlaubsantrag!C24,STAMMDATENBLATT!$K$45,Feiertage))","v":0},null,"Urlaubstage",{"$f":"IF(B24=D24,\" \",IF(STAMMDATENBLATT!$K$35=STAMMDATENBLATT!$K$45,\" \",\"Daten innerbalb einer KW angeben!\"))","v":" "}]
[null,53,null,53,{"$f":"IF(ISEVEN(Urlaubsantrag!D25),NETWORKDAYS.INTL(Urlaubsantrag!A25,Urlaubsantrag!C25,STAMMDATENBLATT!$K$35,Feiertage),NETWORKDAYS.INTL(Urlaubsantrag!A25,Urlaubsantrag!C25,STAMMDATENBLATT!$K$45,Feiertage))","v":0},null,"Urlaubstage",{"$f":"IF(B25=D25,\" \",IF(STAMMDATENBLATT!$K$35=STAMMDATENBLATT!$K$45,\" \",\"Daten innerbalb einer KW angeben!\"))","v":" "}]
[null,53,null,53,{"$f":"IF(ISEVEN(Urlaubsantrag!D26),NETWORKDAYS.INTL(Urlaubsantrag!A26,Urlaubsantrag!C26,STAMMDATENBLATT!$K$35,Feiertage),NETWORKDAYS.INTL(Urlaubsantrag!A26,Urlaubsantrag!C26,STAMMDATENBLATT!$K$45,Feiertage))","v":0},null,"Urlaubstage",{"$f":"IF(B26=D26,\" \",IF(STAMMDATENBLATT!$K$35=STAMMDATENBLATT!$K$45,\" \",\"Daten innerbalb einer KW angeben!\"))","v":" "}]
[null,53,null,53,{"$f":"IF(ISEVEN(Urlaubsantrag!D27),NETWORKDAYS.INTL(Urlaubsantrag!A27,Urlaubsantrag!C27,STAMMDATENBLATT!$K$35,Feiertage),NETWORKDAYS.INTL(Urlaubsantrag!A27,Urlaubsantrag!C27,STAMMDATENBLATT!$K$45,Feiertage))","v":0},null,{"$f":"IF(E27=1,\"Urlaubstag\",\"Urlaubstage\")","v":"Urlaubstage"},{"$f":"IF(B27=D27,\" \",IF(STAMMDATENBLATT!$K$35=STAMMDATENBLATT!$K$45,\" \",\"Daten innerbalb einer KW angeben!\"))","v":" "}]
[{"$nulls":3},"Summe der fixen Urlaubstage:",{"$f":"SUM(E19:E27)","v":0},null,{"$f":"IF(E28=1,\"Urlaubstag\",\"Urlaubstage\")","v":"Urlaubstage"}]
[]
["Bereits genommene individuelle Urlaubstage des/r Mitarbeiter/in:"]
[null,{"$f":"WEEKNUM(A31,21)","v":53},null,{"$f":"WEEKNUM(C31,21)","v":53},{"$f":"IF(ISEVEN(Urlaubsantrag!D31),NETWORKDAYS.INTL(Urlaubsantrag!A31,Urlaubsantrag!C31,STAMMDATENBLATT!$K$35,Feiertage),NETWORKDAYS.INTL(Urlaubsantrag!A31,Urlaubsantrag!C31,STAMMDATENBLATT!$K$45,Feiertage))","v":0},null,{"$f":"IF(E31=1,\"Urlaubstag\",\"Urlaubstage\")","v":"Urlaubstage"},{"$f":"IF(B31=D31,\" \",IF(STAMMDATENBLATT!$K$35=STAMMDATENBLATT!$K$45,\" \",\"Daten innerbalb einer KW angeben!\"))","v":" "}]
[null,53,null,53,{"$f":"IF(ISEVEN(Urlaubsantrag!D32),NETWORKDAYS.INTL(Urlaubsantrag!A32,Urlaubsantrag!C32,STAMMDATENBLATT!$K$35,Feiertage),NETWORKDAYS.INTL(Urlaubsantrag!A32,Urlaubsantrag!C32,STAMMDATENBLATT!$K$45,Feiertage))","v":0},null,"Urlaubstage",{"$f":"IF(B32=D32,\" \",IF(STAMMDATENBLATT!$K$35=STAMMDATENBLATT!$K$45,\" \",\"Daten innerbalb einer KW angeben!\"))","v":" "}]
[null,53,null,53,{"$f":"IF(ISEVEN(Urlaubsantrag!D33),NETWORKDAYS.INTL(Urlaubsantrag!A33,Urlaubsantrag!C33,STAMMDATENBLATT!$K$35,Feiertage),NETWORKDAYS.INTL(Urlaubsantrag!A33,Urlaubsantrag!C33,STAMMDATENBLATT!$K$45,Feiertage))","v":0},null,"Urlaubstage",{"$f":"IF(B33=D33,\" \",IF(STAMMDATENBLATT!$K$35=STAMMDATENBLATT!$K$45,\" \",\"Daten innerbalb einer KW angeben!\"))","v":" "}]
[null,53,null,53,{"$f":"IF(ISEVEN(Urlaubsantrag!D34),NETWORKDAYS.INTL(Urlaubsantrag!A34,Urlaubsantrag!C34,STAMMDATENBLATT!$K$35,Feiertage),NETWORKDAYS.INTL(Urlaubsantrag!A34,Urlaubsantrag!C34,STAMMDATENBLATT!$K$45,Feiertage))","v":0},null,"Urlaubstage",{"$f":"IF(B34=D34,\" \",IF(STAMMDATENBLATT!$K$35=STAMMDATENBLATT!$K$45,\" \",\"Daten innerbalb einer KW angeben!\"))","v":" "}]
[null,53,null,53,{"$f":"IF(ISEVEN(Urlaubsantrag!D35),NETWORKDAYS.INTL(Urlaubsantrag!A35,Urlaubsantrag!C35,STAMMDATENBLATT!$K$35,Feiertage),NETWORKDAYS.INTL(Urlaubsantrag!A35,Urlaubsantrag!C35,STAMMDATENBLATT!$K$45,Feiertage))","v":0},null,"Urlaubstage",{"$f":"IF(B35=D35,\" \",IF(STAMMDATENBLATT!$K$35=STAMMDATENBLATT!$K$45,\" \",\"Daten innerbalb einer KW angeben!\"))","v":" "}]
[null,53,null,53,{"$f":"IF(ISEVEN(Urlaubsantrag!D36),NETWORKDAYS.INTL(Urlaubsantrag!A36,Urlaubsantrag!C36,STAMMDATENBLATT!$K$35,Feiertage),NETWORKDAYS.INTL(Urlaubsantrag!A36,Urlaubsantrag!C36,STAMMDATENBLATT!$K$45,Feiertage))","v":0},null,"Urlaubstage",{"$f":"IF(B36=D36,\" \",IF(STAMMDATENBLATT!$K$35=STAMMDATENBLATT!$K$45,\" \",\"Daten innerbalb einer KW angeben!\"))","v":" "}]
[null,53,null,53,{"$f":"IF(ISEVEN(Urlaubsantrag!D37),NETWORKDAYS.INTL(Urlaubsantrag!A37,Urlaubsantrag!C37,STAMMDATENBLATT!$K$35,Feiertage),NETWORKDAYS.INTL(Urlaubsantrag!A37,Urlaubsantrag!C37,STAMMDATENBLATT!$K$45,Feiertage))","v":0},null,"Urlaubstage",{"$f":"IF(B37=D37,\" \",IF(STAMMDATENBLATT!$K$35=STAMMDATENBLATT!$K$45,\" \",\"Daten innerbalb einer KW angeben!\"))","v":" "}]
[null,53,null,53,{"$f":"IF(ISEVEN(Urlaubsantrag!D38),NETWORKDAYS.INTL(Urlaubsantrag!A38,Urlaubsantrag!C38,STAMMDATENBLATT!$K$35,Feiertage),NETWORKDAYS.INTL(Urlaubsantrag!A38,Urlaubsantrag!C38,STAMMDATENBLATT!$K$45,Feiertage))","v":0},null,"Urlaubstage",{"$f":"IF(B38=D38,\" \",IF(STAMMDATENBLATT!$K$35=STAMMDATENBLATT!$K$45,\" \",\"Daten innerbalb einer KW angeben!\"))","v":" "}]
[null,53,null,53,{"$f":"IF(ISEVEN(Urlaubsantrag!D39),NETWORKDAYS.INTL(Urlaubsantrag!A39,Urlaubsantrag!C39,STAMMDATENBLATT!$K$35,Feiertage),NETWORKDAYS.INTL(Urlaubsantrag!A39,Urlaubsantrag!C39,STAMMDATENBLATT!$K$45,Feiertage))","v":0},null,{"$f":"IF(E39=1,\"Urlaubstag\",\"Urlaubstage\")","v":"Urlaubstage"},{"$f":"IF(B39=D39,\" \",IF(STAMMDATENBLATT!$K$35=STAMMDATENBLATT!$K$45,\" \",\"Daten innerbalb einer KW angeben!\"))","v":" "}]
[{"$nulls":3},"Summe der bereits genommene individuellen Urlaubstage:",{"$f":"SUM(E31:E39)","v":0},null,{"$f":"IF(E40=1,\"Urlaubstag\",\"Urlaubstage\")","v":"Urlaubstage"}]
[]
["Verfügbare Urlaubstage:",{"$nulls":3},{"$f":"E16-E28-E40","v":{"$error":"#N/A"}},null,{"$f":"IF(E42=1,\"Urlaubstag\",\"Urlaubstage\")","v":{"$error":"#N/A"}}]
[]
["Ich beantrage Urlaub",null,"vom",{"$nulls":4},{"$f":"WEEKNUM(E44,21)","v":53}]
[null,null,"bis",{"$nulls":4},{"$f":"WEEKNUM(E45,21)","v":53}]
[null,null,"Anzahl Urlaubstage",null,{"$f":"IF(ISEVEN(H44),NETWORKDAYS.INTL(E44,E45,STAMMDATENBLATT!$K$35,Feiertage),NETWORKDAYS.INTL(E44,E45,STAMMDATENBLATT!$K$45,Feiertage))","v":0},null,{"$f":"IF(E46=1,\"Urlaubstag\",\"Urlaubstage\")","v":"Urlaubstage"},{"$f":"IF(H44=H45,\" \",IF(STAMMDATENBLATT!$K$35=STAMMDATENBLATT!$K$45,\" \",\"Daten innerbalb einer KW angeben!\"))","v":" "}]
[]
["Der gesamte Resturlaub beträgt:",{"$nulls":3},{"$f":"E16-E28-E40-E46","v":{"$error":"#N/A"}},null,{"$f":"IF(E48=1,\"Urlaubstag\",\"Urlaubstage\")","v":{"$error":"#N/A"}}]
[]
[null,"□","Urlaub genehmigt",null,"□",null,"Urlaub nicht genehmigt"]
[]
[{"$f":"TODAY()","v":"2024-01-19"}]
["Datum","Unterschrift Mitarbeiter/in",null,null,"Datum",null,"Unterschrift Vogesetzte/r"]

{"sheet":"Krankmeldung ohne AU","index":15,"n_rows":45,"n_cols":4,"rows_kept":45,"merged":[[4,1,6,6],[9,1,9,2],[9,3,9,6],[11,1,11,2],[11,3,11,6],[13,1,13,2],[13,3,13,6],[16,1,16,4],[18,2,19,6],[21,2,22,6],[24,2,25,6],[30,1,31,6],[32,2,32,6],[35,1,36,6],[37,2,37,6],[40,1,41,6],[42,2,42,6],[44,0,47,7]]}
[]
[]
[]
[]
[null,"Krankheit ohne Arbeitsunfähigkeitsbescheinigung"]
[]
[]
[]
[]
[null,"Für den Monat:"]
[]
[null,"Kindergarten:",null,{"$f":"STAMMDATENBLATT!B26","v":0}]
[]
[null,"Name:",null,{"$f":"STAMMDATENBLATT!B27","v":"Vorname Nachname"}]
[]
[]
[null,"Datum / Zeitraum der Krankheit:"]
[]
[]
[null,"Datum:"]
[]
[]
[null,"Datum:"]
[]
[]
[null,"Datum:"]
[]
[]
[]
[]
[]
[]
[null,"Datum","Unterschrift Mitarbeitende/r"]
[]
[]
[]
[]
[null,"Datum","Unterschrift Leitung"]
[]
[]
[]
[]
[null,"Datum","Unterschrift KiGa-GF"]
[]
["Hinweis: Die Arbeitsunfähigkeitsbescheinigung muss nach dem dritten Krankheitstag vorgelegt werden. \nBei der Fristberechnung gelten die Kalendertage. \nWer also vor einem Wochenende erkrankt, muss Samstag und Sonntag sowie ggf. Feiertage miteinberechnen."]

{"sheet":"Feiertage","index":16,"n_rows":21,"n_cols":6,"rows_kept":21}
["Jahr",{"$f":"STAMMDATENBLATT!D27","v":2024},"Feiertag","gilt von 1900 bis 2078"]
[{"$f":"DATEVALUE(\"01.01.\"&$B$1)","v":"2024-01-01"},{"$f":"IF(C2<>\"\",A2,0)","v":"2024-01-01"},"x","Neujahr"]
[{"$f":"DATEVALUE(\"06.01.\"&$B$1)","v":"2024-01-06"},{"$f":"IF(C3<>\"\",A3,0)","v":"2024-01-06"},"x","Heilige Drei Könige"]
[{"$f":"A6-48","v":"2024-02-12"},"1904-01-01",null,"Rosenmontag"]
[{"$f":"A6-2","v":"2024-03-29"},"2024-03-29","x","Karfreitag"]
[{"$f":"DOLLAR((DAY(MINUTE($B$1/38)/2+55) & \".4.\" & $B$1)/7,)*7-IF(YEAR(1)=1904,5,6)","v":"2024-03-31"},"2024-03-31","x","Ostersonntag"]
[{"$f":"A6+1","v":"2024-04-01"},"2024-04-01","x","Ostermontag"]
[{"$f":"DATEVALUE(\"01.05.\"&$B$1)","v":"2024-05-01"},"2024-05-01","x","Tag der Arbeit"]
[{"$f":"A6+39","v":"2024-05-09"},"2024-05-09","x","Christi Himmelfahrt"]
[{"$f":"A6+49","v":"2024-05-19"},"2024-05-19","x","Pfingstsonntag"]
[{"$f":"A6+50","v":"2024-05-20"},"2024-05-20","x","Pfingstmontag"]
[{"$f":"A6+60","v":"2024-05-30"},"2024-05-30","x","Fronleichnam"]
[{"$f":"DATEVALUE(\"03.10.\"&$B$1)","v":"2024-10-03"},"2024-10-03","x","Tag der Deutschen Einheit"]
[{"$f":"DATEVALUE(\"01.11.\"&$B$1)","v":"2024-11-01"},"2024-11-01","x","Allerheiligen"]
[{"$f":"DATEVALUE(\"24.12.\"&$B$1)","v":"2024-12-24"},"2024-12-24","x","Heilig Abend"]
[{"$f":"DATEVALUE(\"25.12.\"&$B$1)","v":"2024-12-25"},"2024-12-25","x","Erster Weihnachtsfeiertag"]
[{"$f":"DATEVALUE(\"26.12.\"&$B$1)","v":"2024-12-26"},"2024-12-26","x","Zweiter Weihnachtsfeiertag"]
[{"$f":"DATEVALUE(\"31.12.\"&$B$1)","v":"2024-12-31"},"2024-12-31","x","Silvester"]
[null,{"$f":"IF(C19<>\"\",A19,0)","v":"1904-01-01"},null,"zusätzlicher Brauchtumstag","Bitte für das aktuelle Jahr anpassen!!"]
[{"$nulls":4},"SOLL-AZ GD","Arbeitszeitende"]
[{"$f":"A6-3","v":"2024-03-28"},{"$f":"IF(C21<>\"\",A21,0)","v":"2024-03-28"},"GD","Gründonnerstag","04:30:00","12:00:00"]

{"sheet":"Regularien","index":17,"n_rows":68,"n_cols":2,"rows_kept":68}
["Arbeitszeiteintragung:"]
["Beginn und Ende","es gibt 3 Arbeitszeitblöcke mit je einem Beginn und einem Ende"]
[">","hier sind der tatsächliche Beginn und das tatsächliche Ende der Arbeitszeit einzutragen"]
[null,"geht man in die Pause muss das Arbeitsende und bei wieder Arbeitsantritt ein erneuter Beginn eingetragen werden (klassisches an- und abstempeln bei Pause)"]
[null,"Daher gibt es die Beginn und Ende Felder 3x - so kann jede Form der Pause abgedeckt werden"]
[">","Arbeitszeit der VZ wird nicht separat ausgewiesen. "]
[null,"Bsp: MA arbeitet von 8-12 im Gruppendienst und macht anschließend 1 Std. VZ trägt er 8:00-13:00 Uhr ein"]
[null,"Bsp: MA arbeitet von 7-13 im Gruppendienst, macht 0:30 Pause und anschließend 2 Std. VZ wird im ersten Block 7:00-13:00 Uhr und im zweiten Block 13:30-15:30 eingetragen"]
[]
["Abwesenheit","bei Abwesenheit ist in der Spalte \"Abwesenheit\" bei dem jeweiligen Tag lt. Liste entsprechend einzutragen"]
[">","Urlaub / Krank / Kind krank / Regenerationstage / Arbeitsbefreitung lt. §34 AVO / Umwandlungstage / unbezahlter Urlaub"]
[null,"Beschäftigungsverbot / Mutterschutz / Wiedereingliederung / Schule (PiA) / Prüfungsvorbereitung (max. 3 Tage Arbeitsbefreiung)"]
[null,"> (SOLL-AZ wird eingetragen, unabhängig davon was bei Beginn und Ende notiert ist)"]
[null,"verpflichtende FoBi"]
[null,"> (tatsächliche Arbeitszeit mit überschreiten der SOLL-AZ wird angerechnet)"]
[null,"förderliche FoBi"]
[null,"> (tatsächliche Arbeitszeit bis maximal SOLL-AZ wird angerechnet)"]
[">","bei Urlaub: die Eintragung in der Liste ersetzt NICHT den offiziellen Urlaubsantrag - dieser muss trotzdem über das Tabellenblatt \"Urlaubsantrag\" beantragt werden."]
[">","dadurch wird automatisch die SOLL-Arbeitszeit als IST-Arbeitszeit eingetragen und gewertet"]
[">","dadurch wird automatisch der verbleibende Rest je Auswahlmöglichkeit (Urlaub, Regenerationstage etc.) für das Kalenderjahr im Stammdatenblatt ausgerechnet"]
[">","bei Auwahl \"Krank\" oder \"Kind krank\" wird automatisch die Summe der Krankheitstage für das Kalenderjahr im Stammdatenblatt aufsummiert"]
[">","bei Krankheit ohne AU bitte das Tabellenblatt \"Krankmeldung ohne AU\" der Leitung ausgefüllt und unterschrieben vorlegen"]
[]
["Pausenregelung"]
["nach 6 STd. ","zwingend 30 Minuten Pause wie gesetzlich vorgeschrieben"]
["nach 9 Std.","zwingend weitere 15 Minuten Pause wie gesetzlich vorgeschrieben (Gesamt: 45 Minuten Pause)"]
[">","wird automatisch abgezogen, wenn es nicht korrekt über die Beginn und Endzeit eingetragen, sondern in einem Block die gesamte Arbeitszeit erfasst wurde."]
[]
["maximal zulässige Arbeitszeit"]
["10 Std.","für einen Arbeitstag sind maximal 10 Std. Arbeitszeit zulässig und werden automatisch bei Überschreiten auf 10 Std. gedeckelt."]
[]
["Mehrarbeit"]
[">","zulässige Mitnahme in den Folgemonat = 42 Std./100% Kraft - Teilzeitkräfte anteilig"]
[">","Mehrarbeit die eine Mitnahme auf den nächsten Monat übersteigt wird automatisch im neuen Monat gekürzt auf das zulässige Zeitarbeitskonto"]
[]
["Auszahlung Mehrarbeit"]
[">","Mehrarbeit die ausgezahlt werden soll ist in der Spalte \"Auszahlung\" mit \"ja\" zu befüllen"]
[">","unter Notiz muss die zur Auszahlung gebrachte Mehrarbeit begründet werden: z. B. Vertretung von XY"]
[">","anschließend das Monatsblatt drucken, selbst unterzeichnen, Leitung unterzeichnen lassen und dann in der VST zur Auszahlungsfreigabe einreichen"]
[">","zur Auszahlung deklarierte Mehrarbeit wird automatisch vom Zeitarbeitskonto abgezogen und für die Mitnahme in den nächsten Monat nicht mehr berücksichtigt."]
[]
["Feiertage"]
[">","Feiertage werden automatisch berechnet und zur Verfügung gestellt"]
[">","wer einen abweichenden Brauchtumstag hat z. B. Bräunlingen, muss den Rosenmontag deaktivieren und den Eintrag bei \"abweichender Brauchtumstag\" vornehmen"]
[]
["Wochend- / Feiertagszuschlag"]
[">","Samstags ab 13 Uhr werden 20 % auf die IST-Arbeitszeit hinzugerechnet"]
[null,"dies ist nur möglich, wenn die Arbeitszeit vor 13 separat in einem AZ-Block geführt wird."]
[null,"die Arbeitszeit ab 13 Uhr muss in einem eigenen Arbeitszeitblock innerhalb der 3 verfügbaren Beginn/Ende Blöcke geführt werden"]
[">","Sonn- und Feiertags wird ganztägig 25% auf die IST-Arbeitszeit hinzugerechnet - außer Gründonnerstag maximal zulässige Arbeitszeit ist bis 12 Uhr mittags"]
[">","am Gründonnerstag wird das Arbeitzeitende automatisch auf max. 12:00 Uhr gesetzt. "]
[">","Mehrarbeit ist am Gründonnerstag nur für TZ-Kräfte möglich, deren Dienstplan Donnerstags, weniger als 4,5 Std. vorsieht. Weniger Arbeit als die SOLL-AZ ist theoretisch möglich."]
[]
["Stammdatenblatt / WICHTIG!","Das Stammdatenblatt muss in den grünen Zellen vollständig und korrekt ausgefüllt werden, dadurch werden einem die korrekten Werte geliefert für:"]
[">","Ausnahme Startdatum / Enddatum: hier ist nur auszufüllen, wenn eines der beiden Daten abweichend vom vollen Kalenderjahr ist, sonst wird es per Formel gefüllt. "]
[">","Berechnung der vertraglich vereinbarten Arbeitszeit"]
[">","Berechnung der zulässigen Mehrarbeit zur Mitnahme in den nächsten Monat"]
[">","Berechnung der SOLL-Stunden in den entsprechenden Arbeitsmonaten"]
[">","Berechnung der Arbeitszeit im Gruppendienst"]
[">","Berechnung der Arbeitszeit für VZ"]
[">","Berechnung des Urlaubsanspruches"]
[null,"Zusatzurlaub nach §125 SGB IX oder Arbeitsbefreiung nach §34 AVO muss im Urlaubsantrag hinterlegt werden und wird dann hier automatisch eingetragen und hinzugerechnet."]
[null,"Urlaubsantrag ist zu finden als separates Tabellenblatt in der gewohnten Form."]
[">","Die Basisdaten des Stammdatenblattes sind Grundlage für die anderen Tabellenblätter"]
[null,"z. B. werden Kindergarten, Name des MA usw direkt in die Monatsblätter und den Urlaubsantrag übernommen."]
[">","wechselt ein MA den Beschäftigungsumfang/definierte Arbeitstage/Arbeitszeitverkürzung unterjährig, so muss eine neue Arbeitszeiterfassung mit neuem Startdatum angelegt werden."]
[null,"die alte Arbeitszeiterfassung muss gedruckt und unterschrieben in der Einrichtung verwahrt werden."]
[">","das Stammdatenblatt wird mit Jahresende vom MA gedruckt, der Leitung zur Unterschrift vorgelegt und von der Leitung an die Personalstelle eingereicht"]

{"sheet":"§34 AVO, §125 SGB IX, Reg. Tage","index":18,"n_rows":96,"n_cols":15,"rows_kept":96,"merged":[[3,8,4,14],[15,8,16,14],[74,8,91,15],[76,0,80,5],[82,0,91,5],[93,0,93,6],[95,0,98,6]]}
["              § 34 Arbeitsbefreiung bei vorübergehender Verhinderung",{"$nulls":7},"                                         Zusatzurlaub"]
["(1)"]
["a)"]
["• Umzug aus dienstlichem oder betrieblichem",{"$nulls":5},"1 AT",null,"Beschäftigte, deren Grad der Behinderung weniger als 50, aber mindestens 30 beträgt, haben Anspruch auf einen zusätzlichen Urlaub:"]
["   Grund an einen anderen Ort "]
[{"$nulls":14},"§32a AVO in Verbindung mit §23 AzUVO"]
["•  Umzug aus dienstlichem Grund, wenn im Haushalt ",{"$nulls":5},"2 AT",null,"5 Tagewoche: ",null,"3 UT : 5 AT x 5 AT = 3,0 Tage zusätzlicher Urlaub"]
["     mindestens zwei Kinder leben, die das 12. Lebensjahr ",{"$nulls":7},"4 Tagewoche: ",null,"3 UT : 5 AT x 4 AT = 2,4 Tage zusätzlicher Urlaub"]
["     noch nicht vollendet haben, insgesamt",{"$nulls":7},"3 Tagewoche: ",null,"3 UT : 5 AT x 3 AT = 1,8 Tage zusätzlicher Urlaub"]
["b)",{"$nulls":7},"2 Tagewoche: ",null,"3 UT : 5 AT x 2 AT = 1,2 Tage zusätzlicher Urlaub"]
["•   20-, 25-, 40- und 50-jähriges Dienstjubiläum",{"$nulls":5},"1 AT",null,"1 Tagwoche: ",null,"3 UT : 5 AT x 1 AT = 0,6 Tage zusätzlicher Urlaub"]
["c)"]
["•  Niederkunft der Ehefrau,",{"$nulls":5},"1 AT"]
[]
["•  bei der Geburt des zweiten und",{"$nulls":5},"5 AT"]
["    jedes weiteren Kindes, wenn ein",{"$nulls":7},"Schwerbehinderte Menschen mit einem Grad von mindestens 50 haben Anspruch auf einen zusätzlichen Urlaub:"]
["   Kind, das das 12. Lebensjahr noch"]
["   nicht vollendet hat, zu versorgen",{"$nulls":13},"§ 125 SGB IX "]
["   ist und eine andere Betreuungsperson",{"$nulls":7},"5 Tagewoche: ",null,"5 UT : 5 AT x 5 AT = 5 Tage zusätzlicher Urlaub"]
["   für diesen Zweck nicht zur",{"$nulls":7},"4 Tagewoche: ",null,"5 UT : 5 AT x 4 AT = 4 Tage zusätzlicher Urlaub"]
["   Verfügung steht, für die Dauer",{"$nulls":7},"3 Tagewoche: ",null,"5 UT : 5 AT x 3 AT = 3 Tage zusätzlicher Urlaub"]
["   des Klinikaufenthaltes, höchstens",{"$nulls":7},"2 Tagewoche: ",null,"5 UT : 5 AT x 2 AT = 2 Tage zusätzlicher Urlaub"]
["   jedoch zusätzlich ",{"$nulls":7},"1 Tagwoche: ",null,"5 UT : 5 AT x 1 AT =  1 Tag zusätzlicher Urlaub"]
["d)"]
["•  Tod des Ehegatten",{"$nulls":5},"5 AT"]
[]
["•  wenn im Haushalt ein Kind,",{"$nulls":5},"7 AT"]
["   das das 12. Lebensjahr noch"]
["   nicht vollendet hat, lebt und"]
["   der verstorbene Ehegatte das"]
["   Kind bisher versorgt hat,"]
["   zusätzlich"]
["e)"]
["•  Tod eines Kindes",{"$nulls":5},"5 AT"]
["f)"]
["• Tod eines Elternteils",{"$nulls":5},"2 AT"]
["g)"]
["• Tod eines sonstigen Angehörigen ",{"$nulls":5},"1 AT"]
["   für die Teilnahme am Tag der Beisetzung (s. u.)"]
["h)"]
["•  Taufe, Erstkommunion, Firmung",{"$nulls":5},"1 AT"]
["   oder Konfirmation und kirchliche"]
["   Eheschließung eines Kindes der"]
["   Beschäftigten/des Beschäftigten"]
["   sowie Übernahme eines Tauf oder"]
["   Firmpatenamtes"]
["i)"]
["•  kirchliche Feier des 25-jährigen",{"$nulls":5},"1 AT"]
["   Jubiläums der kirchlichen Eheschließung"]
["   der Beschäftigten/ des Beschäftigten"]
["j)"]
["• Erkrankung",{"$nulls":5},"7 AT "]
["   aa.)","eines Kindes, das das 12. Lebensjahr ",{"$nulls":4},"im Kalenderjahr"]
[null,"noch nicht vollendet hat oder behindert "]
[null,"und auf Hilfe angewiesen ist, wenn im laufenden"]
[null,"Kalenderjahr kein Anspruch nach § 45 SGB V"]
[null,"besteht oder bestanden hat, bis zu insgesamt"]
[]
[null,"für Alleinerziehende bis zu insgesamt ",{"$nulls":4},"14 AT"]
[{"$nulls":6},"im Kalenderjahr"]
[]
["   bb.) ","sonstiger Angehöriger bis zu insgesamt",{"$nulls":4},"5 AT"]
["             ",{"$nulls":5},"im Kalenderjahr"]
[]
["   cc.) ","des Ehegatten oder einer anderen ",{"$nulls":4},"5 AT"]
[null,"Betreuungsperson, wenn die Beschäftigte ",{"$nulls":4},"im Kalenderjahr"]
[null,"deshalb die Betreuung ihres Kindes, die "]
[null,"das 12. Lebensjahr noch nicht vollendet "]
[null,"hat oder wegen körperlicher, geistiger "]
[null,"oder seelischer Behinderung dauernd "]
[null,"pflegebedürftig ist, übernehmen muss, bis zu insgesamt"]
["             "]
["Eine Freistellung erfolgt nur, soweit eine andere Person zur Pflege oder Betreuung nicht "]
["sofort zur Verfügung steht und der Arzt in den Fällen aa) und bb) die Notwendigkeit der"]
["Anwesenheit der Beschäftigten/ des Beschäftigten zur vorläuftigen Pflege bescheinigt.",{"$nulls":7},"Auszug aus:\n§ 10 (§ 7 TV-L)\nSonderformen der Arbeit\n\n( 6 ) Mehrarbeit sind die Arbeitsstunden, die Teilzeitbeschäftigte über die \nvereinbarte regelmäßige Arbeitszeit hinaus bis zur regelmäßigen wöchentlichen \nArbeitszeit von Vollbeschäftigten (§ 8 Absatz 1 bzw. § 8a Absatz 1) leisten.\n\n( 7 ) Überstunden sind die auf Anordnung des Dienstgebers geleisteten Arbeitsstunden, die über die im Rahmen der regelmäßigen Arbeitszeit von Vollbeschäftigten (§ 8 Absatz 1 bzw. § 8a Absatz 1) für die Woche dienstplanmäßig beziehungsweise betriebsüblich festgesetzten Arbeitsstunden hinausgehen und nicht bis zum Ende der folgenden Kalenderwoche ausgeglichen werden."]
["(4)"]
["Der Dienstgeber kann in sonstigen dringenden Fällen Arbeitsbefreiung unter Fortzahlung des Entgelts bis zu fünf Arbeitstagen gewähren. In begründeten Fällen kann bei Verzicht auf das Entgelt kurzfristige Arbeitsbefreiung gewährt werden, wenn die dienstlichen oder betrieblichen Verhältnisse es gestatten.",{"$nulls":5},"5 AT"]
[{"$nulls":6},"im Kalenderjahr"]
[]
[]
[]
["(4a)"]
["Bei (Teil-)Schließungen von Kinderbetreuungseinrichtungen und Schulen außerhalb regulär geplanter Schließungstage (zum Beispiel Ferienzeiten und Brückentage) und der dadurch hervorgerufenen Betreuungsnotwendigkeit von Kindern, die das 12. Lebensjahr noch nicht vollendet haben, ist Arbeitsbefreiung unter Fortzahlung des Entgelts bis zu 10 Arbeitstagen zu gewähren, wenn nachweislich keine Notbetreuungsmöglichkeit vorhanden und auch anderweitig keine Betreuung gegeben ist. Der Anspruch nach Satz 1 besteht nur insoweit, als der Arbeitsbefreiung keine dienstlichen Gründe entgegenstehen. Die Tage der Arbeitsbefreiung nach Absatz 4 Satz 1 und Absatz 4a Satz 1 dürfen zusammen 10 Arbeitstage nicht überschreiten.",{"$nulls":5},"10 AT"]
[{"$nulls":6},"im Kalenderjahr"]
{"$rows_empty":8}
["Wichtig:"]
["Gültigkeit: Ab 01. Juli 2020 bis 31. März 2022.\nDie Arbeitsbefreiung nach § 34 Absatz 4 Satz 1 AVO (5 Tage) sowie nach dem § 34 Absatz 4a dürfen zusammen nur 10 Tage ergeben. \nDie zusätzliche Arbeitsbefreiung bezieht sich auf 1 Kalenderjahr.\n \nWird im Falle von „Kind krank“ der § 34 Absatz 4 Satz 1 genommen, sollten zunächst der § 45 SGB V (Anspruch auf Krankengeld bei Erkrankung eines Kindes bei ges. Versicherten / 15 Tage pro Kind und pro Kalenderjahr // 30 Tage pro Kind und Kalender Jahr bei Alleinerziehenden) in Anspruch genommen werden. \nà Bei priv. Versicherten greift der § 34 Absatz 1j\n"]
[]
["Sonstige Angehörige im Sinne dieser Vorschrift sind Ehepartner/innen und Lebenspartner/innen nach dem Lebenspartnerschaftsgesetz sowie Verwandte in gerader Linie 1. und 2. Grades (Eltern, Kinder, die das 12. Lebensjahr vollendet haben, Großeltern und Enkel) und Verwandte in der Seitenlinie 2. Grades (Geschwister) sowie Verschwägerte in gerader Linie 1. und 2. Grades (Schwiegereltern, Schwiegerkinder, Stiefeltern, Stiefkinder, Stiefgroßeltern und Stiefenkel). "]

{"sheet":"Dropdwon","index":19,"n_rows":48,"n_cols":17,"rows_kept":48}
["Anwesenheit","Pause","MAX Arbeitszeit","Eingruppierung","Angestelltenform",null,"Arbeitszeitverkürzung","reg. AZ","reg. Urlaubsanspruch",{"$nulls":3},"ja",null,"Werk 21","Kita Don Bosco, Weil am Rhein ","Werk 21"]
["00:00:00","00:00:00",null,"≤ EG9b/S14","pFK","pädagogische Fachkraft","mit AZ-Verkürzung (pFK)",1.6041666666666667,{"v":30,"d":"30.00"},"bei 5 Tage/Woche",{"$f":"I2/5","v":{"v":6,"d":"6.0"}},null,"nein",null,"Werk 21","Kita St. Michael, Weil am Rhein ","Werk 21"]
["06:01:00","00:30:00",null,"≥ EG10/S15","nicht pFK","Hausmeister/Hauswirtschaft/Verwaltung/Reinigung","mit AZ-Verkürzung (nicht pFK) Kind U12",1.6041666666666667,{"v":30,"d":"30.00"},"bei 5 Tage/Woche",{"v":6,"d":"6.0"},{"$nulls":3},"Werk 21","Kita St. Franziskus, Weil am Rhein ","Werk 21"]
["09:01:00","00:45:00",null,null,"nicht pFK","Hausmeister/Hauswirtschaft/Verwaltung/Reinigung","mit AZ-Verkürzung (nicht pFK) Alter Ü60",1.625,{"v":30,"d":"30.00"},"bei 5 Tage/Woche",{"$f":"I4/5","v":{"v":6,"d":"6.0"}},{"$nulls":3},"Werk 21","Kita St. Elisabeth, Weil am Rhein ","Werk 21"]
["10:00:00",null,"10:00:00",null,"AP/PiA","Anerkennungspraktikantin/PiA","ohne AZ-Verkürzung",1.625,{"v":30,"d":"30.00"},"bei 5 Tage/Woche",{"v":6,"d":"6.0"},{"$nulls":3},"Werk 21","Kita St. Joseph, Weil am Rhein ","Werk 21"]
[{"$nulls":4},"AP/PiA","Anerkennungspraktikantin/PiA","mit AZ-Verkürzung (pFK)",1.6041666666666667,{"v":30,"d":"30.00"},"bei 5 Tage/Woche",{"v":6,"d":"6.0"},{"$nulls":3},"Werk 22","Kita St. Elisabeth, Inzlingen ","Werk 22"]
[{"$nulls":4},"FSJ > 18","FSJ > 18 Jahre","ohne AZ-Verkürzung",1.625,{"v":26,"d":"26.00"},"bei 5 Tage/Woche",5.2,{"$nulls":3},"Werk 22","Kita St. Bonifatius, Lörrach","Werk 22"]
["Anzahl Regenerations-/Umwandlungstage","Abwesenheitsgründe",null,null,"FSJ < 18","FSJ < 18 Jahre","ohne AZ-Verkürzung",1.625,{"v":28,"d":"28.00"},"bei 5 Tage/Woche",{"$f":"I8/5","v":5.6},{"$nulls":3},"Werk 22","Kita St. Anna, Lörrach","Werk 22"]
[1,"Urlaub",null,null,"pFK","pädagogische Fachkraft","ohne AZ-Verkürzung",1.625,{"v":30,"d":"30.00"},"bei 5 Tage/Woche",{"v":6,"d":"6.0"},{"$nulls":3},"Werk 22","Kita St. Fridolin, Lörrach","Werk 22"]
[2,"Krank",null,null,"nicht pFK","Hausmeister/Hauswirtschaft/Verwaltung/Reinigung","ohne AZ-Verkürzung",1.6458333333333333,{"v":30,"d":"30.00"},"bei 5 Tage/Woche",{"v":6,"d":"6.0"},{"$nulls":3},"Werk 22","Kita St. Peter, Lörrach","Werk 22"]
[null,"Kind krank",{"$nulls":12},"Werk 22","Kita Arche Noah, Lörrach ","Werk 22"]
[null,"Regenerationstag",{"$nulls":12},"Werk 23","Kita St. Josef Schopfheim","Werk 23"]
[null,"Umwandlungstag",{"$nulls":12},"Werk 23","Schülerhort St. Michael, Schopfheim","Werk 23"]
[null,"§34 AVO",{"$nulls":3},"maximaler Wert","Mehrarbeitsmitnahme",1.75,{"v":1,"d":"100%"},{"$nulls":5},"Werk 23","Hebelkindergarten Steinen ","Werk 23"]
[null,"unbezahlter Urlaub",{"$nulls":12},"Werk 24","Kita St. Michael, Häg-Ehrsberg","Werk 24"]
[null,"Beschäftigungsverbot",{"$nulls":12},"Werk 25","Kita St. Franziskus, Präg ","Werk 25"]
[null,"Wiedereingliederung",{"$nulls":12},"Werk 25","Kita St. Maria, Schönau ","Werk 25"]
[null,"Mutterschutz",{"$nulls":12},"Werk 25","Kita St. Johann B., Todtnau ","Werk 25"]
[null,"Schule (PiA)",{"$nulls":12},"Werk 25","Kita St. Jakobus, Todtnauberg ","Werk 25"]
[null,"Prüfungsvorbereitung",{"$nulls":12},"Werk 26","Kita St. Michael, Grenzach","Werk 26"]
[null,"verpflichtende FoBi",{"$nulls":12},"Werk 26","Kita Regenbogen, Wyhlen","Werk 26"]
[null,"förderliche FoBi",{"$nulls":12},"Werk 27","Kita St. Michael, Rheinfelden","Werk 27"]
[{"$nulls":14},"Werk 27","Kita St. Josef, Rheinfelden","Werk 27"]
[{"$nulls":14},"Werk 27","Kita St. Anna, Rheinfelden ","Werk 27"]
["Grund auswählen",0,"Grad auswählen","Arbeitstage","Urlaubsanspruch",{"$nulls":9},"Werk 27","Kita Arche Noah, Rheinfelden-Nollingen","Werk 27"]
["Bildungstage",5,"Grad 30  - <50",5,3,{"$nulls":9},"Werk 27","Kita St. Gallus, Rheinfelden-Warmbach","Werk 27"]
["Exerzitien/Besinnungstage",3,"Grad 30  - <50",4,2.4,{"$nulls":9},"Werk 27","Kita St. Elisabeth, Rheinfelden-Minseln ","Werk 27"]
["Katholikentage/Kirchentag",2,"Grad 30  - <50",3,1.8,{"$nulls":9},"Werk 27","Kita St. Urban, Rheinfelden-Herten","Werk 27"]
["Umzug aus dienstl. Grund",1,"Grad 30  - <50",2,1.2,{"$nulls":9},"Werk 27","Kita St. Katharina, Rheinfelden-Degerfelden","Werk 27"]
["Umzug aus dienstl. Grund - mind. 2 Kinder im HH < 12 Jahre",2,"Grad 30  - <50",1,0.6,{"$nulls":9},"Werk 30","Kita St. Elisabeth, Schwörstadt","Werk 30"]
["Dienstjubiläum",1,"Grad ≥ 50",5,5,{"$nulls":9},"Werk 31","Kita St. Vincentius, Bad Säckingen","Werk 31"]
["kirchl. Eheschließung",1,"Grad ≥ 50",4,4,{"$nulls":9},"Werk 31","Kita St. Martin, Obersäckingen","Werk 31"]
["Geburt",1,"Grad ≥ 50",3,3,{"$nulls":9},"Werk 31","Kita St. Martin, Rippolingen","Werk 31"]
["Geburt des 2. Kindes ohne Betreuungsperson",5,"Grad ≥ 50",2,2,{"$nulls":9},"Werk 31","Kita St. Martin, Harpolingen","Werk 31"]
["Tod Ehegatte",5,"Grad ≥ 50",1,1,{"$nulls":9},"Werk 31","Kita St. Elisabeth, Bad Säckingen ","Werk 31"]
["Tod Ehegatte, der das Kind versorgt",7,{"$nulls":12},"Werk 31","Kita St. Marien, Wallbach ","Werk 31"]
["Tod eines Kindes",5,{"$nulls":12},"Werk 31","Kita In der Mühle, Murg ","Werk 31"]
["Tod eines Elternteils",2,{"$nulls":12},"Werk 31","Kita St. Josef, Murg ","Werk 31"]
["Tod eines sonstigen Angehörigen",1,{"$nulls":12},"Werk 31","Kita Arche Noach, Murg-Niederhof ","Werk 31"]
["Taufe, Kommunion, Firmung, Konfirmation, kirch. Eheschl. eines Kindes",1,{"$nulls":12},"Werk 31","Kita Spatzennest, Murg-Hänner ","Werk 31"]
["25 jähriger Hochzeitstag",1,{"$nulls":12},"Werk 32","Kita St. Martin, Görwihl ","Werk 32"]
[{"$nulls":14},"Werk 32","Kita St. Marien, Görwihl-Tiefenstein","Werk 32"]
[{"$nulls":14},"Werk 32","Kita St. Josef, Görwihl-Strittmatt","Werk 32"]
[{"$nulls":14},"Werk 32","Kita Don Bosco, Herrischried-Niedergebisbach ","Werk 32"]
[{"$nulls":14},"Werk 33","Kita St. Franziskus, Bernau","Werk 33"]
[{"$nulls":14},"Werk 33","Kita St. Elisabeth, Todtmoos","Werk 33"]
[{"$nulls":14},"Werk 34","Kita St. Georg, Dachsberg ","Werk 34"]
[{"$nulls":14},"Werk 34","Kita Arche Noah, St. Blasien ","Werk 34"]